{"text_format":"1","workbook":"xlsx","n_sheets":6,"sheets":["Як це працює","Система знижок","Магазин","Заборона збереження","Вибірка","Кошик"],"not_rendered":{"charts":0,"images":8,"macros":1,"external_links":0,"defined_names":2,"comments":0,"pivot_tables":0},"unopened":[],"bounds":{"document_bytes":16777216,"sheet_cells":100000,"rows_first":2000,"rows_last":500,"rows_between":2000,"halvings":0,"cell_chars":16384,"cell_head_chars":4096},"cells_cut":0,"cells_raw":0,"read":"whole","date_system":"1900"}

{"sheet":"Як це працює","index":0,"n_rows":100,"n_cols":19,"rows_kept":100,"cut":false,"hidden":false,"merged":[[99,1,99,14],[1,2,1,18],[2,2,2,18]]}
[]
["1.",null,"Якщо при запуску файла з'являється повідомлення щодо дозволу редагування і макросів, це нормально,"]
[null,null,"надайте дозвіл, це необхідно для коректної роботи даного застосунку"]
[]
[]
[]
[]
[]
[]
[]
["2.","Для вибору товарів перейдіть на сторінку \"Магазин\" та керуйте групами товарів як вам зручно за допомогою кнопок групування"]
[]
[]
[]
[]
[]
[]
[]
[]
[]
[]
[]
[]
[]
[]
[]
[]
[]
[]
[]
[]
[]
[]
[]
[]
["3.","Навпроти товарів, що вас цікавлять, в колонці \"ДО КОШИКА\" вкажіть бажану кількість у зручному для вас форматі"]
[null,"(нашими одиницями виміру, цифрами, прописом, ящиками, пачками, штуками і т.д, як довільно, головне, щоб було зрозуміло)"]
[]
["4.","Після того, як підберете бажані товари, перейдіть на сторінку \"Кошик\""]
[null,"Ваше замовлення там сформується автоматично"]
[]
[]
[]
[]
[]
[]
[]
[]
[]
[null,null,null,null,null,null,null,null,null,null,null,null,null,null,null,null,null,"5.","Вкажіть інформацію, "]
[null,null,null,null,null,null,null,null,null,null,null,null,null,null,null,null,null,null,"достатню для того,"]
[null,null,null,null,null,null,null,null,null,null,null,null,null,null,null,null,null,null,"щоб ми змогли вас ідентифікувати,"]
[null,null,null,null,null,null,null,null,null,null,null,null,null,null,null,null,null,null,"надіслати вам рахунок-фактуру на оплату"]
[null,null,null,null,null,null,null,null,null,null,null,null,null,null,null,null,null,null,"та потім (за потреби) надіслати вам "]
[null,null,null,null,null,null,null,null,null,null,null,null,null,null,null,null,null,null,"ваше замовлення перевізником"]
[]
[]
[]
[null,null,null,null,null,null,null,null,null,null,null,null,null,null,null,null,null,"6.","Якщо потрібно,"]
[null,null,null,null,null,null,null,null,null,null,null,null,null,null,null,null,null,null,"відкоригуйте замовлення вручну"]
[null,null,null,null,null,null,null,null,null,null,null,null,null,null,null,null,null,null,"(кількість, одиниці виміру)"]
[null,null,null,null,null,null,null,null,null,null,null,null,null,null,null,null,null,null,"та за потреби вкажіть"]
[null,null,null,null,null,null,null,null,null,null,null,null,null,null,null,null,null,null,"примітки до замовлення"]
[]
[]
[]
[]
[]
[]
["7.","Далі на сторінці \"Кошик\" натисніть КНОПКУ, щоб зберегти"]
[null,"замовлення в форматі PDF"]
[null,"Після натискання даної кнопки буде сформовано файл \"Кошик __...__ .pdf\" "]
[null,"і запропоновано обрати на вашому комп'ютері папку для його збереження"]
[null,"Далі у зручний для вас спосіб надішліть сформований файл \"Кошик __...__ .pdf\""]
[null,"на нашу електронну адресу obriy-kyiv@ukr.net"]
[]
[null,"АБО"]
[]
[]
[null,"натисніть КНОПКУ, щоб зберегти замовлення в форматі PDF"]
[null,"та автоматично відправити на нашу пошту через           Outlook"]
[]
[]
[null,"При включених макросах (пункт 1) незахищені клітинки редагуйте як забажаєте, "]
[null,"при закритті даного застосунку внесені зміни не зберігатимуться і нічого в ньому не зіпсується"]
[null,"У будь-якому разі, якщо щось піде не так          , ви завжди можете завантажити даний застосунок з нашого сайту https://metiz.obriy.biz"]
[null,"доречі, з актуальними цінами"]
[]
[null,"Також можете робити замовлення через оптово-роздрібний Інтернет-магазин METIZ.OBRIY.BIZ"]
[]
[null,"Також замовлення приймаються в робочий час по телефону або факсу :"]
[null,"тел./факс :  ",null,"(044) 545-74-72"]
[null,"тел./факс :  ",null,"(044) 545-74-73"]
[null,"тел.моб. :",null,"(098) 799-80-88"]
[null,"тел.моб. :",null,"(093) 132-04-34"]
[null,"тел.моб. :",null,"(099) 207-33-56"]
[null,"або іншим зручним для вас способом на електронну пошту  obriy-kyiv@ukr.net"]
[]
[]
[null,"ПРИЄМНИХ   ПОКУПОК  !"]

{"sheet":"Система знижок","index":1,"n_rows":28,"n_cols":2,"rows_kept":28,"cut":false,"hidden":false,"merged":[[26,1,26,9],[27,1,27,9],[0,1,0,9],[1,1,1,9],[2,1,2,9],[14,1,14,6],[18,1,18,6],[22,1,22,6]]}
[null,"СИСТЕМА ЗНИЖОК ПРИ ЗАМОВЛЕННІ"]
[null,"ОДНОГО НАЙМЕНУВАННЯ :"]
[]
[]
[null,"ДЮБЕЛІ РОЗПІРНІ :"]
[null,"КРАТНО ЯЩИКАМ - ОПТОВА ЦІНА"]
[]
[null,"ДЮБЕЛІ ШВИДКОГО МОНТАЖУ :"]
[null,"КРАТНО ЯЩИКАМ - ОПТОВА ЦІНА"]
[]
[null,"ТЕРМОДЮБЕЛІ ТА ДОЖИМНІ ТАРІЛКИ:"]
[null,"КРАТНО МІШКАМ - ОПТОВА ЦІНА"]
[]
[null,"ВАГОВА ПРОДУКЦІЯ :"]
[null,"від 5 кг - 20%"]
[]
[]
[null,"САМОРІЗИ ТА ЗАКЛЕПКИ:"]
[null,"від 5 пачок - 20%"]
[]
[]
[null,"ШТУЧНИЙ ТОВАР :"]
[null,"від 1000 грн. - 20%"]
[]
[]
[]
[null,"ДОКЛАДНІШЕ - НА СТОРІНКАХ "]
[null,"В ПРАЙС-ЛИСТІ"]

{"sheet":"Магазин","index":2,"n_rows":3221,"n_cols":7,"rows_kept":3221,"cut":false,"hidden":false,"merged":[[8,1,9,1],[8,2,8,3],[8,4,8,5]]}
[null,"Прайс-лист"]
[]
[null,"ПЕРЕМІЩЕННЯ"]
[]
[null,"У валютах цін."]
[null,"Ціни вказані на 10.04.2024"]
[]
[]
[null,"Ціни вказані на 02 травня 2024 року в гривнях з ПДВ","ПРАЙС",null,"ЦІНА ЗІ ЗНИЖКОЮ",null,"ДО"]
[null,null,"Ціна","Од.","Ціна","Од.","КОШИКА"]
[]
[null,"    Товар"]
[null,"        Анкери"]
[null,"            Анкери віконні ЛОА"]
[null,"                ЛОА-10х112 Дюбель метал.для вiкон.i двер.коробок (фас.100)",4800,"тис.шт",3840,"тис.шт"]
[null,"                ЛОА-10х132 Дюбель метал.для вiкон.i двер.коробок",5520,"тис.шт",4416,"тис.шт"]
[null,"                ЛОА-10х132 Дюбель метал.для вiкон.i двер.коробок",5520,"тис.шт",4416,"тис.шт"]
[null,"                ЛОА-10х152 Дюбель метал.для вiкон.i двер.коробок",6000,"тис.шт",4800,"тис.шт"]
[null,"                ЛОА-10х182 Дюбель метал.для вiкон.i двер.коробок",7200,"тис.шт",5760,"тис.шт"]
[null,"                ЛОА-10х182 Дюбель метал.для вiкон.i двер.коробок (фас.50)",7200,"тис.шт",5760,"тис.шт"]
[null,"                ЛОА-10х202 Дюбель метал.для вiкон.i двер.коробок",7800,"тис.шт",6240,"тис.шт"]
[null,"                ЛОА-10х92 Дюбель метал.для вiкон.i двер.коробок (фас.100)",4320,"тис.шт",3456,"тис.шт"]
[null,"            Анкери з болтом КРБ","","","",""]
[null,"                КРБ- (i) 10х100 (М10) Комбинированный распор.болт",600,100,480,100]
[null,"                КРБ-10х100 (М10) Комбинированный распор.болт",600,100,480,100]
[null,"                КРБ-6х50 (М6) Комбинированный распор.болт",240,100,192,100]
[null,"                КРБ-8х70 (М8) Комбинированный распор.болт",420,100,336,100]
[null,"            Анкери з гайкою ЛСИ, ЛТП","","","",""]
[null,"                ЛСИ-10х150 (М8) Ст.розпiрний анкер",1512,100,1209.6000000000001,100]
[null,"                ЛСИ-12х150 (М10) Ст.розпiрний анкер",1920,100,1536,100]
[null,"                ЛСИ-12х75 (М10) Стальний розпiрний анкер",1122,100,897.6,100]
[null,"                ЛСИ-8х115 (М6) Ст.розпiрний анкер",936,100,748.80000000000007,100]
[null,"                ЛСИ-8х40 (М6) Ст.розпiрний анкер",336,100,268.8,100]
[null,"                ЛСИ-8х40 (М6) Ст.розпiрний анкер",336,100,268.8,100]
[null,"                ЛСИ-8х65 (М6) Ст.розпiрний анкер",576,100,460.8,100]
[null,"                ЛТП-10х120 (М6) 2-х распорный ст.анкер",1440,100,1152,100]
[null,"                ЛТП-20х240 (М16) 2-х распорный ст.анкер",9600,100,7680,100]
[null,"            Гільзові анкери КРМ, ЗА","","","",""]
[null,"                ЗА-М12 (16х50) Забивний стальний анкер",1032,100,825.6,100]
[null,"                ЗА-М16 (20х65) Забивний стальний анкер",1632,100,1305.6000000000001,100]
[null,"                ЗА-М16 (20х65) Забивний стальний анкер",1632,100,1305.6000000000001,100]
[null,"                ЗА-М6 (08х25) Забивний стальний анкер",240,100,192,100]
[null,"                ЗА-М6 (08х25) Забивний стальний анкер",240,100,192,100]
[null,"                ЗА-М8 (10х30) Забивний стальний анкер",312,100,249.60000000000002,100]
[null,"                КРМ-М10 (12х32) Латунний розпiрний дюбель",1200,100,960,100]
[null,"                КРМ-М10 (12х32) Латунний розпiрний дюбель",1200,100,960,100]
[null,"                КРМ-М12 (15х41) Латунний розпiрний дюбель",2400,100,1920,100]
[null,"                КРМ-М12 (15х41) Латунний розпiрний дюбель",2400,100,1920,100]
[null,"                КРМ-М6 (8х23) Латунний розпiрний дюбель",600,100,480,100]
[null,"                КРМ-М6 (8х23) Латунний розпiрний дюбель",600,100,480,100]
[null,"            Сталеві дюбелі М-ТДН, МОЛЛІ","","","",""]
[null,"                М-ТДН-6х35 Дюбель для пiдвiсних стель (фас.100)",2000.3999999999999,"тис.шт",1600.32,"тис.шт"]
[null,"                М-ТДН-6х35 Дюбель для пiдвiсних стель (фас.100)",2000.3999999999999,"тис.шт",1600.32,"тис.шт"]
[null,"                М-ТДН-6х40 Дюбель для пiдвiсних стель (фас.100)",2000.3999999999999,"тис.шт",1600.32,"тис.шт"]
[null,"                МОЛ-М4х32 Дюбель \"Моллi\" з гвинтом",312,100,249.60000000000002,100]
[null,"                МОЛ-М5х52 Дюбель \"Моллi\" з гвинтом товщина ГК 34",600,100,480,100]
[null,"        Блістери","","","",""]
[null,"            БВПЦТ-4,2х13 Саморiз по металу з пресшайбою (фас.100)",24,1,19.200000000000003,1]
[null,"            БВПЦТ-4,2х16 Саморiз по металу з пресшайбою (фас.90)",24,1,19.200000000000003,1]
[null,"            БВПЦТ-4,2х19 Саморiз по металу з пресшайбою (фас.80)",24,1,19.200000000000003,1]
[null,"            БВПЦТ-4,2х25 Саморiз по металу з пресшайбою (фас.70)",24,1,19.200000000000003,1]
[null,"            БВПЦТ-4,2х41 Саморiз по металу з пресшайбою (фас.50)",24,1,19.200000000000003,1]
[null,"            БВПЦТ-4,2х51 Саморiз по металу з пресшайбою (фас.40)",24,1,19.200000000000003,1]
[null,"            БКП-8/40 Дюбель розпiрний полiпропiлен (фас.40)",18,1,14.4,1]
[null,"            БКР-6х40 Дюбель розпiрний з шурупом Pz-2 (фас.20)",24,1,19.200000000000003,1]
[null,"            БСМА-6х60 Дюбель для швидкого монтажу без комiрця (фас.18)",18,1,14.4,1]
[null,"            БСМА-6х80 Дюбель для швидкого монтажу без комiрця (фас.15)",18,1,14.4,1]
[null,"            БСМКА-6х60 Дюбель для швидкого монтажу з комiрцем (фас.18)",18,1,14.4,1]
[null,"            БСМКА-6х80 Дюбель для швидкого монтажу з комiрцем (фас.15)",18,1,14.4,1]
[null,"            БСУ-3,5х16 Саморiз унiв.пот.гол.Pz-2 ЦЖ(фас.50)",18,1,14.4,1]
[null,"            БСУ-3,5х20 Саморiз унiв.пот.гол.Pz-2 ЦЖ(фас.45)",18,1,14.4,1]
[null,"            БСУ-4,0х60 Саморiз унiв.пот.гол.Pz-2 ЦЖ(фас.15)",18,1,14.4,1]
[null,"            БСУ-4,0х70 Саморiз унiв.пот.гол.Pz-2 ЦЖ(фас.14)",18,1,14.4,1]
[null,"        Болти","","","",""]
[null,"            ББР без різьби","","","",""]
[null,"                ББР М8х50 Болт без різьби ЦБ",108,"кг",86.4,"кг"]
[null,"            Болти МІЦНІ","","","",""]
[null,"                БП М16х55 кл.м.10.9 Болт призонний БП DIN 609",9180,100,7344,100]
[null,"                БШГ М10х100 кл.м.10.9 Болт ш.г.БП DIN 933",2640,100,2112,100]
[null,"                БШГ М10х100 кл.м.10.9 Болт ш.г.БП DIN 933",2640,100,2112,100]
[null,"                БШГ М10х100 кл.м.8.8 Болт ш.г. п/р ЦБ ГОСТ 7805",128.4,"кг",102.72000000000001,"кг"]
[null,"                БШГ М10х16 кл.м.8.8 Болт ш.г.ЦБ ГОСТ 7805",128.4,"кг",102.72000000000001,"кг"]
[null,"                БШГ М10х18 кл.м.8,8 Болт ш.г ЦБ DIN 933 (Укр)",128.4,"кг",102.72000000000001,"кг"]
[null,"                БШГ М10х1х35 кл.м.10.9 Болт ш.г. п/р БП ГОСТ 7805",1200,100,960,100]
[null,"                БШГ М10х20 кл.м.8.8 Болт ш.г.ЦБ ГОСТ 7805",240,"кг",192,"кг"]
[null,"                БШГ М10х25 кл.м.10.9 Болт ш.г.БП DIN 933",720,100,576,100]
[null,"                БШГ М10х30 кл.м.10.9 Болт ш.г.БП DIN 933",780,100,624,100]
[null,"                БШГ М10х30 кл.м.10.9 Болт ш.г.БП DIN 933",780,100,624,100]
[null,"                БШГ М10х35 кл.м.8.8 Болт ш.г ЦБ ГОСТ 7805",300,100,240,100]
[null,"                БШГ М10х40 кл.м.10.9 Болт ш.г.БП DIN 933",1440,100,1152,100]
[null,"                БШГ М10х40 кл.м.10.9 Болт ш.г.БП DIN 933",1440,100,1152,100]
[null,"                БШГ М10х40 кл.м.8.8 Болт ш.г.ЦБ ГОСТ 7805",360,"кг",288,"кг"]
[null,"                БШГ М10х40 кл.м.8.8 Болт ш.г.ЦЖ ГОСТ 7805",360,"кг",288,"кг"]
[null,"                БШГ М10х45 кл.м.10.9 Болт ш.г.БП DIN 933",1680,100,1344,100]
[null,"                БШГ М10х45 кл.м.10.9 Болт ш.г.БП DIN 933",1680,100,1344,100]
[null,"                БШГ М10х45 кл.м.10.9 Болт ш.г.БП DIN 933",1680,100,1344,100]
[null,"                БШГ М10х45 кл.м.12.9 Болт ш.г БП ГОСТ 7805",1680,100,1344,100]
[null,"                БШГ М10х50 кл.м.10.9 Болт ш.г.БП DIN 933",1800,100,1440,100]
[null,"                БШГ М10х50 кл.м.10.9 Болт ш.г.БП DIN 933",1800,100,1440,100]
[null,"                БШГ М10х50 кл.м.10.9 Болт ш.г.БП DIN 933",1800,100,1440,100]
[null,"                БШГ М10х50 кл.м.8.8 Болт ш.г. ЦБ DIN 933 (Укр)",300,"кг",240,"кг"]
[null,"                БШГ М10х50 кл.м.8.8 Болт ш.г.ЦБ ГОСТ 7805",300,"кг",240,"кг"]
[null,"                БШГ М10х60 кл.м.10.9 Болт ш.г.БП DIN 933",2100,100,1680,100]
[null,"                БШГ М10х60 кл.м.10.9 Болт ш.г.БП DIN 933",2100,100,1680,100]
[null,"                БШГ М10х70 кл.м.10.9 Болт ш.г.БП DIN 933",2280,100,1824,100]
[null,"                БШГ М10х80 кл.м.10.9 Болт ш.г.БП DIN 933",2340,100,1872,100]
[null,"                БШГ М10х80 кл.м.10.9 Болт ш.г.БП DIN 933",2340,100,1872,100]
[null,"                БШГ М12х1,5х45 кл.м.10.9 Болт ш.г.БП DIN 933",2400,100,1920,100]
[null,"                БШГ М12х1.5х30 кл.м.10.9 Болт ш.г. п/р ЦБ ГОСТ 7805",2400,100,1920,100]
[null,"                БШГ М12х100 кл.м.10.9 Болт ш.г.БП DIN 933",4260,100,3408,100]
[null,"                БШГ М12х100 кл.м.8.8 Болт ш.г ЦБ ГОСТ 7805",300,"кг",240,"кг"]
[null,"                БШГ М12х30 кл.м.8.8 Болт ш.г.ЦБ ГОСТ 7805",300,"кг",240,"кг"]
[null,"                БШГ М12х35 кл.м.10.9 Болт ш.г.БП DIN 933",2280,100,1824,100]
[null,"                БШГ М12х35 кл.м.8.8 Болт ш.г.ЦБ ГОСТ 7805",300,"кг",240,"кг"]
[null,"                БШГ М12х40 кл.м.10.9 Болт ш.г.БП DIN 933",2340,100,1872,100]
[null,"                БШГ М12х40 кл.м.10.9 Болт ш.г.БП DIN 933",2340,100,1872,100]
[null,"                БШГ М12х45 кл.м.10.9 Болт ш.г.БП DIN 933",2400,100,1920,100]
[null,"                БШГ М12х45 кл.м.8.8 Болт ш.г.ЦБ ГОСТ 7805",300,"кг",240,"кг"]
[null,"                БШГ М12х50 кл.м.10.9 Болт ш.г.БП DIN 933",2640,100,2112,100]
[null,"                БШГ М12х50 кл.м.10.9 Болт ш.г.БП DIN 933",2640,100,2112,100]
[null,"                БШГ М12х50 кл.м.10.9 Болт ш.г.БП DIN 933",2640,100,2112,100]
[null,"                БШГ М12х50 кл.м.8.8 Болт ш.г.ЦБ ГОСТ 7805",300,"кг",240,"кг"]
[null,"                БШГ М12х60 кл.м.10.9 Болт ш.г.БП DIN 933",2760,100,2208,100]
[null,"                БШГ М12х60 кл.м.8.8 Болт ш.г.ЦБ ГОСТ 7805",300,"кг",240,"кг"]
[null,"                БШГ М12х70 кл.м.10.9 Болт ш.г.БП DIN 933",2880,100,2304,100]
[null,"                БШГ М12х70 кл.м.10.9 Болт ш.г.БП DIN 933",2880,100,2304,100]
[null,"                БШГ М12х70 кл.м.8.8 Болт ш.г.ЦБ ГОСТ 7805",300,"кг",240,"кг"]
[null,"                БШГ М12х80 кл.м.10.9 Болт ш.г.БП DIN 933",3600,100,2880,100]
[null,"                БШГ М12х80 кл.м.10.9 Болт ш.г.БП DIN 933",3600,100,2880,100]
[null,"                БШГ М12х80 кл.м.8.8 Болт ш.г.ЦБ ГОСТ 7805",300,"кг",240,"кг"]
[null,"                БШГ М12х90 кл.м.8.8 Болт ш.г.ЦБ ГОСТ 7805",300,"кг",240,"кг"]
[null,"                БШГ М14х100 кл.м.10.9 Болт ш.г.БП DIN 933",7800,100,6240,100]
[null,"                БШГ М14х100 кл.м.10.9 Болт ш.г.БП DIN 933",7800,100,6240,100]
[null,"                БШГ М14х120 кл.м.10.9 Болт ш.г.БП DIN 933",8400,100,6720,100]
[null,"                БШГ М14х20 кл.м.8.8 Болт ш.г.ЦБ ГОСТ 7805",300,"кг",240,"кг"]
[null,"                БШГ М14х40 кл.м.10.9 Болт ш.г.БП DIN 933",4080,100,3264,100]
[null,"                БШГ М14х40 кл.м.10.9 Болт ш.г.БП DIN 933",4080,100,3264,100]
[null,"                БШГ М14х40 кл.м.10.9 Болт ш.г.БП DIN 933",4080,100,3264,100]
[null,"                БШГ М14х40 кл.м.10.9 Болт ш.г.БП DIN 933",4080,100,3264,100]
[null,"                БШГ М14х45 кл.м.10.9 Болт ш.г.БП DIN 933",4200,100,3360,100]
[null,"                БШГ М14х50 кл.м.10.9 Болт ш.г.БП DIN 933",4320,100,3456,100]
[null,"                БШГ М14х50 кл.м.10.9 Болт ш.г.БП DIN 933",4320,100,3456,100]
[null,"                БШГ М14х50 кл.м.10.9 Болт ш.г.БП DIN 933",4320,100,3456,100]
[null,"                БШГ М14х60 кл.м.10.9 Болт ш.г.БП DIN 933",4440,100,3552,100]
[null,"                БШГ М14х60 кл.м.10.9 Болт ш.г.БП DIN 933",4440,100,3552,100]
[null,"                БШГ М14х60 кл.м.10.9 Болт ш.г.БП DIN 933",4440,100,3552,100]
[null,"                БШГ М14х70 кл.м.10.9 Болт ш.г.БП DIN 933",5040,100,4032,100]
[null,"                БШГ М14х80 кл.м.10.9 Болт ш.г.БП DIN 933",5400,100,4320,100]
[null,"                БШГ М14х80 кл.м.10.9 Болт ш.г.БП DIN 933",5400,100,4320,100]
[null,"                БШГ М16х100 кл.м.10.9 Болт ш.г.БП DIN 933",6960,100,5568,100]
[null,"                БШГ М16х100 кл.м.10.9 Болт ш.г.БП DIN 933",6960,100,5568,100]
[null,"                БШГ М16х100 кл.м.8.8 Болт ш.г ЦБ ГОСТ 7805",2400,100,1920,100]
[null,"                БШГ М16х100 кл.м.8.8 Болт ш.г ЦБ ГОСТ 7805",300,"кг",240,"кг"]
[null,"                БШГ М16х120 кл.м.10.9 Болт ш.г.БП DIN 933",7200,100,5760,100]
[null,"                БШГ М16х120 кл.м.10.9 Болт ш.г.БП DIN 933",7200,100,5760,100]
[null,"                БШГ М16х140 кл.м.10.9 Болт ш.г.БП DIN 933",9600,100,7680,100]
[null,"                БШГ М16х30 кл.м.10.9 Болт ш.г БП DIN 933",4380,100,3504,100]
[null,"                БШГ М16х30 кл.м.8.8 Болт ш.г ЦБ ГОСТ 7805",300,"кг",240,"кг"]
[null,"                БШГ М16х40 кл.м.10.9 Болт ш.г БП DIN 933",4560,100,3648,100]
[null,"                БШГ М16х40 кл.м.10.9 Болт ш.г БП DIN 933",4620,100,3696,100]
[null,"                БШГ М16х40 кл.м.10.9 Болт ш.г БП ГОСТ 7805",4620,100,3696,100]
[null,"                БШГ М16х40 кл.м.10.9 Болт ш.г.БП DIN 933",4620,100,3696,100]
[null,"                БШГ М16х50 кл.м.10.9 Болт ш.г БП DIN 933",5040,100,4032,100]
[null,"                БШГ М16х50 кл.м.10.9 Болт ш.г БП DIN 933",5040,100,4032,100]
[null,"                БШГ М16х50 кл.м.10.9 Болт ш.г.БП DIN 933",5040,100,4032,100]
[null,"                БШГ М16х50 кл.м.8.8 Болт ш.г ЦБ ГОСТ 7805",300,"кг",240,"кг"]
[null,"                БШГ М16х60 кл.м.10.9 Болт ш.г БП DIN 933",5640,100,4512,100]
[null,"                БШГ М16х60 кл.м.10.9 Болт ш.г БП DIN 933",5640,100,4512,100]
[null,"                БШГ М16х60 кл.м.10.9 Болт ш.г.БП DIN 933",5640,100,4512,100]
[null,"                БШГ М16х65 кл.м.8.8 Болт ш.г ЦБ ГОСТ 7805",300,"кг",240,"кг"]
[null,"                БШГ М16х70 кл.м.10.9 Болт ш.г БП DIN 933",6000,100,4800,100]
[null,"                БШГ М16х70 кл.м.10.9 Болт ш.г БП DIN 933",6000,100,4800,100]
[null,"                БШГ М16х70 кл.м.10.9 Болт ш.г.БП DIN 933",6000,100,4800,100]
[null,"                БШГ М16х70 кл.м.8.8 Болт ш.г ЦБ ГОСТ 7805",300,"кг",240,"кг"]
[null,"                БШГ М16х80 кл.м.10.9 Болт ш.г БП DIN 933",6480,100,5184,100]
[null,"                БШГ М16х80 кл.м.10.9 Болт ш.г.БП DIN 933",6480,100,5184,100]
[null,"                БШГ М16х90 кл.м.10.9 Болт ш.г БП DIN 933",6840,100,5472,100]
[null,"                БШГ М16х90 кл.м.10.9 Болт ш.г БП DIN 933",6840,100,5472,100]
[null,"                БШГ М16х90 кл.м.8.8 Болт ш.г ЦБ ГОСТ 7805",300,"кг",240,"кг"]
[null,"                БШГ М18х50 кл.м.10.9 Болт ш.г.БП DIN 933",6960,100,5568,100]
[null,"                БШГ М18х50 кл.м.10.9 Болт ш.г.БП DIN 933",6960,100,5568,100]
[null,"                БШГ М18х70 кл.м.10.9 Болт ш.г БП DIN 933",7800,100,6240,100]
[null,"                БШГ М18х70 кл.м.10.9 Болт ш.г.БП DIN 933",7800,100,6240,100]
[null,"                БШГ М20х100 кл.м.10,9 Болт ш.г БП DIN 933",9600,100,7680,100]
[null,"                БШГ М20х180 кл.м.8.8 Болт ш.г.ЦБ ГОСТ 7805",300,"кг",240,"кг"]
[null,"                БШГ М20х40 кл.м.10.9 Болт ш.г БП DIN 933",5280,100,4224,100]
[null,"                БШГ М20х40 кл.м.10.9 Болт ш.г БП DIN 933",5280,100,4224,100]
[null,"                БШГ М20х40 кл.м.8.8 Болт ш.г.ЦБ ГОСТ 7805",300,"кг",240,"кг"]
[null,"                БШГ М20х45 кл.м.10.9 Болт ш.г БП DIN 933",5400,100,4320,100]
[null,"                БШГ М20х50 кл.м.10,9 Болт ш.г БП DIN 933",6000,100,4800,100]
[null,"                БШГ М20х50 кл.м.10,9 Болт ш.г БП DIN 933",6000,100,4800,100]
[null,"                БШГ М20х60 кл.м.10,9 Болт ш.г БП DIN 933",7200,100,5760,100]
[null,"                БШГ М20х60 кл.м.12,9 Болт ш.г БП DIN 933",9600,100,7680,100]
[null,"                БШГ М20х70 кл.м.8.8 Болт ш.г.ЦБ ГОСТ 7805",300,"кг",240,"кг"]
[null,"                БШГ М20х80 кл.м.10,9 Болт ш.г БП DIN 933",8400,100,6720,100]
[null,"                БШГ М20х80 кл.м.10.9 Болт ш.г БП DIN 933",8400,100,6720,100]
[null,"                БШГ М20х80 кл.м.8.8 Болт ш.г.ЦБ ГОСТ 7805",300,"кг",240,"кг"]
[null,"                БШГ М22х60 кл.м.10.9 Болт ш.г БП DIN 933",9600,100,7680,100]
[null,"                БШГ М22х80 кл.м.10.9 Болт ш.г БП DIN 933",10800,100,8640,100]
[null,"                БШГ М22х80 кл.м.10.9 Болт ш.г.БП DIN 933",10800,100,8640,100]
[null,"                БШГ М24х100 кл.м.8,8 Болт ш.г ЦБ DIN 933 (Укр)",300,"кг",240,"кг"]
[null,"                БШГ М24х70 кл.м.8,8 Болт ш.г ЦБ DIN 933 (Укр)",300,"кг",240,"кг"]
[null,"                БШГ М24х75 кл.м.10,9 Болт шг.ЦБ DIN933 (Укр)",480,"кг",384,"кг"]
[null,"                БШГ М24х80 кл.м.8,8 Болт ш.г ЦБ DIN 933 (Укр)",300,"кг",240,"кг"]
[null,"                БШГ М24х90 кл.м.8,8 Болт ш.г ЦБ DIN 933 (Укр)",300,"кг",240,"кг"]
[null,"                БШГ М30х100 кл.м.8,8 Болт ш.г ЦБ DIN 933",8028,100,6422.4000000000005,100]
[null,"                БШГ М30х100 кл.м.8.8 Болт ш.г.ЦБ DIN 933",16590,100,13272,100]
[null,"                БШГ М30х80 кл.м.8.8 Болт ш.г ЦБ ГОСТ 7805",3259.8240000000001,100,2607.8592000000003,100]
[null,"                БШГ М3х10 кл.м.8.8 Болт ш.г.ЦБ ГОСТ 7805",360,"кг",288,"кг"]
[null,"                БШГ М4х16 кл.м.8.8 Болт ш.г.ЦБ ГОСТ 7805",360,"кг",288,"кг"]
[null,"                БШГ М4х6 кл.м.8.8 Болт ш.г.ЦБ ГОСТ 7805",360,"кг",288,"кг"]
[null,"                БШГ М5х10 кл.м.8.8 Болт ш.г.ЦБ ГОСТ 7805",300,"кг",240,"кг"]
[null,"                БШГ М5х12 кл.м.8.8 Болт ш.г.ЦБ ГОСТ 7805",300,"кг",240,"кг"]
[null,"                БШГ М5х35 кл.м.8.8 Болт ш.г.ЦБ ГОСТ 7805",300,"кг",240,"кг"]
[null,"                БШГ М6х16 кл.м.8.8 Болт ш.г.ЦБ ГОСТ 7805",120,"кг",96,"кг"]
[null,"                БШГ М6х30 кл.м.8.8 Болт ш.г.ЦБ ГОСТ 7805",192,"кг",153.60000000000002,"кг"]
[null,"                БШГ М8х12 кл.м.8.8 Болт ш.г.ЦБ ГОСТ 7805",300,"кг",240,"кг"]
[null,"                БШГ М8х120 кл.м.10.9 Болт ш.г БП DIN 933",3600,100,2880,100]
[null,"                БШГ М8х14 кл.м.8.8 Болт ш.г.ЦБ ГОСТ 7805",300,"кг",240,"кг"]
[null,"                БШГ М8х16 кл.м.8.8 Болт ш.г.ЦБ ГОСТ 7805",300,"кг",240,"кг"]
[null,"                БШГ М8х1х25 кл.м.10.9 Болт ш.г. п/р ЦБ ГОСТ 7805",144,100,115.2,100]
[null,"                БШГ М8х25 кл.м.8.8 Болт ш.г.ЦБ ГОСТ 7805",300,"кг",240,"кг"]
[null,"                БШГ М8х30 кл.м.8.8 Болт ш.г.ЦБ ГОСТ 7805",300,"кг",240,"кг"]
[null,"                БШГ М8х35 Болт ш.г. п/р  кл.м.8.8 ЦЖ ГОСТ 7805",300,"кг",240,"кг"]
[null,"                БШГ М8х35 кл.м.8.8 Болт ш.г.ЦБ ГОСТ 7805",300,"кг",240,"кг"]
[null,"                БШГ М8х50 кл.м.10.9 Болт ш.г БП DIN 933",1050,100,840,100]
[null,"                БШГЧ М10х100 кл.м.10.9 Болт ш.г БП DIN 931",2400,100,1920,100]
[null,"                БШГЧ М10х120 кл.м.10.9 Болт ш.г БП DIN 931",2520,100,2016,100]
[null,"                БШГЧ М10х120 кл.м.10.9 Болт ш.г.БП DIN 931",2520,100,2016,100]
[null,"                БШГЧ М10х140 кл.м.10.9 Болт ш.г БП DIN 931",2580,100,2064,100]
[null,"                БШГЧ М10х150 кл.м.8.8 Болт ш.г.ЦБ ГОСТ 7805",192,"кг",153.60000000000002,"кг"]
[null,"                БШГЧ М10х160 кл.м.10.9 Болт ш.г БП DIN 931",3420,100,2736,100]
[null,"                БШГЧ М10х160 кл.м.10.9 Болт ш.г БП DIN 931",3420,100,2736,100]
[null,"                БШГЧ М10х1х40 кл.м.10.9 Болт ш.г. БП ГОСТ 7805",1800,100,1440,100]
[null,"                БШГЧ М10х50 кл.м.10.9 Болт ш.г БП DIN 931",1800,100,1440,100]
[null,"                БШГЧ М10х50 кл.м.10.9 Болт ш.г БП DIN 931",1800,100,1440,100]
[null,"                БШГЧ М10х50 кл.м.8.8 Болт ш.г.ЦБ ГОСТ 7805",192,"кг",153.60000000000002,"кг"]
[null,"                БШГЧ М10х60 кл.м.10.9 Болт ш.г.БП DIN 931",2100,100,1680,100]
[null,"                БШГЧ М10х70 кл.м.10.9 Болт ш.г БП DIN 931",2280,100,1824,100]
[null,"                БШГЧ М10х70 кл.м.10.9 Болт ш.г БП DIN 931",2280,100,1824,100]
[null,"                БШГЧ М10х70 кл.м.10.9 Болт ш.г.БП DIN 931",2280,100,1824,100]
[null,"                БШГЧ М10х80 кл.м.10.9 Болт ш.г.БП DIN 931",2340,100,1872,100]
[null,"                БШГЧ М10х80 кл.м.10.9 Болт ш.г.БП DIN 931",2340,100,1872,100]
[null,"                БШГЧ М12х100 кл.м.10.9 Болт ш.г.БП DIN 931",4260,100,3408,100]
[null,"                БШГЧ М12х100 кл.м.10.9 Болт ш.г.БП DIN 931",4200,100,3360,100]
[null,"                БШГЧ М12х110 кл.м.8.8 Болт ш.г.ЦБ ГОСТ 7805",300,"кг",240,"кг"]
[null,"                БШГЧ М12х120 зменш.гол.кл.м.8.8 Болт ш.г.ЦБ ГОСТ 7796",300,"кг",240,"кг"]
[null,"                БШГЧ М12х120 кл.м.10.9 Болт ш.г.БП DIN 931",4320,100,3456,100]
[null,"                БШГЧ М12х120 кл.м.10.9 Болт ш.г.БП DIN 931",4320,100,3456,100]
[null,"                БШГЧ М12х140 кл.м.10.9 Болт ш.г.БП DIN 931",6000,100,4800,100]
[null,"                БШГЧ М12х140 кл.м.8.8 Болт ш.г.ЦБ ГОСТ 7805",300,"кг",240,"кг"]
[null,"                БШГЧ М12х160 кл.м.10.9 Болт ш.г.БП DIN 931",7080,100,5664,100]
[null,"                БШГЧ М12х160 кл.м.10.9 Болт ш.г.БП DIN 931",7080,100,5664,100]
[null,"                БШГЧ М12х160 кл.м.8.8 Болт ш.г.ЦБ ГОСТ 7805",300,"кг",240,"кг"]
[null,"                БШГЧ М12х180 кл.м.10.9 Болт ш.г.БП DIN 931",8880,100,7104,100]
[null,"                БШГЧ М12х180 кл.м.10.9 Болт ш.г.БП DIN 931",8880,100,7104,100]
[null,"                БШГЧ М12х220 кл.м.8.8 Болт ш.г.ЦБ ГОСТ 7805",300,"кг",240,"кг"]
[null,"                БШГЧ М12х240 кл.м.8.8 Болт ш.г.ЦБ ГОСТ 7805",300,"кг",240,"кг"]
[null,"                БШГЧ М12х260 кл.м.8.8 Болт ш.г ЦБ ГОСТ 7805",3113.9639999999995,100,2491.1711999999998,100]
[null,"                БШГЧ М12х40 кл.м.10.9 Болт ш.г.БП DIN 931",1140,100,912,100]
[null,"                БШГЧ М12х50 кл.м.10,9 Болт ш.г БП DIN 931",2640,100,2112,100]
[null,"                БШГЧ М12х50 кл.м.10.9 Болт ш.г.БП DIN 931",2640,100,2112,100]
[null,"                БШГЧ М12х50 кл.м.8.8 Болт ш.г.ЦБ ГОСТ 7805",300,"кг",240,"кг"]
[null,"                БШГЧ М12х55 кл.м.8.8 Болт ш.г.ЦБ ГОСТ 7805",300,"кг",240,"кг"]
[null,"                БШГЧ М12х60 кл.м.10.9 Болт ш.г.БП DIN 931",2760,100,2208,100]
[null,"                БШГЧ М12х60 кл.м.10.9 Болт ш.г.БП DIN 931",2760,100,2208,100]
[null,"                БШГЧ М12х65 зменш.гол. кл.м.8.8 Болт ш.г.ЦБ ГОСТ 7796",300,"кг",240,"кг"]
[null,"                БШГЧ М12х70 кл.м.10.9 Болт ш.г.БП DIN 931",2880,100,2304,100]
[null,"                БШГЧ М12х70 кл.м.10.9 Болт ш.г.БП DIN 931",2880,100,2304,100]
[null,"                БШГЧ М12х70 кл.м.8.8 Болт ш.г.ЦБ ГОСТ 7805",300,"кг",240,"кг"]
[null,"                БШГЧ М12х80 кл.м.10.9 Болт ш.г.БП DIN 931",3600,100,2880,100]
[null,"                БШГЧ М12х90 кл.м.10.9 Болт ш.г.БП DIN 931",3840,100,3072,100]
[null,"                БШГЧ М14х1.5х100 кл.м.10.9 Болт ш.г. БП DIN 931",7800,100,6240,100]
[null,"                БШГЧ М14х1.5х100 кл.м.10.9 Болт ш.г. БП DIN 931",7800,100,6240,100]
[null,"                БШГЧ М14х1.5х120 кл.м.10.9 Болт ш.г. БП DIN 960",8400,100,6720,100]
[null,"                БШГЧ М14х1.5х140 кл.м.10.9 Болт ш.г. БП DIN 960",9000,100,7200,100]
[null,"                БШГЧ М14х1.5х80 кл.м.10.9 Болт ш.г. БП DIN 960",5400,100,4320,100]
[null,"                БШГЧ М14х100 кл.м.10.9 Болт ш.г.БП DIN 931",7800,100,6240,100]
[null,"                БШГЧ М14х100 кл.м.10.9 Болт ш.г.БП DIN 931",7800,100,6240,100]
[null,"                БШГЧ М14х120 кл.м.10.9 Болт ш.г.БП DIN 931",8400,100,6720,100]
[null,"                БШГЧ М14х140 кл.м.10.9 Болт ш.г.БП DIN 931",9000,100,7200,100]
[null,"                БШГЧ М14х160 кл.м.10.9 Болт ш.г.БП DIN 931",9600,100,7680,100]
[null,"                БШГЧ М14х160 кл.м.10.9 Болт ш.г.БП DIN 931",9600,100,7680,100]
[null,"                БШГЧ М14х180 кл.м.10.9 Болт ш.г.БП DIN 931",10200,100,8160,100]
[null,"                БШГЧ М14х180 кл.м.10.9 Болт ш.г.БП DIN 931",10200,100,8160,100]
[null,"                БШГЧ М14х180 кл.м.10.9 Болт ш.г.БП DIN 931",10200,100,8160,100]
[null,"                БШГЧ М14х50 кл.м.10.9 Болт ш.г.БП DIN 931",4320,100,3456,100]
[null,"                БШГЧ М14х50 кл.м.10.9 Болт ш.г.БП DIN 931",4320,100,3456,100]
[null,"                БШГЧ М14х60 кл.м.10.9 Болт ш.г.БП DIN 931",4440,100,3552,100]
[null,"                БШГЧ М14х60 кл.м.10.9 Болт ш.г.БП DIN 931",4440,100,3552,100]
[null,"                БШГЧ М14х70 кл.м.10.9 Болт ш.г.БП DIN 931",5040,100,4032,100]
[null,"                БШГЧ М14х80 кл.м.10.9 Болт ш.г.БП DIN 931",5400,100,4320,100]
[null,"                БШГЧ М14х90 кл.м.10.9 Болт ш.г.БП DIN 931",6000,100,4800,100]
[null,"                БШГЧ М14х90 кл.м.10.9 Болт ш.г.БП DIN 931",6000,100,4800,100]
[null,"                БШГЧ М16х1.5х50 кл.м.10.9 Болт ш.г. БП DIN 931",6048,100,4838.4000000000005,100]
[null,"                БШГЧ М16х1.5х70 кл.м.10.9 Болт ш.г. БП DIN 931",7200,100,5760,100]
[null,"                БШГЧ М16х1.5х70 кл.м.10.9 Болт ш.г. БП DIN 931",7200,100,5760,100]
[null,"                БШГЧ М16х1.5х70 кл.м.10.9 Болт ш.г. БП DIN 961",7200,100,5760,100]
[null,"                БШГЧ М16х1.5х80 кл.м.10.9 Болт ш.г. БП DIN 960",7776,100,6220.8,100]
[null,"                БШГЧ М16х1.5х80 кл.м.10.9 Болт ш.г. БП DIN 961",7776,100,6220.8,100]
[null,"                БШГЧ М16х1.5х80 кл.м.10.9 Болт ш.г. БП ГОСТ 7805",7776,100,6220.8,100]
[null,"                БШГЧ М16х1.5х90 кл.м.10.9 Болт ш.г. БП DIN 960",8208,100,6566.4000000000005,100]
[null,"                БШГЧ М16х100 кл.м.10,9 Болт ш.г БП DIN 931",6960,100,5568,100]
[null,"                БШГЧ М16х120 кл.м.10,9 Болт ш.г БП DIN 931",7200,100,5760,100]
[null,"                БШГЧ М16х120 кл.м.10.9 Болт ш.г.БП DIN 931",7200,100,5760,100]
[null,"                БШГЧ М16х120 кл.м.10.9 Болт ш.г.БП DIN 931",7200,100,5760,100]
[null,"                БШГЧ М16х130 кл.м.10.9 Болт ш.г.БП DIN 931",8400,100,6720,100]
[null,"                БШГЧ М16х140 кл.м.10.9 Болт ш.г.БП DIN 931",9600,100,7680,100]
[null,"                БШГЧ М16х140 кл.м.10.9 Болт ш.г.БП DIN 931",9600,100,7680,100]
[null,"                БШГЧ М16х140 кл.м.8.8 Болт ш.г.ЦБ DIN 931",300,"кг",240,"кг"]
[null,"                БШГЧ М16х140 кл.м.8.8 Болт ш.г.ЦБ ГОСТ 7805",1171.98,100,937.58400000000006,100]
[null,"                БШГЧ М16х150 кл.м.10.9 Болт ш.г.БП DIN 931",10800,100,8640,100]
[null,"                БШГЧ М16х160 кл.м.10.9 Болт ш.г.БП DIN 931",12000,100,9600,100]
[null,"                БШГЧ М16х160 кл.м.10.9 Болт ш.г.БП DIN 931",12000,100,9600,100]
[null,"                БШГЧ М16х170 кл.м.10.9 Болт ш.г.БП DIN 931",12600,100,10080,100]
[null,"                БШГЧ М16х180 кл.м.10.9 Болт ш.г.БП DIN 931",13200,100,10560,100]
[null,"                БШГЧ М16х200 кл.м.10.9 Болт ш.г.БП DIN 931",16200,100,12960,100]
[null,"                БШГЧ М16х200 кл.м.10.9 Болт ш.г.БП DIN 931",16200,100,12960,100]
[null,"                БШГЧ М16х250 кл.м.10,9 Болт ш.г БП ГОСТ 7805",23160,100,18528,100]
[null,"                БШГЧ М16х280 кл.м.10,9 Болт ш.г БП ГОСТ 7805",23640,100,18912,100]
[null,"                БШГЧ М16х300 кл.м.10,9 Болт ш.г ЦБ ГОСТ 7805",24240,100,19392,100]
[null,"                БШГЧ М16х330 кл.м.10,9 Болт ш.г БП ГОСТ 7805",26880,100,21504,100]
[null,"                БШГЧ М16х50 кл.м.10,9 Болт ш.г БП DIN 931",5040,100,4032,100]
[null,"                БШГЧ М16х50 кл.м.10,9 Болт ш.г БП DIN 931",5040,100,4032,100]
[null,"                БШГЧ М16х50 кл.м.10.9 Болт ш.г.БП DIN 931",5040,100,4032,100]
[null,"                БШГЧ М16х60 кл.м.10.9 Болт ш.г.БП DIN 931",5640,100,4512,100]
[null,"                БШГЧ М16х70 кл.м.10,9 Болт ш.г БП DIN 931",6000,100,4800,100]
[null,"                БШГЧ М16х70 кл.м.10,9 Болт ш.г БП DIN 931",6000,100,4800,100]
[null,"                БШГЧ М16х70 кл.м.10.9 Болт ш.г.БП DIN 931",6000,100,4800,100]
[null,"                БШГЧ М16х80 кл.м.10.9 Болт ш.г.БП DIN 931",6480,100,5184,100]
[null,"                БШГЧ М16х90 кл.м.10,9 Болт ш.г БП DIN 931",6840,100,5472,100]
[null,"                БШГЧ М16х90 кл.м.10.9 Болт ш.г.БП DIN 931",6840,100,5472,100]
[null,"                БШГЧ М18х100 кл.м.10.9 Болт ш.г.БП DIN 931",9600,100,7680,100]
[null,"                БШГЧ М18х100 кл.м.10.9 Болт ш.г.БП DIN 931",8520,100,6816,100]
[null,"                БШГЧ М18х120 кл.м.10.9 Болт ш.г.БП DIN 931",10200,100,8160,100]
[null,"                БШГЧ М18х140 кл.м.10.9 Болт ш.г.БП DIN 931",10200,100,8160,100]
[null,"                БШГЧ М18х140 кл.м.10.9 Болт ш.г.БП DIN 931",10200,100,8160,100]
[null,"                БШГЧ М18х140 кл.м.10.9 Болт ш.г.БП DIN 931",10200,100,8160,100]
[null,"                БШГЧ М18х160 кл.м.10.9 Болт ш.г.БП DIN 931",10800,100,8640,100]
[null,"                БШГЧ М18х160 кл.м.10.9 Болт ш.г.БП DIN 931",10800,100,8640,100]
[null,"                БШГЧ М18х180 кл.м.10.9 Болт ш.г.БП DIN 931",11400,100,9120,100]
[null,"                БШГЧ М18х180 кл.м.10.9 Болт ш.г.БП DIN 931",11400,100,9120,100]
[null,"                БШГЧ М18х200 кл.м.10.9 Болт ш.г.БП DIN 931",12840,100,10272,100]
[null,"                БШГЧ М18х200 кл.м.10.9 Болт ш.г.БП DIN 931",12840,100,10272,100]
[null,"                БШГЧ М18х220 кл.м.10.9 Болт ш.г.БП DIN 931",16560,100,13248,100]
[null,"                БШГЧ М18х50 кл.м.10.9 Болт ш.г.БП DIN 931",6960,100,5568,100]
[null,"                БШГЧ М18х60 кл.м.10.9 Болт ш.г.БП DIN 931",7200,100,5760,100]
[null,"                БШГЧ М18х60 кл.м.10.9 Болт ш.г.БП DIN 931",7200,100,5760,100]
[null,"                БШГЧ М18х70 кл.м.10.9 Болт ш.г.БП DIN 931",7800,100,6240,100]
[null,"                БШГЧ М18х80 кл.м.10.9 Болт ш.г.БП DIN 931",8280,100,6624,100]
[null,"                БШГЧ М18х90 кл.м.10.9 Болт ш.г.БП DIN 931",8400,100,6720,100]
[null,"                БШГЧ М20х100 кл.м.10,9 Болт ш.г БП DIN 931",9600,100,7680,100]
[null,"                БШГЧ М20х100 кл.м.10,9 Болт ш.г БП DIN 931",9600,100,7680,100]
[null,"                БШГЧ М20х100 кл.м.10.9 Болт ш.г.БП DIN 931",9600,100,7680,100]
[null,"                БШГЧ М20х110 кл.м.10,9 Болт ш.г БП DIN 931",10200,100,8160,100]
[null,"                БШГЧ М20х110 кл.м.10,9 Болт ш.г БП DIN 931",10200,100,8160,100]
[null,"                БШГЧ М20х110 кл.м.10.9 Болт ш.г.БП DIN 931",10200,100,8160,100]
[null,"                БШГЧ М20х110 кл.м.8.8 Болт ш.г.ЦБ ГОСТ 7805",300,"кг",240,"кг"]
[null,"                БШГЧ М20х120 кл.м.10,9 Болт ш.г БП DIN 931",11160,100,8928,100]
[null,"                БШГЧ М20х120 кл.м.10,9 Болт ш.г БП DIN 931",11160,100,8928,100]
[null,"                БШГЧ М20х120 кл.м.10,9 Болт ш.г БП ГОСТ 7805",11160,100,8928,100]
[null,"                БШГЧ М20х120 кл.м.8.8 Болт ш.г БП ГОСТ 7805",4800,100,3840,100]
[null,"                БШГЧ М20х130 кл.м.10,9 Болт ш.г БП DIN 931",12000,100,9600,100]
[null,"                БШГЧ М20х130 кл.м.10,9 Болт ш.г БП ГОСТ 7805",12000,100,9600,100]
[null,"                БШГЧ М20х130 кл.м.8.8 Болт ш.г.ЦБ ГОСТ 7805",300,"кг",240,"кг"]
[null,"                БШГЧ М20х140 кл.м.10,9 Болт ш.г БП DIN 931",14400,100,11520,100]
[null,"                БШГЧ М20х140 кл.м.10,9 Болт ш.г БП DIN 931",14400,100,11520,100]
[null,"                БШГЧ М20х150 кл.м.10,9 Болт ш.г БП DIN 931",16560,100,13248,100]
[null,"                БШГЧ М20х160 кл.м.10,9 Болт ш.г БП DIN 931",16800,100,13440,100]
[null,"                БШГЧ М20х160 кл.м.10,9 Болт ш.г БП DIN 931",16800,100,13440,100]
[null,"                БШГЧ М20х180 кл.м.10,9 Болт ш.г БП DIN 931",18000,100,14400,100]
[null,"                БШГЧ М20х180 кл.м.10,9 Болт ш.г БП DIN 931",18000,100,14400,100]
[null,"                БШГЧ М20х200 кл.м.10,9 Болт ш.г БП DIN 931",22800,100,18240,100]
[null,"                БШГЧ М20х200 кл.м.10,9 Болт ш.г БП DIN 931",22800,100,18240,100]
[null,"                БШГЧ М20х200 кл.м.10.9 Болт ш.г.БП DIN 931",22800,100,18240,100]
[null,"                БШГЧ М20х220 кл.м.10.9 Болт ш.г.БП DIN 931",30000,100,24000,100]
[null,"                БШГЧ М20х220 кл.м.10.9 Болт ш.г.БП DIN 931",30000,100,24000,100]
[null,"                БШГЧ М20х240 кл.м.10.9 Болт ш.г.БП DIN 931",43200,100,34560,100]
[null,"                БШГЧ М20х260 кл.м.10,9 Болт ш.г БП DIN 931",50400,100,40320,100]
[null,"                БШГЧ М20х280 кл.м.10.9 Болт ш.г.БП DIN 931",61800,100,49440,100]
[null,"                БШГЧ М20х300 кл.м.10,9 Болт ш.г БП ГОСТ 7805",62400,100,49920,100]
[null,"                БШГЧ М20х60 кл.м.10,9 Болт ш.г БП DIN 931",7200,100,5760,100]
[null,"                БШГЧ М20х70 кл.м.10,9 Болт ш.г БП DIN 931",7440,100,5952,100]
[null,"                БШГЧ М20х80 кл.м.10,9 Болт ш.г БП DIN 931",8400,100,6720,100]
[null,"                БШГЧ М20х80 кл.м.8.8 Болт ш.г. ЦБ ГОСТ 7805",2400,100,1920,100]
[null,"                БШГЧ М20х90 кл.м.10,9 Болт ш.г БП DIN 931",9000,100,7200,100]
[null,"                БШГЧ М20х90 кл.м.10,9 Болт ш.г БП DIN 931",9000,100,7200,100]
[null,"                БШГЧ М22х100 кл.м.10.9 Болт ш.г.БП DIN 931",13200,100,10560,100]
[null,"                БШГЧ М22х60 кл.м.10.9 Болт ш.г.БП DIN 931",9600,100,7680,100]
[null,"                БШГЧ М22х80 кл.м.10.9 Болт ш.г.БП DIN 931",10800,100,8640,100]
[null,"                БШГЧ М22х80 кл.м.10.9 Болт ш.г.БП DIN 931",10800,100,8640,100]
[null,"                БШГЧ М24х100 кл.м.10,9 Болт ш.г БП DIN 931",13500,100,10800,100]
[null,"                БШГЧ М24х100 кл.пр.10,9 Болт ш.г.БП ГОСТ 22353",480,"кг",384,"кг"]
[null,"                БШГЧ М24х120 кл.м.10,9 Болт ш.г БП DIN 931",13920,100,11136,100]
[null,"                БШГЧ М24х120 кл.м.10,9 Болт ш.г БП DIN 931",13920,100,11136,100]
[null,"                БШГЧ М24х130 кл.м.10,9 Болт ш.г БП DIN 931",15000,100,12000,100]
[null,"                БШГЧ М24х150 кл.м.10,9 Болт ш.г БП DIN 931",16800,100,13440,100]
[null,"                БШГЧ М24х160 кл.м.10,9 Болт ш.г БП DIN 931",16800,100,13440,100]
[null,"                БШГЧ М24х180 кл.м.10,9 Болт ш.г БП DIN 931",23760,100,19008,100]
[null,"                БШГЧ М24х180 кл.м.10,9 Болт ш.г БП DIN 931",19200,100,15360,100]
[null,"                БШГЧ М24х180 кл.м.10.9 Болт ш.г.БП DIN 931",23760,100,19008,100]
[null,"                БШГЧ М24х180 кл.м.8.8 Болт ш.г.ЦБ ГОСТ 7805",300,"кг",240,"кг"]
[null,"                БШГЧ М24х200 кл.м.10,9 Болт ш.г БП DIN 931",24240,100,19392,100]
[null,"                БШГЧ М24х200 кл.м.10,9 Болт ш.г БП DIN 931",24240,100,19392,100]
[null,"                БШГЧ М24х200 кл.м.10,9 Болт ш.г БП ГОСТ 7805",24240,100,19392,100]
[null,"                БШГЧ М24х250 кл.м.10,9 Болт ш.г БП ГОСТ 7805",33240,100,26592,100]
[null,"                БШГЧ М24х300 кл.м.10,9 Болт ш.г БП ГОСТ 7805",42120,100,33696,100]
[null,"                БШГЧ М24х340 кл.м.10,9 Болт ш.г БП ГОСТ 7805",44640,100,35712,100]
[null,"                БШГЧ М24х75 кл.м.10,9 Болт шг.ЦБ ГОСТ 7805 (Укр)",480,"кг",384,"кг"]
[null,"                БШГЧ М24х80 кл.м.10,9 Болт ш.г БП DIN 931",9720,100,7776,100]
[null,"                БШГЧ М24х80 кл.пр.10,9 Болт ш.г.БП ГОСТ 22353",480,"кг",384,"кг"]
[null,"                БШГЧ М30х100 кл.м.10,9 Болт ш.г БП DIN 931",28680,100,22944,100]
[null,"                БШГЧ М30х140 кл.м.8.8 Болт ш.г.ЦБ DIN 931",12000,100,9600,100]
[null,"                БШГЧ М30х160 кл.м.8.8 Болт ш.г.ЦБ DIN 931",12600,100,10080,100]
[null,"                БШГЧ М5х45 кл.м.8.8 Болт ш.г.ЦБ ГОСТ 7805",300,"кг",240,"кг"]
[null,"                БШГЧ М8х100 кл.м.8.8 Болт ш.г.ЦБ ГОСТ 7805",300,"кг",240,"кг"]
[null,"                БШГЧ М8х55 кл.м.8.8 Болт ш.г ЦБ ГОСТ 7805",240,100,192,100]
[null,"                БШГЧ М8х75 кл.м.8.8 Болт ш.г.ЦБ ГОСТ 7805",300,"кг",240,"кг"]
[null,"                БШГЧ М8х90 кл.м.8.8 Болт ш.г.ЦБ ГОСТ 7805",300,"кг",240,"кг"]
[null,"                БШГШ М12х70 кл.м.8.8.Болт ш.г.БП DIN 6921",300,"кг",240,"кг"]
[null,"                БШГШ М6х25 кл.м.8.8.Болт ш.г.ЦБ DIN 6921",300,"кг",240,"кг"]
[null,"            Болти НЕРЖАВІЮЧІ","","","",""]
[null,"                БН М16х140 А4 Болт накидний DIN 444",74400,100,59520,100]
[null,"                БШГ М10х100 А2 Болт ш.г.DIN 933",2700,100,2160,100]
[null,"                БШГ М10х110 А2 Болт ш.г.DIN 933",2220,100,1776,100]
[null,"                БШГ М10х130 А2 Болт ш.г.DIN 933",3600,100,2880,100]
[null,"                БШГ М10х16 А2 Болт ш.г.DIN 933",960,100,768,100]
[null,"                БШГ М10х20 А2 Болт ш.г.DIN 933",1020,100,816,100]
[null,"                БШГ М10х20 А2 Болт ш.г.DIN 933",1020,100,816,100]
[null,"                БШГ М10х25 А2 Болт ш.г.DIN 933",1080,100,864,100]
[null,"                БШГ М10х25 А2 Болт ш.г.DIN 933",1080,100,864,100]
[null,"                БШГ М10х30 А2 Болт ш.г.DIN 933",1140,100,912,100]
[null,"                БШГ М10х35 А2 Болт ш.г.DIN 933",1260,100,1008,100]
[null,"                БШГ М10х35 А2 Болт ш.г.DIN 933",1260,100,1008,100]
[null,"                БШГ М10х40 А2 Болт ш.г.DIN 933",1272,100,1017.6,100]
[null,"                БШГ М10х40 А2 Болт ш.г.DIN 933",1272,100,1017.6,100]
[null,"                БШГ М10х45 А2 Болт ш.г.DIN 933",1320,100,1056,100]
[null,"                БШГ М10х50 А2 Болт ш.г.DIN 933",1500,100,1200,100]
[null,"                БШГ М10х60 А2 Болт ш.г.DIN 933",1680,100,1344,100]
[null,"                БШГ М10х60 А2 Болт ш.г.DIN 933",1680,100,1344,100]
[null,"                БШГ М10х65 А2 Болт ш.г.DIN 933",1980,100,1584,100]
[null,"                БШГ М10х70 А2 Болт ш.г.DIN 933",2040,100,1632,100]
[null,"                БШГ М10х80 А2 Болт ш.г.DIN 933",2430,100,1944,100]
[null,"                БШГ М10х90 А2 Болт ш.г.DIN 933",2600.4,100,2080.3200000000002,100]
[null,"                БШГ М12х100 А2 Болт ш.г.DIN 933",3000,100,2400,100]
[null,"                БШГ М12х120 А2 Болт ш.г.DIN 933",3240,100,2592,100]
[null,"                БШГ М12х20 А2 Болт ш.г.DIN 933",1440,100,1152,100]
[null,"                БШГ М12х25 А2 Болт ш.г.DIN 933",1560,100,1248,100]
[null,"                БШГ М12х25 А2 Болт ш.г.DIN 933",1560,100,1248,100]
[null,"                БШГ М12х30 А2 Болт ш.г.DIN 933",1800,100,1440,100]
[null,"                БШГ М12х30 А2 Болт ш.г.DIN 933",1800,100,1440,100]
[null,"                БШГ М12х35 А2 Болт ш.г.DIN 933",1920,100,1536,100]
[null,"                БШГ М12х35 А2 Болт ш.г.DIN 933",1920,100,1536,100]
[null,"                БШГ М12х40 А2 Болт ш.г.DIN 933",1980,100,1584,100]
[null,"                БШГ М12х40 А2 Болт ш.г.DIN 933",1980,100,1584,100]
[null,"                БШГ М12х40 А2 Болт ш.г.DIN 933",1980,100,1584,100]
[null,"                БШГ М12х45 А2 Болт ш.г.DIN 933",2100,100,1680,100]
[null,"                БШГ М12х45 А2 Болт ш.г.DIN 933",2100,100,1680,100]
[null,"                БШГ М12х50 А2 Болт ш.г.DIN 933",2160,100,1728,100]
[null,"                БШГ М12х50 А2 Болт ш.г.DIN 933",2160,100,1728,100]
[null,"                БШГ М12х55 А2 Болт ш.г.DIN 933",2220,100,1776,100]
[null,"                БШГ М12х55 А2 Болт ш.г.DIN 933",2220,100,1776,100]
[null,"                БШГ М12х60 А2 Болт ш.г.DIN 933",2484,100,1987.2,100]
[null,"                БШГ М12х60 А2 Болт ш.г.DIN 933",2484,100,1987.2,100]
[null,"                БШГ М12х65 А2 Болт ш.г.DIN 933",2520,100,2016,100]
[null,"                БШГ М12х70 А2 Болт ш.г.DIN 933",2640,100,2112,100]
[null,"                БШГ М12х70 А2 Болт ш.г.DIN 933",2640,100,2112,100]
[null,"                БШГ М12х80 А2 Болт ш.г.DIN 933",2880,100,2304,100]
[null,"                БШГ М12х90 А2 Болт ш.г.DIN 933",2940,100,2352,100]
[null,"                БШГ М14х40 А2 Болт ш.г.DIN 933",2220,100,1776,100]
[null,"                БШГ М14х45 А2 Болт ш.г.DIN 933",3360,100,2688,100]
[null,"                БШГ М14х45 А2 Болт ш.г.DIN 933",3360,100,2688,100]
[null,"                БШГ М14х60 А2 Болт ш.г.DIN 933",3900,100,3120,100]
[null,"                БШГ М14х75 А2 Болт ш.г.DIN 933",3840,100,3072,100]
[null,"                БШГ М14х80 А2 Болт ш.г.DIN 933",4020,100,3216,100]
[null,"                БШГ М16х100 А2 Болт ш.г.DIN 933",7320,100,5856,100]
[null,"                БШГ М16х100 А2 Болт ш.г.DIN 933",7320,100,5856,100]
[null,"                БШГ М16х30 А2 Болт ш.г.DIN 933",3120,100,2496,100]
[null,"                БШГ М16х30 А2 Болт ш.г.DIN 933",3120,100,2496,100]
[null,"                БШГ М16х35 А2 Болт ш.г.DIN 933",3360,100,2688,100]
[null,"                БШГ М16х35 А2 Болт ш.г.DIN 933",3360,100,2688,100]
[null,"                БШГ М16х40 А2 Болт ш.г.DIN 933",3840,100,3072,100]
[null,"                БШГ М16х40 А2 Болт ш.г.DIN 933",3840,100,3072,100]
[null,"                БШГ М16х45 А2 Болт ш.г.DIN 933",4140,100,3312,100]
[null,"                БШГ М16х45 А2 Болт ш.г.DIN 933",4140,100,3312,100]
[null,"                БШГ М16х50 А2 Болт ш.г.DIN 933",4200,100,3360,100]
[null,"                БШГ М16х55 А2 Болт ш.г.DIN 933",4914,100,3931.2000000000003,100]
[null,"                БШГ М16х60 А2 Болт ш.г.DIN 933",4920,100,3936,100]
[null,"                БШГ М16х60 А2 Болт ш.г.DIN 933",4920,100,3936,100]
[null,"                БШГ М16х65 А2 Болт ш.г.DIN 933",5040,100,4032,100]
[null,"                БШГ М16х65 А2 Болт ш.г.DIN 933",5040,100,4032,100]
[null,"                БШГ М16х70 А2 Болт ш.г.DIN 933",5280,100,4224,100]
[null,"                БШГ М16х75 А2 Болт ш.г.DIN 933",5394,100,4315.2,100]
[null,"                БШГ М16х75 А2 Болт ш.г.DIN 933",5394,100,4315.2,100]
[null,"                БШГ М16х80 А2 Болт ш.г.DIN 933",5400,100,4320,100]
[null,"                БШГ М16х90 А2 Болт ш.г.DIN 933",6360,100,5088,100]
[null,"                БШГ М16х90 А2 Болт ш.г.DIN 933",6360,100,5088,100]
[null,"                БШГ М20х100 А2 Болт ш.г.DIN 933",12000,100,9600,100]
[null,"                БШГ М20х110 А2 Болт ш.г.DIN 933",15240,100,12192,100]
[null,"                БШГ М20х150 А2 Болт ш.г.DIN 933",18000,100,14400,100]
[null,"                БШГ М20х30 А2 Болт ш.г.DIN 933",9480,100,7584,100]
[null,"                БШГ М20х35 А2 Болт ш.г.DIN 933",9600,100,7680,100]
[null,"                БШГ М20х40 А2 Болт ш.г.DIN 933",9720,100,7776,100]
[null,"                БШГ М20х45 А2 Болт ш.г.DIN 933",9840,100,7872,100]
[null,"                БШГ М20х50 А2 Болт ш.г.DIN 933",9960,100,7968,100]
[null,"                БШГ М20х50 А2 Болт ш.г.DIN 933",9960,100,7968,100]
[null,"                БШГ М20х55 А2 Болт ш.г.DIN 933",10080,100,8064,100]
[null,"                БШГ М20х55 А2 Болт ш.г.DIN 933",10080,100,8064,100]
[null,"                БШГ М20х60 А2 Болт ш.г.DIN 933",10200,100,8160,100]
[null,"                БШГ М20х65 А2 Болт ш.г.DIN 933",10320,100,8256,100]
[null,"                БШГ М20х65 А2 Болт ш.г.DIN 933",10320,100,8256,100]
[null,"                БШГ М20х70 А2 Болт ш.г.DIN 933",10440,100,8352,100]
[null,"                БШГ М20х70 А2 Болт ш.г.DIN 933",10440,100,8352,100]
[null,"                БШГ М20х75 А2 Болт ш.г.DIN 933",10560,100,8448,100]
[null,"                БШГ М20х75 А2 Болт ш.г.DIN 933",10560,100,8448,100]
[null,"                БШГ М20х80 А2 Болт ш.г.DIN 933",10680,100,8544,100]
[null,"                БШГ М20х90 А2 Болт ш.г.DIN 933",10800,100,8640,100]
[null,"                БШГ М22х50 А2 Болт ш.г.DIN 933",9636,100,7708.8,100]
[null,"                БШГ М22х80 А2 Болт ш.г.DIN 933",10800,100,8640,100]
[null,"                БШГ М22х90 А2 Болт ш.г.DIN 933",12720,100,10176,100]
[null,"                БШГ М24х100 А2 Болт ш.г.DIN 933",22440,100,17952,100]
[null,"                БШГ М24х100 А2 Болт ш.г.DIN 933",22440,100,17952,100]
[null,"                БШГ М24х60 А2 Болт ш.г.DIN 933",10080.6,100,8064.4800000000005,100]
[null,"                БШГ М5х10 А2 Болт ш.г.DIN 933",144,100,115.2,100]
[null,"                БШГ М5х16 А2 Болт ш.г.DIN 933",228,100,182.4,100]
[null,"                БШГ М5х20 А2 Болт ш.г.DIN 933",312,100,249.60000000000002,100]
[null,"                БШГ М5х40 А2 Болт ш.г.DIN 933",360,100,288,100]
[null,"                БШГ М6х10 А2 Болт ш.г.DIN 933",384,100,307.20000000000005,100]
[null,"                БШГ М6х12 А2 Болт ш.г.DIN 933",168,100,134.4,100]
[null,"                БШГ М6х14 А2 Болт ш.г.DIN 933",180,100,144,100]
[null,"                БШГ М6х16 А2 Болт ш.г.DIN 933",288,100,230.4,100]
[null,"                БШГ М6х16 А2 Болт ш.г.DIN 933",288,100,230.4,100]
[null,"                БШГ М6х20 А2 Болт ш.г.DIN 933",288,100,230.4,100]
[null,"                БШГ М6х20 А2 Болт ш.г.DIN 933",288,100,230.4,100]
[null,"                БШГ М6х25 А2 Болт ш.г.DIN 933",294,100,235.20000000000002,100]
[null,"                БШГ М6х30 А2 Болт ш.г.DIN 933",300,100,240,100]
[null,"                БШГ М6х30 А2 Болт ш.г.DIN 933",300,100,240,100]
[null,"                БШГ М6х35 А2 Болт ш.г.DIN 933",312,100,249.60000000000002,100]
[null,"                БШГ М6х40 А2 Болт ш.г.DIN 933",336,100,268.8,100]
[null,"                БШГ М6х45 А2 Болт ш.г.DIN 933",348,100,278.40000000000003,100]
[null,"                БШГ М6х50 А2 Болт ш.г.DIN 933",360,100,288,100]
[null,"                БШГ М6х60 А2 Болт ш.г.DIN 933",480,100,384,100]
[null,"                БШГ М6х90 А2 Болт ш.г.DIN 933",624,100,499.20000000000005,100]
[null,"                БШГ М8х12 А2 Болт ш.г.DIN 933",480,100,384,100]
[null,"                БШГ М8х16 А2 Болт ш.г.DIN 933",504,100,403.20000000000005,100]
[null,"                БШГ М8х16 А2 Болт ш.г.DIN 933",504,100,403.20000000000005,100]
[null,"                БШГ М8х20 А2 Болт ш.г.DIN 933",540,100,432,100]
[null,"                БШГ М8х20 А2 Болт ш.г.DIN 933",540,100,432,100]
[null,"                БШГ М8х25 А2 Болт ш.г.DIN 933",588,100,470.40000000000003,100]
[null,"                БШГ М8х25 А2 Болт ш.г.DIN 933",588,100,470.40000000000003,100]
[null,"                БШГ М8х30 А2 Болт ш.г.DIN 933",660,100,528,100]
[null,"                БШГ М8х30 А2 Болт ш.г.DIN 933",660,100,528,100]
[null,"                БШГ М8х35 А2 Болт ш.г.DIN 933",672,100,537.6,100]
[null,"                БШГ М8х35 А2 Болт ш.г.DIN 933",672,100,537.6,100]
[null,"                БШГ М8х40 А2 Болт ш.г.DIN 933",684,100,547.20000000000005,100]
[null,"                БШГ М8х45 А2 Болт ш.г.DIN 933",696,100,556.80000000000007,100]
[null,"                БШГ М8х50 А2 Болт ш.г.DIN 933",708,100,566.4,100]
[null,"                БШГ М8х50 А2 Болт ш.г.DIN 933",708,100,566.4,100]
[null,"                БШГ М8х60 А2 Болт ш.г.DIN 933",792,100,633.6,100]
[null,"                БШГ М8х60 А2 Болт ш.г.DIN 933",792,100,633.6,100]
[null,"                БШГ М8х65 А2 Болт ш.г.DIN 933",840,100,672,100]
[null,"                БШГ М8х70 А2 Болт ш.г.DIN 933",912,100,729.6,100]
[null,"                БШГ М8х80 А2 Болт ш.г.DIN 933",1008,100,806.40000000000009,100]
[null,"                БШГЧ М10х110 А2 Болт ш.г.DIN 931",3240,100,2592,100]
[null,"                БШГЧ М10х90 А2 Болт ш.г.DIN 931",2160,100,1728,100]
[null,"                БШГЧ М12х100 А2 Болт ш.г.DIN 931",1761.4439999999997,100,1409.1551999999999,100]
[null,"                БШГЧ М12х140 А2 Болт ш.г.DIN 931",4320,100,3456,100]
[null,"                БШГЧ М16х110 А2 Болт ш.г.DIN 931",9480,100,7584,100]
[null,"                БШГЧ М16х110 А2 Болт ш.г.DIN 931",9480,100,7584,100]
[null,"                БШГЧ М16х130 А2 Болт ш.г.DIN 931",9960,100,7968,100]
[null,"                БШГЧ М16х140 А2 Болт ш.г.DIN 931",10200,100,8160,100]
[null,"                БШГЧ М16х55 А2 Болт ш.г.DIN 931",4680,100,3744,100]
[null,"                БШГЧ М16х55 А4 Болт ш.г.DIN 931",5280,100,4224,100]
[null,"                БШГЧ М16х60 А2 Болт ш.г.DIN 931",4920,100,3936,100]
[null,"                БШГЧ М16х65 А2 Болт ш.г.DIN 931",5040,100,4032,100]
[null,"                БШГЧ М16х65 А4 Болт ш.г.DIN 931",5280,100,4224,100]
[null,"                БШГЧ М16х70 А2 Болт ш.г.DIN 931",5160,100,4128,100]
[null,"                БШГЧ М16х75 А2 Болт ш.г.DIN 931",5394,100,4315.2,100]
[null,"                БШГЧ М20х110 А2 Болт ш.г.DIN 931",15240,100,12192,100]
[null,"                БШГЧ М20х120 А2 Болт ш.г.DIN 931",16800,100,13440,100]
[null,"                БШГЧ М20х65 А4 Болт ш.г.DIN 931",7080,100,5664,100]
[null,"                БШГЧ М24х120 А2 Болт ш.г.DIN 931",23400,100,18720,100]
[null,"                БШГЧ М24х140 А2 Болт ш.г.DIN 931",27000,100,21600,100]
[null,"            Болти потайні БПГ   ГОСТ 7786","","","",""]
[null,"                БПГ М12х50 кл.м.8.8. Болт p пот.гол. ГОСТ 7786",720,100,576,100]
[null,"                БПГ М12х60 кл.м.8.8. Болт p пот.гол. ГОСТ 7786",840,100,672,100]
[null,"                БПГ М12х65 кл.м.8.8. Болт с пот.гол. ГОСТ 7786",120,"кг",96,"кг"]
[null,"            БШГ повна різьба    DIN 933 / ГОСТ 7805","","","",""]
[null,"                БШГ М10х100 Болт ш.г. п/р ЦБ ГОСТ 7805 (Укр)",128.4,"кг",102.72000000000001,"кг"]
[null,"                БШГ М10х100 Болт ш.г. ЦБ DIN 933 (Укр)",128.4,"кг",102.72000000000001,"кг"]
[null,"                БШГ М10х100 Болт ш.г.ЦБ DIN 933",128.4,"кг",102.72000000000001,"кг"]
[null,"                БШГ М10х100 Болт ш.г.ЦБ DIN 933 (Укр)",128.4,"кг",102.72000000000001,"кг"]
[null,"                БШГ М10х120 Болт ш.г. п/р ЦБ ГОСТ 7805",128.4,"кг",102.72000000000001,"кг"]
[null,"                БШГ М10х130 Болт ш.г.ЦБ DIN 933",128.4,"кг",102.72000000000001,"кг"]
[null,"                БШГ М10х140 Болт ш.г. п/р ЦБ ГОСТ 7805",128.4,"кг",102.72000000000001,"кг"]
[null,"                БШГ М10х150 Болт ш.г. п/р ЦБ ГОСТ 7805",128.4,"кг",102.72000000000001,"кг"]
[null,"                БШГ М10х16 Болт ш.г. п/р ЦБ ГОСТ 7805",128.4,"кг",102.72000000000001,"кг"]
[null,"                БШГ М10х160 Болт ш.г.ЦБ DIN 933",128.4,"кг",102.72000000000001,"кг"]
[null,"                БШГ М10х20 Болт ш.г. п/р ЦБ ГОСТ 7805",128.4,"кг",102.72000000000001,"кг"]
[null,"                БШГ М10х20 зменш.гол. Болт ш.г. п/р ЦБ ГОСТ 7796",128.4,"кг",102.72000000000001,"кг"]
[null,"                БШГ М10х25 Болт ш.г. п/р БП ГОСТ 7805",128.4,"кг",102.72000000000001,"кг"]
[null,"                БШГ М10х25 Болт ш.г. п/р ЦБ ГОСТ 7805 (Укр)",128.4,"кг",102.72000000000001,"кг"]
[null,"                БШГ М10х25 Болт ш.г. п/р ЦЖ ГОСТ 7805",128.4,"кг",102.72000000000001,"кг"]
[null,"                БШГ М10х25 Болт ш.г. ЦБ DIN 933 (Укр)",128.4,"кг",102.72000000000001,"кг"]
[null,"                БШГ М10х25 Болт ш.г.ЦБ DIN 933",128.4,"кг",102.72000000000001,"кг"]
[null,"                БШГ М10х30 Болт ш.г. п/р ЦБ ГОСТ 7805",128.4,"кг",102.72000000000001,"кг"]
[null,"                БШГ М10х30 Болт ш.г. п/р ЦБ ГОСТ 7805 (Укр)",128.4,"кг",102.72000000000001,"кг"]
[null,"                БШГ М10х30 Болт ш.г. ЦБ DIN 933 (Укр)",128.4,"кг",102.72000000000001,"кг"]
[null,"                БШГ М10х30 Болт ш.г. ЦБ DIN 933 (Укр)",128.4,"кг",102.72000000000001,"кг"]
[null,"                БШГ М10х35 Болт ш.г. п/р ЦБ ГОСТ 7805 (Укр)",128.4,"кг",102.72000000000001,"кг"]
[null,"                БШГ М10х40 Болт ш.г. п/р ЦБ ГОСТ 7805",128.4,"кг",102.72000000000001,"кг"]
[null,"                БШГ М10х40 Болт ш.г. ЦБ DIN 933 (Укр)",128.4,"кг",102.72000000000001,"кг"]
[null,"                БШГ М10х40 Болт ш.г. ЦБ DIN 933 (Укр)",128.4,"кг",102.72000000000001,"кг"]
[null,"                БШГ М10х45 Болт ш.г. п/р ЦБ ГОСТ 7805",128.4,"кг",102.72000000000001,"кг"]
[null,"                БШГ М10х45 Болт ш.г. ЦБ DIN 933 (Укр)",128.4,"кг",102.72000000000001,"кг"]
[null,"                БШГ М10х45 Болт ш.г. ЦБ DIN 933 (Укр)",128.4,"кг",102.72000000000001,"кг"]
[null,"                БШГ М10х45 Болт ш.г.ЦБ DIN 933",128.4,"кг",102.72000000000001,"кг"]
[null,"                БШГ М10х50 Болт ш.г. п/р ЦБ ГОСТ 7805",128.4,"кг",102.72000000000001,"кг"]
[null,"                БШГ М10х50 Болт ш.г. ЦБ DIN 933 (Укр)",128.4,"кг",102.72000000000001,"кг"]
[null,"                БШГ М10х50 Болт ш.г. ЦБ DIN 933 (Укр)",128.4,"кг",102.72000000000001,"кг"]
[null,"                БШГ М10х55 Болт ш.г. п/р ЦБ ГОСТ 7805",128.4,"кг",102.72000000000001,"кг"]
[null,"                БШГ М10х55 Болт ш.г.ЦБ DIN 933",128.4,"кг",102.72000000000001,"кг"]
[null,"                БШГ М10х60 Болт ш.г. п/р ЦБ ГОСТ 7805",128.4,"кг",102.72000000000001,"кг"]
[null,"                БШГ М10х60 Болт ш.г. ЦБ DIN 933 (Укр)",128.4,"кг",102.72000000000001,"кг"]
[null,"                БШГ М10х60 Болт ш.г. ЦБ DIN 933 (Укр)",128.4,"кг",102.72000000000001,"кг"]
[null,"                БШГ М10х60 Болт ш.г.ЦБ DIN 933",128.4,"кг",102.72000000000001,"кг"]
[null,"                БШГ М10х70 Болт ш.г. п/р ЦБ ГОСТ 7805",128.4,"кг",102.72000000000001,"кг"]
[null,"                БШГ М10х70 Болт ш.г. ЦБ DIN 933 (Укр)",128.4,"кг",102.72000000000001,"кг"]
[null,"                БШГ М10х70 Болт ш.г.ЦБ DIN 933",128.4,"кг",102.72000000000001,"кг"]
[null,"                БШГ М10х70 Болт ш.г.ЦБ DIN 933 (Укр)",128.4,"кг",102.72000000000001,"кг"]
[null,"                БШГ М10х80 Болт ш.г. п/р ЦБ ГОСТ 7805 (Укр)",128.4,"кг",102.72000000000001,"кг"]
[null,"                БШГ М10х80 Болт ш.г. ЦБ DIN 933 (Укр)",128.4,"кг",102.72000000000001,"кг"]
[null,"                БШГ М10х80 Болт ш.г.ЦБ DIN 933",128.4,"кг",102.72000000000001,"кг"]
[null,"                БШГ М10х90 Болт ш.г. п/р ЦБ ГОСТ 7805",128.4,"кг",102.72000000000001,"кг"]
[null,"                БШГ М10х90 Болт ш.г.ЦБ DIN 933",128.4,"кг",102.72000000000001,"кг"]
[null,"                БШГ М12х100 Болт ш.г. п/р ЦБ ГОСТ 7805",162,"кг",129.6,"кг"]
[null,"                БШГ М12х100 Болт ш.г. п/р ЦБ ГОСТ 7805 (Укр)",162,"кг",129.6,"кг"]
[null,"                БШГ М12х100 Болт ш.г. ЦБ DIN 933 (Укр)",162,"кг",129.6,"кг"]
[null,"                БШГ М12х110 Болт ш.г. п/р ЦБ ГОСТ 7805",162,"кг",129.6,"кг"]
[null,"                БШГ М12х20 Болт ш.г. п/р ЦБ ГОСТ 7805",162,"кг",129.6,"кг"]
[null,"                БШГ М12х20 Болт ш.г. ЦБ DIN 933 (Укр)",162,"кг",129.6,"кг"]
[null,"                БШГ М12х20 Болт ш.г. ЦБ DIN 933 (Укр)",162,"кг",129.6,"кг"]
[null,"                БШГ М12х25 Болт ш.г. п/р ЦБ ГОСТ 7805 (Укр)",162,"кг",129.6,"кг"]
[null,"                БШГ М12х25 Болт ш.г.ЦБ DIN 933",162,"кг",129.6,"кг"]
[null,"                БШГ М12х25 зменш.гол. Болт ш.г.ЦБ ГОСТ 7796",162,"кг",129.6,"кг"]
[null,"                БШГ М12х30 Болт ш.г. DIN 933 (Укр)",162,"кг",129.6,"кг"]
[null,"                БШГ М12х30 Болт ш.г. ЦБ DIN 933 (Укр)",162,"кг",129.6,"кг"]
[null,"                БШГ М12х30 Болт ш.г. ЦБ DIN 933 (Укр)",162,"кг",129.6,"кг"]
[null,"                БШГ М12х30 Болт ш.г. ЦБ ГОСТ 7805 (Укр)",162,"кг",129.6,"кг"]
[null,"                БШГ М12х30 Болт ш.г.ЦБ DIN 933",162,"кг",129.6,"кг"]
[null,"                БШГ М12х30 Болт ш.г.ЦБ DIN 933",162,"кг",129.6,"кг"]
[null,"                БШГ М12х35 Болт ш.г. п/р ЦБ ГОСТ 7805",162,"кг",129.6,"кг"]
[null,"                БШГ М12х35 Болт ш.г. ЦБ DIN 933 (Укр)",162,"кг",129.6,"кг"]
[null,"                БШГ М12х35 Болт ш.г.ЦБ DIN 933",162,"кг",129.6,"кг"]
[null,"                БШГ М12х35 Болт ш.г.ЦБ DIN 933 (Укр)",162,"кг",129.6,"кг"]
[null,"                БШГ М12х40 Болт ш.г. п/р ЦБ ГОСТ 7805 (Укр)",162,"кг",129.6,"кг"]
[null,"                БШГ М12х40 Болт ш.г. ЦБ DIN 933 (Укр)",162,"кг",129.6,"кг"]
[null,"                БШГ М12х40 Болт ш.г.ЦБ DIN 933",162,"кг",129.6,"кг"]
[null,"                БШГ М12х40 Болт ш.г.ЦБ DIN 933",162,"кг",129.6,"кг"]
[null,"                БШГ М12х45 Болт ш.г. п/р ЦБ ГОСТ 7805",162,"кг",129.6,"кг"]
[null,"                БШГ М12х45 Болт ш.г. ЦБ DIN 933 (Укр)",162,"кг",129.6,"кг"]
[null,"                БШГ М12х50 Болт ш.г. п/р ЦБ ГОСТ 7805",162,"кг",129.6,"кг"]
[null,"                БШГ М12х50 Болт ш.г. п/р ЦБ ГОСТ 7805 (Укр)",162,"кг",129.6,"кг"]
[null,"                БШГ М12х50 Болт ш.г. ЦБ DIN 933 (Укр)",162,"кг",129.6,"кг"]
[null,"                БШГ М12х50 Болт ш.г. ЦБ DIN 933 (Укр)",162,"кг",129.6,"кг"]
[null,"                БШГ М12х55 Болт ш.г. п/р ЦБ ГОСТ 7805",162,"кг",129.6,"кг"]
[null,"                БШГ М12х60 Болт ш.г. п/р ЦБ ГОСТ 7805 (Укр)",162,"кг",129.6,"кг"]
[null,"                БШГ М12х60 Болт ш.г.ЦБ DIN 933",162,"кг",129.6,"кг"]
[null,"                БШГ М12х60 Болт ш.г.ЦБ DIN 933 (Укр)",162,"кг",129.6,"кг"]
[null,"                БШГ М12х60 Болт ш.г.ЦБ DIN 933 (Укр)",162,"кг",129.6,"кг"]
[null,"                БШГ М12х65 Болт ш.г. п/р ЦБ ГОСТ 7805",162,"кг",129.6,"кг"]
[null,"                БШГ М12х65 Болт ш.г.ЦБ DIN 933 (Укр)",162,"кг",129.6,"кг"]
[null,"                БШГ М12х70 Болт ш.г. п/р ЦБ ГОСТ 7805",162,"кг",129.6,"кг"]
[null,"                БШГ М12х70 Болт ш.г. ЦБ DIN 933 (Укр)",162,"кг",129.6,"кг"]
[null,"                БШГ М12х70 Болт ш.г.ЦБ DIN 933",162,"кг",129.6,"кг"]
[null,"                БШГ М12х70 Болт ш.г.ЦБ DIN 933",162,"кг",129.6,"кг"]
[null,"                БШГ М12х70 Болт ш.г.ЦБ DIN 933 (Укр)",162,"кг",129.6,"кг"]
[null,"                БШГ М12х80 Болт ш.г. DIN 933 (Укр)",162,"кг",129.6,"кг"]
[null,"                БШГ М12х80 Болт ш.г. п/р ЦБ ГОСТ 7805",162,"кг",129.6,"кг"]
[null,"                БШГ М12х80 Болт ш.г. п/р ЦБ ГОСТ 7805 (Укр)",162,"кг",129.6,"кг"]
[null,"                БШГ М12х80 Болт ш.г. ЦБ DIN 933 (Укр)",162,"кг",129.6,"кг"]
[null,"                БШГ М12х80 Болт ш.г.ЦБ DIN 933",162,"кг",129.6,"кг"]
[null,"                БШГ М12х80 Болт ш.г.ЦБ DIN 933 (Укр)",162,"кг",129.6,"кг"]
[null,"                БШГ М12х90 Болт ш.г. п/р ЦБ ГОСТ 7805",162,"кг",129.6,"кг"]
[null,"                БШГ М12х90 Болт ш.г. ЦБ DIN 933 (Укр)",162,"кг",129.6,"кг"]
[null,"                БШГ М14х100 Болт ш.г. п/р ЦБ DIN 933",192,"кг",153.60000000000002,"кг"]
[null,"                БШГ М14х100 Болт ш.г. п/р ЦБ ГОСТ 7805",192,"кг",153.60000000000002,"кг"]
[null,"                БШГ М14х140 Болт ш.г. п/р ЦБ ГОСТ 7805",192,"кг",153.60000000000002,"кг"]
[null,"                БШГ М14х150 Болт ш.г. п/р ЦБ ГОСТ 7805",192,"кг",153.60000000000002,"кг"]
[null,"                БШГ М14х160 Болт ш.г. п/р ЦБ ГОСТ 7805",192,"кг",153.60000000000002,"кг"]
[null,"                БШГ М14х180 Болт ш.г. п/р ЦБ ГОСТ 7805",192,"кг",153.60000000000002,"кг"]
[null,"                БШГ М14х30 Болт ш.г. п/р ЦБ ГОСТ 7805",192,"кг",153.60000000000002,"кг"]
[null,"                БШГ М14х40 Болт ш.г. п/р ЦБ ГОСТ 7805",192,"кг",153.60000000000002,"кг"]
[null,"                БШГ М14х40 Болт ш.г.ЦБ DIN 933",192,"кг",153.60000000000002,"кг"]
[null,"                БШГ М14х40 Болт ш.г.ЦБ DIN 933",192,"кг",153.60000000000002,"кг"]
[null,"                БШГ М14х50 Болт ш.г.ЦБ DIN 933",192,"кг",153.60000000000002,"кг"]
[null,"                БШГ М14х60 Болт ш.г.ЦБ DIN 933",192,"кг",153.60000000000002,"кг"]
[null,"                БШГ М14х60 Болт ш.г.ЦБ DIN 933",192,"кг",153.60000000000002,"кг"]
[null,"                БШГ М14х70 Болт ш.г.ЦБ DIN 933",192,"кг",153.60000000000002,"кг"]
[null,"                БШГ М14х70 Болт ш.г.ЦБ DIN 933",192,"кг",153.60000000000002,"кг"]
[null,"                БШГ М14х80 Болт ш.г. п/р ЦБ ГОСТ 7805",192,"кг",153.60000000000002,"кг"]
[null,"                БШГ М14х80 Болт ш.г.ЦБ DIN 933",192,"кг",153.60000000000002,"кг"]
[null,"                БШГ М14х90 Болт ш.г.ЦБ DIN 933",192,"кг",153.60000000000002,"кг"]
[null,"                БШГ М14х90 Болт ш.г.ЦБ DIN 933",192,"кг",153.60000000000002,"кг"]
[null,"                БШГ М16х100 Болт ш.г. п/р ЦБ ГОСТ 7805",139.19999999999999,"кг",111.36,"кг"]
[null,"                БШГ М16х100 Болт ш.г.ЦБ DIN 933 (Укр)",139.19999999999999,"кг",111.36,"кг"]
[null,"                БШГ М16х120 Болт ш.г. п/р ЦБ ГОСТ 7805",139.19999999999999,"кг",111.36,"кг"]
[null,"                БШГ М16х30 Болт ш.г. п/р ЦБ ГОСТ 7805",139.19999999999999,"кг",111.36,"кг"]
[null,"                БШГ М16х30 Болт ш.г.ЦБ DIN 933 (Укр)",139.19999999999999,"кг",111.36,"кг"]
[null,"                БШГ М16х30 Болт ш.г.ЦБ DIN 933 (Укр)",139.19999999999999,"кг",111.36,"кг"]
[null,"                БШГ М16х35 Болт ш.г. п/р ЦБ ГОСТ 7805",139.19999999999999,"кг",111.36,"кг"]
[null,"                БШГ М16х35 Болт ш.г.ЦБ DIN 933 (Укр)",139.19999999999999,"кг",111.36,"кг"]
[null,"                БШГ М16х35 Болт ш.г.ЦБ DIN 933 (Укр)",139.19999999999999,"кг",111.36,"кг"]
[null,"                БШГ М16х40 Болт ш.г. п/р ЦБ ГОСТ 7805 (Укр)",139.19999999999999,"кг",111.36,"кг"]
[null,"                БШГ М16х40 Болт ш.г.ЦБ DIN 933",139.19999999999999,"кг",111.36,"кг"]
[null,"                БШГ М16х40 Болт ш.г.ЦБ DIN 933 (Укр)",139.19999999999999,"кг",111.36,"кг"]
[null,"                БШГ М16х40 Болт ш.г.ЦБ DIN 933 (Укр)",139.19999999999999,"кг",111.36,"кг"]
[null,"                БШГ М16х45 Болт ш.г. п/р ЦБ ГОСТ 7805",139.19999999999999,"кг",111.36,"кг"]
[null,"                БШГ М16х45 Болт ш.г.ЦБ DIN 933 (Укр)",139.19999999999999,"кг",111.36,"кг"]
[null,"                БШГ М16х50 Болт ш.г. п/р ЦБ ГОСТ 7805",139.19999999999999,"кг",111.36,"кг"]
[null,"                БШГ М16х50 Болт ш.г. ЦБ DIN 933 (Укр)",139.19999999999999,"кг",111.36,"кг"]
[null,"                БШГ М16х50 Болт ш.г.ЦБ DIN 933",139.19999999999999,"кг",111.36,"кг"]
[null,"                БШГ М16х50 Болт ш.г.ЦБ DIN 933 (Укр)",139.19999999999999,"кг",111.36,"кг"]
[null,"                БШГ М16х55 Болт ш.г. п/р ЦБ ГОСТ 7805",139.19999999999999,"кг",111.36,"кг"]
[null,"                БШГ М16х55 Болт ш.г. ЦБ DIN 933 (Укр)",139.19999999999999,"кг",111.36,"кг"]
[null,"                БШГ М16х60 Болт ш.г. п/р ЦБ ГОСТ 7805 (Укр)",139.19999999999999,"кг",111.36,"кг"]
[null,"                БШГ М16х60 Болт ш.г. ЦБ DIN 933 (Укр)",139.19999999999999,"кг",111.36,"кг"]
[null,"                БШГ М16х60 Болт ш.г. ЦБ DIN 933 (Укр)",139.19999999999999,"кг",111.36,"кг"]
[null,"                БШГ М16х65 Болт ш.г. п/р ЦБ ГОСТ 7805",139.19999999999999,"кг",111.36,"кг"]
[null,"                БШГ М16х65 Болт ш.г. ЦБ DIN 933 (Укр)",139.19999999999999,"кг",111.36,"кг"]
[null,"                БШГ М16х70 Болт ш.г. п/р ЦБ ГОСТ 7805 (Укр)",139.19999999999999,"кг",111.36,"кг"]
[null,"                БШГ М16х70 Болт ш.г.ЦБ DIN 933",139.19999999999999,"кг",111.36,"кг"]
[null,"                БШГ М16х70 Болт ш.г.ЦБ DIN 933",139.19999999999999,"кг",111.36,"кг"]
[null,"                БШГ М16х70 Болт ш.г.ЦБ DIN 933 (Укр)",139.19999999999999,"кг",111.36,"кг"]
[null,"                БШГ М16х70 Болт ш.г.ЦБ DIN 933 (Укр)",139.19999999999999,"кг",111.36,"кг"]
[null,"                БШГ М16х80 Болт ш.г. п/р ЦБ ГОСТ 7805",139.19999999999999,"кг",111.36,"кг"]
[null,"                БШГ М16х80 Болт ш.г. п/р ЦБ ГОСТ 7805 (Укр)",139.19999999999999,"кг",111.36,"кг"]
[null,"                БШГ М16х80 Болт ш.г.ЦБ DIN 933 (Укр)",139.19999999999999,"кг",111.36,"кг"]
[null,"                БШГ М16х80 Болт ш.г.ЦБ DIN 933 (Укр)",139.19999999999999,"кг",111.36,"кг"]
[null,"                БШГ М16х90 Болт ш.г. п/р ЦБ ГОСТ 7805",139.19999999999999,"кг",111.36,"кг"]
[null,"                БШГ М16х90 Болт ш.г.ЦБ DIN 933 (Укр)",139.19999999999999,"кг",111.36,"кг"]
[null,"                БШГ М18х100 Болт ш.г.ЦБ DIN 933 ",192,"кг",153.60000000000002,"кг"]
[null,"                БШГ М20х100 Болт ш.г. п/р ЦБ ГОСТ 7805",192,"кг",153.60000000000002,"кг"]
[null,"                БШГ М20х100 Болт ш.г. ЦБ DIN 933 (Укр)",192,"кг",153.60000000000002,"кг"]
[null,"                БШГ М20х100 Болт ш.г. ЦБ DIN 933 (Укр)",192,"кг",153.60000000000002,"кг"]
[null,"                БШГ М20х110 Болт ш.г. п/р ЦБ ГОСТ 7805",192,"кг",153.60000000000002,"кг"]
[null,"                БШГ М20х130 Болт ш.г. п/р ЦБ ГОСТ 7805",192,"кг",153.60000000000002,"кг"]
[null,"                БШГ М20х140 Болт ш.г. п/р ЦБ ГОСТ 7805",192,"кг",153.60000000000002,"кг"]
[null,"                БШГ М20х40 Болт ш.г. п/р ЦБ ГОСТ 7805",192,"кг",153.60000000000002,"кг"]
[null,"                БШГ М20х45 Болт ш.г. п/р ЦБ ГОСТ 7805",192,"кг",153.60000000000002,"кг"]
[null,"                БШГ М20х50 Болт ш.г. п/р ЦБ ГОСТ 7805",192,"кг",153.60000000000002,"кг"]
[null,"                БШГ М20х50 Болт ш.г. п/р ЦБ ГОСТ 7805 (Укр)",192,"кг",153.60000000000002,"кг"]
[null,"                БШГ М20х50 Болт ш.г.ЦБ DIN 933 (Укр)",192,"кг",153.60000000000002,"кг"]
[null,"                БШГ М20х50 Болт ш.г.ЦБ DIN 933 (Укр)",192,"кг",153.60000000000002,"кг"]
[null,"                БШГ М20х55 Болт ш.г. п/р ЦБ ГОСТ 7805",192,"кг",153.60000000000002,"кг"]
[null,"                БШГ М20х55 Болт ш.г.ЦБ DIN 933 (Укр)",192,"кг",153.60000000000002,"кг"]
[null,"                БШГ М20х60 Болт ш.г. п/р ЦБ ГОСТ 7805",192,"кг",153.60000000000002,"кг"]
[null,"                БШГ М20х60 Болт ш.г. п/р ЦБ ГОСТ 7805 (Укр)",192,"кг",153.60000000000002,"кг"]
[null,"                БШГ М20х60 Болт ш.г.ЦБ DIN 933 (Укр)",192,"кг",153.60000000000002,"кг"]
[null,"                БШГ М20х70 Болт ш.г. п/р ЦБ ГОСТ 7805 (Укр)",192,"кг",153.60000000000002,"кг"]
[null,"                БШГ М20х70 Болт ш.г.ЦБ DIN 933 (Укр)",192,"кг",153.60000000000002,"кг"]
[null,"                БШГ М20х80 Болт ш.г. п/р ЦБ ГОСТ 7805",192,"кг",153.60000000000002,"кг"]
[null,"                БШГ М20х80 Болт ш.г.ЦБ DIN 933 (Укр)",192,"кг",153.60000000000002,"кг"]
[null,"                БШГ М20х90 Болт ш.г. п/р ЦБ ГОСТ 7805",192,"кг",153.60000000000002,"кг"]
[null,"                БШГ М20х90 Болт ш.г.ЦБ DIN 933 (Укр)",192,"кг",153.60000000000002,"кг"]
[null,"                БШГ М24х100 Болт ш.г. п/р ЦБ ГОСТ 7805",192,"кг",153.60000000000002,"кг"]
[null,"                БШГ М24х100 Болт ш.г.ЦБ DIN 933",192,"кг",153.60000000000002,"кг"]
[null,"                БШГ М24х50 Болт ш.г. п/р ЦБ ГОСТ 7805",192,"кг",153.60000000000002,"кг"]
[null,"                БШГ М24х55 Болт ш.г. п/р ЦБ ГОСТ 7805",192,"кг",153.60000000000002,"кг"]
[null,"                БШГ М24х90 Болт ш.г. п/р ЦБ ГОСТ 7805",192,"кг",153.60000000000002,"кг"]
[null,"                БШГ М30х80 Болт ш.г. п/р БП ГОСТ 7805 (Укр)",192,"кг",153.60000000000002,"кг"]
[null,"                БШГ М30х80 Болт ш.г. п/р БП ГОСТ 7805 (Укр)",192,"кг",153.60000000000002,"кг"]
[null,"                БШГ М30х90 Болт ш.г. п/р БП ГОСТ 7805 (Укр)",192,"кг",153.60000000000002,"кг"]
[null,"                БШГ М3х10 Болт ш.г. п/р ЦБ ГОСТ 7805",360,"кг",288,"кг"]
[null,"                БШГ М4х30 Болт ш.г. п/р ЦБ ГОСТ 7805",360,"кг",288,"кг"]
[null,"                БШГ М5х10 Болт ш.г. п/р ЦБ ГОСТ 7805",120,"кг",96,"кг"]
[null,"                БШГ М5х12 Болт ш.г. п/р ЦБ ГОСТ 7805",120,"кг",96,"кг"]
[null,"                БШГ М5х14 Болт ш.г. п/р ЦБ ГОСТ 7805",120,"кг",96,"кг"]
[null,"                БШГ М5х16 Болт ш.г. п/р ЦБ ГОСТ 7805",120,"кг",96,"кг"]
[null,"                БШГ М5х20 Болт ш.г. п/р БП ГОСТ 7805",120,"кг",96,"кг"]
[null,"                БШГ М5х20 Болт ш.г. п/р ЦБ ГОСТ 7805",120,"кг",96,"кг"]
[null,"                БШГ М5х25 Болт ш.г. п/р ЦБ ГОСТ 7805",120,"кг",96,"кг"]
[null,"                БШГ М5х30 Болт ш.г. п/р ЦБ ГОСТ 7805",120,"кг",96,"кг"]
[null,"                БШГ М5х45 Болт ш.г. п/р ЦБ ГОСТ 7805",120,"кг",96,"кг"]
[null,"                БШГ М5х50 Болт ш.г. п/р ЦБ ГОСТ 7805",120,"кг",96,"кг"]
[null,"                БШГ М5х60 Болт ш.г. п/р ЦБ ГОСТ 7805",120,"кг",96,"кг"]
[null,"                БШГ М5х70 Болт ш.г. п/р ЦБ ГОСТ 7805",110.39999999999999,"кг",88.32,"кг"]
[null,"                БШГ М5х8 Болт ш.г. ш/г ЦБ ГОСТ 7805",120,"кг",96,"кг"]
[null,"                БШГ М5х80 Болт ш.г. п/р ЦБ ГОСТ 7805",110.39999999999999,"кг",88.32,"кг"]
[null,"                БШГ М6х10 Болт ш.г. п/р ЦБ ГОСТ 7805",120,"кг",96,"кг"]
[null,"                БШГ М6х100 Болт ш.г. п/р ЦБ ГОСТ 7805",120,"кг",96,"кг"]
[null,"                БШГ М6х12 Болт ш.г. п/р ЦБ ГОСТ 7805",120,"кг",96,"кг"]
[null,"                БШГ М6х12 Болт ш.г. ЦБ DIN 933 (Укр)",120,"кг",96,"кг"]
[null,"                БШГ М6х120 Болт ш.г. п/р ЦБ ГОСТ 7805",120,"кг",96,"кг"]
[null,"                БШГ М6х14 Болт ш.г. п/р ЦБ ГОСТ 7805",120,"кг",96,"кг"]
[null,"                БШГ М6х14 Болт ш.г. ЦБ DIN 933 (Укр)",120,"кг",96,"кг"]
[null,"                БШГ М6х14 Болт ш.г. ЦБ DIN 933 (Укр)",120,"кг",96,"кг"]
[null,"                БШГ М6х14 Болт ш.г. ЦБ ГОСТ 7805 (Укр)",120,"кг",96,"кг"]
[null,"                БШГ М6х140 Болт ш.г. п/р ЦБ ГОСТ 7805",120,"кг",96,"кг"]
[null,"                БШГ М6х16 Болт ш.г. п/р ЦБ ГОСТ 7805",120,"кг",96,"кг"]
[null,"                БШГ М6х16 Болт ш.г. ЦБ DIN 933 (Укр)",120,"кг",96,"кг"]
[null,"                БШГ М6х20 Болт ш.г. п/р ЦБ ГОСТ 7805",120,"кг",96,"кг"]
[null,"                БШГ М6х20 Болт ш.г. ЦБ DIN 933 (Укр)",120,"кг",96,"кг"]
[null,"                БШГ М6х20 Болт ш.г. ЦБ DIN 933 (Укр)",120,"кг",96,"кг"]
[null,"                БШГ М6х20 Болт ш.г. ЦБ ГОСТ 7805 (Укр)",120,"кг",96,"кг"]
[null,"                БШГ М6х20 Болт ш.г.ЦБ DIN 933",120,"кг",96,"кг"]
[null,"                БШГ М6х20 Болт ш.г.ЦБ ГОСТ 7805",120,"кг",96,"кг"]
[null,"                БШГ М6х25 Болт ш.г. п/р ЦБ ГОСТ 7805",120,"кг",96,"кг"]
[null,"                БШГ М6х25 Болт ш.г. ЦБ DIN 933 (Укр)",120,"кг",96,"кг"]
[null,"                БШГ М6х25 Болт ш.г. ЦБ DIN 933 (Укр)",120,"кг",96,"кг"]
[null,"                БШГ М6х30 Болт ш.г. п/р ЦБ ГОСТ 7805",120,"кг",96,"кг"]
[null,"                БШГ М6х30 Болт ш.г. ЦБ DIN 933 (Укр)",120,"кг",96,"кг"]
[null,"                БШГ М6х30 Болт ш.г. ЦБ DIN 933 (Укр)",120,"кг",96,"кг"]
[null,"                БШГ М6х35 Болт ш.г. п/р ЦБ ГОСТ 7805",120,"кг",96,"кг"]
[null,"                БШГ М6х35 Болт ш.г. ЦБ DIN 933 (Укр)",120,"кг",96,"кг"]
[null,"                БШГ М6х40 Болт ш.г. п/р ЦБ ГОСТ 7805",120,"кг",96,"кг"]
[null,"                БШГ М6х40 Болт ш.г. ЦБ DIN 933 (Укр)",120,"кг",96,"кг"]
[null,"                БШГ М6х40 Болт ш.г. ЦБ DIN 933 (Укр)",120,"кг",96,"кг"]
[null,"                БШГ М6х45 Болт ш.г. п/р ЦБ ГОСТ 7805",120,"кг",96,"кг"]
[null,"                БШГ М6х45 Болт ш.г. ЦБ DIN 933 (Укр)",120,"кг",96,"кг"]
[null,"                БШГ М6х50 Болт ш.г. п/р ЦБ ГОСТ 7805",120,"кг",96,"кг"]
[null,"                БШГ М6х50 Болт ш.г. ЦБ DIN 933 (Укр)",120,"кг",96,"кг"]
[null,"                БШГ М6х50 Болт ш.г. ЦБ DIN 933 (Укр)",120,"кг",96,"кг"]
[null,"                БШГ М6х55 Болт ш.г. п/р ЦБ ГОСТ 7805",120,"кг",96,"кг"]
[null,"                БШГ М6х60 Болт ш.г. п/р ЦБ ГОСТ 7805",120,"кг",96,"кг"]
[null,"                БШГ М6х70 Болт ш.г. п/р ЦБ ГОСТ 7805",120,"кг",96,"кг"]
[null,"                БШГ М6х80 Болт ш.г. п/р ЦБ ГОСТ 7805",120,"кг",96,"кг"]
[null,"                БШГ М6х90 Болт ш.г. п/р ЦБ ГОСТ 7805",120,"кг",96,"кг"]
[null,"                БШГ М8х100 Болт ш.г. п/р ЦБ ГОСТ 7805",120,"кг",96,"кг"]
[null,"                БШГ М8х100 Болт ш.г.ЦБ DIN 933",120,"кг",96,"кг"]
[null,"                БШГ М8х110 Болт ш.г. п/р ЦБ ГОСТ 7805",120,"кг",96,"кг"]
[null,"                БШГ М8х12 Болт ш.г. п/р ЦБ ГОСТ 7805",120,"кг",96,"кг"]
[null,"                БШГ М8х120 Болт ш.г. п/р ЦБ ГОСТ 7805",120,"кг",96,"кг"]
[null,"                БШГ М8х130 Болт ш.г. п/р ЦБ ГОСТ 7805",120,"кг",96,"кг"]
[null,"                БШГ М8х14 Болт ш.г. п/р ЦБ ГОСТ 7805",120,"кг",96,"кг"]
[null,"                БШГ М8х140 Болт ш.г. п/р ЦБ ГОСТ 7805",120,"кг",96,"кг"]
[null,"                БШГ М8х150 Болт ш.г. п/р ЦБ ГОСТ 7805",120,"кг",96,"кг"]
[null,"                БШГ М8х16 Болт ш.г. п/р ЦБ ГОСТ 7805",120,"кг",96,"кг"]
[null,"                БШГ М8х16 Болт ш.г. ЦБ DIN 933 (Укр)",120,"кг",96,"кг"]
[null,"                БШГ М8х20 Болт ш.г. п/р ЦБ ГОСТ 7805",120,"кг",96,"кг"]
[null,"                БШГ М8х20 Болт ш.г. ЦБ DIN 933 (Укр)",120,"кг",96,"кг"]
[null,"                БШГ М8х25 Болт ш.г. п/р ЦБ ГОСТ 7805",120,"кг",96,"кг"]
[null,"                БШГ М8х25 Болт ш.г. ЦБ DIN 933 (Укр)",120,"кг",96,"кг"]
[null,"                БШГ М8х25 Болт ш.г. ЦБ DIN 933 (Укр)",120,"кг",96,"кг"]
[null,"                БШГ М8х30 Болт ш.г. п/р ЦБ DIN 933",132,"кг",105.60000000000001,"кг"]
[null,"                БШГ М8х30 Болт ш.г. п/р ЦБ ГОСТ 7805",132,"кг",105.60000000000001,"кг"]
[null,"                БШГ М8х30 Болт ш.г. ЦБ DIN 933 (Укр)",132,"кг",105.60000000000001,"кг"]
[null,"                БШГ М8х35 Болт ш.г. п/р ЦБ ГОСТ 7805",120,"кг",96,"кг"]
[null,"                БШГ М8х35 Болт ш.г. ЦБ DIN 933 (Укр)",120,"кг",96,"кг"]
[null,"                БШГ М8х35 Болт ш.г. ЦБ DIN 933 (Укр)",120,"кг",96,"кг"]
[null,"                БШГ М8х40 Болт ш.г. п/р ЦБ ГОСТ 7805",168,"кг",134.4,"кг"]
[null,"                БШГ М8х40 Болт ш.г. ЦБ DIN 933",168,"кг",134.4,"кг"]
[null,"                БШГ М8х40 Болт ш.г. ЦБ DIN 933 (Укр)",168,"кг",134.4,"кг"]
[null,"                БШГ М8х40 Болт ш.г. ЦБ DIN 933 (Укр)",168,"кг",134.4,"кг"]
[null,"                БШГ М8х45 Болт ш.г. п/р ЦБ ГОСТ 7805",120,"кг",96,"кг"]
[null,"                БШГ М8х45 Болт ш.г. ЦБ DIN 933 (Укр)",120,"кг",96,"кг"]
[null,"                БШГ М8х45 Болт ш.г. ЦБ DIN 933 (Укр)",120,"кг",96,"кг"]
[null,"                БШГ М8х50 Болт ш.г. п/р ЦБ ГОСТ 7805",120,"кг",96,"кг"]
[null,"                БШГ М8х50 Болт ш.г. п/р ЦБ ГОСТ 7805 (Укр)",120,"кг",96,"кг"]
[null,"                БШГ М8х50 Болт ш.г. ЦБ DIN 933 (Укр)",120,"кг",96,"кг"]
[null,"                БШГ М8х50 Болт ш.г. ЦБ DIN 933 (Укр)",120,"кг",96,"кг"]
[null,"                БШГ М8х55 Болт ш.г. п/р ЦБ ГОСТ 7805",120,"кг",96,"кг"]
[null,"                БШГ М8х60 Болт ш.г. п/р ЦБ ГОСТ 7805 (Укр)",120,"кг",96,"кг"]
[null,"                БШГ М8х60 Болт ш.г. ЦБ DIN 933",120,"кг",96,"кг"]
[null,"                БШГ М8х60 Болт ш.г. ЦБ DIN 933",120,"кг",96,"кг"]
[null,"                БШГ М8х60 Болт ш.г. ЦБ DIN 933 (Укр)",120,"кг",96,"кг"]
[null,"                БШГ М8х60 Болт ш.г. ЦБ DIN 933 (Укр)",120,"кг",96,"кг"]
[null,"                БШГ М8х65 Болт ш.г. п/р ЦБ ГОСТ 7805",120,"кг",96,"кг"]
[null,"                БШГ М8х70 Болт ш.г. п/р ЦБ ГОСТ 7805",120,"кг",96,"кг"]
[null,"                БШГ М8х70 Болт ш.г. ЦБ DIN 933",120,"кг",96,"кг"]
[null,"                БШГ М8х70 Болт ш.г. ЦБ DIN 933 (Укр)",120,"кг",96,"кг"]
[null,"                БШГ М8х70 Болт ш.г. ЦБ DIN 933 (Укр)",120,"кг",96,"кг"]
[null,"                БШГ М8х75 Болт ш.г. ЦБ DIN 933 (Укр)",120,"кг",96,"кг"]
[null,"                БШГ М8х80 Болт ш.г. п/р ЦБ ГОСТ 7805",120,"кг",96,"кг"]
[null,"                БШГ М8х80 Болт ш.г. ЦБ DIN 933",120,"кг",96,"кг"]
[null,"                БШГ М8х80 Болт ш.г. ЦБ DIN 933 (Укр)",120,"кг",96,"кг"]
[null,"                БШГ М8х80 Болт ш.г. ЦБ DIN 933 (Укр)",120,"кг",96,"кг"]
[null,"                БШГ М8х90 Болт ш.г. п/р ЦБ ГОСТ 7805",120,"кг",96,"кг"]
[null,"                БШГ М8х90 Болт ш.г. ЦБ DIN 933",120,"кг",96,"кг"]
[null,"            БШГЧ часткова різьба    DIN 931 / ГОСТ 7805","","","",""]
[null,"                БШГЧ М10х100 Болт ш.г.ЦБ ГОСТ 7805",192,"кг",153.60000000000002,"кг"]
[null,"                БШГЧ М10х110 зменш.гол. Болт ш.г.ЦБ ГОСТ 7796",192,"кг",153.60000000000002,"кг"]
[null,"                БШГЧ М10х120 зменш.гол. Болт ш.г.ЦБ ГОСТ 7796",192,"кг",153.60000000000002,"кг"]
[null,"                БШГЧ М10х130 зменш.гол. Болт ш.г.ЦБ ГОСТ 7796",192,"кг",153.60000000000002,"кг"]
[null,"                БШГЧ М10х140 зменш.гол. Болт ш.г.ЦБ ГОСТ 7796",192,"кг",153.60000000000002,"кг"]
[null,"                БШГЧ М10х45 Болт ш.г.ЦБ ГОСТ 7805",192,"кг",153.60000000000002,"кг"]
[null,"                БШГЧ М10х55 зменш.гол.Болт ш.г.ЦБ ГОСТ 7796",192,"кг",153.60000000000002,"кг"]
[null,"                БШГЧ М10х65 Болт ш.г.ЦЖ ГОСТ 7805",192,"кг",153.60000000000002,"кг"]
[null,"                БШГЧ М10х80 Болт ш.г.ЦБ ГОСТ 7805",192,"кг",153.60000000000002,"кг"]
[null,"                БШГЧ М10х90 зменш.гол.Болт ш.г.ЦБ ГОСТ 7796",192,"кг",153.60000000000002,"кг"]
[null,"                БШГЧ М12х100 Болт ш.г.ЦБ ГОСТ 7805",162,"кг",129.6,"кг"]
[null,"                БШГЧ М12х120 Болт ш.г.ЦБ ГОСТ 7805",162,"кг",129.6,"кг"]
[null,"                БШГЧ М12х120 зменш.гол. Болт ш.г.ЦБ ГОСТ 7796",162,"кг",129.6,"кг"]
[null,"                БШГЧ М12х130 Болт ш.г.БП ГОСТ 7795",162,"кг",129.6,"кг"]
[null,"                БШГЧ М12х130 зменш.гол. Болт ш.г.ЦБ ГОСТ 7796",162,"кг",129.6,"кг"]
[null,"                БШГЧ М12х140 Болт ш.г.БП ГОСТ 7795",162,"кг",129.6,"кг"]
[null,"                БШГЧ М12х140 Болт ш.г.ЦБ ГОСТ 7805",162,"кг",129.6,"кг"]
[null,"                БШГЧ М12х140 зменш.гол. Болт ш.г.ЦБ ГОСТ 7796",162,"кг",129.6,"кг"]
[null,"                БШГЧ М12х40 Болт ш.г.ЦБ ГОСТ 7805",162,"кг",129.6,"кг"]
[null,"                БШГЧ М12х45 Болт ш.г.ЦБ ГОСТ 7805",162,"кг",129.6,"кг"]
[null,"                БШГЧ М12х55 Болт ш.г.ЦБ ГОСТ 7805",162,"кг",129.6,"кг"]
[null,"                БШГЧ М12х60 Болт ш.г.ЦБ ГОСТ 7805",162,"кг",129.6,"кг"]
[null,"                БШГЧ М12х65 (БРАК) зменш.гол.Болт ш.г.ЦБ ГОСТ 7796 (БРАК)",162,"кг",129.6,"кг"]
[null,"                БШГЧ М12х65 Болт ш.г.ЦБ ГОСТ 7805",162,"кг",129.6,"кг"]
[null,"                БШГЧ М12х65 зменш.гол.Болт ш.г.ЦБ ГОСТ 7796",162,"кг",129.6,"кг"]
[null,"                БШГЧ М14х40 Болт ш.г.ЦБ ГОСТ 7805",192,"кг",153.60000000000002,"кг"]
[null,"                БШГЧ М14х50 Болт ш.г.ЦБ ГОСТ 7805",192,"кг",153.60000000000002,"кг"]
[null,"                БШГЧ М14х60 Болт ш.г.ЦБ ГОСТ 7805",192,"кг",153.60000000000002,"кг"]
[null,"                БШГЧ М14х65 Болт ш.г.ЦБ ГОСТ 7805",192,"кг",153.60000000000002,"кг"]
[null,"                БШГЧ М14х70 Болт ш.г.ЦБ ГОСТ 7805",192,"кг",153.60000000000002,"кг"]
[null,"                БШГЧ М14х75 Болт ш.г.ЦБ ГОСТ 7805",192,"кг",153.60000000000002,"кг"]
[null,"                БШГЧ М14х80 Болт ш.г.ЦБ ГОСТ 7805",192,"кг",153.60000000000002,"кг"]
[null,"                БШГЧ М14х90 Болт ш.г.ЦБ ГОСТ 7805",192,"кг",153.60000000000002,"кг"]
[null,"                БШГЧ М16х100 Болт ш.г.ЦБ ГОСТ 7805",139.19999999999999,"кг",111.36,"кг"]
[null,"                БШГЧ М16х110 Болт ш.г.ЦБ ГОСТ 7805",139.19999999999999,"кг",111.36,"кг"]
[null,"                БШГЧ М16х120 Болт ш.г.ЦБ ГОСТ 7805",139.19999999999999,"кг",111.36,"кг"]
[null,"                БШГЧ М16х130 Болт ш.г.ЦБ ГОСТ 7805",139.19999999999999,"кг",111.36,"кг"]
[null,"                БШГЧ М16х130 Болт ш.г.ЦБ ГОСТ 7805 (Укр)",139.19999999999999,"кг",111.36,"кг"]
[null,"                БШГЧ М16х140 Болт ш.г.БП ГОСТ 7805",139.19999999999999,"кг",111.36,"кг"]
[null,"                БШГЧ М16х140 Болт ш.г.ЦБ ГОСТ 7805",139.19999999999999,"кг",111.36,"кг"]
[null,"                БШГЧ М16х150 зменш.гол. Болт ш.г.ЦБ ГОСТ 7796",139.19999999999999,"кг",111.36,"кг"]
[null,"                БШГЧ М16х160 Болт ш.г.ЦБ ГОСТ 7805",139.19999999999999,"кг",111.36,"кг"]
[null,"                БШГЧ М16х170 зменш.гол. Болт ш.г.ЦБ ГОСТ 7796",139.19999999999999,"кг",111.36,"кг"]
[null,"                БШГЧ М16х190 Болт ш.г.ЦБ ГОСТ 7805",139.19999999999999,"кг",111.36,"кг"]
[null,"                БШГЧ М16х200 Болт ш.г.ЦБ ГОСТ 7805",139.19999999999999,"кг",111.36,"кг"]
[null,"                БШГЧ М16х45 Болт ш.г.ЦБ ГОСТ 7805",139.19999999999999,"кг",111.36,"кг"]
[null,"                БШГЧ М16х50 Болт ш.г.ЦБ ГОСТ 7805",139.19999999999999,"кг",111.36,"кг"]
[null,"                БШГЧ М16х55 Болт ш.г.ЦБ ГОСТ 7805",139.19999999999999,"кг",111.36,"кг"]
[null,"                БШГЧ М16х60 Болт ш.г.ЦБ ГОСТ 7805",139.19999999999999,"кг",111.36,"кг"]
[null,"                БШГЧ М16х60 зменш.гол. Болт ш.г.ЦБ ГОСТ 7796",139.19999999999999,"кг",111.36,"кг"]
[null,"                БШГЧ М16х70 Болт ш.г.БП ГОСТ 7805",139.19999999999999,"кг",111.36,"кг"]
[null,"                БШГЧ М16х70 Болт ш.г.ЦБ ГОСТ 7805",139.19999999999999,"кг",111.36,"кг"]
[null,"                БШГЧ М16х75 Болт ш.г.ЦБ ГОСТ 7805",139.19999999999999,"кг",111.36,"кг"]
[null,"                БШГЧ М16х80 Болт ш.г.ЦБ ГОСТ 7805",139.19999999999999,"кг",111.36,"кг"]
[null,"                БШГЧ М16х90 Болт ш.г.БП ГОСТ 7805",139.19999999999999,"кг",111.36,"кг"]
[null,"                БШГЧ М16х90 Болт ш.г.ЦБ ГОСТ 7805",139.19999999999999,"кг",111.36,"кг"]
[null,"                БШГЧ М16х95 Болт ш.г.ЦБ ГОСТ 7805",139.19999999999999,"кг",111.36,"кг"]
[null,"                БШГЧ М18х100 Болт ш.г.ЦБ ГОСТ 7805",139.19999999999999,"кг",111.36,"кг"]
[null,"                БШГЧ М18х120 Болт ш.г.ЦБ ГОСТ 7805",192,"кг",153.60000000000002,"кг"]
[null,"                БШГЧ М18х130 Болт ш.г.ЦБ ГОСТ 7805",192,"кг",153.60000000000002,"кг"]
[null,"                БШГЧ М18х140 Болт ш.г.ЦБ ГОСТ 7805",192,"кг",153.60000000000002,"кг"]
[null,"                БШГЧ М18х60 Болт ш.г.ЦБ ГОСТ 7805",192,"кг",153.60000000000002,"кг"]
[null,"                БШГЧ М18х70 Болт ш.г.ЦБ ГОСТ 7805",192,"кг",153.60000000000002,"кг"]
[null,"                БШГЧ М18х90 Болт ш.г.ЦБ ГОСТ 7805",192,"кг",153.60000000000002,"кг"]
[null,"                БШГЧ М20х100 Болт ш.г.ЦБ ГОСТ 7798",192,"кг",153.60000000000002,"кг"]
[null,"                БШГЧ М20х110 Болт ш.г.ЦБ ГОСТ 7798",192,"кг",153.60000000000002,"кг"]
[null,"                БШГЧ М20х120 Болт ш.г.ЦБ ГОСТ 7798",192,"кг",153.60000000000002,"кг"]
[null,"                БШГЧ М20х130 зменш.гол. Болт ш.г.ЦБ ГОСТ 7796",192,"кг",153.60000000000002,"кг"]
[null,"                БШГЧ М20х140 зменш.гол. Болт ш.г.ЦБ ГОСТ 7796",192,"кг",153.60000000000002,"кг"]
[null,"                БШГЧ М20х150 зменш.гол. Болт ш.г.ЦБ ГОСТ 7796",192,"кг",153.60000000000002,"кг"]
[null,"                БШГЧ М20х160 Болт ш.г.ЦБ ГОСТ 7805",192,"кг",153.60000000000002,"кг"]
[null,"                БШГЧ М20х160 зменш.гол. Болт ш.г.ЦБ ГОСТ 7796",192,"кг",153.60000000000002,"кг"]
[null,"                БШГЧ М20х170 зменш.гол. Болт ш.г.ЦБ ГОСТ 7796",192,"кг",153.60000000000002,"кг"]
[null,"                БШГЧ М20х180 Болт ш.г.ЦБ ГОСТ 7805",192,"кг",153.60000000000002,"кг"]
[null,"                БШГЧ М20х200 Болт ш.г.ЦБ ГОСТ 7805",192,"кг",153.60000000000002,"кг"]
[null,"                БШГЧ М20х55 Болт ш.г.ЦБ ГОСТ 7805",192,"кг",153.60000000000002,"кг"]
[null,"                БШГЧ М20х65 Болт ш.г.ЦБ ГОСТ 7805",192,"кг",153.60000000000002,"кг"]
[null,"                БШГЧ М20х70 Болт ш.г.ЦБ ГОСТ 7805",192,"кг",153.60000000000002,"кг"]
[null,"                БШГЧ М20х75 Болт ш.г.ЦБ ГОСТ 7805",192,"кг",153.60000000000002,"кг"]
[null,"                БШГЧ М22х100 Болт ш.г.ЦБ ГОСТ 7805",192,"кг",153.60000000000002,"кг"]
[null,"                БШГЧ М22х120 Болт ш.г.ЦБ ГОСТ 7805",192,"кг",153.60000000000002,"кг"]
[null,"                БШГЧ М22х60 Болт ш.г.ЦБ ГОСТ 7805",192,"кг",153.60000000000002,"кг"]
[null,"                БШГЧ М22х70 Болт ш.г.ЦБ ГОСТ 7805",192,"кг",153.60000000000002,"кг"]
[null,"                БШГЧ М22х80 Болт ш.г.ЦБ ГОСТ 7805",192,"кг",153.60000000000002,"кг"]
[null,"                БШГЧ М24х100 Болт ш.г.ЦБ ГОСТ 7805",192,"кг",153.60000000000002,"кг"]
[null,"                БШГЧ М24х120 Болт ш.г.ЦБ ГОСТ 7805",192,"кг",153.60000000000002,"кг"]
[null,"                БШГЧ М24х130 Болт ш.г.ЦБ ГОСТ 7805",192,"кг",153.60000000000002,"кг"]
[null,"                БШГЧ М24х150 Болт ш.г.ЦБ ГОСТ 7805",192,"кг",153.60000000000002,"кг"]
[null,"                БШГЧ М24х180 Болт ш.г.ЦБ ГОСТ 7805 ( МІКС !!! )",192,"кг",153.60000000000002,"кг"]
[null,"                БШГЧ М24х55 Болт ш.г.ЦБ ГОСТ 7805",192,"кг",153.60000000000002,"кг"]
[null,"                БШГЧ М24х60 Болт ш.г.ЦБ ГОСТ 7805",192,"кг",153.60000000000002,"кг"]
[null,"                БШГЧ М24х70 Болт ш.г.ЦБ ГОСТ 7805",192,"кг",153.60000000000002,"кг"]
[null,"                БШГЧ М24х75 Болт ш.г.ЦБ ГОСТ 7805",192,"кг",153.60000000000002,"кг"]
[null,"                БШГЧ М24х80 Болт ш.г.БП ГОСТ 7805",192,"кг",153.60000000000002,"кг"]
[null,"                БШГЧ М24х80 Болт ш.г.БП ГОСТ 7805 (Укр)",192,"кг",153.60000000000002,"кг"]
[null,"                БШГЧ М24х80 Болт ш.г.ЦБ ГОСТ 7805",192,"кг",153.60000000000002,"кг"]
[null,"                БШГЧ М24х80 Болт ш.г.ЦБ ГОСТ 7805",192,"кг",153.60000000000002,"кг"]
[null,"                БШГЧ М24х90 Болт ш.г.БП ГОСТ 7805",192,"кг",153.60000000000002,"кг"]
[null,"                БШГЧ М24х90 Болт ш.г.БП ГОСТ 7805 (Укр)",192,"кг",153.60000000000002,"кг"]
[null,"                БШГЧ М24х90 Болт ш.г.ЦБ ГОСТ 7805",192,"кг",153.60000000000002,"кг"]
[null,"                БШГЧ М27х80 Болт ш.г.ЦБ ГОСТ 7805",192,"кг",153.60000000000002,"кг"]
[null,"                БШГЧ М27х85 Болт ш.г.ЦБ ГОСТ 7805",192,"кг",153.60000000000002,"кг"]
[null,"                БШГЧ М30х120 Болт ш.г.ЦБ ГОСТ 7805",192,"кг",153.60000000000002,"кг"]
[null,"                БШГЧ М30х150 Болт ш.г.БП ГОСТ 7805",192,"кг",153.60000000000002,"кг"]
[null,"                БШГЧ М30х150 Болт ш.г.БП ГОСТ 7805 (Укр)",192,"кг",153.60000000000002,"кг"]
[null,"                БШГЧ М30х80 Болт ш.г.БП ГОСТ 7805",192,"кг",153.60000000000002,"кг"]
[null,"                БШГЧ М5х25 Болт ш.г.часткова різьба ЦБ ГОСТ 7805",120,"кг",96,"кг"]
[null,"                БШГЧ М5х30 Болт ш.г.ЦБ ГОСТ 7805",120,"кг",96,"кг"]
[null,"                БШГЧ М5х30 Болт ш.г.ЦЖ ГОСТ 7805",120,"кг",96,"кг"]
[null,"                БШГЧ М5х35 Болт ш.г.ЦБ ГОСТ 7805",120,"кг",96,"кг"]
[null,"                БШГЧ М5х45 Болт ш.г.ЦБ ГОСТ 7805",120,"кг",96,"кг"]
[null,"                БШГЧ М5х50 Болт ш.г.ЦЖ ГОСТ 7805",120,"кг",96,"кг"]
[null,"                БШГЧ М6х100 Болт ш.г.ЦБ ГОСТ 7805",120,"кг",96,"кг"]
[null,"                БШГЧ М6х20 Болт ш.г.ЦБ ГОСТ 7805",120,"кг",96,"кг"]
[null,"                БШГЧ М6х25 Болт ш.г.ЦБ ГОСТ 7805",120,"кг",96,"кг"]
[null,"                БШГЧ М6х30 Болт ш.г.ЦБ ГОСТ 7805",120,"кг",96,"кг"]
[null,"                БШГЧ М6х35 Болт ш.г.ЦБ ГОСТ 7805",120,"кг",96,"кг"]
[null,"                БШГЧ М8х55 Болт ш.г.ЦБ ГОСТ 7805",120,"кг",96,"кг"]
[null,"                БШГЧ М8х60 Болт ш.г.ЦБ ГОСТ 7805",120,"кг",96,"кг"]
[null,"            ЗБГГ меблеві    DIN 603 / ГОСТ 7802","","","",""]
[null,"                ЗБГГ М10х100 Болт меблевий гриб.гол.ЦБ ГОСТ 7802",128.4,"кг",102.72000000000001,"кг"]
[null,"                ЗБГГ М10х120 Болт меблевий гриб.гол.ЦБ ГОСТ 7802",128.4,"кг",102.72000000000001,"кг"]
[null,"                ЗБГГ М10х20 Болт меблевий гриб.гол.ЦБ DIN 603",128.4,"кг",102.72000000000001,"кг"]
[null,"                ЗБГГ М10х25 Болт меблевий гриб.гол.ЦБ ГОСТ 7802",128.4,"кг",102.72000000000001,"кг"]
[null,"                ЗБГГ М10х40 Болт меблевий гриб.гол.ЦБ ГОСТ 7802",128.4,"кг",102.72000000000001,"кг"]
[null,"                ЗБГГ М10х50 Болт меблевий гриб.гол.ЦБ ГОСТ 7802",128.4,"кг",102.72000000000001,"кг"]
[null,"                ЗБГГ М10х60 Болт меблевий гриб.гол.ЦБ ГОСТ 7802",128.4,"кг",102.72000000000001,"кг"]
[null,"                ЗБГГ М10х80 Болт меблевий гриб.гол.ЦБ ГОСТ 7802",128.4,"кг",102.72000000000001,"кг"]
[null,"                ЗБГГ М10х90 Болт меблевий гриб.гол.ЦБ ГОСТ 7802",128.4,"кг",102.72000000000001,"кг"]
[null,"                ЗБГГ М16х60 Болт меблевий гриб.гол.кл.мiц.8.8.ЦБ ГОСТ 7802",24000,"тис.шт",19200,"тис.шт"]
[null,"                ЗБГГ М5х45 Болт меблевий гриб.гол.ЦБ ГОСТ 7802",126,"кг",100.80000000000001,"кг"]
[null,"                ЗБГГ М5х50 Болт меблевий гриб.гол.ЦБ ГОСТ 7802",126,"кг",100.80000000000001,"кг"]
[null,"                ЗБГГ М5х80 Болт меблевий гриб.гол.ЦБ ГОСТ 7802",126,"кг",100.80000000000001,"кг"]
[null,"                ЗБГГ М6х100 Болт меблевий гриб.гол.ЦБ ГОСТ 7802",117.6,"кг",94.08,"кг"]
[null,"                ЗБГГ М6х120 Болт меблевий гриб.гол.ЦБ ГОСТ 7802",117.6,"кг",94.08,"кг"]
[null,"                ЗБГГ М6х16 Болт меблевий гриб.гол.ЦБ DIN 603",117.6,"кг",94.08,"кг"]
[null,"                ЗБГГ М6х20 Болт меблевий гриб.гол.ЦБ ГОСТ 7802",117.6,"кг",94.08,"кг"]
[null,"                ЗБГГ М6х25 Болт меблевий гриб.гол.ЦБ ГОСТ 7802",117.6,"кг",94.08,"кг"]
[null,"                ЗБГГ М6х30 Болт меблевий гриб.гол.ЦБ ГОСТ 7802",117.6,"кг",94.08,"кг"]
[null,"                ЗБГГ М6х35 Болт меблевий гриб.гол.ЦБ ГОСТ 7802",117.6,"кг",94.08,"кг"]
[null,"                ЗБГГ М6х40 Болт меблевий гриб.гол.ЦБ ГОСТ 7802",117.6,"кг",94.08,"кг"]
[null,"                ЗБГГ М6х45 Болт меблевий гриб.гол.ЦБ ГОСТ 7802",117.6,"кг",94.08,"кг"]
[null,"                ЗБГГ М6х50 Болт меблевий гриб.гол.ЦБ ГОСТ 7802",117.6,"кг",94.08,"кг"]
[null,"                ЗБГГ М6х60 Болт меблевий гриб.гол.ЦБ ГОСТ 7802",117.6,"кг",94.08,"кг"]
[null,"                ЗБГГ М6х70 Болт меблевий гриб.гол.ЦБ ГОСТ 7802",117.6,"кг",94.08,"кг"]
[null,"                ЗБГГ М6х80 Болт меблевий гриб.гол.ЦБ ГОСТ 7802",117.6,"кг",94.08,"кг"]
[null,"                ЗБГГ М6х90 Болт меблевий гриб.гол.ЦБ ГОСТ 7802",117.6,"кг",94.08,"кг"]
[null,"                ЗБГГ М8х100 Болт меблевий гриб.гол.ЦБ ГОСТ 7802",128.4,"кг",102.72000000000001,"кг"]
[null,"                ЗБГГ М8х110 Болт меблевий гриб.гол.ЦБ ГОСТ 7802",128.4,"кг",102.72000000000001,"кг"]
[null,"                ЗБГГ М8х120 Болт меблевий гриб.гол.ЦБ ГОСТ 7802",128.4,"кг",102.72000000000001,"кг"]
[null,"                ЗБГГ М8х130 Болт меблевий гриб.гол.ЦБ ГОСТ 7802",128.4,"кг",102.72000000000001,"кг"]
[null,"                ЗБГГ М8х140 Болт меблевий гриб.гол.ЦБ ГОСТ 7802",144,"кг",115.2,"кг"]
[null,"                ЗБГГ М8х150 Болт меблевий гриб.гол.ЦБ ГОСТ 7802",144,"кг",115.2,"кг"]
[null,"                ЗБГГ М8х20 Болт меблевий гриб.гол.кл.мiц.8.8.ЦБ ГОСТ 7802",3000,"тис.шт",2400,"тис.шт"]
[null,"                ЗБГГ М8х20 Болт меблевий гриб.гол.ЦБ ГОСТ 7802",117.6,"кг",94.08,"кг"]
[null,"                ЗБГГ М8х25 Болт меблевий гриб.гол.ЦБ ГОСТ 7802",117.6,"кг",94.08,"кг"]
[null,"                ЗБГГ М8х30 Болт меблевий гриб.гол.ЦБ ГОСТ 7802",117.6,"кг",94.08,"кг"]
[null,"                ЗБГГ М8х35 Болт меблевий гриб.гол.ЦБ ГОСТ 7802",117.6,"кг",94.08,"кг"]
[null,"                ЗБГГ М8х40 Болт меблевий гриб.гол.ЦБ ГОСТ 7802",117.6,"кг",94.08,"кг"]
[null,"                ЗБГГ М8х45 Болт меблевий гриб.гол.ЦБ ГОСТ 7802",117.6,"кг",94.08,"кг"]
[null,"                ЗБГГ М8х50 Болт меблевий гриб.гол.ЦБ ГОСТ 7802",117.6,"кг",94.08,"кг"]
[null,"                ЗБГГ М8х60 Болт меблевий гриб.гол.ЦБ ГОСТ 7802",117.6,"кг",94.08,"кг"]
[null,"                ЗБГГ М8х65 Болт меблевий гриб.гол.ЦБ ГОСТ 7802",117.6,"кг",94.08,"кг"]
[null,"                ЗБГГ М8х70 Болт меблевий гриб.гол.ЦБ ГОСТ 7802",117.6,"кг",94.08,"кг"]
[null,"                ЗБГГ М8х80 Болт меблевий гриб.гол.ЦБ ГОСТ 7802",117.6,"кг",94.08,"кг"]
[null,"                ЗБГГ М8х90 Болт меблевий гриб.гол.ЦБ ГОСТ 7802",117.6,"кг",94.08,"кг"]
[null,"        Гайки","","","",""]
[null,"            Гайки баранцеві","","","",""]
[null,"                ГБ-М10 Гайка баранцева ЦБ DIN 315",252,100,201.60000000000002,100]
[null,"                ГБ-М10 Гайка баранцева ЦБ ГОСТ 3032",252,100,201.60000000000002,100]
[null,"                ГБ-М12 Гайка баранцева ЦБ ГОСТ 3032",432,100,345.6,100]
[null,"                ГБ-М4 Гайка баранцева ЦБ ГОСТ 3032",78,100,62.400000000000006,100]
[null,"                ГБ-М5 Гайка баранцева ЦБ ГОСТ 3032",84,100,67.2,100]
[null,"                ГБ-М6 Гайка баранцева ЦБ DIN 315",114,100,91.2,100]
[null,"                ГБ-М6 Гайка баранцева ЦБ ГОСТ 3032",114,100,91.2,100]
[null,"                ГБ-М8 Гайка баранцева ЦБ ГОСТ 3032",144,100,115.2,100]
[null,"                ГБ-М8 Гайка баранцева ЦБ ГОСТ 3032",144,100,115.2,100]
[null,"            Гайки баранцеві НЕРЖ","","","",""]
[null,"                ГБ-М10 А2 Гайка баранцева нержавіюча DIN 315",1170,100,936,100]
[null,"                ГБ-М12 А2 Гайка баранцева нержавіюча DIN 315",2628,100,2102.4,100]
[null,"                ГБ-М12 А2 Гайка баранцева нержавіюча DIN 315",2628,100,2102.4,100]
[null,"                ГБ-М16 А2 Гайка баранцева нержавіюча DIN 315",8448,100,6758.4000000000005,100]
[null,"                ГБ-М16 А2 Гайка баранцева нержавіюча DIN 315",8448,100,6758.4000000000005,100]
[null,"                ГБ-М20 А2 Гайка баранцева нержавіюча DIN 315",23760,100,19008,100]
[null,"                ГБ-М6 А2 Гайка баранцева нержавіюча DIN 315",468,100,374.40000000000003,100]
[null,"                ГБ-М8 А2 Гайка баранцева нержавіюча DIN 315",600,100,480,100]
[null,"            Гайки Еріксона","","","",""]
[null,"                ГДЕ-Е М6х15 Гайка Ерiксона ЦБ",384,100,307.20000000000005,100]
[null,"                ГДЕ-Е М6х15 Гайка Ерiксона ЦБ",360,100,288,100]
[null,"                ГДЕ-Е М8х16 Гайка Ерiксона ЦБ",600,100,480,100]
[null,"                ГДЕ-Е М8х16 Гайка Ерiксона ЦЖ",600,100,480,100]
[null,"            Гайки з`єднувальні","","","",""]
[null,"                ЗН-М10х30 Гайка з`єднувальна шг.ЦБ DIN 6334",1200,100,960,100]
[null,"                ЗН-М10х30 Гайка з`єднувальна шг.ЦБ DIN 6334",1200,100,960,100]
[null,"                ЗН-М10х30 Гайка з`єднувальна шг.ЦБ DIN 6334",1200,100,960,100]
[null,"                ЗН-М10х50 Гайка з`єднувальна шг.ЦБ DIN 6334",1560,100,1248,100]
[null,"                ЗН-М12х36 Гайка з`єднувальна шг.ЦБ DIN 6334",1800,100,1440,100]
[null,"                ЗН-М12х36 Гайка з`єднувальна шг.ЦБ DIN 6334",1800,100,1440,100]
[null,"                ЗН-М12х36 Гайка з`єднувальна шг.ЦБ DIN 6334",1800,100,1440,100]
[null,"                ЗН-М16х48 Гайка з`єднувальна шг.ЦБ DIN 6334",2100,100,1680,100]
[null,"                ЗН-М16х48 Гайка з`єднувальна шг.ЦБ DIN 6334",2100,100,1680,100]
[null,"                ЗН-М5х15 Гайка з`єднувальна шг.ЦБ",288,100,230.4,100]
[null,"                ЗН-М6х18 Гайка з`єднувальна шг.ЦБ",360,100,288,100]
[null,"                ЗН-М6х18 Гайка з`єднувальна шг.ЦБ",360,100,288,100]
[null,"                ЗН-М6х18 Гайка з`єднувальна шг.ЦБ DIN 6334",360,100,288,100]
[null,"                ЗН-М6х18 Гайка з`єднувальна шг.ЦБ DIN 6334",360,100,288,100]
[null,"                ЗН-М6х20 Гайка з`єднувальна шг.ЦБ",360,100,288,100]
[null,"                ЗН-М8х24 Гайка з`єднувальна шг.ЦБ DIN 6334",660,100,528,100]
[null,"                ЗН-М8х24 Гайка з`єднувальна шг.ЦБ DIN 6334",660,100,528,100]
[null,"                ЗН-М8х25 Гайка з`єднувальна шг.ЦБ DIN 6334",660,100,528,100]
[null,"                ЗН-М8х25 Гайка з`єднувальна шг.ЦБ DIN 6334",660,100,528,100]
[null,"                ЗН-М8х30 Гайка з`єднувальна шг.ЦБ",660,100,528,100]
[null,"                ЗН-М8х40 Гайка з`єднувальна шг.ЦБ DIN 6334",888,100,710.40000000000009,100]
[null,"            Гайки зубчасті","","","",""]
[null,"                ГБЗ-М10 Гайка зубчаста ЦБ DIN 6923",360,100,288,100]
[null,"                ГБЗ-М16 Гайка зубчаста ЦБ DIN 6923",636,100,508.8,100]
[null,"                ГБЗ-М8 Гайка зубчаста ЦБ DIN 6923",300,100,240,100]
[null,"            Гайки квадратні","","","",""]
[null,"                ГШ М6 Гайка квадр. ЦБ DIN 562",48,100,38.400000000000006,100]
[null,"                ГШ М8 Гайка квадр. ЦБ DIN 562",162,100,129.6,100]
[null,"                ГШ М8 Гайка квадр. ЦБ DIN 562",162,100,129.6,100]
[null,"            Гайки ковпачкові","","","",""]
[null,"                ГШК-М10 Гайка ковпачкова ЦБ DIN 1587",660,100,528,100]
[null,"                ГШК-М10 Гайка ковпачкова ЦБ DIN 1587",660,100,528,100]
[null,"                ГШК-М10 Гайка ковпачкова ЦБ ГОСТ 11860",660,100,528,100]
[null,"                ГШК-М12 Гайка ковпачкова ЦБ DIN 1587",840,100,672,100]
[null,"                ГШК-М12 Гайка ковпачкова ЦБ DIN 1587",840,100,672,100]
[null,"                ГШК-М12 Гайка ковпачкова ЦБ ГОСТ 11860",840,100,672,100]
[null,"                ГШК-М16 Гайка ковпачкова ЦБ ГОСТ 11860",1116,100,892.80000000000007,100]
[null,"                ГШК-М4 Гайка ковпачкова ЦБ DIN 1587",120,100,96,100]
[null,"                ГШК-М4 Гайка ковпачкова ЦБ DIN 1587",120,100,96,100]
[null,"                ГШК-М4 Гайка ковпачкова ЦБ DIN 1587",120,100,96,100]
[null,"                ГШК-М4 Гайка ковпачкова ЦБ ГОСТ 11860",120,100,96,100]
[null,"                ГШК-М5 Гайка ковпачкова ЦБ ГОСТ 11860",240,100,192,100]
[null,"                ГШК-М6 Гайка ковпачкова ЦБ DIN 1587",360,100,288,100]
[null,"                ГШК-М6 Гайка ковпачкова ЦБ DIN 1587",360,100,288,100]
[null,"                ГШК-М8 Гайка ковпачкова ЦБ DIN 1587",480,100,384,100]
[null,"                ГШК-М8 Гайка ковпачкова ЦБ DIN 1587",480,100,384,100]
[null,"            Гайки ковпачкові НЕРЖ","","","",""]
[null,"                ГШК-М10 А2 Гайка ковпачкова нержавіюча DIN 1587",804,100,643.20000000000005,100]
[null,"                ГШК-М10 А2 Гайка ковпачкова нержавіюча DIN1587",804,100,643.20000000000005,100]
[null,"                ГШК-М12 А2 Гайка ковпачкова нержавіюча DIN1587",1800,100,1440,100]
[null,"                ГШК-М16 А2 Гайка ковпачкова нержавіюча DIN1587",3120,100,2496,100]
[null,"                ГШК-М20 А2 Гайка ковпачкова нержавіюча DIN 1587",8400,100,6720,100]
[null,"                ГШК-М24 А2 Гайка ковпачкова нержавіюча DIN 1587",20520,100,16416,100]
[null,"                ГШК-М4 А2 Гайка ковпачкова нержавіюча DIN1587",174,100,139.20000000000002,100]
[null,"                ГШК-М6 А2 Гайка ковпачкова нержавіюча DIN1587",264,100,211.20000000000002,100]
[null,"                ГШК-М6 А2 Гайка ковпачкова нержавіюча DIN1587",264,100,211.20000000000002,100]
[null,"                ГШК-М8 А2 Гайка ковпачкова нержавіюча DIN1587",528,100,422.40000000000003,100]
[null,"                ГШК-М8 А2 Гайка ковпачкова нержавіюча DIN1587",528,100,422.40000000000003,100]
[null,"            Гайки самоконтрик","","","",""]
[null,"                ГФС М 6 кл.10  Гайка самоконтр.з фланцем висока ГАРЯЧИЙ ЛАМІНОВАНИЙ ЦИНК DIN 6926",312,100,249.60000000000002,100]
[null,"                ГФС М 8 кл.10  Гайка самоконтр.з фланцем висока ГАРЯЧИЙ ЛАМІНОВАНИЙ ЦИНК DIN 6926",588,100,470.40000000000003,100]
[null,"                ГФС М10 кл.10  Гайка самоконтр.з фланцем висока ГАРЯЧИЙ ЛАМІНОВАНИЙ ЦИНК DIN 6926",912,100,729.6,100]
[null,"                ГФС М12 кл.10  Гайка самоконтр.з фланцем висока ГАРЯЧИЙ ЛАМІНОВАНИЙ ЦИНК DIN 6926",1632,100,1305.6000000000001,100]
[null,"                ГФС М14 кл.10  Гайка самоконтр.з фланцем висока ГАРЯЧИЙ ЛАМІНОВАНИЙ ЦИНК DIN 6926",2340,100,1872,100]
[null,"                ГФС М16 кл.10  Гайка самоконтр.з фланцем висока ГАРЯЧИЙ ЛАМІНОВАНИЙ ЦИНК DIN 6926",3516,100,2812.8,100]
[null,"                ГШС М10 Гайка самоконтр.з полiамiд.вставкою ЦБ DIN 985",288,100,230.4,100]
[null,"                ГШС М10 Гайка самоконтр.з полiамiд.вставкою ЦБ DIN 985",288,100,230.4,100]
[null,"                ГШС М10х1 Гайка самоконтр.з полiамiд.вставкою ЦБ DIN 985",288,100,230.4,100]
[null,"                ГШС М12 Гайка самоконтр.з полiамiд.вставкою ЦБ DIN 985",420,100,336,100]
[null,"                ГШС М12 Гайка самоконтр.з полiамiд.вставкою ЦБ DIN 985",420,100,336,100]
[null,"                ГШС М12 Гайка самоконтр.з полiамiд.вставкою ЦБ DIN 985",420,100,336,100]
[null,"                ГШС М12х1 Гайка самоконтр.з полiамiд.вставкою ЦБ DIN 985",420,100,336,100]
[null,"                ГШС М12х1.25 кл.10 Гайка самоконтр.з полiамiд.вставкою ЦБ DIN 985",912,100,729.6,100]
[null,"                ГШС М12х1.5 кл.8 Гайка самоконтр.з полiамiд.вставкою ЦБ DIN 985",912,100,729.6,100]
[null,"                ГШС М14 Гайка самоконтр.з полiамiд.вставкою ЦБ DIN 985",600,100,480,100]
[null,"                ГШС М14 Гайка самоконтр.з полiамiд.вставкою ЦБ DIN 985",600,100,480,100]
[null,"                ГШС М14 Гайка самоконтр.з полiамiд.вставкою ЦБ DIN 985",600,100,480,100]
[null,"                ГШС М14х1.5 кл.10 Гайка самоконтр.з полiамiд.вставкою ЦБ DIN 985",1020,100,816,100]
[null,"                ГШС М14х1.5 кл.8 Гайка самоконтр.з полiамiд.вставкою ЦБ DIN 985",720,100,576,100]
[null,"                ГШС М16 Гайка самоконтр.з полiамiд.вставкою ЦБ DIN 985",744,100,595.20000000000005,100]
[null,"                ГШС М16 Гайка самоконтр.з полiамiд.вставкою ЦБ DIN 985",744,100,595.20000000000005,100]
[null,"                ГШС М16 Гайка самоконтр.з полiамiд.вставкою ЦБ DIN 985",744,100,595.20000000000005,100]
[null,"                ГШС М16 кл.10 Гайка самоконтр.з полiамiд.вставкою ЦБ DIN 985",1188,100,950.40000000000009,100]
[null,"                ГШС М16х1.5 Гайка самоконтр.з полiамiд.вставкою ЦБ DIN 985",1308,100,1046.4000000000001,100]
[null,"                ГШС М16х1.5 кл.10 Гайка самоконтр.з полiамiд.вставкою ЦБ DIN 985",1560,100,1248,100]
[null,"                ГШС М18 Гайка самоконтр.з полiамiд.вставкою ЦБ DIN 985",924,100,739.2,100]
[null,"                ГШС М20 Гайка самоконтр.з полiамiд.вставкою ЦБ DIN 985",1200,100,960,100]
[null,"                ГШС М20 Гайка самоконтр.з полiамiд.вставкою ЦБ DIN 985",1200,100,960,100]
[null,"                ГШС М20 кл.м.8 Гайка самоконтр.з полiамiд.вставкою ЦБ DIN 985",1680,100,1344,100]
[null,"                ГШС М22х1.5 Гайка самоконтр.з полiамiд.вставкою ЦБ DIN 985",2160,100,1728,100]
[null,"                ГШС М24 Гайка самоконтр.з полiамiд.вставкою ЦБ DIN 985",2592,100,2073.6,100]
[null,"                ГШС М24 Гайка самоконтр.з полiамiд.вставкою ЦБ DIN 985",2592,100,2073.6,100]
[null,"                ГШС М4 Гайка самоконтр.з полiамiд.вставкою ЦБ DIN 985",36,100,28.8,100]
[null,"                ГШС М5 Гайка самоконтр.з полiамiд.вставкою ЦБ DIN 985",36,100,28.8,100]
[null,"                ГШС М6 Гайка самоконтр.з полiамiд.вставкою ЦБ DIN 985",54,100,43.2,100]
[null,"                ГШС М6 Гайка самоконтр.з полiамiд.вставкою ЦБ DIN 985",54,100,43.2,100]
[null,"                ГШС М6 Гайка самоконтр.з полiамiд.вставкою ЦБ DIN 985",54,100,43.2,100]
[null,"                ГШС М7 Гайка самоконтр.з полiамiд.вставкою ЦБ DIN 985",216,100,172.8,100]
[null,"                ГШС М8 Гайка самоконтр.з полiамiд.вставкою ЦБ DIN 985",132,100,105.60000000000001,100]
[null,"                ГШС М8 Гайка самоконтр.з полiамiд.вставкою ЦБ DIN 985",132,100,105.60000000000001,100]
[null,"                ГШС М8 Гайка самоконтр.ЦБ",26.928000000000001,"кг",21.542400000000001,"кг"]
[null,"                ГШС М8х1 Гайка самоконтр.з полiамiд.вставкою ЦБ DIN 985",96,100,76.800000000000011,100]
[null,"            Гайки самоконтрик НЕРЖ","","","",""]
[null,"                ГШС М10 Гайка самоконтр.з полiамiд.вставкою ЦБ DIN 985 нержавіюча А2",1080,100,864,100]
[null,"                ГШС М10 Гайка самоконтр.з полiамiд.вставкою ЦБ DIN 985 нержавіюча А2",1080,100,864,100]
[null,"                ГШС М12 Гайка самоконтр.з полiамiд.вставкою ЦБ DIN 985 нержавіюча А2",960,100,768,100]
[null,"                ГШС М12 Гайка самоконтр.з полiамiд.вставкою ЦБ DIN 985 нержавіюча А2",960,100,768,100]
[null,"                ГШС М14 Гайка самоконтр.з полiамiд.вставкою ЦБ DIN 985 нержавіюча А2",1860,100,1488,100]
[null,"                ГШС М14 Гайка самоконтр.з полiамiд.вставкою ЦБ DIN 985 нержавіюча А2",1860,100,1488,100]
[null,"                ГШС М16 Гайка самоконтр.з полiамiд.вставкою ЦБ DIN 985 нержавіюча А2",2100,100,1680,100]
[null,"                ГШС М16 Гайка самоконтр.з полiамiд.вставкою ЦБ DIN 985 нержавіюча А2",2100,100,1680,100]
[null,"                ГШС М16 Гайка самоконтр.з полiамiд.вставкою ЦБ DIN 985 нержавіюча А2",2100,100,1680,100]
[null,"                ГШС М20 Гайка самоконтр.з полiамiд.вставкою ЦБ DIN 985 нержавіюча А2",4800,100,3840,100]
[null,"                ГШС М22 Гайка самоконтр.з полiамiд.вставкою ЦБ DIN 985 нержавіюча А2",12720,100,10176,100]
[null,"                ГШС М24 Гайка самоконтр.з полiамiд.вставкою ЦБ DIN 985 нержавіюча А2",13200,100,10560,100]
[null,"                ГШС М24 Гайка самоконтр.з полiамiд.вставкою ЦБ DIN 985 нержавіюча А2",13200,100,10560,100]
[null,"                ГШС М30 Гайка самоконтр.з полiамiд.вставкою ЦБ DIN 985 нержавіюча А2",26160,100,20928,100]
[null,"                ГШС М4 Гайка самоконтр.з полiамiд.вставкою ЦБ DIN 985 нержавіюча А2",96,100,76.800000000000011,100]
[null,"                ГШС М5 Гайка самоконтр.з полiамiд.вставкою ЦБ DIN 985 нержавіюча А2",102,100,81.600000000000009,100]
[null,"                ГШС М6 Гайка самоконтр.з полiамiд.вставкою ЦБ DIN 985 нержавіюча А2",180,100,144,100]
[null,"                ГШС М6 Гайка самоконтр.з полiамiд.вставкою ЦБ DIN 985 нержавіюча А2",180,100,144,100]
[null,"                ГШС М8 Гайка самоконтр.з полiамiд.вставкою ЦБ DIN 985 нержавіюча А2",450,100,360,100]
[null,"                ГШС М8 Гайка самоконтр.з полiамiд.вставкою ЦБ DIN 985 нержавіюча А2",450,100,360,100]
[null,"            Гайки упорні Краб Бульдог","","","",""]
[null,"                ГУ-М10х13 Гайка упорна \"Бульдог\" ЦБ (фас.250)",360,100,288,100]
[null,"                ГУ-М10х13 Гайка упорна \"Бульдог\" ЦБ (фас.250)",360,100,288,100]
[null,"                ГУ-М10х13 Гайка упорна \"Бульдог\" ЦБ (фас.250)",360,100,288,100]
[null,"                ГУ-М6х9 Гайка упорна \"Бульдог\" ЦБ (фас.500)",120,100,96,100]
[null,"                ГУ-М6х9 Гайка упорна \"Бульдог\" ЦБ (фас.500)",120,100,96,100]
[null,"                ГУ-М6х9 Гайка упорна \"Бульдог\" ЦБ (фас.500)",120,100,96,100]
[null,"                ГУ-М8х11 Гайка упорна \"Бульдог\" ЦБ (фас.250)",180,100,144,100]
[null,"                ГУ-М8х11 Гайка упорна \"Бульдог\" ЦБ (фас.250)",180,100,144,100]
[null,"            Гайки шестигранні","","","",""]
[null,"                ГШ М2,5 Гайка шг.латунь DIN 934",720,"кг",576,"кг"]
[null,"                ГШ М20 Гайка шг.кл.м.8 ЦБ ГОСТ 5915",180,100,144,100]
[null,"                ГШ М24 Гайка шг.кл.м.8 ЦБ ГОСТ 5915",228,100,182.4,100]
[null,"                ГШ М4 Гайка шг.латунь DIN 934",540,"кг",432,"кг"]
[null,"                ШГ М1.6 Гайка ш.г.кл.м.5 БП ГОСТ 5915",900,"кг",720,"кг"]
[null,"                ШГ М10 Гайка ш.г.кл.м.5 ЦБ ГОСТ 5915",126,"кг",100.80000000000001,"кг"]
[null,"                ШГ М10 Гайка ш.г.кл.м.5 ЦБ ГОСТ 5915 (Укр)",126,"кг",100.80000000000001,"кг"]
[null,"                ШГ М10 Гайка ш.г.кл.м.5 ЦБ ГОСТ 5915 (Укр)",126,"кг",100.80000000000001,"кг"]
[null,"                ШГ М10 Гайка ш.г.кл.м.8 ЦБ ГОСТ 5915 (Укр)",126,"кг",100.80000000000001,"кг"]
[null,"                ШГ М10 Гайка ш.г.кл.пр.5 ЦБ ГОСТ 5915",126,"кг",100.80000000000001,"кг"]
[null,"                ШГ М12 Гайка ш.г.кл.м.5 ЦБ DIN 934",127.19999999999999,"кг",101.75999999999999,"кг"]
[null,"                ШГ М12 Гайка ш.г.кл.м.5 ЦБ DIN 934 (Укр)",127.19999999999999,"кг",101.75999999999999,"кг"]
[null,"                ШГ М12 Гайка ш.г.кл.м.5 ЦБ ГОСТ 5915 (Укр)",127.19999999999999,"кг",101.75999999999999,"кг"]
[null,"                ШГ М12 Гайка ш.г.кл.м.5 ЦБ ГОСТ 5915 (Укр)",127.19999999999999,"кг",101.75999999999999,"кг"]
[null,"                ШГ М14 Гайка ш.г.кл.м.5 ЦБ DIN 934",192,"кг",153.60000000000002,"кг"]
[null,"                ШГ М14 Гайка ш.г.кл.м.5 ЦБ ГОСТ 5915 (Укр)",192,"кг",153.60000000000002,"кг"]
[null,"                ШГ М16 Гайка ш.г.кл.м.5 ЦБ DIN 934",126,"кг",100.80000000000001,"кг"]
[null,"                ШГ М16 Гайка ш.г.кл.м.5 ЦБ DIN 934 (Укр)",126,"кг",100.80000000000001,"кг"]
[null,"                ШГ М16 Гайка ш.г.кл.м.5 ЦБ ГОСТ 5915 (Укр)",126,"кг",100.80000000000001,"кг"]
[null,"                ШГ М18 Гайка ш.г.кл.м.5 ЦБ DIN 934",192,"кг",153.60000000000002,"кг"]
[null,"                ШГ М18 Гайка ш.г.кл.м.5 ЦБ ГОСТ 5915",192,"кг",153.60000000000002,"кг"]
[null,"                ШГ М18 Гайка ш.г.кл.м.5 ЦБ ГОСТ 5915 (Укр)",192,"кг",153.60000000000002,"кг"]
[null,"                ШГ М2.5 Гайка ш.г.кл.м.5 ЦБ ГОСТ 5915",720,"кг",576,"кг"]
[null,"                ШГ М2.5 Гайка ш.г.кл.м.5 ЦЖ ГОСТ 5915",720,"кг",576,"кг"]
[null,"                ШГ М20 Гайка ш.г.кл.м.5 ЦБ DIN 934",192,"кг",153.60000000000002,"кг"]
[null,"                ШГ М20 Гайка ш.г.кл.м.5 ЦБ ГОСТ 5915",192,"кг",153.60000000000002,"кг"]
[null,"                ШГ М20 Гайка ш.г.кл.м.5 ЦБ ГОСТ 5915 (Укр)",192,"кг",153.60000000000002,"кг"]
[null,"                ШГ М20 Гайка ш.г.кл.м.5 ЦБ ГОСТ 5915 (Укр)",192,"кг",153.60000000000002,"кг"]
[null,"                ШГ М20х1.5 Гайка ш.г.ЦБ ГОСТ 5915",408,"кг",326.40000000000003,"кг"]
[null,"                ШГ М22 Гайка ш.г.кл.м.5 ЦБ DIN 934",192,"кг",153.60000000000002,"кг"]
[null,"                ШГ М22 Гайка ш.г.кл.м.5 ЦБ ГОСТ 5915",192,"кг",153.60000000000002,"кг"]
[null,"                ШГ М24 Гайка ш.г.кл.м.5 ЦБ DIN 934",192,"кг",153.60000000000002,"кг"]
[null,"                ШГ М24 Гайка ш.г.кл.м.5 ЦБ DIN 934",192,"кг",153.60000000000002,"кг"]
[null,"                ШГ М24 Гайка ш.г.кл.м.5 ЦБ DIN 934 (Укр)",192,"кг",153.60000000000002,"кг"]
[null,"                ШГ М24 Гайка ш.г.кл.м.5 ЦБ ГОСТ 5915 (Укр)",192,"кг",153.60000000000002,"кг"]
[null,"                ШГ М27 Гайка ш.г.кл.м.5 ЦБ DIN 934",126,"кг",100.80000000000001,"кг"]
[null,"                ШГ М27 Гайка ш.г.кл.м.5 ЦБ ГОСТ 5915",126,"кг",100.80000000000001,"кг"]
[null,"                ШГ М27 Гайка ш.г.кл.м.5 ЦБ ГОСТ 5915 (Укр)",126,"кг",100.80000000000001,"кг"]
[null,"                ШГ М3 Гайка ш.г.выс.ЦБ ГОСТ 5927",720,"кг",576,"кг"]
[null,"                ШГ М3 Гайка ш.г.кл.м.5 БП ГОСТ 5915",720,"кг",576,"кг"]
[null,"                ШГ М3 Гайка ш.г.кл.м.5 ЦБ DIN 934",720,"кг",576,"кг"]
[null,"                ШГ М3 Гайка ш.г.кл.м.5 ЦБ ГОСТ 5915",720,"кг",576,"кг"]
[null,"                ШГ М3 Гайка ш.г.штамп.ЦБ ГОСТ 5915",720,"кг",576,"кг"]
[null,"                ШГ М30 Гайка ш.г.кл.м.5 ЦБ DIN 934",216,"кг",172.8,"кг"]
[null,"                ШГ М30 Гайка ш.г.кл.м.5 ЦБ DIN 934 (Укр)",216,"кг",172.8,"кг"]
[null,"                ШГ М30 Гайка ш.г.кл.м.5 ЦБ ГОСТ 5915 (Укр)",216,"кг",172.8,"кг"]
[null,"                ШГ М36 Гайка ш.г.кл.м.5 ЦБ DIN 934",216,"кг",172.8,"кг"]
[null,"                ШГ М36 Гайка ш.г.кл.м.5 ЦБ DIN 934 (Укр)",216,"кг",172.8,"кг"]
[null,"                ШГ М4 Гайка ш.г.кл.м.5 ЦБ DIN 934",36,100,28.8,100]
[null,"                ШГ М4 Гайка ш.г.кл.м.5 ЦБ DIN 934",324,"кг",259.2,"кг"]
[null,"                ШГ М4 Гайка ш.г.кл.м.5 ЦБ ГОСТ 5915",324,"кг",259.2,"кг"]
[null,"                ШГ М42 Гайка ш.г.кл.м.5 БП ГОСТ 5915",216,"кг",172.8,"кг"]
[null,"                ШГ М5 Гайка ш.г.кл.м.5 ЦБ DIN 934",234,"кг",187.20000000000002,"кг"]
[null,"                ШГ М5 Гайка ш.г.кл.м.5 ЦБ DIN 934",48,100,38.400000000000006,100]
[null,"                ШГ М5 Гайка ш.г.кл.м.5 ЦБ DIN 934",48,100,38.400000000000006,100]
[null,"                ШГ М5 Гайка ш.г.кл.м.5 ЦБ DIN 934",234,"кг",187.20000000000002,"кг"]
[null,"                ШГ М6 Гайка ш.г.кл.м.5 ЦБ DIN 934",117.6,"кг",94.08,"кг"]
[null,"                ШГ М6 Гайка ш.г.кл.м.5 ЦБ DIN 934",117.6,"кг",94.08,"кг"]
[null,"                ШГ М6 Гайка ш.г.кл.м.5 ЦБ ГОСТ 5915",117.6,"кг",94.08,"кг"]
[null,"                ШГ М6 Гайка ш.г.кл.м.5 ЦБ ГОСТ 5915 (Укр)",117.6,"кг",94.08,"кг"]
[null,"                ШГ М6 Гайка ш.г.кл.м.5 ЦБ ГОСТ 5915 (Укр)",117.6,"кг",94.08,"кг"]
[null,"                ШГ М8 Гайка ш.г.кл.м.5 ЦБ DIN 934",114,"кг",91.2,"кг"]
[null,"                ШГ М8 Гайка ш.г.кл.м.5 ЦБ DIN 934",114,"кг",91.2,"кг"]
[null,"                ШГ М8 Гайка ш.г.кл.м.5 ЦБ ГОСТ 5915",114,"кг",91.2,"кг"]
[null,"                ШГ М8 Гайка ш.г.кл.м.5 ЦБ ГОСТ 5915 (Укр)",114,"кг",91.2,"кг"]
[null,"                ШГ М8 Гайка ш.г.кл.м.5 ЦБ ГОСТ 5915 (Укр)",114,"кг",91.2,"кг"]
[null,"            Гайки шестигранні МІЦНІ","","","",""]
[null,"                ГШ М10х1.25 Гайка шг.кл.м.10 БП DIN 934",408,100,326.40000000000003,100]
[null,"                ГШ М12х1.25 Гайка шг.кл.м.10 БП DIN 934",768,100,614.40000000000009,100]
[null,"                ГШ М12х1.5 Гайка шг.кл.м.10 БП DIN 934",768,100,614.40000000000009,100]
[null,"                ГШ М16х1.5 Гайка шг.кл.м.10 БП DIN 934",1200,100,960,100]
[null,"                ГШ М16х1.5 Гайка шг.кл.м.10 БП DIN 934",1200,100,960,100]
[null,"                ШГ М10 Гайка ш.г. кл.м.10 БП DIN 934",408,100,326.40000000000003,100]
[null,"                ШГ М10 Гайка ш.г. кл.м.10 БП DIN 934",408,100,326.40000000000003,100]
[null,"                ШГ М10 Гайка ш.г. кл.м.10 ЦБ DIN 934",408,100,326.40000000000003,100]
[null,"                ШГ М12 Гайка ш.г. кл.м.10 БП DIN 934",768,100,614.40000000000009,100]
[null,"                ШГ М12 Гайка ш.г. кл.м.10 БП DIN 934",768,100,614.40000000000009,100]
[null,"                ШГ М12х1,25 Гайка ш.г. кл.м.10 БП DIN 934",768,100,614.40000000000009,100]
[null,"                ШГ М12х1,5 Гайка ш.г. кл.м.10 ГОСТ 22354",768,100,614.40000000000009,100]
[null,"                ШГ М14 Гайка ш.г. кл.м.10 БП DIN 934",972,100,777.6,100]
[null,"                ШГ М14х1,5 Гайка ш.г. кл.м.10 БП DIN 934",972,100,777.6,100]
[null,"                ШГ М14х1,5 Гайка ш.г. кл.м.10 БП DIN 934",972,100,777.6,100]
[null,"                ШГ М16 Гайка ш.г. ВИСОКА  кл.м.10 БП DIN 6330",8040,100,6432,100]
[null,"                ШГ М16 Гайка ш.г. кл.м.10 БП DIN 934",1200,100,960,100]
[null,"                ШГ М18 Гайка ш.г. кл.м.10 БП DIN 934",1920,100,1536,100]
[null,"                ШГ М20 Гайка ш.г. ВИСОКА  кл.м.10 БП DIN 6330",11400,100,9120,100]
[null,"                ШГ М20 Гайка ш.г. кл.м.10 БП DIN 934",3000,100,2400,100]
[null,"                ШГ М20 кл.м.10 Гайка ш.г. БП ГОСТ 22354",408,"кг",326.40000000000003,"кг"]
[null,"                ШГ М22 Гайка ш.г. кл.м.10 БП DIN 934",3000,100,2400,100]
[null,"                ШГ М24 Гайка ш.г. кл.м.10 БП DIN 934",3480,100,2784,100]
[null,"                ШГ М30 Гайка ш.г. кл.м.10 БП DIN 934",6120,100,4896,100]
[null,"                ШГ М30 Гайка ш.г. кл.м.10 БП DIN 934",6120,100,4896,100]
[null,"                ШГ М30 Гайка ш.г. кл.м.10 ГОСТ 22354",6120,100,4896,100]
[null,"                ШГ М30 Гайка ш.г. кл.м.10 ЦБ DIN 934",6120,100,4896,100]
[null,"                ШГ М8 Гайка ш.г. кл.м.10 БП DIN 934",240,100,192,100]
[null,"            Гайки шестигранні НЕРЖАВІЮЧІ","","","",""]
[null,"                ГШ М10 Гайка шг.А2 DIN 934",360,100,288,100]
[null,"                ГШ М10 Гайка шг.А2 DIN 934",360,100,288,100]
[null,"                ГШ М12 Гайка шг.А2 DIN 934",600,100,480,100]
[null,"                ГШ М12 Гайка шг.А2 DIN 934",600,100,480,100]
[null,"                ГШ М12 Гайка шг.А2 ГОСТ 5915",600,100,480,100]
[null,"                ГШ М14 Гайка шг.А2 DIN 934",804,100,643.20000000000005,100]
[null,"                ГШ М14 Гайка шг.А2 DIN 934",804,100,643.20000000000005,100]
[null,"                ГШ М14 Гайка шг.А2 DIN 934",804,100,643.20000000000005,100]
[null,"                ГШ М16 Гайка шг.А2 DIN 934",1008,100,806.40000000000009,100]
[null,"                ГШ М16 Гайка шг.А2 DIN 934",1008,100,806.40000000000009,100]
[null,"                ГШ М18 Гайка шг.А2 DIN 934",1920,100,1536,100]
[null,"                ГШ М18 Гайка шг.А2 DIN 934",1920,100,1536,100]
[null,"                ГШ М20 Гайка шг.А2 DIN 934",2040,100,1632,100]
[null,"                ГШ М22 Гайка шг.А2 DIN 934",2640,100,2112,100]
[null,"                ГШ М24 Гайка шг.А2 DIN 934",3600,100,2880,100]
[null,"                ГШ М30 Гайка шг.А2 DIN 934",8520,100,6816,100]
[null,"                ГШ М4 Гайка шг.А2 DIN 934",42,100,33.6,100]
[null,"                ГШ М5 Гайка шг.А2 DIN 934",48,100,38.400000000000006,100]
[null,"                ГШ М5 Гайка шг.А2 ГОСТ 5915",48,100,38.400000000000006,100]
[null,"                ГШ М6 Гайка шг.А2 DIN 934",84,100,67.2,100]
[null,"                ГШ М6 Гайка шг.А2 DIN 934",84,100,67.2,100]
[null,"                ГШ М8 Гайка шг.А2 DIN 934",180,100,144,100]
[null,"        Гачки з різьбою","","","",""]
[null,"            П, С  Гачки з дюбелями","","","",""]
[null,"                С-12/8х70 Дюбель розпiрний з \"С\"-гаком (фас.50)",161.16,100,128.928,100]
[null,"                С-6/4х35 Дюбель розпiрний з \"С\"-гаком (фас.100)",29.375999999999998,100,23.500799999999998,100]
[null,"            ХВМ з метричною різьбою","","","",""]
[null,"                ХВМ-10х70 \"С\"-гак метрична рiзьба ЦЖ",175.2,"кг",140.16,"кг"]
[null,"            ХК","","","",""]
[null,"                ХК-10х100 \"О\"-гак з рiзьбою по дереву ЦЖ",175.2,"кг",140.16,"кг"]
[null,"                ХК-10х120 \"О\"-гак з рiзьбою по дереву ЦЖ",175.2,"кг",140.16,"кг"]
[null,"                ХК-10х140 \"О\"-гак з рiзьбою по дереву ЦЖ",175.2,"кг",140.16,"кг"]
[null,"                ХК-10х160 \"О\"-гак з рiзьбою по дереву ЦЖ",175.2,"кг",140.16,"кг"]
[null,"                ХК-10х180 \"О\"-гак з рiзьбою по дереву ЦЖ",175.2,"кг",140.16,"кг"]
[null,"                ХК-10х200 \"О\"-гак з рiзьбою по дереву ЦЖ",175.2,"кг",140.16,"кг"]
[null,"                ХК-4х40 \"О\"-гак з рiзьбою по дереву ЦЖ",146.76,"кг",117.408,"кг"]
[null,"                ХК-6х100 \"О\"-гак з рiзьбою по дереву ЦЖ",128.4,"кг",102.72000000000001,"кг"]
[null,"                ХК-6х120 \"О\"-гак з рiзьбою по дереву ЦЖ",128.4,"кг",102.72000000000001,"кг"]
[null,"                ХК-6х140 \"О\"-гак з рiзьбою по дереву ЦЖ",175.2,"кг",140.16,"кг"]
[null,"                ХК-6х60 \"О\"-гак з рiзьбою по дереву ЦЖ",128.4,"кг",102.72000000000001,"кг"]
[null,"                ХК-6х80 \"О\"-гак з рiзьбою по дереву ЦЖ",128.4,"кг",102.72000000000001,"кг"]
[null,"                ХК-8х100 \"О\"-гак з рiзьбою по дереву ЦЖ",128.4,"кг",102.72000000000001,"кг"]
[null,"                ХК-8х120 \"О\"-гак з рiзьбою по дереву ЦЖ",128.4,"кг",102.72000000000001,"кг"]
[null,"                ХК-8х140 \"О\"-гак з рiзьбою по дереву ЦЖ",175.2,"кг",140.16,"кг"]
[null,"                ХК-8х160 \"О\"-гак з рiзьбою по дереву ЦЖ",175.2,"кг",140.16,"кг"]
[null,"                ХК-8х60 \"О\"-гак з рiзьбою по дереву ЦЖ",128.4,"кг",102.72000000000001,"кг"]
[null,"                ХК-8х80 \"О\"-гак з рiзьбою по дереву ЦЖ",128.4,"кг",102.72000000000001,"кг"]
[null,"            ХП","","","",""]
[null,"                ХП-10х100 \"Г\"-гак з рiзьбою по дереву ЦЖ",128.4,"кг",102.72000000000001,"кг"]
[null,"                ХП-10х120 \"Г\"-гак з рiзьбою по дереву ЦЖ",128.4,"кг",102.72000000000001,"кг"]
[null,"                ХП-10х140 \"Г\"-гак з рiзьбою по дереву ЦЖ",128.4,"кг",102.72000000000001,"кг"]
[null,"                ХП-10х260 \"Г\"-гак з рiзьбою по дереву ЦЖ",175.2,"кг",140.16,"кг"]
[null,"                ХП-10х300 \"Г\"-гак з рiзьбою по дереву ЦЖ",175.2,"кг",140.16,"кг"]
[null,"                ХП-10х80 \"Г\"-гак з рiзьбою по дереву ЦЖ",128.4,"кг",102.72000000000001,"кг"]
[null,"                ХП-4х40 \"Г\"-гак з рiзьбою по дереву ЦЖ",146.76,"кг",117.408,"кг"]
[null,"                ХП-5х50 \"Г\"-гак з рiзьбою по дереву ЦЖ",138.6,"кг",110.88,"кг"]
[null,"                ХП-6х100 \"Г\"-гак з рiзьбою по дереву ЦЖ",128.4,"кг",102.72000000000001,"кг"]
[null,"                ХП-6х60 \"Г\"-гак з рiзьбою по дереву ЦЖ",128.4,"кг",102.72000000000001,"кг"]
[null,"                ХП-6х80 \"Г\"-гак з рiзьбою по дереву ЦЖ",128.4,"кг",102.72000000000001,"кг"]
[null,"                ХП-6х90 \"Г\"-гак з рiзьбою по дереву ЦЖ",128.4,"кг",102.72000000000001,"кг"]
[null,"                ХП-8х100 \"Г\"-гак з рiзьбою по дереву ЦЖ",128.4,"кг",102.72000000000001,"кг"]
[null,"                ХП-8х120 \"Г\"-гак з рiзьбою по дереву ЦЖ",128.4,"кг",102.72000000000001,"кг"]
[null,"                ХП-8х140 \"Г\"-гак з рiзьбою по дереву ЦЖ",128.4,"кг",102.72000000000001,"кг"]
[null,"                ХП-8х180 \"Г\"-гак з рiзьбою по дереву ЦЖ",175.2,"кг",140.16,"кг"]
[null,"                ХП-8х200 \"Г\"-гак з рiзьбою по дереву ЦЖ",175.2,"кг",140.16,"кг"]
[null,"                ХП-8х60 \"Г\"-гак з рiзьбою по дереву ЦЖ",128.4,"кг",102.72000000000001,"кг"]
[null,"                ХП-8х70 \"Г\"-гак з рiзьбою по дереву ЦЖ",128.4,"кг",102.72000000000001,"кг"]
[null,"                ХП-8х80 \"Г\"-гак з рiзьбою по дереву ЦЖ",128.4,"кг",102.72000000000001,"кг"]
[null,"            ХС","","","",""]
[null,"                ХС-10х140 \"С\"-гак з рiзьбою по дереву ЦЖ",175.2,"кг",140.16,"кг"]
[null,"                ХС-10х180 \"С\"-гак з рiзьбою по дереву ЦЖ",175.2,"кг",140.16,"кг"]
[null,"                ХС-10х200 \"С\"-гак з рiзьбою по дереву ЦЖ",175.2,"кг",140.16,"кг"]
[null,"                ХС-6х100 \"С\"-гак з рiзьбою по дереву ЦЖ",128.4,"кг",102.72000000000001,"кг"]
[null,"                ХС-6х120 \"С\"-гак з рiзьбою по дереву ЦЖ",128.4,"кг",102.72000000000001,"кг"]
[null,"                ХС-6х160 \"С\"-гак з рiзьбою по дереву ЦЖ",175.2,"кг",140.16,"кг"]
[null,"                ХС-6х60 \"С\"-гак з рiзьбою по дереву ЦЖ",128.4,"кг",102.72000000000001,"кг"]
[null,"                ХС-6х80 \"С\"-гак з рiзьбою по дереву ЦЖ",128.4,"кг",102.72000000000001,"кг"]
[null,"                ХС-8х100 \"С\"-гак з рiзьбою по дереву ЦЖ",128.4,"кг",102.72000000000001,"кг"]
[null,"                ХС-8х120 \"С\"-гак з рiзьбою по дереву ЦЖ",128.4,"кг",102.72000000000001,"кг"]
[null,"                ХС-8х140 \"С\"-гак з рiзьбою по дереву ЦЖ",175.2,"кг",140.16,"кг"]
[null,"                ХС-8х160 \"С\"-гак з рiзьбою по дереву ЦЖ",175.2,"кг",140.16,"кг"]
[null,"                ХС-8х180 \"С\"-гак з рiзьбою по дереву ЦЖ",175.2,"кг",140.16,"кг"]
[null,"                ХС-8х220 \"С\"-гак з рiзьбою по дереву ЦЖ",175.2,"кг",140.16,"кг"]
[null,"                ХС-8х240 \"С\"-гак з рiзьбою по дереву ЦЖ",175.2,"кг",140.16,"кг"]
[null,"                ХС-8х60 \"С\"-гак з рiзьбою по дереву ЦЖ",128.4,"кг",102.72000000000001,"кг"]
[null,"                ХС-8х70 \"С\"-гак з рiзьбою по дереву ЦЖ",128.4,"кг",102.72000000000001,"кг"]
[null,"                ХС-8х80 \"С\"-гак з рiзьбою по дереву ЦЖ",128.4,"кг",102.72000000000001,"кг"]
[null,"        Гвинти","","","",""]
[null,"            ВБ барашкові","","","",""]
[null,"                ВБ Гвинт барашковий амер.тип. М10х30 ЦБ",1416,100,1132.8,100]
[null,"                ВБ Гвинт барашковий амер.тип. М10х40 ЦБ",1548,100,1238.4000000000001,100]
[null,"            ВВШ   DIN 912 / ГОСТ 11738","","","",""]
[null,"                ВВШ М10х100 кл.м.8.8 Гвинт цил.гол.вн.ш.ЦБ DIN 912",1440,100,1152,100]
[null,"                ВВШ М10х100 кл.м.8.8 Гвинт цил.гол.вн.ш.ЦБ ГОСТ 11738",192,"кг",153.60000000000002,"кг"]
[null,"                ВВШ М10х110 кл.м.8.8 Гвинт цил.гол.вн.ш.ЦБ ГОСТ 11738",192,"кг",153.60000000000002,"кг"]
[null,"                ВВШ М10х12 кл.м.8.8 Гвинт цил.гол.вн.ш.ЦБ ГОСТ 11738",192,"кг",153.60000000000002,"кг"]
[null,"                ВВШ М10х120 кл.м.8.8 Гвинт цил.гол.вн.ш.ЦБ ГОСТ 11738",192,"кг",153.60000000000002,"кг"]
[null,"                ВВШ М10х20 кл.м.8.8 Гвинт цил.гол.вн.ш.ЦБ ГОСТ 11738",192,"кг",153.60000000000002,"кг"]
[null,"                ВВШ М10х20 кл.м.8.8 Гвинт цил.гол.вн.шг.ЦБ DIN 912",516,100,412.8,100]
[null,"                ВВШ М10х210 кл.м.10,9 Гвинт цил.гол.вн.ш.ЦЖ DIN 912",360,"кг",288,"кг"]
[null,"                ВВШ М10х25 кл.м.8.8 Гвинт цил.гол.вн.ш.ЦБ ГОСТ 11738",192,"кг",153.60000000000002,"кг"]
[null,"                ВВШ М10х25 кл.м.8.8 Гвинт цил.гол.вн.шг.ЦБ DIN 912",600,100,480,100]
[null,"                ВВШ М10х30 кл.м.8.8 Гвинт цил.гол.вн.ш.ЦБ ГОСТ 11738",192,"кг",153.60000000000002,"кг"]
[null,"                ВВШ М10х30 кл.м.8.8 Гвинт цил.гол.вн.шг.ЦБ DIN 912",804,100,643.20000000000005,100]
[null,"                ВВШ М10х35 кл.м.8.8 Гвинт цил.гол.вн.ш.ЦБ ГОСТ 11738",192,"кг",153.60000000000002,"кг"]
[null,"                ВВШ М10х35 кл.м.8.8 Гвинт цил.гол.вн.шг.БП DIN 912",804,100,643.20000000000005,100]
[null,"                ВВШ М10х40 кл.м.8.8 Гвинт цил.гол.вн.ш.ЦБ ГОСТ 11738",192,"кг",153.60000000000002,"кг"]
[null,"                ВВШ М10х40 кл.м.8.8 Гвинт цил.гол.вн.шг.ЦБ DIN 912",804,100,643.20000000000005,100]
[null,"                ВВШ М10х40 кл.м.8.8(лiва рiзьба) Гвинт цил.гол.вн.ш.ЦЖ ГОСТ 11738",192,"кг",153.60000000000002,"кг"]
[null,"                ВВШ М10х45 кл.м.8.8 Гвинт цил.гол.вн.ш.ЦБ ГОСТ 11738",192,"кг",153.60000000000002,"кг"]
[null,"                ВВШ М10х45 кл.м.8.8 Гвинт цил.гол.вн.шг.ЦБ DIN 912",804,100,643.20000000000005,100]
[null,"                ВВШ М10х50 кл.м.12.9 Гвинт цил.гол.вн.шг.БП DIN 912",1440,100,1152,100]
[null,"                ВВШ М10х50 кл.м.8.8 Гвинт цил.гол.вн.ш.ЦБ DIN 912 (Укр)",192,"кг",153.60000000000002,"кг"]
[null,"                ВВШ М10х50 кл.м.8.8 Гвинт цил.гол.вн.ш.ЦБ ГОСТ 11738",192,"кг",153.60000000000002,"кг"]
[null,"                ВВШ М10х50 кл.м.8.8 Гвинт цил.гол.вн.шг.ЦБ DIN 912",804,100,643.20000000000005,100]
[null,"                ВВШ М10х55 кл.м.8.8 Гвинт цил.гол.вн.ш.ЦБ ГОСТ 11738",192,"кг",153.60000000000002,"кг"]
[null,"                ВВШ М10х60 (низ.гол.) кл.м.8.8 Гвинт цил.гол.вн.ш.ЦБ ГОСТ 11738",192,"кг",153.60000000000002,"кг"]
[null,"                ВВШ М10х60 кл.м.10,9 Гвинт цил.гол.вн.ш.ЦЖ DIN 912",192,"кг",153.60000000000002,"кг"]
[null,"                ВВШ М10х60 кл.м.12,9 Гвинт цил.гол.вн.ш.ЦБ DIN 912",192,"кг",153.60000000000002,"кг"]
[null,"                ВВШ М10х60 кл.м.12.9 Гвинт цил.гол.вн.шг.БП DIN 912",1560,100,1248,100]
[null,"                ВВШ М10х60 кл.м.8.8 Гвинт цил.гол.вн.ш.ЦБ DIN 912",192,"кг",153.60000000000002,"кг"]
[null,"                ВВШ М10х60 кл.м.8.8 Гвинт цил.гол.вн.ш.ЦБ ГОСТ 11738",192,"кг",153.60000000000002,"кг"]
[null,"                ВВШ М10х70 кл.м.8.8 Гвинт цил.гол.вн.ш.ЦБ ГОСТ 11738",192,"кг",153.60000000000002,"кг"]
[null,"                ВВШ М10х80 кл.м.8.8 Гвинт цил.гол.вн.ш.ЦБ DIN 912",1164,100,931.2,100]
[null,"                ВВШ М10х80 кл.м.8.8 Гвинт цил.гол.вн.ш.ЦБ ГОСТ 11738",192,"кг",153.60000000000002,"кг"]
[null,"                ВВШ М10х85 кл.м.10,9 Гвинт цил.гол.вн.ш.ЦЖ DIN 912",192,"кг",153.60000000000002,"кг"]
[null,"                ВВШ М10х90 Гвинт цил.гол.вн.ш.ЦБ ГОСТ 11738",192,"кг",153.60000000000002,"кг"]
[null,"                ВВШ М10х90 кл.м.8.8 Гвинт цил.гол.вн.ш.ЦБ ГОСТ 11738",192,"кг",153.60000000000002,"кг"]
[null,"                ВВШ М12х100 Гвинт цил.гол.вн.ш.БП ГОСТ 11738",192,"кг",153.60000000000002,"кг"]
[null,"                ВВШ М12х100 кл.м.8.8 Гвинт цил.гол.вн.ш.ЦБ DIN 912",2640,100,2112,100]
[null,"                ВВШ М12х100 кл.м.8.8 Гвинт цил.гол.вн.ш.ЦБ DIN 912",2640,100,2112,100]
[null,"                ВВШ М12х110 Гвинт цил.гол.вн.ш.ЦБ ГОСТ 11738",192,"кг",153.60000000000002,"кг"]
[null,"                ВВШ М12х110 кл.м.8.8 Гвинт цил.гол.вн.ш.ЦБ ГОСТ 11738",192,"кг",153.60000000000002,"кг"]
[null,"                ВВШ М12х120 кл.м.12.9 Гвинт цил.гол.вн.шг.БП DIN 912",7200,100,5760,100]
[null,"                ВВШ М12х120 кл.м.8.8 Гвинт цил.гол.вн.ш.ЦБ DIN 912",2784,100,2227.2000000000003,100]
[null,"                ВВШ М12х120 кл.м.8.8 Гвинт цил.гол.вн.ш.ЦБ ГОСТ 11738",192,"кг",153.60000000000002,"кг"]
[null,"                ВВШ М12х140 кл.м.8.8 Гвинт цил.гол.вн.ш.ЦБ DIN 912",2976,100,2380.8000000000002,100]
[null,"                ВВШ М12х150 кл.м.8.8 Гвинт цил.гол.вн.ш.БП ГОСТ 11738",192,"кг",153.60000000000002,"кг"]
[null,"                ВВШ М12х180 кл.м.12.9 Гвинт цил.гол.вн.шг.БП DIN 912",14400,100,11520,100]
[null,"                ВВШ М12х180 кл.м.8.8 Гвинт цил.гол.вн.ш.ЦБ DIN 912",4080,100,3264,100]
[null,"                ВВШ М12х20 Гвинт цил.гол.вн.ш.ЦБ ГОСТ 11738",192,"кг",153.60000000000002,"кг"]
[null,"                ВВШ М12х25 кл.м.8.8 Гвинт цил.гол.вн.ш.ЦБ ГОСТ 11738",192,"кг",153.60000000000002,"кг"]
[null,"                ВВШ М12х25 кл.м.8.8 Гвинт цил.гол.вн.шг.ЦБ DIN 912",1008,100,806.40000000000009,100]
[null,"                ВВШ М12х30 Гвинт цил.гол.вн.ш.БП ГОСТ 11738",192,"кг",153.60000000000002,"кг"]
[null,"                ВВШ М12х30 кл.м.8.8 Гвинт цил.гол.вн.ш.ЦБ ГОСТ 11738",192,"кг",153.60000000000002,"кг"]
[null,"                ВВШ М12х35 Гвинт цил.гол.вн.ш.ЦБ ГОСТ 11738",192,"кг",153.60000000000002,"кг"]
[null,"                ВВШ М12х35 кл.м.8.8 Гвинт цил.гол.вн.ш.ЦБ ГОСТ 11738",192,"кг",153.60000000000002,"кг"]
[null,"                ВВШ М12х40 Гвинт цил.гол.вн.ш.БП ГОСТ 11738",192,"кг",153.60000000000002,"кг"]
[null,"                ВВШ М12х40 кл.м.12.9 Гвинт цил.гол.вн.шг.БП DIN 912",4320,100,3456,100]
[null,"                ВВШ М12х40 кл.м.12.9 Гвинт цил.гол.вн.шг.БП DIN 912",4320,100,3456,100]
[null,"                ВВШ М12х40 кл.м.12.9 Гвинт цил.гол.вн.шг.БП DIN 912",4320,100,3456,100]
[null,"                ВВШ М12х40 кл.м.8.8 Гвинт цил.гол.вн.ш.ЦБ DIN 912 (Укр)",192,"кг",153.60000000000002,"кг"]
[null,"                ВВШ М12х40 кл.м.8.8 Гвинт цил.гол.вн.ш.ЦБ ГОСТ 11738",192,"кг",153.60000000000002,"кг"]
[null,"                ВВШ М12х40 кл.м.8.8 Гвинт цил.гол.вн.шг.БП DIN 912",1008,100,806.40000000000009,100]
[null,"                ВВШ М12х40 кл.м.8.8 Гвинт цил.гол.вн.шг.ЦБ DIN 912",1008,100,806.40000000000009,100]
[null,"                ВВШ М12х45 кл.м.10,9 Гвинт цил.гол.вн.ш.ЦБ DIN 912",480,"кг",384,"кг"]
[null,"                ВВШ М12х45 кл.м.10,9 Гвинт цил.гол.вн.ш.ЦЖ DIN 912",480,"кг",384,"кг"]
[null,"                ВВШ М12х45 кл.м.12,9 Гвинт цил.гол.вн.ш.БП DIN 912",600,"кг",480,"кг"]
[null,"                ВВШ М12х45 кл.м.8.8 Гвинт цил.гол.вн.ш.ЦБ ГОСТ 11738",192,"кг",153.60000000000002,"кг"]
[null,"                ВВШ М12х50 Гвинт цил.гол.вн.ш.ЦБ ГОСТ 11738",192,"кг",153.60000000000002,"кг"]
[null,"                ВВШ М12х50 кл.м.8.8 Гвинт цил.гол.вн.шг.ЦБ DIN 912",1236,100,988.80000000000007,100]
[null,"                ВВШ М12х55 кл.м.8.8 Гвинт цил.гол.вн.ш.ЦБ ГОСТ 11738",192,"кг",153.60000000000002,"кг"]
[null,"                ВВШ М12х55 кл.м.8.8 Гвинт цил.гол.вн.ш.ЦЖ ГОСТ 11738",192,"кг",153.60000000000002,"кг"]
[null,"                ВВШ М12х60 кл.м.12.9 Гвинт цил.гол.вн.шг.БП DIN 912",4560,100,3648,100]
[null,"                ВВШ М12х60 кл.м.8.8 Гвинт цил.гол.вн.ш.ЦБ DIN 912",1500,100,1200,100]
[null,"                ВВШ М12х60 кл.м.8.8 Гвинт цил.гол.вн.ш.ЦБ DIN 912",1500,100,1200,100]
[null,"                ВВШ М12х60 кл.м.8.8 Гвинт цил.гол.вн.ш.ЦБ DIN 912 (Укр)",192,"кг",153.60000000000002,"кг"]
[null,"                ВВШ М12х60 кл.м.8.8 Гвинт цил.гол.вн.ш.ЦБ ГОСТ 11738",192,"кг",153.60000000000002,"кг"]
[null,"                ВВШ М12х60 кл.м.8.8 Гвинт цил.гол.вн.ш.ЦБ ГОСТ 11738",192,"кг",153.60000000000002,"кг"]
[null,"                ВВШ М12х65 кл.м.8.8 Гвинт цил.гол.вн.ш.БП ГОСТ 11738",192,"кг",153.60000000000002,"кг"]
[null,"                ВВШ М12х65 кл.м.8.8 Гвинт цил.гол.вн.ш.ЦБ ГОСТ 11738",192,"кг",153.60000000000002,"кг"]
[null,"                ВВШ М12х70 кл.м.12.9 Гвинт цил.гол.вн.шг.БП DIN 912",5040,100,4032,100]
[null,"                ВВШ М12х70 кл.м.8.8 Гвинт цил.гол.вн.ш.ЦБ ГОСТ 11738",192,"кг",153.60000000000002,"кг"]
[null,"                ВВШ М12х70 кл.м.8.8 Гвинт цил.гол.вн.шг.ЦБ DIN 912",1080,100,864,100]
[null,"                ВВШ М12х70 кл.м.8.8 Гвинт цил.гол.вн.шг.ЦБ DIN 912",1080,100,864,100]
[null,"                ВВШ М12х75 кл.м.8.8 Гвинт цил.гол.вн.ш.ЦЖ ГОСТ 11738",192,"кг",153.60000000000002,"кг"]
[null,"                ВВШ М12х80 кл.м.12.9 Гвинт цил.гол.вн.шг.БП DIN 912",5400,100,4320,100]
[null,"                ВВШ М12х80 кл.м.8.8 Гвинт цил.гол.вн.шг.ЦБ DIN 912",2280,100,1824,100]
[null,"                ВВШ М12х90 кл.м.8.8 Гвинт цил.гол.вн.ш.ЦБ ГОСТ 11738",192,"кг",153.60000000000002,"кг"]
[null,"                ВВШ М14х130 кл.м.10,9 Гвинт цил.гол.вн.ш.ЦБ DIN 912",384,"кг",307.20000000000005,"кг"]
[null,"                ВВШ М14х160 кл.м.8.8 Гвинт цил.гол.вн.ш.ЦБ ГОСТ 11738",192,"кг",153.60000000000002,"кг"]
[null,"                ВВШ М14х170 кл.м.8.8 Гвинт цил.гол.вн.ш.ЦЖ ГОСТ 11738",192,"кг",153.60000000000002,"кг"]
[null,"                ВВШ М14х30 кл.м.12.9 Гвинт цил.гол.вн.шг.БП DIN 912",4320,100,3456,100]
[null,"                ВВШ М14х40 кл.м.12.9 Гвинт цил.гол.вн.шг.БП DIN 912",4800,100,3840,100]
[null,"                ВВШ М14х40 кл.м.12.9 Гвинт цил.гол.вн.шг.БП DIN 912",4800,100,3840,100]
[null,"                ВВШ М14х50 кл.м.8.8 Гвинт цил.гол.вн.ш.ЦБ DIN 912",744,100,595.20000000000005,100]
[null,"                ВВШ М14х60 кл.м.8.8 Гвинт цил.гол.вн.ш.ЦБ ГОСТ 11738",192,"кг",153.60000000000002,"кг"]
[null,"                ВВШ М14х80 кл.м.8.8 Гвинт цил.гол.вн.ш.ЦБ ГОСТ 11738",192,"кг",153.60000000000002,"кг"]
[null,"                ВВШ М14х90 кл.м.8.8 Гвинт цил.гол.вн.ш.ЦБ ГОСТ 11738",192,"кг",153.60000000000002,"кг"]
[null,"                ВВШ М16х110 Гвинт цил.гол.вн.ш.БП ГОСТ 11738",192,"кг",153.60000000000002,"кг"]
[null,"                ВВШ М16х120 кл.м.8.8 Гвинт цил.гол.вн.ш.ЦБ ГОСТ 11738",192,"кг",153.60000000000002,"кг"]
[null,"                ВВШ М16х140 кл.м.8.8 Гвинт цил.гол.вн.ш.ЦБ ГОСТ 11738",192,"кг",153.60000000000002,"кг"]
[null,"                ВВШ М16х25 кл.м.8.8 Гвинт цил.гол.вн.ш.ЦБ ГОСТ 11738",192,"кг",153.60000000000002,"кг"]
[null,"                ВВШ М16х30 кл.м.12.9 Гвинт цил.гол.вн.шг.БП DIN 912",7200,100,5760,100]
[null,"                ВВШ М16х30 кл.м.12.9 Гвинт цил.гол.вн.шг.БП DIN 912",7200,100,5760,100]
[null,"                ВВШ М16х30 кл.м.8.8 Гвинт цил.гол.вн.ш.ЦБ ГОСТ 11738",192,"кг",153.60000000000002,"кг"]
[null,"                ВВШ М16х35 кл.м.12.9 Гвинт цил.гол.вн.шг.БП DIN 912",7440,100,5952,100]
[null,"                ВВШ М16х35 кл.м.8.8 Гвинт цил.гол.вн.ш.ЦБ ГОСТ 11738",192,"кг",153.60000000000002,"кг"]
[null,"                ВВШ М16х40 кл.м.12.9 Гвинт цил.гол.вн.шг.БП DIN 912",7800,100,6240,100]
[null,"                ВВШ М16х40 кл.м.12.9 Гвинт цил.гол.вн.шг.БП DIN 912",7800,100,6240,100]
[null,"                ВВШ М16х40 кл.м.12.9 Гвинт цил.гол.вн.шг.БП DIN 912",7800,100,6240,100]
[null,"                ВВШ М16х40 кл.м.8.8 Гвинт цил.гол.вн.ш.ЦБ ГОСТ 11738",192,"кг",153.60000000000002,"кг"]
[null,"                ВВШ М16х45 Гвинт цил.гол.вн.ш.ЦБ ГОСТ 11738",192,"кг",153.60000000000002,"кг"]
[null,"                ВВШ М16х50 кл.м.10,9 Гвинт цил.гол.вн.ш.ЦБ ГОСТ 11738",192,"кг",153.60000000000002,"кг"]
[null,"                ВВШ М16х50 кл.м.12.9 Гвинт цил.гол.вн.шг.БП DIN 912",8400,100,6720,100]
[null,"                ВВШ М16х50 кл.м.8.8 Гвинт цил.гол.вн.ш.БП DIN 912",2562,100,2049.6,100]
[null,"                ВВШ М16х50 кл.м.8.8 Гвинт цил.гол.вн.ш.ЦБ DIN 912",2562,100,2049.6,100]
[null,"                ВВШ М16х50 кл.м.8.8 Гвинт цил.гол.вн.ш.ЦБ ГОСТ 11738",192,"кг",153.60000000000002,"кг"]
[null,"                ВВШ М16х55 кл.м.10,9 Гвинт цил.гол.вн.ш.БП ГОСТ 11738",192,"кг",153.60000000000002,"кг"]
[null,"                ВВШ М16х55 кл.м.12.9 Гвинт цил.гол.вн.шг.БП DIN 912",8640,100,6912,100]
[null,"                ВВШ М16х60 Гвинт цил.гол.вн.ш.ЦБ ГОСТ 11738",192,"кг",153.60000000000002,"кг"]
[null,"                ВВШ М16х60 кл.м.10,9 Гвинт цил.гол.вн.ш.БП ГОСТ 11738",384,"кг",307.20000000000005,"кг"]
[null,"                ВВШ М16х60 кл.м.12.9 Гвинт цил.гол.вн.шг.БП DIN 912",9996,100,7996.8,100]
[null,"                ВВШ М16х60 кл.м.12.9 Гвинт цил.гол.вн.шг.БП DIN 912",9996,100,7996.8,100]
[null,"                ВВШ М16х60 кл.м.8.8 (низ.гол.) Гвинт цил.гол.вн.ш.ЦБ ГОСТ",192,"кг",153.60000000000002,"кг"]
[null,"                ВВШ М16х60 кл.м.8.8 Гвинт цил.гол.вн.ш.БП ГОСТ 11738",192,"кг",153.60000000000002,"кг"]
[null,"                ВВШ М16х70 Гвинт цил.гол.вн.ш.БП ГОСТ 11738",192,"кг",153.60000000000002,"кг"]
[null,"                ВВШ М16х70 Гвинт цил.гол.вн.ш.ЦБ ГОСТ 11738",192,"кг",153.60000000000002,"кг"]
[null,"                ВВШ М16х70 кл.м.12.9 Гвинт цил.гол.вн.шг.БП DIN 912",10200,100,8160,100]
[null,"                ВВШ М16х75 кл.м.8.8 Гвинт цил.гол.вн.ш.ЦБ ГОСТ 11738",192,"кг",153.60000000000002,"кг"]
[null,"                ВВШ М16х80 Гвинт цил.гол.вн.ш.БП ГОСТ 11738",192,"кг",153.60000000000002,"кг"]
[null,"                ВВШ М16х80 кл.м.12,9 Гвинт цил.гол.вн.ш.БП DIN 912",10800,100,8640,100]
[null,"                ВВШ М16х80 кл.м.12,9 Гвинт цил.гол.вн.ш.БП DIN 912",10800,100,8640,100]
[null,"                ВВШ М16х80 кл.м.8.8 Гвинт цил.гол.вн.ш.БП ГОСТ 11738",192,"кг",153.60000000000002,"кг"]
[null,"                ВВШ М16х80 кл.м.8.8 Гвинт цил.гол.вн.ш.ЦБ ГОСТ 11738",192,"кг",153.60000000000002,"кг"]
[null,"                ВВШ М16х80 кл.м.8.8 Гвинт цил.гол.вн.ш.ЦЖ ГОСТ 11738",192,"кг",153.60000000000002,"кг"]
[null,"                ВВШ М16х90 кл.м.8.8 Гвинт цил.гол.вн.ш.БП ГОСТ 11738",192,"кг",153.60000000000002,"кг"]
[null,"                ВВШ М20х100 Гвинт цил.гол.вн.ш.ЦБ ГОСТ 11738",192,"кг",153.60000000000002,"кг"]
[null,"                ВВШ М20х100 кл.м.12,9 Гвинт цил.гол.вн.ш.БП ГОСТ 11738",384,"кг",307.20000000000005,"кг"]
[null,"                ВВШ М20х110 Гвинт цил.гол.вн.ш.ЦБ ГОСТ 11738",192,"кг",153.60000000000002,"кг"]
[null,"                ВВШ М20х120 кл.м.12,9 Гвинт цил.гол.вн.ш.БП ГОСТ 11738",13200,100,10560,100]
[null,"                ВВШ М20х130 кл.м.12,9 Гвинт цил.гол.вн.ш.БП ГОСТ 11738",14400,100,11520,100]
[null,"                ВВШ М20х150 кл.м.8.8 Гвинт цил.гол.вн.ш.БП ГОСТ 11738",192,"кг",153.60000000000002,"кг"]
[null,"                ВВШ М20х180 кл.м.8.8 Гвинт цил.гол.вн.ш.БП ГОСТ 11738",192,"кг",153.60000000000002,"кг"]
[null,"                ВВШ М20х220 кл.м.8.8 Гвинт цил.гол.вн.ш.БП ГОСТ 11738",192,"кг",153.60000000000002,"кг"]
[null,"                ВВШ М20х260 кл.м.8.8 Гвинт цил.гол.вн.ш.БП ГОСТ 11738",192,"кг",153.60000000000002,"кг"]
[null,"                ВВШ М20х30 кл.м.10.9 Гвинт цил.гол.вн.ш.БП ГОСТ 11738",384,"кг",307.20000000000005,"кг"]
[null,"                ВВШ М20х40 кл.м.8.8 Гвинт цил.гол.вн.ш.БП DIN 912",3048,100,2438.4,100]
[null,"                ВВШ М20х50 Гвинт цил.гол.вн.ш.БП ГОСТ 11738",192,"кг",153.60000000000002,"кг"]
[null,"                ВВШ М20х50 кл.м.10.9 Гвинт цил.гол.вн.ш.БП ГОСТ 11738",192,"кг",153.60000000000002,"кг"]
[null,"                ВВШ М20х50 кл.м.8.8 Гвинт цил.гол.вн.ш.БП ГОСТ 11738",192,"кг",153.60000000000002,"кг"]
[null,"                ВВШ М20х55 кл.м.12.9 Гвинт цил.гол.вн.шг.БП DIN 912",9240,100,7392,100]
[null,"                ВВШ М20х60 кл.м.12.9 Гвинт цил.гол.вн.шг.БП DIN 912",9600,100,7680,100]
[null,"                ВВШ М20х65 кл.м.8.8 Гвинт цил.гол.вн.ш.ЦБ ГОСТ 11738",192,"кг",153.60000000000002,"кг"]
[null,"                ВВШ М20х70 кл.м.12.9 Гвинт цил.гол.вн.шг.БП DIN 912",12360,100,9888,100]
[null,"                ВВШ М20х70 кл.м.8.8 Гвинт цил.гол.вн.ш.ЦБ ГОСТ 11738",192,"кг",153.60000000000002,"кг"]
[null,"                ВВШ М20х80 Гвинт цил.гол.вн.ш.БП ГОСТ 11738",192,"кг",153.60000000000002,"кг"]
[null,"                ВВШ М20х80 кл.м.12,9 Гвинт цил.гол.вн.ш.БП DIN 912",12600,100,10080,100]
[null,"                ВВШ М20х80 кл.м.12,9 Гвинт цил.гол.вн.ш.БП ГОСТ 11738",12600,100,10080,100]
[null,"                ВВШ М20х90 Гвинт цил.гол.вн.ш.БП ГОСТ 11738",192,"кг",153.60000000000002,"кг"]
[null,"                ВВШ М20х90 кл.м.10.9 Гвинт цил.гол.вн.ш.БП ГОСТ 11738",384,"кг",307.20000000000005,"кг"]
[null,"                ВВШ М20х90 кл.м.10.9 Гвинт цил.гол.вн.ш.ЦБ ГОСТ 11738",384,"кг",307.20000000000005,"кг"]
[null,"                ВВШ М20х90 кл.м.8.8 Гвинт цил.гол.вн.ш.БП ГОСТ 11738",192,"кг",153.60000000000002,"кг"]
[null,"                ВВШ М22х100 кл.м.12.9 Гвинт цил.гол.вн.шг.БП DIN 912",36000,100,28800,100]
[null,"                ВВШ М22х100 кл.м.12.9 Гвинт цил.гол.вн.шг.БП DIN 912",36000,100,28800,100]
[null,"                ВВШ М22х70 кл.м.12.9 Гвинт цил.гол.вн.шг.БП DIN 912",26400,100,21120,100]
[null,"                ВВШ М22х70 кл.м.12.9 Гвинт цил.гол.вн.шг.БП DIN 912",26400,100,21120,100]
[null,"                ВВШ М24х160 кл.м.12,9 Гвинт цил.гол.вн.ш.БП ГОСТ 11738",50400,100,40320,100]
[null,"                ВВШ М24х50 кл.м.8.8 Гвинт цил.гол.вн.ш.БП ГОСТ 11738",192,"кг",153.60000000000002,"кг"]
[null,"                ВВШ М24х60 кл.м.8.8 Гвинт цил.гол.вн.ш.БП ГОСТ 11738",192,"кг",153.60000000000002,"кг"]
[null,"                ВВШ М24х65 кл.м.8.8 Гвинт цил.гол.вн.шг.БП DIN 912",5760,100,4608,100]
[null,"                ВВШ М27х100 кл.м.12,9 Гвинт цил.гол.вн.ш.БП ГОСТ 11738",480,"кг",384,"кг"]
[null,"                ВВШ М30х90 кл.м.8.8 Гвинт цил.гол.вн.шг. DIN 912",21600,100,17280,100]
[null,"                ВВШ М3х12 кл.м.12.9 Гвинт цил.гол.вн.шг.БП DIN 912",288,100,230.4,100]
[null,"                ВВШ М4х06 Гвинт цил.гол.вн.ш.ЦБ ГОСТ 11738",192,"кг",153.60000000000002,"кг"]
[null,"                ВВШ М4х08 кл.м.8.8 Гвинт цил.гол.вн.ш.ЦБ ГОСТ 11738",192,"кг",153.60000000000002,"кг"]
[null,"                ВВШ М4х08 кл.м.8.8 Гвинт цил.гол.вн.ш.ЦЖ ГОСТ 11738",192,"кг",153.60000000000002,"кг"]
[null,"                ВВШ М4х12 кл.м.8.8 Гвинт цил.гол.вн.ш.ЦБ DIN 912",72,100,57.6,100]
[null,"                ВВШ М4х12 кл.м.8.8 Гвинт цил.гол.вн.ш.ЦБ DIN 912",72,100,57.6,100]
[null,"                ВВШ М4х12 кл.м.8.8 Гвинт цил.гол.вн.ш.ЦБ DIN 912",72,100,57.6,100]
[null,"                ВВШ М4х16 кл.м.8.8 Гвинт цил.гол.вн.ш.ЦБ DIN 912",84,100,67.2,100]
[null,"                ВВШ М4х16 кл.м.8.8 Гвинт цил.гол.вн.ш.ЦБ DIN 912",84,100,67.2,100]
[null,"                ВВШ М4х20 кл.м.8.8 Гвинт цил.гол. ЗIРКА ЦБ ГОСТ 11738",192,"кг",153.60000000000002,"кг"]
[null,"                ВВШ М4х20 кл.м.8.8 Гвинт цил.гол.вн.ш.БП ГОСТ 11738",192,"кг",153.60000000000002,"кг"]
[null,"                ВВШ М4х20 кл.м.8.8 Гвинт цил.гол.вн.ш.ЦБ DIN 912",96,100,76.800000000000011,100]
[null,"                ВВШ М4х20 кл.м.8.8 Гвинт цил.гол.вн.ш.ЦБ ГОСТ 11738",192,"кг",153.60000000000002,"кг"]
[null,"                ВВШ М4х25 кл.м.12,9 Гвинт цил.гол.вн.ш.БП DIN 912",252,100,201.60000000000002,100]
[null,"                ВВШ М4х25 кл.м.8.8 Гвинт цил.гол.вн.ш.БП ГОСТ 11738",192,"кг",153.60000000000002,"кг"]
[null,"                ВВШ М4х25 кл.м.8.8 Гвинт цил.гол.вн.ш.ЦБ DIN 912",108,100,86.4,100]
[null,"                ВВШ М4х30 кл.м.8.8 Гвинт цил.гол.вн.ш.БП ГОСТ 11738",192,"кг",153.60000000000002,"кг"]
[null,"                ВВШ М4х30 кл.м.8.8 Гвинт цил.гол.вн.ш.ЦБ ГОСТ 11738",192,"кг",153.60000000000002,"кг"]
[null,"                ВВШ М4х40 кл.м.8.8 Гвинт цил.гол.вн.ш.БП ГОСТ 11738",192,"кг",153.60000000000002,"кг"]
[null,"                ВВШ М4х40 кл.м.8.8 Гвинт цил.гол.вн.ш.ЦБ ГОСТ 11738",192,"кг",153.60000000000002,"кг"]
[null,"                ВВШ М4х50 кл.м.8.8 Гвинт цил.гол.вн.ш.БП ГОСТ 11738",192,"кг",153.60000000000002,"кг"]
[null,"                ВВШ М4х60 кл.м.8.8 Гвинт цил.гол.вн.ш.БП ГОСТ 11738",192,"кг",153.60000000000002,"кг"]
[null,"                ВВШ М4х60 кл.м.8.8 Гвинт цил.гол.вн.ш.ЦБ ГОСТ 11738",192,"кг",153.60000000000002,"кг"]
[null,"                ВВШ М5х08 кл.м.8.8 Гвинт цил.гол.вн.ш.БП ГОСТ 11738",192,"кг",153.60000000000002,"кг"]
[null,"                ВВШ М5х08 кл.м.8.8 Гвинт цил.гол.вн.ш.ЦБ ГОСТ 11738",192,"кг",153.60000000000002,"кг"]
[null,"                ВВШ М5х12 кл.м.12.9 Гвинт цил.гол.вн.шг.БП DIN 912",300,100,240,100]
[null,"                ВВШ М5х12 кл.м.8.8 Гвинт цил.гол.вн.ш.ЦБ ГОСТ 11738",192,"кг",153.60000000000002,"кг"]
[null,"                ВВШ М5х16 кл.м.8.8 Гвинт цил.гол.вн.ш.ЦБ ГОСТ 11738",192,"кг",153.60000000000002,"кг"]
[null,"                ВВШ М5х20 кл.м.8.8 Гвинт цил.гол.вн.ш.ЦБ ГОСТ 11738",192,"кг",153.60000000000002,"кг"]
[null,"                ВВШ М5х22 кл.м.8.8 Гвинт цил.гол.вн.ш.ЦБ ГОСТ 11738",192,"кг",153.60000000000002,"кг"]
[null,"                ВВШ М5х30 кл.м 12.9 Гвинт цил.гол.вн.шг.БП DIN 912",288,100,230.4,100]
[null,"                ВВШ М5х30 кл.м.12.9 Гвинт цил.гол.вн.шг.БП DIN 912",288,100,230.4,100]
[null,"                ВВШ М5х35 кл.м.8.8 Гвинт цил.гол.вн.ш.БП ГОСТ 11738",192,"кг",153.60000000000002,"кг"]
[null,"                ВВШ М5х35 кл.м.8.8 Гвинт цил.гол.вн.ш.ЦБ ГОСТ 11738",192,"кг",153.60000000000002,"кг"]
[null,"                ВВШ М5х40 кл.м.8.8 Гвинт цил.гол.вн.ш.ЦБ ГОСТ 11738",192,"кг",153.60000000000002,"кг"]
[null,"                ВВШ М5х45 кл.м.8.8 Гвинт цил.гол.вн.ш.ЦБ ГОСТ 11738",192,"кг",153.60000000000002,"кг"]
[null,"                ВВШ М5х50 кл.м.8.8 Гвинт цил.гол.вн.ш.ЦБ ГОСТ 11738",192,"кг",153.60000000000002,"кг"]
[null,"                ВВШ М5х60 кл.м.8.8 Гвинт цил.гол.вн.ш.ЦБ ГОСТ 11738",192,"кг",153.60000000000002,"кг"]
[null,"                ВВШ М5х70 кл.м.8.8 Гвинт цил.гол.вн.ш.ЦБ DIN 912",696,100,556.80000000000007,100]
[null,"                ВВШ М5х80 кл.м.12.9 Гвинт цил.гол.вн.шг.БП DIN 912",960,100,768,100]
[null,"                ВВШ М5х80 кл.м.12.9 Гвинт цил.гол.вн.шг.БП DIN 912",960,100,768,100]
[null,"                ВВШ М5х80 кл.м.12.9 Гвинт цил.гол.вн.шг.БП DIN 912",960,100,768,100]
[null,"                ВВШ М6х100 кл.м.12.9 Гвинт цил.гол.вн.шг.БП DIN 912",2352,100,1881.6000000000001,100]
[null,"                ВВШ М6х12 кл.м.8.8 Гвинт цил.гол.вн.ш.ЦБ ГОСТ 11738",192,"кг",153.60000000000002,"кг"]
[null,"                ВВШ М6х12 кл.м.8.8 Гвинт цил.гол.вн.шг.ЦБ DIN 912",132,100,105.60000000000001,100]
[null,"                ВВШ М6х16 кл.м.8.8 Гвинт цил.гол.вн.ш.ЦБ ГОСТ 11738",192,"кг",153.60000000000002,"кг"]
[null,"                ВВШ М6х16 кл.м.8.8 Гвинт цил.гол.вн.шг.ЦБ DIN 912",144,100,115.2,100]
[null,"                ВВШ М6х20 кл.м.12.9 Гвинт цил.гол.вн.шг.БП DIN 912",360,100,288,100]
[null,"                ВВШ М6х20 кл.м.12.9 Гвинт цил.гол.вн.шг.БП DIN 912",360,100,288,100]
[null,"                ВВШ М6х20 кл.м.12.9 Гвинт цил.гол.вн.шг.БП DIN 912",312,100,249.60000000000002,100]
[null,"                ВВШ М6х20 кл.м.8.8 Гвинт цил.гол.вн.ш.БП ГОСТ 11738",192,"кг",153.60000000000002,"кг"]
[null,"                ВВШ М6х20 кл.м.8.8 Гвинт цил.гол.вн.ш.ЦБ DIN 912 (Укр)",192,"кг",153.60000000000002,"кг"]
[null,"                ВВШ М6х20 кл.м.8.8 Гвинт цил.гол.вн.ш.ЦБ ГОСТ 11738",192,"кг",153.60000000000002,"кг"]
[null,"                ВВШ М6х25 Гвинт цил.гол.вн.ш.ЦБ DIN 912",180,100,144,100]
[null,"                ВВШ М6х25 кл.м.12.9 Гвинт цил.гол.вн.шг.БП DIN 912",480,100,384,100]
[null,"                ВВШ М6х25 кл.м.12.9 Гвинт цил.гол.вн.шг.БП DIN 912",480,100,384,100]
[null,"                ВВШ М6х25 кл.м.8.8 Гвинт цил.гол.вн.ш.ЦБ DIN 912 (Укр)",192,"кг",153.60000000000002,"кг"]
[null,"                ВВШ М6х30 кл.м.12.9 Гвинт цил.гол.вн.шг.БП DIN 912",540,100,432,100]
[null,"                ВВШ М6х30 кл.м.8.8 Гвинт цил.гол.вн.ш.ЦБ ГОСТ 11738",192,"кг",153.60000000000002,"кг"]
[null,"                ВВШ М6х35 кл.м.12.9 Гвинт цил.гол.вн.шг.БП DIN 912",600,100,480,100]
[null,"                ВВШ М6х35 кл.м.12.9 Гвинт цил.гол.вн.шг.БП DIN 912",600,100,480,100]
[null,"                ВВШ М6х35 кл.м.8.8 Гвинт цил.гол.вн.ш.ЦБ DIN 912 (Укр)",192,"кг",153.60000000000002,"кг"]
[null,"                ВВШ М6х35 кл.м.8.8 Гвинт цил.гол.вн.ш.ЦБ ГОСТ 11738",192,"кг",153.60000000000002,"кг"]
[null,"                ВВШ М6х40 кл.м.8.8 Гвинт цил.гол.вн.ш.ЦБ DIN 912",192,"кг",153.60000000000002,"кг"]
[null,"                ВВШ М6х40 кл.м.8.8 Гвинт цил.гол.вн.шг.ЦБ DIN 912",276,100,220.8,100]
[null,"                ВВШ М6х40 кл.м.8.8 Гвинт цил.гол.вн.шг.ЦБ DIN 912",276,100,220.8,100]
[null,"                ВВШ М6х50 кл.м.12.9 Гвинт цил.гол.вн.шг.БП DIN 912",720,100,576,100]
[null,"                ВВШ М6х50 кл.м.8.8 Гвинт цил.гол.вн.ш.ЦБ ГОСТ 11738",192,"кг",153.60000000000002,"кг"]
[null,"                ВВШ М6х55 кл.м.8.8 Гвинт цил.гол.вн.ш.ЦБ ГОСТ 11738",192,"кг",153.60000000000002,"кг"]
[null,"                ВВШ М6х55 кл.м.8.8 Гвинт цил.гол.вн.ш.ЦЖ ГОСТ 11738",192,"кг",153.60000000000002,"кг"]
[null,"                ВВШ М6х60 кл.м.12.9 Гвинт цил.гол.вн.шг.БП DIN 912",1020,100,816,100]
[null,"                ВВШ М6х60 кл.м.8.8 Гвинт цил.гол.вн.ш.ЦБ ГОСТ 11738",192,"кг",153.60000000000002,"кг"]
[null,"                ВВШ М6х60 кл.м.8.8 Гвинт цил.гол.вн.шг.ЦБ DIN 912",396,100,316.8,100]
[null,"                ВВШ М6х70 кл.м.10,9 Гвинт цил.гол.вн.ш.ЦБ ГОСТ 11738",300,"кг",240,"кг"]
[null,"                ВВШ М6х70 кл.м.8.8 Гвинт цил.гол.вн.шг.ЦБ DIN 912",456,100,364.8,100]
[null,"                ВВШ М6х70 кл.м.8.8 Гвинт цил.гол.вн.шг.ЦБ DIN 912",456,100,364.8,100]
[null,"                ВВШ М6х80 кл.м.12.9 Гвинт цил.гол.вн.шг.БП DIN 912",1104,100,883.2,100]
[null,"                ВВШ М6х80 кл.м.8.8 Гвинт цил.гол.вн.шг.ЦБ DIN 912",744,100,595.20000000000005,100]
[null,"                ВВШ М8х110 кл.м 12.9 Гвинт цил.гол.вн.шг.БП DIN 912",3984,100,3187.2000000000003,100]
[null,"                ВВШ М8х12 Гвинт цил.гол.вн.ш.БП ГОСТ 11738",192,"кг",153.60000000000002,"кг"]
[null,"                ВВШ М8х12 кл.м.8.8 Гвинт цил.гол.вн.ш.ЦБ ГОСТ 11738",192,"кг",153.60000000000002,"кг"]
[null,"                ВВШ М8х12 кл.м.8.8 Гвинт цил.НИЗ.гол.вн.ш.ЦБ DIN 6912",1416,100,1132.8,100]
[null,"                ВВШ М8х12 кл.м.8.8 Гвинт цил.НИЗ.гол.вн.ш.ЦБ DIN 6912",1416,100,1132.8,100]
[null,"                ВВШ М8х12 кл.м.8.8 Гвинт цил.НИЗ.гол.вн.ш.ЦБ DIN 7984",1416,100,1132.8,100]
[null,"                ВВШ М8х16 кл.м.8.8 Гвинт цил.гол.вн.ш.ЦБ ГОСТ 11738",192,"кг",153.60000000000002,"кг"]
[null,"                ВВШ М8х170 кл.м.10,9 Гвинт цил.гол.вн.ш.БП DIN 912",192,"кг",153.60000000000002,"кг"]
[null,"                ВВШ М8х20 кл.м.12,9 Гвинт цил.гол.вн.ш.БП DIN 912",720,100,576,100]
[null,"                ВВШ М8х20 кл.м.12.9 Гвинт цил.гол.вн.шг.БП DIN 912",720,100,576,100]
[null,"                ВВШ М8х20 кл.м.8.8 Гвинт цил.гол.вн.ш.ЦБ DIN 912",192,"кг",153.60000000000002,"кг"]
[null,"                ВВШ М8х20 кл.м.8.8 Гвинт цил.гол.вн.ш.ЦБ DIN 912 (Укр)",192,"кг",153.60000000000002,"кг"]
[null,"                ВВШ М8х20 кл.м.8.8 Гвинт цил.гол.вн.ш.ЦБ ГОСТ 11738",192,"кг",153.60000000000002,"кг"]
[null,"                ВВШ М8х200 кл.м.8.8 Гвинт цил.гол.вн.ш.БП ГОСТ 11738",192,"кг",153.60000000000002,"кг"]
[null,"                ВВШ М8х200 кл.м.8.8 Гвинт цил.гол.вн.ш.ЦБ ГОСТ 11738",192,"кг",153.60000000000002,"кг"]
[null,"                ВВШ М8х25 кл.м.12.9 Гвинт цил.гол.вн.шг.БП DIN 912",732,100,585.6,100]
[null,"                ВВШ М8х25 кл.м.8.8 Гвинт цил.гол.вн.ш.ЦБ DIN 912 (Укр)",192,"кг",153.60000000000002,"кг"]
[null,"                ВВШ М8х25 кл.м.8.8 Гвинт цил.гол.вн.ш.ЦБ ГОСТ 11738",192,"кг",153.60000000000002,"кг"]
[null,"                ВВШ М8х30 кл.м 12.9 Гвинт цил.гол.вн.шг.БП DIN 912",744,100,595.20000000000005,100]
[null,"                ВВШ М8х30 кл.м 12.9 Гвинт цил.гол.вн.шг.БП DIN 912",744,100,595.20000000000005,100]
[null,"                ВВШ М8х30 кл.м.12,9 Гвинт цил.гол.вн.ш.БП DIN 912",744,100,595.20000000000005,100]
[null,"                ВВШ М8х30 кл.м.12.9 Гвинт цил.гол.вн.шг.БП DIN 912",744,100,595.20000000000005,100]
[null,"                ВВШ М8х30 кл.м.12.9 Гвинт цил.гол.вн.шг.БП DIN 912",744,100,595.20000000000005,100]
[null,"                ВВШ М8х30 кл.м.8.8 Гвинт цил.гол.вн.ш.ЦБ DIN 912 (Укр)",192,"кг",153.60000000000002,"кг"]
[null,"                ВВШ М8х30 кл.м.8.8 Гвинт цил.гол.вн.ш.ЦБ ГОСТ 11738",192,"кг",153.60000000000002,"кг"]
[null,"                ВВШ М8х30 кл.м.8.8 Гвинт цил.гол.вн.шг.ЦБ DIN 912",324,100,259.2,100]
[null,"                ВВШ М8х35 кл.м.8.8 Гвинт цил.гол.вн.ш.ЦБ DIN 912",192,"кг",153.60000000000002,"кг"]
[null,"                ВВШ М8х35 кл.м.8.8 Гвинт цил.гол.вн.ш.ЦБ ГОСТ 11738",192,"кг",153.60000000000002,"кг"]
[null,"                ВВШ М8х40 кл.м.8.8 Гвинт цил.гол.вн.ш.ЦБ ГОСТ 11738",192,"кг",153.60000000000002,"кг"]
[null,"                ВВШ М8х40 кл.м.8.8 Гвинт цил.гол.вн.шг.ЦБ DIN 912",408,100,326.40000000000003,100]
[null,"                ВВШ М8х45 кл.м.8.8 Гвинт цил.гол.вн.ш.ЦБ ГОСТ 11738",192,"кг",153.60000000000002,"кг"]
[null,"                ВВШ М8х45 кл.м.8.8 Гвинт цил.гол.вн.ш.ЦБ ГОСТ 11738",192,"кг",153.60000000000002,"кг"]
[null,"                ВВШ М8х50 Гвинт цил.гол.вн.ш.БП ГОСТ 11738",192,"кг",153.60000000000002,"кг"]
[null,"                ВВШ М8х50 кл.м.12,9 Гвинт цил.гол.вн.ш.БП DIN 912",1284,100,1027.2,100]
[null,"                ВВШ М8х50 кл.м.8.8 Гвинт цил.гол.вн.ш.БП ГОСТ 11738",192,"кг",153.60000000000002,"кг"]
[null,"                ВВШ М8х50 кл.м.8.8 Гвинт цил.гол.вн.ш.ЦБ DIN 912 (Укр)",192,"кг",153.60000000000002,"кг"]
[null,"                ВВШ М8х50 кл.м.8.8 Гвинт цил.гол.вн.шг.ЦБ DIN 912",480,100,384,100]
[null,"                ВВШ М8х55 кл.м.8.8 Гвинт цил.гол.вн.ш.ЦБ ГОСТ 11738",192,"кг",153.60000000000002,"кг"]
[null,"                ВВШ М8х60 кл.м.8.8 Гвинт цил.гол.вн.ш.ЦБ DIN 912 (Укр)",192,"кг",153.60000000000002,"кг"]
[null,"                ВВШ М8х60 кл.м.8.8 Гвинт цил.гол.вн.ш.ЦБ ГОСТ 11738",192,"кг",153.60000000000002,"кг"]
[null,"                ВВШ М8х70 кл.м.12,9 Гвинт цил.гол.вн.ш.БП DIN 912",288,"кг",230.4,"кг"]
[null,"                ВВШ М8х70 кл.м.8.8 Гвинт цил.гол.вн.шг.ЦБ DIN 912",720,100,576,100]
[null,"                ВВШ М8х75 кл.м.8.8 Гвинт цил.гол.вн.ш.ЦБ ГОСТ 11738",192,"кг",153.60000000000002,"кг"]
[null,"                ВВШ М8х80 кл.м.12.9 Гвинт цил.гол.вн.шг.БП DIN 912",1800,100,1440,100]
[null,"                ВВШ М8х80 кл.м.8.8 Гвинт цил.гол.вн.ш.ЦБ ГОСТ 11738",192,"кг",153.60000000000002,"кг"]
[null,"                ВВШ М8х80 кл.м.8.8 Гвинт цил.гол.вн.шг.ЦБ DIN 912",1152,100,921.6,100]
[null,"                ВВША М10х30 Гвинт цил.гол.вн.ш.А2 DIN 912",1920,100,1536,100]
[null,"                ВВША М10х50 Гвинт цил.гол.вн.ш.А2 DIN 912",2160,100,1728,100]
[null,"                ВВША М4х12 Гвинт цил.гол.вн.ш.А2 DIN 912",276,100,220.8,100]
[null,"                ВВША М4х16 Гвинт цил.гол.вн.ш.А2 DIN 912",312,100,249.60000000000002,100]
[null,"                ВВША М5х12 Гвинт цил.гол.вн.ш.А2 DIN 912",408,100,326.40000000000003,100]
[null,"                ВВША М5х20 Гвинт цил.гол.вн.ш.А2 DIN 912",480,100,384,100]
[null,"                ВВША М6х16 Гвинт цил.гол.вн.ш.А2 DIN 912",552,100,441.6,100]
[null,"                ВВША М6х25 Гвинт цил.гол.вн.ш.А2 DIN 912",624,100,499.20000000000005,100]
[null,"                ВВША М6х25 Гвинт цил.гол.вн.ш.А2 DIN 912",624,100,499.20000000000005,100]
[null,"                ВВША М6х25 Гвинт цил.гол.вн.ш.А2 DIN 912 ",624,100,499.20000000000005,100]
[null,"                ВВША М8х16 Гвинт цил.гол.вн.ш.А2 DIN 912",816,100,652.80000000000007,100]
[null,"                ВВША М8х20 Гвинт цил.гол.вн.ш.А2 DIN 912",1080,100,864,100]
[null,"            ВПВШ   DIN 7991","","","",""]
[null,"                ВПВШ М10х16 Гвинт пот.гол.вн.ш.А2 DIN 7991",960,100,768,100]
[null,"                ВПВШ М10х16 Гвинт пот.гол.вн.ш.ЦБ DIN 7991",726,100,580.80000000000007,100]
[null,"                ВПВШ М10х20 Гвинт пот.гол.вн.ш.А2 DIN 7991",1200,100,960,100]
[null,"                ВПВШ М10х40 Гвинт пот.гол.вн.ш.А2 DIN 7991",1680,100,1344,100]
[null,"                ВПВШ М10х40 кл.м.10,9 Гвинт пот.гол.вн.ш.ЦБ DIN 7991",960,100,768,100]
[null,"                ВПВШ М10х60 кл.м.10,9 Гвинт пот.гол.вн.ш.БП DIN 7991",1248,100,998.40000000000009,100]
[null,"                ВПВШ М10х60 кл.м.10,9 Гвинт пот.гол.вн.ш.ЦБ DIN 7991",1248,100,998.40000000000009,100]
[null,"                ВПВШ М10х90 кл.м.10,9 Гвинт пот.гол.вн.ш.БП DIN 7991",1920,100,1536,100]
[null,"                ВПВШ М10х90 кл.м.10,9 Гвинт пот.гол.вн.ш.БП DIN 7991",1920,100,1536,100]
[null,"                ВПВШ М10х90 кл.м.10,9 Гвинт пот.гол.вн.ш.ЦБ DIN 7991",1920,100,1536,100]
[null,"                ВПВШ М12х30 кл.м.10,9 Гвинт пот.гол.вн.ш.БП DIN 7991",1080,100,864,100]
[null,"                ВПВШ М12х30 кл.м.10,9 Гвинт пот.гол.вн.ш.БП DIN 7991",1080,100,864,100]
[null,"                ВПВШ М12х30 кл.м.10,9 Гвинт пот.гол.вн.ш.ЦБ DIN 7991",1080,100,864,100]
[null,"                ВПВШ М12х35 кл.м.10,9 Гвинт пот.гол.вн.ш.ЦБ DIN 7991",1200,100,960,100]
[null,"                ВПВШ М12х40 кл.м.10,9 Гвинт пот.гол.вн.ш.БП DIN 7991",1260,100,1008,100]
[null,"                ВПВШ М12х90 кл.м.10,9 Гвинт пот.гол.вн.ш.ЦБ DIN 7991",2400,100,1920,100]
[null,"                ВПВШ М16х120 кл.м.10,9 Гвинт пот.гол.вн.ш.БП DIN 7991",3759.6239999999998,100,3007.6992,100]
[null,"                ВПВШ М16х60 кл.м.10,9 Гвинт пот.гол.вн.ш.БП DIN 7991",2520,100,2016,100]
[null,"                ВПВШ М20х60 кл.м.10,9 Гвинт пот.гол.вн.ш.БП DIN 7991",9000,100,7200,100]
[null,"                ВПВШ М3х12 кл.м.10,9 Гвинт пот.гол.вн.ш.ЦБ DIN 7991",48,100,38.400000000000006,100]
[null,"                ВПВШ М4х16 кл.м.10,9 Гвинт пот.гол.вн.ш.БП DIN 7991",85.2,100,68.160000000000011,100]
[null,"                ВПВШ М4х16 кл.м.12,9 Гвинт пот.гол.вн.ш.БП DIN 7991",144,100,115.2,100]
[null,"                ВПВШ М4х20 кл.м.8,8 Гвинт пот.гол.вн.ш.ЦБ DIN 7991",102,100,81.600000000000009,100]
[null,"                ВПВШ М4х30 кл.м.8,8 Гвинт пот.гол.вн.ш.ЦБ DIN 7991",120,100,96,100]
[null,"                ВПВШ М5х10 кл.м.12,9 Гвинт пот.гол.вн.ш.БП DIN 7991",180,100,144,100]
[null,"                ВПВШ М5х20 кл.м.8,8 Гвинт пот.гол.вн.ш.ЦБ DIN 7991",144,100,115.2,100]
[null,"                ВПВШ М5х30 кл.м.8,8 Гвинт пот.гол.вн.ш.ЦБ DIN 7991",204,100,163.20000000000002,100]
[null,"                ВПВШ М6х12 кл.м.8,8 Гвинт пот.гол.вн.ш.ЦБ DIN 7991",108,100,86.4,100]
[null,"                ВПВШ М6х20 кл.м.12,9 Гвинт пот.гол.вн.ш.БП DIN 7991",360,100,288,100]
[null,"                ВПВШ М6х20 кл.м.8,8 Гвинт пот.гол.вн.ш.ЦБ DIN 7991",180,100,144,100]
[null,"                ВПВШ М6х30 кл.м.10,9 Гвинт пот.гол.вн.ш.БП DIN 7991",216,100,172.8,100]
[null,"                ВПВШ М8х12 кл.м.10,9 Гвинт пот.гол.вн.ш.ЦБ DIN 7991",420,100,336,100]
[null,"                ВПВШ М8х12 кл.м.10,9 Гвинт пот.гол.вн.ш.ЦБ DIN 7991",420,100,336,100]
[null,"                ВПВШ М8х20 кл.м.10,9 Гвинт пот.гол.вн.ш.ЦБ DIN 7991",516,100,412.8,100]
[null,"                ВПВШ М8х30 кл.м.10,9 Гвинт пот.гол.вн.ш.БП DIN 7991",540,100,432,100]
[null,"                ВПВШ М8х30 кл.м.10,9 Гвинт пот.гол.вн.ш.ЦБ DIN 7991",540,100,432,100]
[null,"                ВПВШ М8х40 кл.м.10,9 Гвинт пот.гол.вн.ш.БП DIN 7991",636,100,508.8,100]
[null,"                ВПВШ М8х40 кл.м.10,9 Гвинт пот.гол.вн.ш.ЦБ DIN 7991",636,100,508.8,100]
[null,"                ВПВШ М8х50 кл.м.10,9 Гвинт пот.гол.вн.ш.ЦБ DIN 7991",684,100,547.20000000000005,100]
[null,"            ВПГ   ГОСТ 17473","","","",""]
[null,"                ВПГ М1,6х12 Гвинт пкр.гол.ЦБ ГОСТ 17473",300,"кг",240,"кг"]
[null,"                ВПГ М10х20 Гвинт пкр.гол.ЦБ ГОСТ 17473",300,"кг",240,"кг"]
[null,"                ВПГ М10х30 Гвинт пкр.гол.ЦБ ГОСТ 17473",300,"кг",240,"кг"]
[null,"                ВПГ М2,5х10 Гвинт пкр.гол.ЦБ ГОСТ 17473",300,"кг",240,"кг"]
[null,"                ВПГ М2,5х10 Гвинт пкр.гол.ЦЖ ГОСТ 17473",300,"кг",240,"кг"]
[null,"                ВПГ М2,5х12 Гвинт пкр.гол.ЦБ ГОСТ 17473",300,"кг",240,"кг"]
[null,"                ВПГ М2,5х12 Гвинт пкр.гол.ЦЖ ГОСТ 17473",300,"кг",240,"кг"]
[null,"                ВПГ М2,5х16 Гвинт пкр.гол.ЦБ ГОСТ 17473",300,"кг",240,"кг"]
[null,"                ВПГ М2,5х16 Гвинт пкр.гол.ЦЖ ГОСТ 17473",300,"кг",240,"кг"]
[null,"                ВПГ М2,5х20 Гвинт пкр.гол.ЦБ ГОСТ 17473",300,"кг",240,"кг"]
[null,"                ВПГ М2,5х5 Гвинт пкр.гол.ЦБ ГОСТ 17473",300,"кг",240,"кг"]
[null,"                ВПГ М2,5х6 Гвинт пкр.гол.ЦБ ГОСТ 17473",300,"кг",240,"кг"]
[null,"                ВПГ М2,5х6 Гвинт пкр.гол.ЦЖ ГОСТ 17473",300,"кг",240,"кг"]
[null,"                ВПГ М2,5х8 Гвинт пкр.гол.ЦБ ГОСТ 17473",300,"кг",240,"кг"]
[null,"                ВПГ М2,5х8 Гвинт пкр.гол.ЦЖ ГОСТ 17473",300,"кг",240,"кг"]
[null,"                ВПГ М2х12 Гвинт пкр.гол.ЦЖ ГОСТ 17473",300,"кг",240,"кг"]
[null,"                ВПГ М3х10 Гвинт пкр.гол.ЦБ ГОСТ 17473",192,"кг",153.60000000000002,"кг"]
[null,"                ВПГ М3х16 Гвинт пкр.гол.ЦБ ГОСТ 17473",192,"кг",153.60000000000002,"кг"]
[null,"                ВПГ М3х18 Гвинт пкр.гол.ЦБ ГОСТ 17473",192,"кг",153.60000000000002,"кг"]
[null,"                ВПГ М3х20 Гвинт пкр.гол.ЦБ ГОСТ 17473 часткова різьба",192,"кг",153.60000000000002,"кг"]
[null,"                ВПГ М3х25 Гвинт пкр.гол.ЦБ ГОСТ 17473",192,"кг",153.60000000000002,"кг"]
[null,"                ВПГ М3х30 Гвинт пкр.гол.ЦБ ГОСТ 17473",192,"кг",153.60000000000002,"кг"]
[null,"                ВПГ М3х32 Гвинт пкр.гол.ЦБ ГОСТ 17473",192,"кг",153.60000000000002,"кг"]
[null,"                ВПГ М3х35 Гвинт пкр.гол.ЦБ ГОСТ 17473",192,"кг",153.60000000000002,"кг"]
[null,"                ВПГ М3х4 Гвинт пкр.гол.ЦБ ГОСТ 17473",192,"кг",153.60000000000002,"кг"]
[null,"                ВПГ М3х40 Гвинт пкр.гол.ЦБ ГОСТ 17473",192,"кг",153.60000000000002,"кг"]
[null,"                ВПГ М3х45 Гвинт пкр.гол.ЦБ ГОСТ 17473",192,"кг",153.60000000000002,"кг"]
[null,"                ВПГ М3х50 Гвинт пкр.гол.ЦБ ГОСТ 17473",192,"кг",153.60000000000002,"кг"]
[null,"                ВПГ М3х8 Гвинт пкр.гол.ЦБ ГОСТ 17473",192,"кг",153.60000000000002,"кг"]
[null,"                ВПГ М3х8 Гвинт пкр.гол.ЦЖ ГОСТ 17473",192,"кг",153.60000000000002,"кг"]
[null,"                ВПГ М4х10 Гвинт пкр.гол.ЦБ ГОСТ 17473",150,"кг",120,"кг"]
[null,"                ВПГ М4х14 Гвинт пкр.гол.ЦБ ГОСТ 17473",150,"кг",120,"кг"]
[null,"                ВПГ М4х14 Гвинт пкр.гол.ЦЖ ГОСТ 17473",150,"кг",120,"кг"]
[null,"                ВПГ М4х16 Гвинт пкр.гол.ЦБ ГОСТ 17473",150,"кг",120,"кг"]
[null,"                ВПГ М4х22 Гвинт пкр.гол.ЦБ ГОСТ 17473",150,"кг",120,"кг"]
[null,"                ВПГ М4х25 Гвинт пкр.гол.ЦБ ГОСТ 17473",150,"кг",120,"кг"]
[null,"                ВПГ М4х30 Гвинт пкр.гол.ЦБ ГОСТ 17473",150,"кг",120,"кг"]
[null,"                ВПГ М4х35 Гвинт пкр.гол.ЦБ ГОСТ 17473 часткова різьба",150,"кг",120,"кг"]
[null,"                ВПГ М4х40 Гвинт пкр.гол.ЦБ ГОСТ 17473",150,"кг",120,"кг"]
[null,"                ВПГ М4х45 Гвинт пкр.гол.ЦБ ГОСТ 17473",150,"кг",120,"кг"]
[null,"                ВПГ М4х50 Гвинт пкр.гол.ЦБ ГОСТ 17473",150,"кг",120,"кг"]
[null,"                ВПГ М4х60 Гвинт пкр.гол.ЦБ ГОСТ 17473",150,"кг",120,"кг"]
[null,"                ВПГ М5х12 Гвинт пкр.гол.ЦБ ГОСТ 17473",150,"кг",120,"кг"]
[null,"                ВПГ М5х14 Гвинт пкр.гол.ЦБ ГОСТ 17473",150,"кг",120,"кг"]
[null,"                ВПГ М5х16 Гвинт пкр.гол.ЦБ ГОСТ 17473",150,"кг",120,"кг"]
[null,"                ВПГ М5х20 Гвинт пкр.гол.ЦБ ГОСТ 17473",150,"кг",120,"кг"]
[null,"                ВПГ М5х25 Гвинт пкр.гол.ЦБ ГОСТ 17473",150,"кг",120,"кг"]
[null,"                ВПГ М5х30 Гвинт пкр.гол.ЦБ ГОСТ 17473",150,"кг",120,"кг"]
[null,"                ВПГ М5х35 Гвинт пкр.гол.ЦБ ГОСТ 17473",150,"кг",120,"кг"]
[null,"                ВПГ М5х40 Гвинт пкр.гол.ЦБ ГОСТ 17473",150,"кг",120,"кг"]
[null,"                ВПГ М5х45 Гвинт пкр.гол.ЦБ ГОСТ 17473",150,"кг",120,"кг"]
[null,"                ВПГ М5х50 Гвинт пкр.гол.ЦБ ГОСТ 17473",150,"кг",120,"кг"]
[null,"                ВПГ М5х6 Гвинт пкр.гол.ЦБ ГОСТ 17473",150,"кг",120,"кг"]
[null,"                ВПГ М5х6 Гвинт пкр.гол.ЦЖ ГОСТ 17473",150,"кг",120,"кг"]
[null,"                ВПГ М5х60 Гвинт пкр.гол.ЦБ ГОСТ 17473",150,"кг",120,"кг"]
[null,"                ВПГ М6х10 Гвинт пкр.гол.ЦБ ГОСТ 17473",150,"кг",120,"кг"]
[null,"                ВПГ М6х10 Гвинт пкр.гол.ЦЖ ГОСТ 17473",150,"кг",120,"кг"]
[null,"                ВПГ М6х12 Гвинт пкр.гол.ЦБ ГОСТ 17473",150,"кг",120,"кг"]
[null,"                ВПГ М6х14 Гвинт пкр.гол.ЦБ ГОСТ 17473",150,"кг",120,"кг"]
[null,"                ВПГ М6х14 Гвинт пкр.гол.ЦЖ ГОСТ 17473",150,"кг",120,"кг"]
[null,"                ВПГ М6х20 Гвинт пкр.гол.ЦБ ГОСТ 17473",150,"кг",120,"кг"]
[null,"                ВПГ М6х25 Гвинт пкр.гол.ЦБ ГОСТ 17473",150,"кг",120,"кг"]
[null,"                ВПГ М6х25 Гвинт пкр.гол.ЦЖ ГОСТ 17473",150,"кг",120,"кг"]
[null,"                ВПГ М6х30 Гвинт пкр.гол.ЦБ ГОСТ 17473",150,"кг",120,"кг"]
[null,"                ВПГ М6х35 Гвинт пкр.гол.ЦБ ГОСТ 17473",150,"кг",120,"кг"]
[null,"                ВПГ М6х40 Гвинт пкр.гол.ЦБ ГОСТ 17473",150,"кг",120,"кг"]
[null,"                ВПГ М6х45 Гвинт пкр.гол.ЦБ ГОСТ 17473",150,"кг",120,"кг"]
[null,"                ВПГ М6х50 Гвинт пкр.гол.ЦБ ГОСТ 17473",150,"кг",120,"кг"]
[null,"                ВПГ М6х50 Гвинт пкр.гол.ЦЖ ГОСТ 17473",150,"кг",120,"кг"]
[null,"                ВПГ М6х55 Гвинт пкр.гол.ЦБ ГОСТ 17473",150,"кг",120,"кг"]
[null,"                ВПГ М6х60 Гвинт пкр.гол.ЦБ ГОСТ 17473",150,"кг",120,"кг"]
[null,"                ВПГ М6х8 Гвинт пкр.гол.ЦБ ГОСТ 17473",150,"кг",120,"кг"]
[null,"                ВПГ М6х80 Гвинт пкр.гол.ЦБ ГОСТ 17473",150,"кг",120,"кг"]
[null,"                ВПГ М8х10 Гвинт пкр.гол.ЦБ ГОСТ 17473",150,"кг",120,"кг"]
[null,"                ВПГ М8х12 Гвинт пкр.гол.ЦБ ГОСТ 17473",150,"кг",120,"кг"]
[null,"                ВПГ М8х16 Гвинт пкр.гол.ЦБ ГОСТ 17473",150,"кг",120,"кг"]
[null,"                ВПГ М8х20 Гвинт пкр.гол.ЦБ ГОСТ 17473",150,"кг",120,"кг"]
[null,"                ВПГ М8х25 Гвинт пкр.гол.ЦБ ГОСТ 17473",150,"кг",120,"кг"]
[null,"                ВПГ М8х30 Гвинт пкр.гол.ЦБ ГОСТ 17473",150,"кг",120,"кг"]
[null,"                ВПГ М8х45 Гвинт пкр.гол.ЦБ ГОСТ 17473",150,"кг",120,"кг"]
[null,"                ВПГ М8х50 Гвинт пкр.гол.ЦБ ГОСТ 17473",150,"кг",120,"кг"]
[null,"                ВПГ М8х60 Гвинт пкр.гол.ЦБ ГОСТ 17473",150,"кг",120,"кг"]
[null,"                ВППГ М5х10 Гвинт п.пот.гол.ЦБ ГОСТ 17474",132,"кг",105.60000000000001,"кг"]
[null,"            ВПК НЕРЖ   DIN 965","","","",""]
[null,"                ВНПК М5х20 Гвинт н/пот.гол.кр.А2 DIN 966",144,100,115.2,100]
[null,"                ВПК М10х20 Гвинт пот.гол.кр.А2 DIN 965",1620,100,1296,100]
[null,"                ВПК М10х25 Гвинт пот.гол.кр.А2 DIN 965",1680,100,1344,100]
[null,"                ВПК М10х30 Гвинт пот.гол.кр.А2 DIN 965",1980,100,1584,100]
[null,"                ВПК М10х50 Гвинт пот.гол.кр.А2 DIN 965",1908,100,1526.4,100]
[null,"                ВПК М4х6 Гвинт пот.гол.кр.А2 DIN 965",105.6,100,84.48,100]
[null,"                ВПК М4х8 Гвинт пот.гол.кр.А2 DIN 965",108,100,86.4,100]
[null,"                ВПК М5х16 Гвинт пот.гол.кр.А2 DIN 965",132,100,105.60000000000001,100]
[null,"                ВПК М5х20 Гвинт пот.гол.кр.А2 DIN 965",156,100,124.80000000000001,100]
[null,"                ВПК М5х30 Гвинт пот.гол.кр.А2 DIN 965",192,100,153.60000000000002,100]
[null,"                ВПК М6х10 Гвинт пот.гол.кр.А2 DIN 965",156,100,124.80000000000001,100]
[null,"                ВПК М6х10 Гвинт пот.гол.кр.А2 DIN 965",156,100,124.80000000000001,100]
[null,"                ВПК М6х12 Гвинт пот.гол.кр.А2 DIN 965",168,100,134.4,100]
[null,"                ВПК М6х14 Гвинт пот.гол.кр.А2 DIN 965",192,100,153.60000000000002,100]
[null,"                ВПК М6х16 Гвинт пот.гол.кр.А2 DIN 965",204,100,163.20000000000002,100]
[null,"                ВПК М6х20 Гвинт пот.гол.кр.А2 DIN 965",228,100,182.4,100]
[null,"                ВПК М6х25 Гвинт пот.гол.кр.А2 DIN 965",276,100,220.8,100]
[null,"                ВПК М8х12 Гвинт пот.гол.кр.А2 DIN 965",390,100,312,100]
[null,"                ВПК М8х12 Гвинт пот.гол.кр.А2 DIN 965",390,100,312,100]
[null,"                ВПК М8х16 Гвинт пот.гол.кр.А2 DIN 965",456,100,364.8,100]
[null,"                ВПК М8х20 Гвинт пот.гол.кр.А2 DIN 965",528,100,422.40000000000003,100]
[null,"                ВПК М8х25 Гвинт пот.гол.кр.А2 DIN 965",594,100,475.20000000000005,100]
[null,"                ВПК М8х30 Гвинт пот.гол.кр.А2 DIN 965",612,100,489.6,100]
[null,"            ВПКК  НЕРЖ   DIN 7985","","","",""]
[null,"                ВПКК М3х10 Гвинт цил.закр.гол.кр.А2 DIN 7985",72,100,57.6,100]
[null,"                ВПКК М4х10 Гвинт цил.закр.гол.кр.А2 DIN 7985",114,100,91.2,100]
[null,"                ВПКК М4х12 Гвинт цил.закр.гол.кр.А2 DIN 7985",118.8,100,95.04,100]
[null,"                ВПКК М4х16 Гвинт цил.закр.гол.кр.А2 DIN 7985",126,100,100.80000000000001,100]
[null,"                ВПКК М4х20 Гвинт цил.закр.гол.кр.А2 DIN 7985",132,100,105.60000000000001,100]
[null,"                ВПКК М4х35 Гвинт цил.закр.гол.хр.А2 DIN 7985",144,100,115.2,100]
[null,"                ВПКК М4х40 Гвинт цил.закр.гол.хр.А2 DIN 7985",150,100,120,100]
[null,"                ВПКК М4х6 Гвинт цил.закр.гол.кр.А2 DIN 7985",105.6,100,84.48,100]
[null,"                ВПКК М4х6 Гвинт цил.закр.гол.кр.А2 DIN 7985",105.6,100,84.48,100]
[null,"                ВПКК М4х8 Гвинт цил.закр.гол.кр.А2 DIN 7985",108,100,86.4,100]
[null,"                ВПКК М5х10 Гвинт цил.закр.гол.хр.А2 DIN 7985",180,100,144,100]
[null,"                ВПКК М5х12 Гвинт цил.закр.гол.хр.А2 DIN 7985",192,100,153.60000000000002,100]
[null,"                ВПКК М5х16 Гвинт цил.закр.гол.кр.А2 DIN 7985",216,100,172.8,100]
[null,"                ВПКК М5х20 Гвинт цил.закр.гол.кр.А2 DIN 7985",228,100,182.4,100]
[null,"                ВПКК М5х8 Гвинт цил.закр.гол.кр.А2 DIN 7985",150,100,120,100]
[null,"                ВПКК М6х10 Гвинт цил.закр.гол.хр.А2 DIN 7985",270,100,216,100]
[null,"                ВПКК М6х16 Гвинт цил.закр.гол.кр.А2 DIN 7985",288,100,230.4,100]
[null,"                ВПКК М6х20 Гвинт цил.закр.гол.кр.А2 DIN 7985",300,100,240,100]
[null,"                ВПКК М8х12 Гвинт цил.закр.гол.кр.А2 DIN 7985",540,100,432,100]
[null,"                ВПКК М8х16 Гвинт цил.закр.гол.кр.А2 DIN 7985",684,100,547.20000000000005,100]
[null,"                ВПКК М8х20 Гвинт цил.закр.гол.кр.А2 DIN 7985",708,100,566.4,100]
[null,"            ВПП   ГОСТ 17475","","","",""]
[null,"                ВПП М2,5х8 Гвинт з прямим шлiцем пот.гол.ЦЖ ГОСТ 17475",132,"кг",105.60000000000001,"кг"]
[null,"                ВПП М3х10 Гвинт з прямим шліцем пот.гол.ЦБ ГОСТ 17475",132,"кг",105.60000000000001,"кг"]
[null,"                ВПП М3х12 Винт с прямым шлицом пот.гол.ЦБ ГОСТ 17475",132,"кг",105.60000000000001,"кг"]
[null,"                ВПП М3х16 Винт с прямым шлицом пот.гол.ЦБ ГОСТ 17475",132,"кг",105.60000000000001,"кг"]
[null,"                ВПП М3х22 Винт с прямым шлицом пот.гол.ЦБ ГОСТ 17475",132,"кг",105.60000000000001,"кг"]
[null,"                ВПП М4х12 Гвинт з прямим шліцем пот.гол.ЦЖ ГОСТ 17475",132,"кг",105.60000000000001,"кг"]
[null,"                ВПП М4х14 Гвинт з прямим шліцем пот.гол. ГОСТ 17475 ЦБ",132,"кг",105.60000000000001,"кг"]
[null,"                ВПП М4х20 Гвинт з прямим шліцем пот.гол.ЦЖ ГОСТ 17475",132,"кг",105.60000000000001,"кг"]
[null,"                ВПП М4х8 Винт с прямым шлицом пот.гол.ЦЖ ГОСТ 17475",132,"кг",105.60000000000001,"кг"]
[null,"                ВПП М5х10 Винт с прямым шлицом пот.гол.ЦБ ГОСТ 17475",132,"кг",105.60000000000001,"кг"]
[null,"                ВПП М5х16 Винт с прямым шлицом пот.гол.ЦЖ ГОСТ 17475",132,"кг",105.60000000000001,"кг"]
[null,"                ВПП М5х20 Винт с прямым шлицом пот.гол.БП ГОСТ 17475",132,"кг",105.60000000000001,"кг"]
[null,"                ВПП М6х30 Винт с прямым шлицом пот.гол.ЦБ ГОСТ 17475",132,"кг",105.60000000000001,"кг"]
[null,"                ВПП М8х16 Гвинт з прямим шлiцем пот.гол.ЦБ ГОСТ 17475",132,"кг",105.60000000000001,"кг"]
[null,"                ВПП М8х18 Гвинт з прямим шлiцем пот.гол.ЦБ ГОСТ 17475",132,"кг",105.60000000000001,"кг"]
[null,"                ВПП М8х22 Гвинт з прямим шлiцем пот.гол.ЦБ ГОСТ 17475",132,"кг",105.60000000000001,"кг"]
[null,"                ВПП М8х30 Гвинт з прямим шлiцем пот.гол.ЦБ ГОСТ 17475",132,"кг",105.60000000000001,"кг"]
[null,"            ВЦИЛ   ГОСТ 1491","","","",""]
[null,"                ВЦИЛ М3х14 Гвинт цил.гол.ЦБ ГОСТ 1491",150,"кг",120,"кг"]
[null,"                ВЦИЛ М5х10 Гвинт цил.гол.БП ГОСТ 1491",150,"кг",120,"кг"]
[null,"                ВЦИЛ М5х10 Гвинт цил.гол.ЦБ ГОСТ 1491",150,"кг",120,"кг"]
[null,"                ВЦИЛ М6х12 Гвинт цил.гол.ЦБ ГОСТ 1491",150,"кг",120,"кг"]
[null,"            ВШК   DIN 7985 / ГОСТ 17473","","","",""]
[null,"                ВШК М2,5х10 Гвинт пкр.гол.хр.ЦБ DIN 7985",360,"кг",288,"кг"]
[null,"                ВШК М3х14 Гвинт пкр.гол.хр.ЦБ DIN 7985 (ЕМ)",288,"кг",230.4,"кг"]
[null,"                ВШК М3х5 Гвинт цил.закр.гол.хр.латунь DIN 7985",240,100,192,100]
[null,"                ВШК М4х10 Гвинт пкр.гол.кр.ЦБ DIN 7985",192,"кг",153.60000000000002,"кг"]
[null,"                ВШК М4х12 Гвинт пкр.гол.кр.ЦБ DIN 7985",192,"кг",153.60000000000002,"кг"]
[null,"                ВШК М4х12 Гвинт пкр.гол.хр.ЦБ ГОСТ 17473",192,"кг",153.60000000000002,"кг"]
[null,"                ВШК М4х16 Гвинт пкр.гол.хр.ЦБ ГОСТ 17473",192,"кг",153.60000000000002,"кг"]
[null,"                ВШК М4х25 Гвинт цил.закр.гол.хр.ЦБ DIN 7985",192,"кг",153.60000000000002,"кг"]
[null,"                ВШК М4х45 Гвинт цил.закр.гол.хр.ЦБ DIN 7985",192,"кг",153.60000000000002,"кг"]
[null,"                ВШК М4х6 Гвинт цил.закр.гол.кр.ЦБ DIN 7985 (ЕМ)",192,"кг",153.60000000000002,"кг"]
[null,"                ВШК М4х60 Гвинт цил.закр.гол.хр.ЦБ DIN 7985",192,"кг",153.60000000000002,"кг"]
[null,"                ВШК М4х70 Гвинт цил.закр.гол.хр.ЦБ DIN 7985",192,"кг",153.60000000000002,"кг"]
[null,"                ВШК М4х8 Гвинт цил.закр.гол.Pz-2 ЦБ DIN 7985",192,"кг",153.60000000000002,"кг"]
[null,"                ВШК М4х8 Гвинт цил.закр.гол.кр.ЦБ ГОСТ 17473 (ЕМ)",192,"кг",153.60000000000002,"кг"]
[null,"                ВШК М5х10  Гвинт пкр.гол.хр.ЦБ DIN 7985",126,"кг",100.80000000000001,"кг"]
[null,"                ВШК М5х10 Гвинт пкр.гол.хр.ЦБ ГОСТ 17473",126,"кг",100.80000000000001,"кг"]
[null,"                ВШК М5х100 Гвинт цил.закр.хр.ЦБ DIN 7985",126,"кг",100.80000000000001,"кг"]
[null,"                ВШК М5х12  Гвинт пкр.гол.хр.ЦБ DIN 7985",126,"кг",100.80000000000001,"кг"]
[null,"                ВШК М5х120 Гвинт цил.закр.хр.ЦБ DIN 7985",126,"кг",100.80000000000001,"кг"]
[null,"                ВШК М5х16 Гвинт пкр.гол.хр.ЦБ DIN 7985",126,"кг",100.80000000000001,"кг"]
[null,"                ВШК М5х20 Гвинт пкр.гол.хр.ЦБ DIN 7985",126,"кг",100.80000000000001,"кг"]
[null,"                ВШК М5х25 Гвинт пкр.гол.хр.ЦБ DIN 7985",126,"кг",100.80000000000001,"кг"]
[null,"                ВШК М5х25 Гвинт пкр.гол.хр.ЦБ ГОСТ 17473",126,"кг",100.80000000000001,"кг"]
[null,"                ВШК М5х30 Гвинт пкр.гол.хр.ЦБ ГОСТ 17473",126,"кг",100.80000000000001,"кг"]
[null,"                ВШК М5х32 Гвинт пкр.гол.хр.ЦБ ГОСТ 17473",126,"кг",100.80000000000001,"кг"]
[null,"                ВШК М5х35 Гвинт пкр.гол.хр.ЦБ ГОСТ 17473",126,"кг",100.80000000000001,"кг"]
[null,"                ВШК М5х50 Гвинт пкр.гол.хр.ЦБ DIN 7985",126,"кг",100.80000000000001,"кг"]
[null,"                ВШК М5х50 Гвинт пкр.гол.хр.ЦБ ГОСТ 17473",126,"кг",100.80000000000001,"кг"]
[null,"                ВШК М5х55 Гвинт пкр.гол.хр.ЦБ ГОСТ 17473",126,"кг",100.80000000000001,"кг"]
[null,"                ВШК М5х60 Гвинт цил.закр.гол.хр.ЦБ DIN 7985",126,"кг",100.80000000000001,"кг"]
[null,"                ВШК М5х70 Гвинт цил.закр.гол.хр.ЦБ DIN 7985",126,"кг",100.80000000000001,"кг"]
[null,"                ВШК М5х8  Гвинт пкр.гол.хр.ЦБ DIN 7985",240,100,192,100]
[null,"                ВШК М5х8  Гвинт пкр.гол.хр.ЦБ DIN 7985",126,"кг",100.80000000000001,"кг"]
[null,"                ВШК М5х80 Гвинт цил.закр.гол.хр.ЦБ DIN 7985",126,"кг",100.80000000000001,"кг"]
[null,"                ВШК М5х90 Гвинт цил.закр.гол.хр.ЦБ DIN 7985",126,"кг",100.80000000000001,"кг"]
[null,"                ВШК М6х10 Гвинт пкр.гол.хр.ЦБ ГОСТ 17473",150,"кг",120,"кг"]
[null,"                ВШК М6х100 Гвинт цил.закр.гол.хр.ЦБ DIN 7985",150,"кг",120,"кг"]
[null,"                ВШК М6х12 Гвинт пкр.гол.хр.ЦБ DIN 7985",150,"кг",120,"кг"]
[null,"                ВШК М6х14 Гвинт пкр.гол.хр.ЦБ ГОСТ 17473",150,"кг",120,"кг"]
[null,"                ВШК М6х16 Гвинт пкр.гол.хр.ЦБ DIN 7985",150,"кг",120,"кг"]
[null,"                ВШК М6х16 Гвинт пкр.гол.хр.ЦБ ГОСТ 17473",150,"кг",120,"кг"]
[null,"                ВШК М6х20 Гвинт пкр.гол.хр.ЦБ ГОСТ 17473",150,"кг",120,"кг"]
[null,"                ВШК М6х40 Гвинт пкр.гол.хр.ЦБ ГОСТ 17473",150,"кг",120,"кг"]
[null,"                ВШК М6х70 Гвинт цил.закр.гол.хр.ЦБ DIN 7985",150,"кг",120,"кг"]
[null,"                ВШК М6х80 Гвинт цил.закр.гол.хр.ЦБ DIN 7985",150,"кг",120,"кг"]
[null,"                ВШК М8х100 Гвинт цил.закр.гол.хр.ЦБ DIN 7985",150,"кг",120,"кг"]
[null,"                ВШК М8х16 Гвинт цил.закр.гол.хр.ЦБ DIN 7985",150,"кг",120,"кг"]
[null,"                ВШК М8х20 Гвинт цил.закр.гол.хр.ЦБ DIN 7985",150,"кг",120,"кг"]
[null,"                ВШК М8х30 Гвинт цил.закр.гол.хр.ЦБ DIN 7985",150,"кг",120,"кг"]
[null,"                ВШК М8х35 Гвинт пкр.гол.хр.ЦБ ГОСТ 17473",150,"кг",120,"кг"]
[null,"                ВШК М8х35 Гвинт цил.закр.гол.хр.ЦБ DIN 7985",150,"кг",120,"кг"]
[null,"                ВШК М8х40 Гвинт цил.закр.гол.хр.ЦБ DIN 7985",150,"кг",120,"кг"]
[null,"                ВШК М8х50 Гвинт цил.закр.гол.хр.ЦБ DIN 7985",150,"кг",120,"кг"]
[null,"                ВШК М8х60 Гвинт цил.закр.гол.хр.ЦБ DIN 7985",150,"кг",120,"кг"]
[null,"            ВШКП   ГОСТ 17475","","","",""]
[null,"                ВШКП М1.6х5 Гвинт пот.гол.хр.БП ГОСТ 17475",360,"кг",288,"кг"]
[null,"                ВШКП М10х20 Гвинт пот.гол.хр.ЦБ ГОСТ 17475",132,"кг",105.60000000000001,"кг"]
[null,"                ВШКП М10х25 Гвинт пот.гол.хр.ЦБ ГОСТ 17475",132,"кг",105.60000000000001,"кг"]
[null,"                ВШКП М10х30 Гвинт пот.гол.хр.ЦБ ГОСТ 17475",132,"кг",105.60000000000001,"кг"]
[null,"                ВШКП М10х35 Гвинт пот.гол.хр.ЦБ ГОСТ 17475",132,"кг",105.60000000000001,"кг"]
[null,"                ВШКП М10х40 Гвинт пот.гол.хр.ЦБ ГОСТ 17475",132,"кг",105.60000000000001,"кг"]
[null,"                ВШКП М10х50 Гвинт пот.гол.хр.ЦБ ГОСТ 17475",132,"кг",105.60000000000001,"кг"]
[null,"                ВШКП М10х60 Гвинт пот.гол.хр.ЦБ ГОСТ 17475",132,"кг",105.60000000000001,"кг"]
[null,"                ВШКП М10х70 Гвинт пот.гол.хр.ЦБ ГОСТ 17475",132,"кг",105.60000000000001,"кг"]
[null,"                ВШКП М10х80 Гвинт пот.гол.хр.ЦБ ГОСТ 17475",132,"кг",105.60000000000001,"кг"]
[null,"                ВШКП М2.5х10 Гвинт пот.гол.хр.ЦБ ГОСТ 17475",360,"кг",288,"кг"]
[null,"                ВШКП М2.5х12 Гвинт пот.гол.хр.ЦБ ГОСТ 17475",360,"кг",288,"кг"]
[null,"                ВШКП М2.5х16 Гвинт пот.гол.хр.ЦБ ГОСТ 17475",360,"кг",288,"кг"]
[null,"                ВШКП М2.5х5 Гвинт пот.гол.хр.ЦБ ГОСТ 17475",360,"кг",288,"кг"]
[null,"                ВШКП М2.5х6 Гвинт пот.гол.хр.ЦБ ГОСТ 17475",360,"кг",288,"кг"]
[null,"                ВШКП М3х10 Гвинт пот.гол.хр.ЦБ ГОСТ 17475 (ЭМ)",288,"кг",230.4,"кг"]
[null,"                ВШКП М3х12 Гвинт пот.гол.хр.ЦБ ГОСТ 17475",288,"кг",230.4,"кг"]
[null,"                ВШКП М3х14 Гвинт пот.гол.хр.ЦБ ГОСТ 17475",288,"кг",230.4,"кг"]
[null,"                ВШКП М3х18 Гвинт пот.гол.хр.ЦБ ГОСТ 17475",288,"кг",230.4,"кг"]
[null,"                ВШКП М3х20 Гвинт пот.гол.хр.ЦБ ГОСТ 17475",288,"кг",230.4,"кг"]
[null,"                ВШКП М3х25 Гвинт пот.гол.хр.ЦБ ГОСТ 17475",288,"кг",230.4,"кг"]
[null,"                ВШКП М3х30 Гвинт пот.гол.хр.ЦБ ГОСТ 17475",288,"кг",230.4,"кг"]
[null,"                ВШКП М3х40 Гвинт пот.гол.хр.ЦБ ГОСТ 17475",288,"кг",230.4,"кг"]
[null,"                ВШКП М3х5 Гвинт пот.гол.хр.ЦБ ГОСТ 17475",288,"кг",230.4,"кг"]
[null,"                ВШКП М3х6 Гвинт пот.гол.хр.БП ГОСТ 17475",288,"кг",230.4,"кг"]
[null,"                ВШКП М3х6 Гвинт пот.гол.хр.ЦБ ГОСТ 17475",288,"кг",230.4,"кг"]
[null,"                ВШКП М3х8 Гвинт пот.гол.хр.БП ГОСТ 17475",288,"кг",230.4,"кг"]
[null,"                ВШКП М3х8 Гвинт пот.гол.хр.ЦБ ГОСТ 17475",288,"кг",230.4,"кг"]
[null,"                ВШКП М4х10 Гвинт пот.гол.хр.ЦБ ГОСТ 17475",132,"кг",105.60000000000001,"кг"]
[null,"                ВШКП М4х12 Гвинт пот.гол.хр.ЦБ ГОСТ 17475",132,"кг",105.60000000000001,"кг"]
[null,"                ВШКП М4х14 Гвинт пот.гол.хр.ЦБ ГОСТ 17475",132,"кг",105.60000000000001,"кг"]
[null,"                ВШКП М4х16 Гвинт пот.гол.хр.ЦБ ГОСТ 17475",132,"кг",105.60000000000001,"кг"]
[null,"                ВШКП М4х20 Гвинт пот.гол.хр.ЦБ ГОСТ 17475",132,"кг",105.60000000000001,"кг"]
[null,"                ВШКП М4х25 Гвинт пот.гол.хр.ЦБ ГОСТ 17475",132,"кг",105.60000000000001,"кг"]
[null,"                ВШКП М4х30 Гвинт пот.гол.хр.ЦБ ГОСТ 17475",132,"кг",105.60000000000001,"кг"]
[null,"                ВШКП М4х35 Гвинт пот.гол.хр.ЦБ ГОСТ 17475",132,"кг",105.60000000000001,"кг"]
[null,"                ВШКП М4х40 Гвинт пот.гол.хр.ЦБ ГОСТ 17475",132,"кг",105.60000000000001,"кг"]
[null,"                ВШКП М4х45 Гвинт пот.гол.хр.ЦБ ГОСТ 17475",132,"кг",105.60000000000001,"кг"]
[null,"                ВШКП М4х50 Гвинт пот.гол.хр.ЦБ ГОСТ 17475",132,"кг",105.60000000000001,"кг"]
[null,"                ВШКП М4х60 Гвинт пот.гол.хр.ЦБ ГОСТ 17475",132,"кг",105.60000000000001,"кг"]
[null,"                ВШКП М4х70 Гвинт пот.гол.хр.ЦБ ГОСТ 17475",132,"кг",105.60000000000001,"кг"]
[null,"                ВШКП М4х8 Гвинт пот.гол.хр.ЦБ ГОСТ 17475 (ЭМ)",132,"кг",105.60000000000001,"кг"]
[null,"                ВШКП М4х80 Гвинт пот.гол.хр.ЦБ ГОСТ 17475",132,"кг",105.60000000000001,"кг"]
[null,"                ВШКП М5х10 Гвинт пот.гол.хр.ЦБ ГОСТ 17475",132,"кг",105.60000000000001,"кг"]
[null,"                ВШКП М5х100 Гвинт пот.гол.хр.ЦБ ГОСТ 17475",132,"кг",105.60000000000001,"кг"]
[null,"                ВШКП М5х12 Гвинт пот.гол.хр.ЦБ ГОСТ 17475",132,"кг",105.60000000000001,"кг"]
[null,"                ВШКП М5х120 Гвинт пот.гол.хр.ЦБ ГОСТ 17475",132,"кг",105.60000000000001,"кг"]
[null,"                ВШКП М5х14 Гвинт пот.гол.хр.БП ГОСТ 17475",132,"кг",105.60000000000001,"кг"]
[null,"                ВШКП М5х14 Гвинт пот.гол.хр.ЦБ ГОСТ 17475",132,"кг",105.60000000000001,"кг"]
[null,"                ВШКП М5х16 Гвинт пот.гол.хр.ЦБ ГОСТ 17475",132,"кг",105.60000000000001,"кг"]
[null,"                ВШКП М5х20 Гвинт пот.гол.хр.ЦБ ГОСТ 17475",132,"кг",105.60000000000001,"кг"]
[null,"                ВШКП М5х25 Гвинт пот.гол.хр.ЦБ ГОСТ 17475",132,"кг",105.60000000000001,"кг"]
[null,"                ВШКП М5х30 Гвинт пот.гол.хр. ч/р ЦБ ГОСТ 17475 приржавлен",132,"кг",105.60000000000001,"кг"]
[null,"                ВШКП М5х30 Гвинт пот.гол.хр.ЦБ ГОСТ 17475 ",132,"кг",105.60000000000001,"кг"]
[null,"                ВШКП М5х35 Гвинт пот.гол.хр.ЦБ ГОСТ 17475",132,"кг",105.60000000000001,"кг"]
[null,"                ВШКП М5х40 Гвинт пот.гол.хр.ЦБ ГОСТ 17475",132,"кг",105.60000000000001,"кг"]
[null,"                ВШКП М5х50 Гвинт пот.гол.хр. ч/р ЦБ ГОСТ 17475",132,"кг",105.60000000000001,"кг"]
[null,"                ВШКП М5х50 Гвинт пот.гол.хр.ЦБ ГОСТ 17475",132,"кг",105.60000000000001,"кг"]
[null,"                ВШКП М5х55 Гвинт пот.гол.хр. ч/р ЦБ ГОСТ 17475",132,"кг",105.60000000000001,"кг"]
[null,"                ВШКП М5х60 Гвинт пот.гол.хр. ч/р ЦБ ГОСТ 17475",132,"кг",105.60000000000001,"кг"]
[null,"                ВШКП М5х60 Гвинт пот.гол.хр.ЦБ ГОСТ 17475",132,"кг",105.60000000000001,"кг"]
[null,"                ВШКП М5х70 Гвинт пот.гол.хр.ЦБ ГОСТ 17475",132,"кг",105.60000000000001,"кг"]
[null,"                ВШКП М5х70 Гвинт пот.гол.хр.ЦЖ ГОСТ 17475",132,"кг",105.60000000000001,"кг"]
[null,"                ВШКП М5х75 Гвинт пот.гол.хр.ЦБ ГОСТ 17475",132,"кг",105.60000000000001,"кг"]
[null,"                ВШКП М5х8 Гвинт пот.гол.хр.ЦБ ГОСТ 17475",132,"кг",105.60000000000001,"кг"]
[null,"                ВШКП М5х80 Гвинт пот.гол.хр.ЦБ ГОСТ 17475",132,"кг",105.60000000000001,"кг"]
[null,"                ВШКП М5х90 Гвинт пот.гол.хр.ЦБ ГОСТ 17475",132,"кг",105.60000000000001,"кг"]
[null,"                ВШКП М6х10 Гвинт пот.гол.хр.ЦБ ГОСТ 17475",132,"кг",105.60000000000001,"кг"]
[null,"                ВШКП М6х100 Гвинт пот.гол.хр.ЦБ ГОСТ 17475",132,"кг",105.60000000000001,"кг"]
[null,"                ВШКП М6х12 Гвинт пот.гол.хр.ЦБ ГОСТ 17475",132,"кг",105.60000000000001,"кг"]
[null,"                ВШКП М6х120 Гвинт пот.гол.хр.ЦБ ГОСТ 17475",132,"кг",105.60000000000001,"кг"]
[null,"                ВШКП М6х14 Гвинт пот.гол.хр.ЦБ ГОСТ 17475",132,"кг",105.60000000000001,"кг"]
[null,"                ВШКП М6х140 Гвинт пот.гол.хр.ЦБ ГОСТ 17475",132,"кг",105.60000000000001,"кг"]
[null,"                ВШКП М6х16 Гвинт пот.гол.хр.ЦБ ГОСТ 17475",132,"кг",105.60000000000001,"кг"]
[null,"                ВШКП М6х20 Гвинт пот.гол.хр. п/р ЦБ ГОСТ 17475",132,"кг",105.60000000000001,"кг"]
[null,"                ВШКП М6х25 Гвинт пот.гол.хр. п/р ЦБ ГОСТ 17475",132,"кг",105.60000000000001,"кг"]
[null,"                ВШКП М6х30 Гвинт пот.гол.хр.ЦБ ГОСТ 17475",132,"кг",105.60000000000001,"кг"]
[null,"                ВШКП М6х35 Гвинт пот.гол.хр.ЦБ ГОСТ 17475",132,"кг",105.60000000000001,"кг"]
[null,"                ВШКП М6х40 Гвинт пот.гол.хр. п/р ЦБ ГОСТ 17475",132,"кг",105.60000000000001,"кг"]
[null,"                ВШКП М6х40 Гвинт пот.гол.хр. ч/р ЦБ ГОСТ 17475",132,"кг",105.60000000000001,"кг"]
[null,"                ВШКП М6х45 Гвинт пот.гол.хр.ЦБ ГОСТ 17475",132,"кг",105.60000000000001,"кг"]
[null,"                ВШКП М6х50 Гвинт пот.гол.хр.ЦБ ГОСТ 17475",132,"кг",105.60000000000001,"кг"]
[null,"                ВШКП М6х60 Гвинт пот.гол.хр. п/р ЦБ ГОСТ 17475",132,"кг",105.60000000000001,"кг"]
[null,"                ВШКП М6х70 Гвинт пот.гол.хр.ЦБ ГОСТ 17475",132,"кг",105.60000000000001,"кг"]
[null,"                ВШКП М6х80 Гвинт пот.гол.хр.ЦБ ГОСТ 17475",132,"кг",105.60000000000001,"кг"]
[null,"                ВШКП М6х90 Гвинт пот.гол.хр.ЦБ ГОСТ 17475",132,"кг",105.60000000000001,"кг"]
[null,"                ВШКП М8х100 Гвинт пот.гол.хр.ЦБ ГОСТ 17475",132,"кг",105.60000000000001,"кг"]
[null,"                ВШКП М8х12 Гвинт пот.гол.хр.ЦБ DIN 965",360,100,288,100]
[null,"                ВШКП М8х120 Гвинт пот.гол.хр.ЦБ ГОСТ 17475",132,"кг",105.60000000000001,"кг"]
[null,"                ВШКП М8х16 Гвинт пот.гол.хр.ЦБ ГОСТ 17475",132,"кг",105.60000000000001,"кг"]
[null,"                ВШКП М8х20 Гвинт пот.гол.хр.ЦБ ГОСТ 17475",132,"кг",105.60000000000001,"кг"]
[null,"                ВШКП М8х25 Гвинт пот.гол.хр.ЦБ ГОСТ 17475",132,"кг",105.60000000000001,"кг"]
[null,"                ВШКП М8х30 Гвинт пот.гол.хр.ЦБ ГОСТ 17475",132,"кг",105.60000000000001,"кг"]
[null,"                ВШКП М8х35 Гвинт пот.гол.хр.ЦБ ГОСТ 17475",132,"кг",105.60000000000001,"кг"]
[null,"                ВШКП М8х40 Гвинт пот.гол.хр.ЦБ ГОСТ 17475",132,"кг",105.60000000000001,"кг"]
[null,"                ВШКП М8х50 Гвинт пот.гол.хр.ЦБ ГОСТ 17475",132,"кг",105.60000000000001,"кг"]
[null,"                ВШКП М8х60 Гвинт пот.гол.хр.ЦБ ГОСТ 17475",132,"кг",105.60000000000001,"кг"]
[null,"                ВШКП М8х70 Гвинт пот.гол.хр.ЦБ ГОСТ 17475",132,"кг",105.60000000000001,"кг"]
[null,"                ВШКП М8х80 Гвинт пот.гол.хр.ЦБ ГОСТ 17475",132,"кг",105.60000000000001,"кг"]
[null,"                ВШКП М8х90 Гвинт пот.гол.хр.ЦБ ГОСТ 17475",132,"кг",105.60000000000001,"кг"]
[null,"                ВШКПП М4х6 Гвинт п/пот.гол.хр.ЦБ DIN 7985",132,"кг",105.60000000000001,"кг"]
[null,"            ВШПО меблеві DIN 967 / ГОСТ 11644","","","",""]
[null,"                ВШПО М4х10 ЦБ Гвинт меблевий DIN 967",174,"кг",139.20000000000002,"кг"]
[null,"                ВШПО М4х14 ЦБ Гвинт меблевий DIN 967",174,"кг",139.20000000000002,"кг"]
[null,"                ВШПО М4х16 ЦБ Гвинт меблевий DIN 967",174,"кг",139.20000000000002,"кг"]
[null,"                ВШПО М4х20 ЦБ Гвинт меблевий DIN 967",144,"кг",115.2,"кг"]
[null,"                ВШПО М4х25 ЦБ Гвинт меблевий DIN 967",144,"кг",115.2,"кг"]
[null,"                ВШПО М4х30 ЦБ Гвинт меблевий DIN 967",144,"кг",115.2,"кг"]
[null,"                ВШПО М4х35 ЦБ Гвинт меблевий DIN 967",144,"кг",115.2,"кг"]
[null,"                ВШПО М4х40 ЦБ Гвинт меблевий DIN 967",144,"кг",115.2,"кг"]
[null,"                ВШПО М4х45 ЦБ Гвинт меблевий DIN 967",144,"кг",115.2,"кг"]
[null,"                ВШПО М4х50 ЦБ Гвинт меблевий DIN 967",120,"кг",96,"кг"]
[null,"                ВШПО М4х55 ЦБ Гвинт меблевий DIN 967",120,"кг",96,"кг"]
[null,"                ВШПО М4х60 ЦБ Гвинт меблевий DIN 967",120,"кг",96,"кг"]
[null,"                ВШПО М4х70 ЦБ Гвинт меблевий DIN 967",126,"кг",100.8,"кг"]
[null,"                ВШПО-М5х10 ЦБ Гвинт меблевий DIN 967",162,"кг",129.6,"кг"]
[null,"                ВШПО-М5х12 ЦБ Гвинт меблевий DIN 967",162,"кг",129.6,"кг"]
[null,"                ВШПО-М5х16 ЦБ Гвинт меблевий DIN 967",162,"кг",129.6,"кг"]
[null,"                ВШПО-М5х20 ЦБ Гвинт меблевий DIN 967",162,"кг",129.6,"кг"]
[null,"                ВШПО-М5х23 ЦБ Гвинт меблевий DIN 967",132,"кг",105.60000000000001,"кг"]
[null,"                ВШПО-М5х25 ЦБ Гвинт меблевий DIN 967",132,"кг",105.60000000000001,"кг"]
[null,"                ВШПО-М5х30 ЦБ Гвинт меблевий DIN 967",132,"кг",105.60000000000001,"кг"]
[null,"                ВШПО-М5х35 ЦБ Гвинт меблевий DIN 967 ПРЯМИЙ ШЛІЦ",132,"кг",105.60000000000001,"кг"]
[null,"                ВШПО-М5х40 ЦБ Гвинт меблевий DIN 967",132,"кг",105.60000000000001,"кг"]
[null,"                ВШПО-М5х50 ЦБ Гвинт меблевий DIN 967",132,"кг",105.60000000000001,"кг"]
[null,"                ВШПО-М5х60 ЦБ Гвинт меблевий DIN 967",132,"кг",105.60000000000001,"кг"]
[null,"                ВШПО-М5х70 ЦБ Гвинт меблевий DIN 967",132,"кг",105.60000000000001,"кг"]
[null,"                ВШПО-М5х8 ЦБ Гвинт меблевий DIN 967",162,"кг",129.6,"кг"]
[null,"                ВШПО-М5х80 ЦБ Гвинт меблевий DIN 967",132,"кг",105.60000000000001,"кг"]
[null,"                ВШПО-М6х100 ЦБ Гвинт меблевий DIN 967",120,"кг",96,"кг"]
[null,"                ВШПО-М6х12 ЦБ Гвинт меблевий DIN 967",136.79999999999998,"кг",109.44,"кг"]
[null,"                ВШПО-М6х120 ЦБ Гвинт меблевий DIN 967",120,"кг",96,"кг"]
[null,"                ВШПО-М6х14 ЦБ Гвинт меблевий DIN 967",136.79999999999998,"кг",109.44,"кг"]
[null,"                ВШПО-М6х140 ЦБ Гвинт меблевий DIN 967",120,"кг",96,"кг"]
[null,"                ВШПО-М6х16 ЦБ Гвинт меблевий DIN 967",136.79999999999998,"кг",109.44,"кг"]
[null,"                ВШПО-М6х20 ЦБ Гвинт меблевий DIN 967",121.19999999999999,"кг",96.96,"кг"]
[null,"                ВШПО-М6х25 ЦБ Гвинт меблевий DIN 967",114,"кг",91.2,"кг"]
[null,"                ВШПО-М6х30 ЦБ Гвинт меблевий DIN 967",114,"кг",91.2,"кг"]
[null,"                ВШПО-М6х35 \"RL\" ЦБ Гвинт меблевий DIN 967",114,"кг",91.2,"кг"]
[null,"                ВШПО-М6х40 ЦБ Гвинт меблевий DIN 967",114,"кг",91.2,"кг"]
[null,"                ВШПО-М6х45 ЦБ Гвинт меблевий DIN 967",114,"кг",91.2,"кг"]
[null,"                ВШПО-М6х50 ЦБ Гвинт меблевий DIN 967",114,"кг",91.2,"кг"]
[null,"                ВШПО-М6х60 ЦБ Гвинт меблевий DIN 967",114,"кг",91.2,"кг"]
[null,"                ВШПО-М6х70 ЦБ Гвинт меблевий DIN 967",114,"кг",91.2,"кг"]
[null,"                ВШПО-М6х80 ЦБ Гвинт меблевий DIN 967",114,"кг",91.2,"кг"]
[null,"                ВШПО-М6х90 ЦБ Гвинт меблевий DIN 967",114,"кг",91.2,"кг"]
[null,"                ВШПО-М8х100 \"RL\" ЦБ Гвинт меблевий ГОСТ 11644",114,"кг",91.2,"кг"]
[null,"                ВШПО-М8х100 ЦБ Гвинт меблевий DIN 967",114,"кг",91.2,"кг"]
[null,"                ВШПО-М8х120 \"RL\" ЦБ Гвинт меблевий ГОСТ 11644",114,"кг",91.2,"кг"]
[null,"                ВШПО-М8х120 ЦБ Гвинт меблевий DIN 967",114,"кг",91.2,"кг"]
[null,"                ВШПО-М8х140 \"RL\" ЦБ Гвинт меблевий ГОСТ 11644",114,"кг",91.2,"кг"]
[null,"                ВШПО-М8х160 \"RL\" ЦБ Гвинт меблевий ГОСТ 11644",114,"кг",91.2,"кг"]
[null,"                ВШПО-М8х20 \"RL\" ЦБ Гвинт меблевий Гост 11644",120,"кг",96,"кг"]
[null,"                ВШПО-М8х20 ЦБ Гвинт меблевий DIN 967",120,"кг",96,"кг"]
[null,"                ВШПО-М8х25 ЦБ Гвинт меблевий DIN 967",114,"кг",91.2,"кг"]
[null,"                ВШПО-М8х30 \"RL\" ЦБ Гвинт меблевий ГОСТ 11644",114,"кг",91.2,"кг"]
[null,"                ВШПО-М8х30 ЦБ Гвинт меблевий DIN 967",114,"кг",91.2,"кг"]
[null,"                ВШПО-М8х35 \"RL\" ЦБ Гвинт меблевий ГОСТ 11644",114,"кг",91.2,"кг"]
[null,"                ВШПО-М8х35 ЦБ Гвинт меблевий DIN 967",114,"кг",91.2,"кг"]
[null,"                ВШПО-М8х40 ЦБ Гвинт меблевий DIN 967",114,"кг",91.2,"кг"]
[null,"                ВШПО-М8х45 \"RL\" ЦБ Гвинт меблевий ГОСТ 11644",114,"кг",91.2,"кг"]
[null,"                ВШПО-М8х45 ЦБ Гвинт меблевий DIN 967",114,"кг",91.2,"кг"]
[null,"                ВШПО-М8х50 \"RL\" ЦБ Гвинт меблевий ГОСТ 11644",114,"кг",91.2,"кг"]
[null,"                ВШПО-М8х50 ЦБ Гвинт меблевий DIN 967",114,"кг",91.2,"кг"]
[null,"                ВШПО-М8х60 \"RL\" ЦБ Гвинт меблевий ГОСТ 11644",114,"кг",91.2,"кг"]
[null,"                ВШПО-М8х60 ЦБ Гвинт меблевий DIN 967",114,"кг",91.2,"кг"]
[null,"                ВШПО-М8х70 ЦБ Гвинт меблевий DIN 967",114,"кг",91.2,"кг"]
[null,"                ВШПО-М8х80 ЦБ Гвинт меблевий DIN 967",114,"кг",91.2,"кг"]
[null,"                ВШПО-М8х90 \"RL\" ЦБ Гвинт меблевий ГОСТ 11644",114,"кг",91.2,"кг"]
[null,"            Гвинти установочні DIN 913, DIN 914","","","",""]
[null,"                Гвинт установочний з гострим кінцем DIN914 А2 М4х8",78,100,62.400000000000006,100]
[null,"                Гвинт установочний з гострим кінцем DIN914 А2 М4х8",76.5,100,61.2,100]
[null,"                Гвинт установочний з гострим кінцем DIN914 А2 М6х16",144,100,115.2,100]
[null,"                Гвинт установочний з гострим кінцем DIN914 М10х30 БП",804,100,643.20000000000005,100]
[null,"                Гвинт установочний з гострим кінцем DIN914 М10х30 БП",804,100,643.20000000000005,100]
[null,"                Гвинт установочний з гострим кінцем DIN914 М12х30 БП",1104,100,883.2,100]
[null,"                Гвинт установочний з плоским кінцем DIN913 М12х35 ",1080,100,864,100]
[null,"                Гвинт установочний з плоским кінцем DIN913 М12х40 БП",960,100,768,100]
[null,"                Гвинт установочний з плоским кінцем DIN913 М6х12 БП",66,100,52.800000000000004,100]
[null,"                Гвинт установочний М5х10 ЦБ",192,"кг",153.60000000000002,"кг"]
[null,"                Гвинт установочний М5х19 Lр=16 латунь",360,"кг",288,"кг"]
[null,"        Дюбелі Нейлонові","","","",""]
[null,"            КПК дюбель + шг шуруп","","","",""]
[null,"                КПК-10х100 Розпiрний рамний дюбель (нейлон) з ШУРУПОМ шг.гол.(фас.25) (300 шт/ящ)",608.4,100,486.12,100]
[null,"                КПК-10х115 Розпiрний рамний дюбель (нейлон) з ШУРУПОМ шг.гол.(фас.25) (300 шт/ящ)",678,100,541.79999999999995,100]
[null,"                КПК-10х135 Розпiрний рамний дюбель (нейлон) з ШУРУПОМ шг.гол.(фас.25) (300 шт/ящ)",891.6,100,713.16,100]
[null,"                КПК-10х160 Розпiрний рамний дюбель (нейлон) з ШУРУПОМ шг.гол.(фас.25) (300 шт/ящ)",978,100,781.56,100]
[null,"                КПК-10х180 Розпiрний рамний дюбель (нейлон) з ШУРУПОМ шг.гол.(фас.25) (300 шт/ящ)",1107.5999999999999,100,885.24,100]
[null,"                КПК-10х80 Розпiрний рамний дюбель (нейлон) з ШУРУПОМ шг.гол.(фас.50) (600 шт/ящ)",488.4,100,390,100]
[null,"                КПК-12х100 Розпiрний рамний дюбель (нейлон) з ШУРУПОМ шг.гол.(фас.25) (300 шт/ящ)",716.4,100,572.64,100]
[null,"                КПК-12х120 Розпiрний рамний дюбель (нейлон) з ШУРУПОМ шг.гол.(фас.25) (300 шт/ящ)",849.6,100,678.84,100]
[null,"                КПК-12х140 Розпiрний рамний дюбель (нейлон) з ШУРУПОМ шг.гол.(фас.25) (300 шт/ящ)",1059.5999999999999,100,847.68,100]
[null,"                КПК-12х160 Розпiрний рамний дюбель (нейлон) з ШУРУПОМ шг.гол.(фас.20) (60 шт/ящ)",1170,100,935.4,100]
[null,"                КПК-12х180 Розпiрний рамний дюбель (нейлон) з ШУРУПОМ шг.гол.(фас.20) (60 шт/ящ)",1296,100,1036.2,100]
[null,"                КПК-12х200 Розпiрний рамний дюбель (нейлон) з ШУРУПОМ шг.гол.(фас.20) (60 шт/ящ)",1477.2,100,1181.76,100]
[null,"                КПК-14х100 Розпiрний рамний дюбель (нейлон) з ШУРУПОМ шг.гол.(фас.20) (240 шт/ящ)",1070.3999999999999,100,856.19999999999993,100]
[null,"                КПК-14х120 Розпiрний рамний дюбель (нейлон) з ШУРУПОМ шг.гол.(фас.20) (240 шт/ящ)",1257.5999999999999,100,1005.5999999999999,100]
[null,"                КПК-14х140 Розпiрний рамний дюбель (нейлон) з ШУРУПОМ шг.гол.(фас.20) (240 шт/ящ)",1436.3999999999999,100,1149.1199999999999,100]
[null,"                КПК-14х160 Розпiрний рамний дюбель (нейлон) з ШУРУПОМ шг.гол.(фас.20) (60 шт/ящ)",1621.2,100,1296.9599999999998,100]
[null,"                КПК-14х180 Розпiрний рамний дюбель (нейлон) з ШУРУПОМ шг.гол.(фас.15) (45 шт/ящ)",1830,100,1463.1599999999999,100]
[null,"                КПК-14х200 Розпiрний рамний дюбель (нейлон) з ШУРУПОМ шг.гол.(фас.15) (45 шт/ящ)",2044.8,100,1635.7199999999998,100]
[null,"                КПК-16х120 Розпiрний рамний дюбель (нейлон) з ШУРУПОМ шг.гол.(фас.15) (180 шт/ящ)",1698,100,1357.8,100]
[null,"                КПК-16х140 Розпiрний рамний дюбель (нейлон) з ШУРУПОМ шг.гол.(фас.15) (180 шт/ящ)",2013.6,100,1610.88,100]
[null,"                КПК-16х160 Розпiрний рамний дюбель (нейлон) з ШУРУПОМ шг.гол.(фас.15) (45 шт/ящ)",2214,100,1771.2,100]
[null,"                КПК-16х180 Розпiрний рамний дюбель (нейлон) з ШУРУПОМ шг.гол.(фас.10) (30 шт/ящ)",2611.1999999999998,100,2088.3599999999997,100]
[null,"                КПК-16х200 Розпiрний рамний дюбель (нейлон) з ШУРУПОМ шг.гол.(фас.10) (30 шт/ящ)",2797.2,100,2237.7599999999998,100]
[null,"                КПК-16х220 Розпiрний рамний дюбель (нейлон) з ШУРУПОМ шг.гол.(фас.10) (30 шт/ящ)",3046.7999999999997,100,2436.6,100]
[null,"                КПК-8х100 Розпiрний рамний дюбель (нейлон) з ШУРУПОМ шг.гол. (фас.50) (600 шт/ящ)",372,100,296.88,100]
[null,"                КПК-8х120 Розпiрний рамний дюбель (нейлон) з ШУРУПОМ шг.гол. (фас.50) (600 шт/ящ)",424.8,100,339.59999999999997,100]
[null,"                КПК-8х140 Розпiрний рамний дюбель (нейлон) з шурупом шг.гол. (фас.50) (600 шт/ящ)",500.4,100,400.32,100]
[null,"                КПК-8х80 Розпiрний рамний дюбель (нейлон) з ШУРУПОМ шг.гол. (фас.50) (600 шт/ящ)",316.8,100,252.83999999999997,100]
[null,"            КПКТ дюбель + шг шуруп з пресшайбою","","","",""]
[null,"                КПКТ-10х100 Дюбель нейлон з комірцем та шурупом шг.гол. пресшайба (фас.25) (300 шт/ящ)",630,100,504,100]
[null,"                КПКТ-10х115 Дюбель нейлон з комірцем та шурупом шг.гол. пресшайба (фас.25) (300 шт/ящ)",717.6,100,573.6,100]
[null,"                КПКТ-10х80 Дюбель нейлон з комірцем та шурупом шг.гол. пресшайба (фас.25) (500 шт/ящ)",506.4,100,405,100]
[null,"            КПР","","","",""]
[null,"                КПР-10х100 Розпiрний рамний дюбель (нейлон) (фас.50) ( в ящику 600)",213.6,100,170.4,100]
[null,"                КПР-10х115 Розпiрний рамний дюбель (нейлон) (фас.50) (в ящику 600)",231.6,100,184.56,100]
[null,"                КПР-10х135 Розпiрний рамний дюбель (нейлон) (фас.50) ( в ящику 600)",280.8,100,224.04,100]
[null,"                КПР-10х160 Розпiрний рамний дюбель (нейлон) (фас.50)( в ящику 400)",331.2,100,264.83999999999997,100]
[null,"                КПР-10х180 Розпiрний рамний дюбель (нейлон) (фас.50)( в ящику 300)",362.4,100,289.2,100]
[null,"                КПР-10х200 Розпiрний рамний дюбель (нейлон) (фас.25)( в ящику 300)",390,100,312,100]
[null,"                КПР-10х80 Розпiрний рамний дюбель (нейлон) (фас.50) ( в ящику 600)",171.6,100,136.91999999999999,100]
[null,"                КПР-12х100 Розпiрний рамний дюбель (нейлон) (фас.50)( в ящику 500)",324,100,258.48,100]
[null,"                КПР-12х120 Розпiрний рамний дюбель (нейлон) (фас.50)( в ящику 400)",384,100,306.71999999999997,100]
[null,"                КПР-12х140 Розпiрний рамний дюбель (нейлон) (фас.25)( в ящику 300)",433.2,100,346.2,100]
[null,"                КПР-12х160 Розпiрний рамний дюбель (нейлон) (фас.25)( в ящику 250)",482.4,100,385.44,100]
[null,"                КПР-12х180 Розпiрний рамний дюбель (нейлон) (фас.20)( в ящику 200)",534,100,426.36,100]
[null,"                КПР-12х200 Розпiрний рамний дюбель (нейлон) (фас.10)( в ящику 150)",589.19999999999993,100,471.36,100]
[null,"                КПР-14х100 Розпiрний рамний дюбель (нейлон) (фас.25)( в ящику 400)",436.8,100,348.84,100]
[null,"                КПР-14х120 Розпiрний рамний дюбель (нейлон) (фас.20)( в ящику 300)",536.4,100,428.64,100]
[null,"                КПР-14х140 Розпiрний рамний дюбель (нейлон) (фас.20)( в ящику 300)",624,100,498.59999999999997,100]
[null,"                КПР-14х160 Розпiрний рамний дюбель (нейлон) (фас.20) ( в ящику 200)",704.4,100,563.52,100]
[null,"                КПР-14х180 Розпiрний рамний дюбель (нейлон) (фас.15)( в ящику 180)",783.6,100,626.04000000000008,100]
[null,"                КПР-14х200 Розпiрний рамний дюбель (нейлон) (фас.10)( в ящику 150)",892.8,100,713.4,100]
[null,"                КПР-16х120 Розпiрний рамний дюбель (нейлон) (фас.15)( в ящику 240)",711.6,100,569.16,100]
[null,"                КПР-16х140 Розпiрний рамний дюбель (нейлон) (фас.15)( в ящику 210)",806.4,100,644.88,100]
[null,"                КПР-16х160 Розпiрний рамний дюбель (нейлон) (фас.15)( в ящику 180)",910.8,100,728.52,100]
[null,"                КПР-16х180 Розпiрний рамний дюбель (нейлон) (фас.10)( в ящику 150)",1041.5999999999999,100,833.16,100]
[null,"                КПР-16х200 Розпiрний рамний дюбель (нейлон) (фас.10)( в ящику 120)",1084.8,100,867.72,100]
[null,"                КПР-16х220 Розпiрний рамний дюбель (нейлон) (фас.10)( в ящику 100)",1180.8,100,943.92,100]
[null,"                КПР-8х100 Розпiрний рамний дюбель (нейлон) (фас.50) ( в ящику 800)",139.19999999999999,100,110.75999999999999,100]
[null,"                КПР-8х120 Розпiрний рамний дюбель (нейлон) (фас.50) ( в ящику 800)",160.79999999999998,100,128.4,100]
[null,"                КПР-8х140 Розпiрний рамний дюбель (нейлон) (фас.50) ( в ящику 600)",168,100,134.16,100]
[null,"                КПР-8х80 Розпiрний рамний дюбель (нейлон) (фас.50) ( в ящику 1000)",116.39999999999999,100,92.64,100]
[null,"            КПРТ","","","",""]
[null,"                КПРТ-(10х100) Розпірний рамний дюбель Т-подібної форми (нейлон) (фас.50) (в ящику 500)",213.6,100,170.4,100]
[null,"                КПРТ-(10х115) Розпірний рамний дюбель Т-подібної форми (нейлон) (фас.50) (в ящику 500)",231.6,100,184.56,100]
[null,"                КПРТ-(10х80) Розпірний рамний дюбель Т-подібної форми (нейлон) (фас.50) (в ящику 600)",171.6,100,136.91999999999999,100]
[null,"        Дюбелі Поліпропіленові","","","",""]
[null,"            ГК  ДРН Дюбелі для гіпсокартону","","","",""]
[null,"                ГК-10/3,5х60 Дюбель \"Метелик\" для г/к з шурупом (фас.100) (в ящику 1200)",68.399999999999991,100,54,100]
[null,"                ДРН-23 (15х23) Дюбель \"Дрiва\" з насадкою для г/к пластик.(фас.100) (в ящику 2000)",34.799999999999997,100,27.84,100]
[null,"            КП","","","",""]
[null,"                КП-10х50 Дюбель розпiрний полiпропiлен (фас.250)(в ящику 6000)",22.8,100,17.399999999999999,100]
[null,"                КП-12/6х60 Дюбель розпiрний полiпропiлен (фас.200)(в ящику 4000)",37.199999999999996,100,29.759999999999998,100]
[null,"                КП-12/8х60 Дюбель розпiрний полiпропiлен (фас.200)(в ящику 4000)",36,100,28.08,100]
[null,"                КП-14х80 Дюбель розпiрний полiпропiлен (фас.100)(в ящику 2000)",67.2,100,53.16,100]
[null,"                КП-5х25 Дюбель розпiрний полiпропiлен (фас.500)(в ящику 20000)",7.1999999999999993,100,5.1599999999999993,100]
[null,"                КП-6х35 Дюбель розпiрний полiпропiлен (фас.1000)(в ящику 24000)",8.4,100,6.48,100]
[null,"                КП-8х40 Дюбель розпiрний полiпропiлен (фас.500)(в ящику 12000)",13.2,100,9.9600000000000009,100]
[null,"                КП-8х50 Дюбель розпiрний полiпропiлен (фас.500)(в ящику 10000)",16.8,100,13.2,100]
[null,"            КПО,  ПСМТ","","","",""]
[null,"                КПО-10х50 Дюбель потрiйного розпору полiпропiлен (фас.200)(в ящику 5600)",25.2,100,19.439999999999998,100]
[null,"                КПО-10х60 Дюбель потрiйного розпору полiпропiлен (фас.200)(в ящику 4800)",31.2,100,24.84,100]
[null,"                КПО-12/8х60 Дюбель потрiйного розпору полiпропiлен (фас.100)(в ящику 2800)",48,100,37.56,100]
[null,"                КПО-12/8х80 Дюбель потрiйного розпору полiпропiлен (фас.100)(в ящику 2400)",57.599999999999994,100,45.359999999999992,100]
[null,"                КПО-14х100 Дюбель потрiйного розпору полiпропiлен (фас.50)(в ящику 1200)",98.399999999999991,100,78.239999999999995,100]
[null,"                КПО-16х100 Дюбель потрiйного розпору полiпропiлен (фас.50)(в ящику 1000)",124.8,100,99.719999999999985,100]
[null,"                КПО-6х30 Дюбель потрiйного розпору полiпропiлен (фас.1000)(в ящику 24000)",9.6,100,6.96,100]
[null,"                КПО-8х40 Дюбель потрiйного розпору полiпропiлен (фас.500)(в ящику 10000)",16.8,100,12.96,100]
[null,"                КПО-8х50 Дюбель потрiйного розпору полiпропiлен (фас.400)(в ящику 8800)",20.399999999999999,100,16.2,100]
[null,"                ПСМТ 6х40 Дюбель універсальний Т-подібної форми (НЕ ФАС) (МІШОК 20 000)",10.799999999999999,100,6.72,100]
[null,"                ПСМТ 6х40 Дюбель універсальний Т-подібної форми (фас 100) (ящик 5000)",10.799999999999999,100,8.64,100]
[null,"                ПСМТ 6х60 Дюбель універсальний Т-подібної форми (НЕ ФАС) (МІШОК 12 000)",14.399999999999999,100,8.64,100]
[null,"                ПСМТ 6х60 Дюбель універсальний Т-подібної форми (фас 100) (ящик 4000)",14.399999999999999,100,11.16,100]
[null,"        Дюбелі Термоізоляційні","","","",""]
[null,"            ДТ дожимні тарілки","","","",""]
[null,"                ДТ-140 Дожимна тарілка для монтажу легких об`ємних термоізоляційних матеріалів (фас.50)(в мішку 500)",265.2,100,211.79999999999998,100]
[null,"                ДТ-60 Дожимна тарілка з термозаглушкою для монтажу термоізоляційних матеріалів(фас.100)(в мішку1000)",108,100,85.68,100]
[null,"            ЛИТ","","","",""]
[null,"                ЛIТ-10х100 Розпiрний дюбель для термоiзоляцiї з МЕТАЛЕВИМ стрижнем (фас.100)",264,100,211.20000000000002,100]
[null,"                ЛIТ-10х110 Розпiрний дюбель для термоiзоляцiї з МЕТАЛЕВИМ стрижнем (фас.100)",276,100,220.8,100]
[null,"                ЛIТ-10х120 Розпiрний дюбель для термоiзоляцiї з МЕТАЛЕВИМ стрижнем (фас.100)",300,100,240,100]
[null,"                ЛIТ-10х140 Розпiрний дюбель для термоiзоляцiї з МЕТАЛЕВИМ стрижнем (фас.100)",336,100,268.8,100]
[null,"                ЛIТ-10х160 Розпiрний дюбель для термоiзоляцiї з МЕТАЛЕВИМ стрижнем (фас.50)",384,100,307.20000000000005,100]
[null,"            ЛІ  білий","","","",""]
[null,"                ЛI-10х100 Розпiрний дюбель для термоiзоляцiї з пластиковим стрижнем (фас.100)",140.4,100,111.96,100]
[null,"                ЛI-10х110 Розпiрний дюбель для термоiзоляцiї з пластиковим стрижнем (фас.100)",150,100,120,100]
[null,"                ЛI-10х120 Розпiрний дюбель для термоiзоляцiї з пластиковим стрижнем (фас.100)",154.79999999999998,100,123.6,100]
[null,"                ЛI-10х140 Розпiрний дюбель для термоiзоляцiї з пластиковим стрижнем (фас.100)",169.2,100,134.88,100]
[null,"                ЛI-10х160 Розпiрний дюбель для термоiзоляцiї з пластиковим стрижнем (фас.50)",181.2,100,144.24,100]
[null,"                ЛI-10х180 Розпiрний дюбель для термоiзоляцiї з пластиковим стрижнем (фас.50)",199.2,100,159,100]
[null,"                ЛI-10х200 Розпiрний дюбель для термоiзоляцiї з пластиковим стрижнем (фас.50)",217.2,100,173.16,100]
[null,"                ЛI-10х220 Розпiрний дюбель для термоiзоляцiї з пластиковим стрижнем (фас.50)",268.8,100,214.43999999999997,100]
[null,"                ЛI-10х70 Розпiрний дюбель для термоiзоляцiї з пластиковим стрижнем (фас.100)",121.19999999999999,100,96.11999999999999,100]
[null,"                ЛI-10х80 Розпiрний дюбель для термоiзоляцiї з пластиковим стрижнем (фас.100)",126,100,100.32,100]
[null,"                ЛI-10х90 Розпiрний дюбель для термоiзоляцiї з пластиковим стрижнем (фас.100)",134.4,100,106.8,100]
[null,"            ЛІК термозаглушка ЯЩИК","","","",""]
[null,"                ЛIК-10х100 Розпiрний дюбель термоiзол з МЕТАЛЕВИМ стрижнем та термозаглушкою (фас.100) (в ящику 400)",199.32,100,199.32,100]
[null,"                ЛIК-10х120 Розпiрний дюбель термоiзол з МЕТАЛЕВИМ стрижнем та термозаглушкою (фас.100) (в ящику 300)",225.96,100,225.96,100]
[null,"                ЛIК-10х140 Розпiрний дюбель термоiзол з МЕТАЛЕВИМ стрижнем та термозаглушкою (фас.100) (в ящику 300)",257.64,100,257.64,100]
[null,"                ЛIК-10х160 Розпiрний дюбель термоiзол з МЕТАЛЕВИМ стрижнем та термозаглушкою (фас.50) (в ящику 250)",294.48,100,294.48,100]
[null,"                ЛIК-10х180 Розпiрний дюбель термоiзол з МЕТАЛЕВИМ стрижнем та термозаглушкою (фас.50) (в ящику 250)",319.2,100,319.2,100]
[null,"                ЛIК-10х200 Розпiрний дюбель термоiзол з МЕТАЛЕВИМ стрижнем та термозаглушкою (фас.50) (в ящику 200)",351.72,100,351.72,100]
[null,"                ЛIК-10х220 Розпiрний дюбель термоiзол з МЕТАЛЕВИМ стрижнем та термозаглушкою (фас.50) (в ящику 200)",394.08,100,394.08,100]
[null,"                ЛIК-10х90 Розпiрний дюбель термоiзол з МЕТАЛЕВИМ стрижнем та термозаглушкою (фас.100) (в ящику 400)",186.23999999999998,100,186.23999999999998,100]
[null,"            ЛІМ Термоголова","","","",""]
[null,"                ЛIМ-10х120 Розпiрний дюбель для термоiзоляцiї з МЕТАЛЕВИМ стрижнем та ТЕРМОГОЛОВОЮ (фас.100)",289.32,100,289.32,100]
[null,"                ЛIМ-10х140 Розпiрний дюбель для термоiзоляцiї з МЕТАЛЕВИМ стрижнем та ТЕРМОГОЛОВОЮ (фас.100)",315.36,100,315.36,100]
[null,"                ЛIМ-10х160 Розпiрний дюбель для термоiзоляцiї з МЕТАЛЕВИМ стрижнем та ТЕРМОГОЛОВОЮ (фас.50)",354.36,100,354.36,100]
[null,"                ЛIМ-10х180 Розпiрний дюбель для термоiзоляцiї з МЕТАЛЕВИМ стрижнем та ТЕРМОГОЛОВОЮ (фас.50)",376.2,100,376.2,100]
[null,"                ЛIМ-10х200 Розпiрний дюбель для термоiзоляцiї з МЕТАЛЕВИМ стрижнем та ТЕРМОГОЛОВОЮ (фас.50)",415.56,100,415.56,100]
[null,"                ЛIМ-10х240 Розпiрний дюбель для термоiзоляцiї з МЕТАЛЕВИМ стрижнем та ТЕРМОГОЛОВОЮ (фас.50)",566.28,100,566.28,100]
[null,"                ЛIМ-10х260 Розпiрний дюбель для термоiзоляцiї з МЕТАЛЕВИМ стрижнем та ТЕРМОГОЛОВОЮ (фас.50)",599.88,100,599.88,100]
[null,"                ЛIМ-10х300 Розпiрний дюбель для термоiзоляцiї з МЕТАЛЕВИМ стрижнем та ТЕРМОГОЛОВОЮ (фас.50) (міш400)",668.4,100,668.4,100]
[null,"            ЛІМ Термоголова ЯЩИК","","","",""]
[null,"                ЛIМ-10х120 Розпiрний дюбель для термоiзоляцiї з МЕТАЛЕВИМ стрижнем та ТЕРМОГОЛОВОЮ (ЯЩИК фас.300)",289.32,100,289.32,100]
[null,"                ЛIМ-10х140 Розпiрний дюбель для термоiзоляцiї з МЕТАЛЕВИМ стрижнем та ТЕРМОГОЛОВОЮ (ЯЩИК фас.250)",315.36,100,315.36,100]
[null,"                ЛIМ-10х160 Розпiрний дюбель для термоiзоляцiї з МЕТАЛЕВИМ стрижнем та ТЕРМОГОЛОВОЮ (ЯЩИК фас.200)",354.36,100,354.36,100]
[null,"                ЛIМ-10х180 Розпiрний дюбель для термоiзоляцiї з МЕТАЛЕВИМ стрижнем та ТЕРМОГОЛОВОЮ (ЯЩИК фас.200)",376.2,100,376.2,100]
[null,"                ЛIМ-10х200 Розпiрний дюбель для термоiзоляцiї з МЕТАЛЕВИМ стрижнем та ТЕРМОГОЛОВОЮ (ЯЩИК фас.150)",415.56,100,415.56,100]
[null,"                ЛIМ-10х220 Розпiрний дюбель для термоiзоляцiї з МЕТАЛЕВИМ стрижнем та ТЕРМОГОЛОВОЮ (ЯЩИК фас.150)",446.28,100,446.28,100]
[null,"                ЛIМ-10х240 Розпiрний дюбель для термоiзоляцiї з МЕТАЛЕВИМ стрижнем та ТЕРМОГОЛОВОЮ (ЯЩИК фас.150)",566.28,100,566.28,100]
[null,"                ЛIМ-10х260 Розпiрний дюбель для термоiзоляцiї з МЕТАЛЕВИМ стрижнем та ТЕРМОГОЛОВОЮ (ЯЩИК фас.150)",599.88,100,599.88,100]
[null,"                ЛIМ-10х300 Розпiрний дюбель для термоiзоляцiї з МЕТАЛЕВИМ стрижнем та ТЕРМОГОЛОВОЮ (ЯЩИК фас.100)",668.4,100,668.4,100]
[null,"            ЛІМК Термоголова Короткий Розпір","","","",""]
[null,"                ЛIМК-10х120 Дюбель для термоізоляції з МЕТАЛЕВИМ стрижнем та ТЕРМОГОЛОВОЮ, КОРОТКИЙ РОЗПІР",289.32,100,289.32,100]
[null,"                ЛIМК-10х140 Дюбель для термоізоляції з МЕТАЛЕВИМ стрижнем та ТЕРМОГОЛОВОЮ, КОРОТКИЙ РОЗПІР",315.36,100,315.36,100]
[null,"                ЛIМК-10х160 Дюбель для термоізоляції з МЕТАЛЕВИМ стрижнем та ТЕРМОГОЛОВОЮ, КОРОТКИЙ РОЗПІР",354.36,100,354.36,100]
[null,"                ЛIМК-10х180 Дюбель для термоізоляції з МЕТАЛЕВИМ стрижнем та ТЕРМОГОЛОВОЮ, КОРОТКИЙ РОЗПІР",376.2,100,376.2,100]
[null,"                ЛIМК-10х200 Дюбель для термоізоляції з МЕТАЛЕВИМ стрижнем та ТЕРМОГОЛОВОЮ, КОРОТКИЙ РОЗПІР",415.56,100,415.56,100]
[null,"                ЛIМК-10х220 Дюбель для термоізоляції з МЕТАЛЕВИМ стрижнем та ТЕРМОГОЛОВОЮ, КОРОТКИЙ РОЗПІР",446.28,100,446.28,100]
[null,"            ЛІНО для покрівлі","","","",""]
[null,"                ЛІНО-105  Дюбель для монтажу м'яких покрівельних матеріалів (фас.100) (в ящику 300)",187.08,100,187.08,100]
[null,"                ЛІНО-135  Дюбель для монтажу м'яких покрівельних матеріалів (фас.100) (в ящику 200)",216.36,100,216.36,100]
[null,"                ЛІНО-155  Дюбель для монтажу м'яких покрівельних матеріалів (фас.50) (в ящику 200)",252,100,252,100]
[null,"                ЛІНО-185  Дюбель для монтажу м'яких покрівельних матеріалів (фас.50) (в ящику 150)",295.91999999999996,100,295.91999999999996,100]
[null,"                ЛІНО-235  Дюбель для монтажу м'яких покрівельних матеріалів (фас.50) (в ящику 150)",369,100,369,100]
[null,"                ЛІНО-35  Дюбель для монтажу м'яких покрівельних матеріалів (фас.200) (в ящику 800)",121.55999999999999,100,121.55999999999999,100]
[null,"                ЛІНО-55  Дюбель для монтажу м'яких покрівельних матеріалів (фас.200) (в ящику 600)",138.95999999999998,100,138.95999999999998,100]
[null,"                ЛІНО-85  Дюбель для монтажу м'яких покрівельних матеріалів (фас.100) (в ящику 400)",169.68,100,169.68,100]
[null,"            ТД  сірий","","","",""]
[null,"                ТД-10х100 (СIРИЙ КОЛIР) Термодюбель з пластиковим стрижнем (фас.100)",104.39999999999999,100,83.399999999999991,100]
[null,"                ТД-10х110 (СIРИЙ КОЛIР) Термодюбель з пластиковим стрижнем (фас.100)",109.2,100,86.64,100]
[null,"                ТД-10х120 (СIРИЙ КОЛIР) Термодюбель з пластиковим стрижнем (фас.100)",114,100,90.6,100]
[null,"                ТД-10х140 (СIРИЙ КОЛIР) Термодюбель з пластиковим стрижнем (фас.100)",123.6,100,98.52,100]
[null,"                ТД-10х160 (СIРИЙ КОЛIР) Термодюбель з пластиковим стрижнем (фас.50)",135.6,100,107.75999999999999,100]
[null,"                ТД-10х180 (СIРИЙ КОЛIР) Термодюбель з пластиковим стрижнем (фас.50)",154.79999999999998,100,123.84,100]
[null,"                ТД-10х200 (СIРИЙ КОЛIР) Термодюбель з пластиковим стрижнем (фас.50)",170.4,100,136.32,100]
[null,"                ТД-10х220 (СIРИЙ КОЛIР) Термодюбель з пластиковим стрижнем (фас.50)",194.4,100,154.79999999999998,100]
[null,"                ТД-10х70 (СIРИЙ КОЛIР) Термодюбель з пластиковим стрижнем (фас.100)",88.8,100,70.319999999999993,100]
[null,"                ТД-10х80 (СIРИЙ КОЛIР) Термодюбель з пластиковим стрижнем (фас.100)",92.399999999999991,100,73.319999999999993,100]
[null,"                ТД-10х90 (СIРИЙ КОЛIР) Термодюбель з пластиковим стрижнем (фас.100)",96,100,76.08,100]
[null,"        Дюбелі Швидкого монтажу","","","",""]
[null,"            ЕСМКУ","","","",""]
[null,"                ЕСМКУ-6х100(вус) (ЕКОНОМ) Дюбель для швидкого монтажу з комiрцем з вусами (фас.100) (в ящику 1500)",110.39999999999999,100,87.48,100]
[null,"                ЕСМКУ-6х40(вус) (ЕКОНОМ) Дюбель для швидкого монтажу з комiрцем з вусами (фас.100) (в ящику 5000)",34.799999999999997,100,27.12,100]
[null,"                ЕСМКУ-6х50(вус) (ЕКОНОМ) Дюбель для швидкого монтажу з комiрцем з вусами (фас.100) (в ящику 4000)",48,100,37.799999999999997,100]
[null,"                ЕСМКУ-6х60(вус) (ЕКОНОМ) Дюбель для швидкого монтажу з комiрцем з вусами (фас.100) (в ящику 3000)",54,100,42.959999999999994,100]
[null,"                ЕСМКУ-6х70(вус) (ЕКОНОМ) Дюбель для швидкого монтажу з комiрцем з вусами (фас.100) (в ящику 2500)",66,100,52.8,100]
[null,"                ЕСМКУ-6х80(вус) (ЕКОНОМ) Дюбель для швидкого монтажу з комiрцем з вусами (фас.100) (в ящику 2000)",74.399999999999991,100,58.8,100]
[null,"            ЕСМУ","","","",""]
[null,"                ЕСМУ-6х100(вус) (ЕКОНОМ) Дюбель для швидкого монтажу БЕЗ комiрця з вусами (фас.100) (в ящику 1500)",110.39999999999999,100,87.48,100]
[null,"                ЕСМУ-6х40(вус) (ЕКОНОМ) Дюбель для швидкого монтажу БЕЗ комiрця з вусами (фас.100) (в ящику 5000)",34.799999999999997,100,27.12,100]
[null,"                ЕСМУ-6х50(вус) (ЕКОНОМ) Дюбель для швидкого монтажу БЕЗ комiрця з вусами (фас.100) (в ящику 4000)",48,100,37.799999999999997,100]
[null,"                ЕСМУ-6х60(вус) (ЕКОНОМ) Дюбель для швидкого монтажу БЕЗ комiрця з вусами (фас.100) (в ящику 3000)",54,100,42.959999999999994,100]
[null,"                ЕСМУ-6х70(вус) (ЕКОНОМ) Дюбель для швидкого монтажу БЕЗ комiрця з вусами (фас.100) (в ящику 2500)",66,100,52.8,100]
[null,"                ЕСМУ-6х80(вус) (ЕКОНОМ) Дюбель для швидкого монтажу БЕЗ комiрця з вусами (фас.100) (в ящику 2000)",74.399999999999991,100,58.8,100]
[null,"                ЕСМУ-8х100(вус) (ЕКОНОМ) Дюбель для швидкого монтажу БЕЗ комiрця з вусами (фас.50) (в ящику 1300)",151.19999999999999,100,120.71999999999998,100]
[null,"                ЕСМУ-8х120(вус) (ЕКОНОМ) Дюбель для швидкого монтажу БЕЗ комiрця з вусами (фас.50) (в ящику 1000)",188.4,100,150.72,100]
[null,"                ЕСМУ-8х140(вус) (ЕКОНОМ) Дюбель для швидкого монтажу БЕЗ комiрця з вусами (фас.50) (в ящику 800)",271.2,100,216.96,100]
[null,"                ЕСМУ-8х160(вус) (ЕКОНОМ) Дюбель для швидкого монтажу БЕЗ комiрця з вусами (фас.50) (в ящику 700)",308.39999999999998,100,246.6,100]
[null,"                ЕСМУ-8х45(вус) (ЕКОНОМ) Дюбель для швидкого монтажу БЕЗ комiрця з вусами (фас.100) (в ящику 3000)",85.2,100,67.319999999999993,100]
[null,"                ЕСМУ-8х60(вус) (ЕКОНОМ) Дюбель для швидкого монтажу БЕЗ комiрця з вусами (фас.100) (в ящику 2400)",92.399999999999991,100,73.559999999999988,100]
[null,"                ЕСМУ-8х80(вус) (ЕКОНОМ) Дюбель для швидкого монтажу БЕЗ комiрця з вусами (фас.50) (в ящику 1500)",121.19999999999999,100,96.6,100]
[null,"            СМА","","","",""]
[null,"                СМА-10х100 Дюбель для швидкого монтажу БЕЗ комiрця (фас.50) (в ящику 600)",350.4,100,279.48,100]
[null,"                СМА-10х115 Дюбель для швидкого монтажу БЕЗ комiрця (фас.50) (в ящику 600)",406.8,100,325.32,100]
[null,"                СМА-10х135 Дюбель для швидкого монтажу БЕЗ комiрця (фас.50) (в ящику 500)",482.4,100,385.44,100]
[null,"                СМА-10х160 Дюбель для швидкого монтажу БЕЗ комiрця (фас.50) (в ящику 500)",566.4,100,452.87999999999994,100]
[null,"                СМА-10х180 Дюбель для швидкого монтажу БЕЗ комiрця (фас.50) (в ящику 400)",644.4,100,515.52,100]
[null,"                СМА-10х80 Дюбель для швидкого монтажу БЕЗ комiрця (фас.50) (в ящику 600)",254.39999999999998,100,203.04,100]
[null,"                СМА-6х40 БІЛИЙ Дюбель для швидкого монтажу БЕЗ комiрця (фас.100) (в ящику 4000)",44.4,100,35.04,100]
[null,"                СМА-6х60 БІЛИЙ Дюбель для швидкого монтажу БЕЗ комiрця (фас.100) (в ящику 3000)",63.599999999999994,100,50.279999999999994,100]
[null,"                СМА-6х80 БІЛИЙ Дюбель для швидкого монтажу БЕЗ комiрця (фас.100) (в ящику 2000)",81.599999999999994,100,64.679999999999993,100]
[null,"                СМА-8х100 БІЛИЙ Дюбель для швидкого монтажу БЕЗ комiрця (фас.50) (в ящику 1500)",153.6,100,122.51999999999998,100]
[null,"                СМА-8х120 БІЛИЙ Дюбель для швидкого монтажу БЕЗ комiрця (фас.50) (в ящику 1400)",192,100,152.88,100]
[null,"                СМА-8х60 БІЛИЙ Дюбель для швидкого монтажу БЕЗ комiрця (фас.100) (в ящику 2000)",96,100,76.44,100]
[null,"                СМА-8х80 БІЛИЙ Дюбель для швидкого монтажу БЕЗ комiрця (фас.50) (в ящику 1500)",123.6,100,98.399999999999991,100]
[null,"            СМКА","","","",""]
[null,"                СМКА-6х40 БІЛИЙ Дюбель для швидкого монтажу з комiрцем (фас.100) (в ящику 4000)",44.4,100,35.04,100]
[null,"                СМКА-6х60 БІЛИЙ Дюбель для швидкого монтажу з комiрцем (фас.100) (в ящику 3000)",63.599999999999994,100,50.279999999999994,100]
[null,"                СМКА-6х80 БІЛИЙ Дюбель для швидкого монтажу з комiрцем (фас.100) (в ящику 2000)",81.599999999999994,100,64.679999999999993,100]
[null,"            СМКУ","","","",""]
[null,"                СМКУ-6х40(ус) Дюбель для швидкого монтажу з комiрцем з вусами (фас.100)",36,100,28.439999999999998,100]
[null,"                СМКУ-6х60(ус) Дюбель для швидкого монтажу з комiрцем з вусами (фас.100)",56.4,100,44.4,100]
[null,"                СМКУ-6х80(ус) Дюбель для швидкого монтажу з комiрцем з вусами (фас.100)",75.599999999999994,100,60.12,100]
[null,"            СМУ","","","",""]
[null,"                СМУ-6х40(ус) Дюбель для швидкого монтажу БЕЗ комiрця з вусами (фас.100)",36,100,28.439999999999998,100]
[null,"                СМУ-6х60(ус) Дюбель для швидкого монтажу БЕЗ комiрця з вусами (фас.100)",56.4,100,44.4,100]
[null,"                СМУ-6х80(ус) Дюбель для швидкого монтажу БЕЗ комiрця з вусами (фас.100)",75.599999999999994,100,60.12,100]
[null,"                СМУ-8х100(ус) Дюбель для швидкого монтажу БЕЗ комiрця з вусами (фас.50)",156,100,124.44,100]
[null,"                СМУ-8х120(ус) Дюбель для швидкого монтажу БЕЗ комiрця з вусами (фас.50)",192,100,153.6,100]
[null,"                СМУ-8х60(ус) Дюбель для швидкого монтажу БЕЗ комiрця з вусами (фас.100)",94.8,100,75.239999999999995,100]
[null,"                СМУ-8х80(ус) Дюбель для швидкого монтажу БЕЗ комiрця с вусами (фас.50)",124.8,100,99.719999999999985,100]
[null,"        Заклепки","","","",""]
[null,"            Заклепка алюм.пкр  2х6 ГОСТ 10299",142.79999999999998,"кг",114.24,"кг"]
[null,"            Заклепка сталева пкр. 2,5х5 ГОСТ 10299",80.399999999999991,"кг",64.319999999999993,"кг"]
[null,"            Заклепка сталева пкр. 2х10 ГОСТ 10299",80.399999999999991,"кг",64.319999999999993,"кг"]
[null,"            Заклепка сталева пкр. 2х5 ГОСТ 10299",80.399999999999991,"кг",64.319999999999993,"кг"]
[null,"            Заклепка сталева пкр. 2х6 ГОСТ 10299",80.399999999999991,"кг",64.319999999999993,"кг"]
[null,"            Заклепка сталева пкр. 2х7 ГОСТ 10299",80.399999999999991,"кг",64.319999999999993,"кг"]
[null,"            Заклепка сталева пкр. 2х8 ГОСТ 10299",80.399999999999991,"кг",64.319999999999993,"кг"]
[null,"            Заклепка сталева пкр. 3х10 ГОСТ 10299",66,"кг",52.800000000000004,"кг"]
[null,"            Заклепка сталева пкр. 3х16 ГОСТ 10299",66,"кг",52.800000000000004,"кг"]
[null,"            Заклепка сталева пкр. 3х6 ГОСТ 10299",66,"кг",52.800000000000004,"кг"]
[null,"            Заклепка сталева пкр. 3х8 ГОСТ 10299",66,"кг",52.800000000000004,"кг"]
[null,"            Заклепка сталева пкр. 3х9 ГОСТ 10299",66,"кг",52.800000000000004,"кг"]
[null,"            Заклепка сталева пкр. 5х40 ЦБ ГОСТ 10299",66,"кг",52.800000000000004,"кг"]
[null,"            Заклепка сталева пкр. 5х48 ГОСТ 10299 ЦБ",66,"кг",52.800000000000004,"кг"]
[null,"            Заклепка сталева пкр. 6х16 ГОСТ 10299 ЦБ",66,"кг",52.800000000000004,"кг"]
[null,"            Заклепка сталева пкр. 6х20 ГОСТ 10299 ЦБ",66,"кг",52.800000000000004,"кг"]
[null,"            Заклепка сталева пкр. 6х8 ЦБ ГОСТ 10299",66,"кг",52.800000000000004,"кг"]
[null,"            Заклепка сталева пкр. 8х16 ГОСТ 10299",66,"кг",52.800000000000004,"кг"]
[null,"            Заклепка сталева пот. 2х5 ГОСТ 10300",80.399999999999991,"кг",64.319999999999993,"кг"]
[null,"            Заклепка сталева пот. 4х10 ГОСТ 10300",66,"кг",52.800000000000004,"кг"]
[null,"            Заклепка сталева пот. 4х14 ГОСТ 10300",66,"кг",52.800000000000004,"кг"]
[null,"            Заклепка сталева пот. 5х10 ЦБ ГОСТ 10300",66,"кг",52.800000000000004,"кг"]
[null,"            ЗО-4,0х06 ал/ст Заклепка вiдривна плоска гол.(фас.1000)",292.8,"тис.шт",234.24,"тис.шт"]
[null,"            ЗО-4,0х08 ал/ст Заклепка вiдривна плоска гол.(фас.1000)",328.8,"тис.шт",263.04000000000002,"тис.шт"]
[null,"            ЗО-4,0х10 ал/ст Заклепка вiдривна плоска гол.(фас.1000)",369.59999999999997,"тис.шт",295.68,"тис.шт"]
[null,"            ЗО-4,0х12 ал/ст Заклепка вiдривна плоска гол.",504,"тис.шт",403.20000000000005,"тис.шт"]
[null,"            ЗО-4,0х12 ал/ст Заклепка вiдривна плоска гол.(фас.1000)",504,"тис.шт",403.20000000000005,"тис.шт"]
[null,"            ЗО-4,0х16 ал/ст Заклепка вiдривна плоска гол.(фас.500)",523.19999999999993,"тис.шт",418.55999999999995,"тис.шт"]
[null,"            ЗО-4,0х18 ал/ст Заклепка вiдривна плоска гол.(фас.500)",568.79999999999995,"тис.шт",455.03999999999996,"тис.шт"]
[null,"            ЗО-4,0х20 ал/ст Заклепка вiдривна плоска гол.",612,"тис.шт",489.6,"тис.шт"]
[null,"            ЗО-4,8х10 ал/ст Заклепка вiдривна плоска гол.",420,"тис.шт",336,"тис.шт"]
[null,"            ЗО-4,8х10 ал/ст Заклепка вiдривна плоска гол.(фас.500)",420,"тис.шт",336,"тис.шт"]
[null,"            ЗО-4,8х12 ал/ст Заклепка вiдривна плоска гол.(фас.500)",504,"тис.шт",403.20000000000005,"тис.шт"]
[null,"            ЗО-4,8х16 А2/А2 Заклепка вiдривна нержавіюча",480,100,384,100]
[null,"            ЗО-4,8х16 ал/ст Заклепка вiдривна плоска гол.(фас.500)",576,"тис.шт",460.8,"тис.шт"]
[null,"            ЗО-4,8х20 ал/ст Заклепка вiдривна плоска гол.(фас.500)",696,"тис.шт",556.80000000000007,"тис.шт"]
[null,"        Кільця стопорні","","","",""]
[null,"            КС -016 Кільце стопорне Ф 16 DIN 471 (зовн.) нерж. А2",618,100,494.40000000000003,100]
[null,"            КС -016 Кільце стопорне Ф 16 DIN 471 (зовн.) нерж. А2",618,100,494.40000000000003,100]
[null,"            КС -019 Кільце стопорне Ф 19 DIN 471 (зовн.) нерж. А2",740.4,100,592.32000000000005,100]
[null,"            КС -019 Кільце стопорне Ф 19 DIN 471 (зовн.) нерж. А2",740.4,100,592.32000000000005,100]
[null,"            КС -030 Кільце стопорне Ф 30 DIN 472 (внутр.) нерж. А2",1120.8,100,896.64,100]
[null,"            КС -030 Кільце стопорне Ф 30 DIN 472 (внутр.) нерж. А2",1120.8,100,896.64,100]
[null,"            КС -80 Кольцо стопорное Ф 80 DIN 471 (внешние) (фас.10)",120,100,96,100]
[null,"        Клямери","","","",""]
[null,"            Клямер \"Bolta\" Крiпильна скоба для пластикового плiнтусу (укомплект.) (фас.50)",120,100,96,100]
[null,"            Клямер №1 Крiпильна скоба для вагонки (укомплект.) (фас.100)",16.8,100,13.440000000000001,100]
[null,"            Клямер №2 Крiпильна скоба для вагонки (укомплект.) (фас.100)",16.8,100,13.440000000000001,100]
[null,"            Клямер №3 Крiпильна скоба для вагонки (укомплект.) (фас.100)",16.8,100,13.440000000000001,100]
[null,"            Клямер №4 (Економ) Крiпильна скоба для вагонки (укомплект.) (фас.100)",16.8,100,13.440000000000001,100]
[null,"            Клямер №4 Крiпильна скоба для вагонки (укомплект.) (фас.100)",16.8,100,13.440000000000001,100]
[null,"            Клямер №5 Крiпильна скоба для вагонки (укомплект.) (фас.80)",16.8,"компл.",13.440000000000001,"компл."]
[null,"            Клямер №6 Крiпильна скоба для вагонки (укомплект.) (фас.80)",16.8,"компл.",13.440000000000001,"компл."]
[null,"        Кутники оцинковані","","","",""]
[null,"            У25х25х15х2п Кутник оцинкований (4 отв.) (фас.100)",138,100,110.4,100]
[null,"            У30х30х15х2п Кутник оцинкований (4 отв.) (фас.100)",152.4,100,121.92000000000002,100]
[null,"            У30х30х30х2п Кутник оцинкований (4 отв.) (фас.100)",284.39999999999998,100,227.51999999999998,100]
[null,"            У40х40х15х2п Кутник оцинкований (4 отв.) (фас.100)",193.2,100,154.56,100]
[null,"            У40х40х40х2п Кутник оцинкований (4 отв.) (фас.100)",498,100,398.40000000000003,100]
[null,"            У50х50х15х2п Кутник оцинкований (4 отв.) (фас.100)",240,100,192,100]
[null,"            У50х50х35х2п Кутник оцинкований (10 отв.) (фас.80)",549.6,100,439.68000000000006,100]
[null,"            У50х50х40х2п Кутник оцинкований (8 отв.) (фас.80)",614.4,100,491.52,100]
[null,"            У60х60х15х2п Кутник оцинкований (4 отв.) (фас.100)",268.8,100,215.04000000000002,100]
[null,"            У75х75х15х2п Кутник оцинкований (4 отв.) (фас.50)",354,100,283.2,100]
[null,"            У80х80х40х2п Кутник оцинкований (8 отв.) (фас.35)",978,100,782.40000000000009,100]
[null,"            У80х80х60х2п Кутник оцинкований (10 отв.) (фас.25)",984,100,787.2,100]
[null,"        Саморізи та шурупи","","","",""]
[null,"            ВМПК","","","",""]
[null,"                ВМПК-2,9х9,5 Саморiз по металу с пот.гол.Ph-2 ЦБ",4.2839999999999998,100,3.4272,100]
[null,"                ВМПК-3,5х19 Саморiз по металу с пот.гол.Ph-2 ЦБ",5.4119999999999999,100,4.3296000000000001,100]
[null,"                ВМПК-3,9х9,5 Саморiз по металу с пот.гол.Ph-2 ЦБ",5.6159999999999997,100,4.4927999999999999,100]
[null,"                ВМПК-4,2х9,5 Саморiз по металу с пот.гол.Ph-2 ЦБ",5.4119999999999999,100,4.3296000000000001,100]
[null,"                ВМПК-4,8х32 Саморiз по металу с пот.гол.Ph-2 ЦБ",13.368,100,10.694400000000002,100]
[null,"                ВМПК-4,8х38 Саморiз по металу с пот.гол.Ph-2 ЦБ",15.407999999999999,100,12.3264,100]
[null,"                ВМПК-4,8х45 Саморiз по металу с пот.гол.Ph-2 ЦБ",16.631999999999998,100,13.305599999999998,100]
[null,"                ВМПК-5,5х13 Саморiз по металу с пот.гол.Ph-2 ЦБ",7.6559999999999997,100,6.1248000000000005,100]
[null,"                ВМПК-5,5х19 Саморiз по металу с пот.гол.Ph-2 ЦБ",8.8800000000000008,100,7.104000000000001,100]
[null,"                ВМПК-5,5х32 Саморiз по металу с пот.гол.Ph-2 ЦБ",9.6959999999999997,100,7.7568000000000001,100]
[null,"                ВМПК-5,5х38 Саморiз по металу с пот.гол.Ph-2 ЦБ",9.9960000000000004,100,7.9968000000000004,100]
[null,"            ВМЦК","","","",""]
[null,"                ВМЦК-2,9х16 Саморiз по металу цил.закругл.гол.Ph-2 ЦБ",120,"кг",96,"кг"]
[null,"                ВМЦК-2,9х19 Саморiз по металу цил.закругл.гол.Ph-2 ЦБ",6.0239999999999991,100,4.8191999999999995,100]
[null,"                ВМЦК-2,9х6,5 Саморiз по металу цил.закругл.гол.Ph-2 ЦБ (ЕМ)",2.76,100,2.2079999999999997,100]
[null,"                ВМЦК-2,9х9,5 Саморiз по металу цил.закругл.гол.Ph-2 ЦБ",4.2839999999999998,100,3.4272,100]
[null,"                ВМЦК-3,0х8 Саморiз по металу зменш.гол.ГОСТ 10621 (2 исп.)",120,"кг",96,"кг"]
[null,"                ВМЦК-3,5х16 Саморiз по металу цил.закругл.гол.Ph-2 ЦБ (ЕМ)",12,100,9.6000000000000014,100]
[null,"                ВМЦК-3,5х9,5 Саморiз по металу цил.закругл.гол.Ph-2 ЦБ (фас.1000)",8.4,100,6.7200000000000006,100]
[null,"                ВМЦК-4,2х13 нерж.А2 Саморiз по металу с пкр.гол.Ph-2",126,100,100.80000000000001,100]
[null,"                ВМЦК-4,2х20 Саморiз по металу цил.закругл.гол.Ph-2 ЦБ",120,"кг",96,"кг"]
[null,"                ВМЦК-4,2х22 нерж.А2 Саморiз по металу с пкр.гол.Ph-2",144,100,115.2,100]
[null,"                ВМЦК-4,8х22 нерж.А2 Саморiз по металу с пкр.гол.Ph-2",168,100,134.4,100]
[null,"                ВМЦК-4,8х45 нерж.А2 Саморiз по металу с пкр.гол.Ph-2",192,100,153.60000000000002,100]
[null,"                ВМЦК-4,8х45 Саморiз по металу цил.закругл.гол.Ph-2 ЦБ",20.604000000000003,100,16.483200000000004,100]
[null,"                ВМЦК-4,8х50 Саморiз по металу цил.закругл.гол.Ph-2 БП",22.236000000000001,100,17.788800000000002,100]
[null,"                ВМЦК-4,8х50 Саморiз по металу цил.закругл.гол.Ph-2 ЦБ",22.236000000000001,100,17.788800000000002,100]
[null,"                ВМЦК-4,8х60 Саморiз по металу цил.закругл.гол.Ph-2 ЦБ",28.26,100,22.608000000000004,100]
[null,"                ВМЦК-4,8х9,5 Саморiз по металу цил.закругл.гол.Ph-2 ЦБ",7.6559999999999997,100,6.1248000000000005,100]
[null,"                ВМЦК-6,3х19 нерж.А2 Саморiз по металу с пкр.гол.Ph-2",300,100,240,100]
[null,"            ВПЦС","","","",""]
[null,"                ВПЦС-4,2х14 Саморiз по металу з пресшайбою та свердлом ЦБ (фас.1000)",240,"тис.шт",192,"тис.шт"]
[null,"                ВПЦС-4,2х14 Саморiз пр.шайба-свердло ЦБ(фас.1000)",240,"тис.шт",192,"тис.шт"]
[null,"                ВПЦС-4,2х16 Саморiз по металу з пресшайбою та свердлом ЦБ(фас.1000)",264,"тис.шт",211.20000000000002,"тис.шт"]
[null,"                ВПЦС-4,2х16 Саморiз по металу з пресшайбою та свердлом ЦБ(фас.1000)",264,"тис.шт",211.20000000000002,"тис.шт"]
[null,"                ВПЦС-4,2х19 Саморiз по металу з пресшайбою та свердлом ЦБ(фас.1000)",288,"тис.шт",230.4,"тис.шт"]
[null,"                ВПЦС-4,2х25 Саморiз пр.шайба-свердло ЦБ(фас.1000)",360,"тис.шт",288,"тис.шт"]
[null,"                ВПЦС-4,2х32 Саморiз пр.шайба-свердло ЦБ(фас.500)",420,"тис.шт",336,"тис.шт"]
[null,"                ВПЦС-4,2х41 Саморiз пр.шайба-свердло ЦБ(фас.500)",528,"тис.шт",422.40000000000003,"тис.шт"]
[null,"                ВПЦС-4,2х51 Саморiз пр.шайба-свердло ЦБ(фас.250)",672,"тис.шт",537.6,"тис.шт"]
[null,"                ВПЦС-4,2х51 Саморiз пр.шайба-свердло ЦБ(фас.400)",672,"тис.шт",537.6,"тис.шт"]
[null,"            ВПЦТ","","","",""]
[null,"                ВПЦТ-4,2х13 Саморiз по металу з пресшайбою ЦБ(фас.1000)",198,"тис.шт",158.4,"тис.шт"]
[null,"                ВПЦТ-4,2х14 Саморiз по металу з пресшайбою ЦБ(фас.1000)",198,"тис.шт",158.4,"тис.шт"]
[null,"                ВПЦТ-4,2х16 Саморiз по металу з пресшайбою ЦБ(фас.1000)",210,"тис.шт",168,"тис.шт"]
[null,"                ВПЦТ-4,2х19 Саморiз по металу з пресшайбою ЦБ(фас.1000)",252,"тис.шт",201.60000000000002,"тис.шт"]
[null,"                ВПЦТ-4,2х25 Саморiз по металу з пресшайбою ЦБ(фас.1000)",282,"тис.шт",225.60000000000002,"тис.шт"]
[null,"                ВПЦТ-4,2х32 Саморiз по металу з пресшайбою ЦБ(фас.500)",348,"тис.шт",278.40000000000003,"тис.шт"]
[null,"                ВПЦТ-4,2х32 Саморiз по металу з пресшайбою ЦБ(фас.500)",348,"тис.шт",278.40000000000003,"тис.шт"]
[null,"                ВПЦТ-4,2х41 Саморiз по металу з пресшайбою ЦБ(фас.500)",417.59999999999997,"тис.шт",334.08,"тис.шт"]
[null,"                ВПЦТ-4,2х51 Саморiз по металу з пресшайбою ЦБ(фас.400)",540,"тис.шт",432,"тис.шт"]
[null,"                ВПЦТ-4,2х51 Саморiз по металу з пресшайбою ЦБ(фас.500)",540,"тис.шт",432,"тис.шт"]
[null,"            ВС","","","",""]
[null,"                ВС-4,8х13 Гвинт самосв.шг.гол.ЦБ",52.8,100,42.24,100]
[null,"                ВС-4,8х16 Гвинт самосв.шг.гол.ЦБ",60,100,48,100]
[null,"                ВС-4,8х19 Гвинт самосв.шг.гол.ЦБ (фас.250 шт)",69.599999999999994,100,55.68,100]
[null,"                ВС-4,8х19 Гвинт самосв.шг.гол.ЦБ з ШАЙБОЮ ПЕПДМ (фас.250 шт)",86.399999999999991,100,69.11999999999999,100]
[null,"                ВС-4,8х25 Гвинт самосв.шг.гол.ЦБ",75.599999999999994,100,60.48,100]
[null,"                ВС-4,8х32 Гвинт самосв.шг.гол.ЦБ",81.599999999999994,100,65.28,100]
[null,"                ВС-4,8х35 Гвинт самосв.шг.гол.ЦБ (фас.250)",86.399999999999991,100,69.11999999999999,100]
[null,"                ВС-4,8х38 Гвинт самосв.шг.гол.ЦБ",86.399999999999991,100,69.11999999999999,100]
[null,"                ВС-4,8х45 Гвинт самосв.шг.гол.ЦБ",92.399999999999991,100,73.92,100]
[null,"                ВС-4,8х60 Гвинт самосв.шг.гол.ЦБ",144,100,115.2,100]
[null,"                ВСС-5,5х32-12 Гвинт самосв.шг.гол.ЦБ (довге свердло) ЦБ",129.6,100,103.68,100]
[null,"                ВСС-5,5х50-12 Гвинт самосв.шг.гол.ЦБ (довге свердло) ЦБ",172.79999999999998,100,138.23999999999998,100]
[null,"            ВФ","","","",""]
[null,"                ВФДц-4,8х35 Гвинт самосв. по дереву з шг.гол.+EPDM ЦБ (фас.250)",126,100,100.80000000000001,100]
[null,"            ВШ","","","",""]
[null,"                ВШ-3,5х13 Саморiз по металу с ш.г.гол.Ph-2 ЦБ",6.1199999999999992,100,4.8959999999999999,100]
[null,"                ВШ-3,5х16 Саморiз по металу с ш.г.гол.Ph-2 ЦБ",6.1199999999999992,100,4.8959999999999999,100]
[null,"                ВШ-3,5х19 Саморiз по металу с ш.г.гол.Ph-2 ЦБ",6.323999999999999,100,5.0591999999999997,100]
[null,"                ВШ-3,5х9,5 Саморiз по металу с ш.г.гол.Ph-2 ЦБ",6.1199999999999992,100,4.8959999999999999,100]
[null,"                ВШ-4,2х9,5 Саморiз по металу с ш.г.гол.Ph-2 ЦБ",7.0439999999999996,100,5.6352000000000002,100]
[null,"                ВШ-4,8х19 Саморiз по металу с ш.г.гол.Ph-2 ЦБ",9.0839999999999996,100,7.2671999999999999,100]
[null,"                ВШ-4,8х32 Саморiз по металу с ш.г.гол.Ph-2 ЦБ",11.423999999999999,100,9.1392000000000007,100]
[null,"            КОНВШО","","","",""]
[null,"                КОНВШО-6,4х50 Конфiрмат вн.шг.ЦБ",84,100,67.2,100]
[null,"                КОНВШО-6,4х50 Конфiрмат вн.шг.ЦБ (фас.200)",84,100,67.2,100]
[null,"                КОНВШО-6,4х50 Конфiрмат вн.шг.ЦБ (фас.200)",84,100,67.2,100]
[null,"                КОНВШО-6,4х50 Конфiрмат вн.шг.ЦБ (фас.200)",84,100,67.2,100]
[null,"                КОНВШО-6,4х50 Конфiрмат вн.шг.ЦБ (фас.200)",84,100,67.2,100]
[null,"                КОНВШО-7х70 Конфiрмат вн.шг.ЦБ",120,100,96,100]
[null,"                КОНВШО-7х70 Конфiрмат вн.шг.ЦБ",120,100,96,100]
[null,"            СГКД","","","",""]
[null,"                СГКД-3,5х16 Саморiз г/к фосфат.по дереву (фас.1000)",140.4,"тис.шт",112.32000000000001,"тис.шт"]
[null,"                СГКД-3,5х19 Саморiз г/к фосфат.по дереву (фас.1000)",159.6,"тис.шт",127.68,"тис.шт"]
[null,"                СГКД-3,5х25 Саморiз г/к фосфат.по дереву (фас.1000)",170.4,"тис.шт",136.32000000000002,"тис.шт"]
[null,"                СГКД-3,5х25 Саморiз г/к фосфат.по дереву (фас.1000)",170.4,"тис.шт",136.32000000000002,"тис.шт"]
[null,"                СГКД-3,5х32 Саморiз г/к фосфат.по дереву (фас.1000)",181.2,"тис.шт",144.96,"тис.шт"]
[null,"                СГКД-3,5х32 Саморiз г/к фосфат.по дереву (фас.1000)",181.2,"тис.шт",144.96,"тис.шт"]
[null,"                СГКД-3,5х35 Саморiз г/к фосфат.по дереву (фас.1000)",182.4,"тис.шт",145.92000000000002,"тис.шт"]
[null,"                СГКД-3,5х35 Саморiз г/к фосфат.по дереву (фас.1000)",182.4,"тис.шт",145.92000000000002,"тис.шт"]
[null,"                СГКД-3,5х35 Саморiз г/к ЦБ по дереву (фас.1000)",182.4,"тис.шт",145.92000000000002,"тис.шт"]
[null,"                СГКД-3,5х41 Саморiз г/к фосфат.по дереву (фас.1000)",228,"тис.шт",182.4,"тис.шт"]
[null,"                СГКД-3,5х41 Саморiз г/к фосфат.по дереву (фас.1000)",228,"тис.шт",182.4,"тис.шт"]
[null,"                СГКД-3,5х41 Саморiз г/к фосфат.по дереву (фас.500)",228,"тис.шт",182.4,"тис.шт"]
[null,"                СГКД-3,5х41 Саморiз г/к фосфат.по дереву (фас.500)",228,"тис.шт",182.4,"тис.шт"]
[null,"                СГКД-3,5х45 Саморiз г/к фосфат.по дереву (фас.500)",243.6,"тис.шт",194.88,"тис.шт"]
[null,"                СГКД-3,5х51 Саморiз г/к фосфат.по дереву (фас.400)",300,"тис.шт",240,"тис.шт"]
[null,"                СГКД-3,5х51 Саморiз г/к фосфат.по дереву (фас.400)",300,"тис.шт",240,"тис.шт"]
[null,"                СГКД-3,5х51 Саморiз г/к фосфат.по дереву (фас.500)",300,"тис.шт",240,"тис.шт"]
[null,"                СГКД-3,5х55 Саморiз г/к фосфат.по дереву (фас.400)",312,"тис.шт",249.60000000000002,"тис.шт"]
[null,"                СГКД-3,5х55 Саморiз г/к фосфат.по дереву (фас.500)",312,"тис.шт",249.60000000000002,"тис.шт"]
[null,"                СГКД-3,5х55 Саморiз г/к фосфат.по дереву (фас.500)",312,"тис.шт",249.60000000000002,"тис.шт"]
[null,"                СГКД-3,9х65 Саморiз г/к фосфат.по дереву (фас.250)",510,"тис.шт",408,"тис.шт"]
[null,"                СГКД-3,9х65 Саморiз г/к фосфат.по дереву (фас.250)",510,"тис.шт",408,"тис.шт"]
[null,"                СГКД-3,9х70 Саморiз г/к фосфат.по дереву (фас.250)",600,"тис.шт",480,"тис.шт"]
[null,"                СГКД-3,9х70 Саморiз г/к фосфат.по дереву (фас.250)",600,"тис.шт",480,"тис.шт"]
[null,"                СГКД-4,2х75 Саморiз г/к фосфат.по дереву (фас.250)",566.4,"тис.шт",453.12,"тис.шт"]
[null,"                СГКД-4,2х75 Саморiз г/к фосфат.по дереву (фас.250)",566.4,"тис.шт",453.12,"тис.шт"]
[null,"                СГКД-4,2х75 Саморiз г/к фосфат.по дереву (фас.250)",566.4,"тис.шт",453.12,"тис.шт"]
[null,"                СГКД-4,2х90 Саморiз г/к фосфат.по дереву (фас.200)",597.6,"тис.шт",478.08000000000004,"тис.шт"]
[null,"                СГКД-4,2х90 Саморiз г/к фосфат.по дереву (фас.250)",597.6,"тис.шт",478.08000000000004,"тис.шт"]
[null,"                СГКД-4,2х90 Саморiз г/к фосфат.по дереву (фас.250)",597.6,"тис.шт",478.08000000000004,"тис.шт"]
[null,"                СГКД-4,8х100 Саморiз г/к фосфат.по дереву (фас.100)",889.19999999999993,"тис.шт",711.36,"тис.шт"]
[null,"                СГКД-4,8х100 Саморiз г/к фосфат.по дереву (фас.100)",889.19999999999993,"тис.шт",711.36,"тис.шт"]
[null,"                СГКД-4,8х127 Саморiз г/к фосфат.по дереву (фас.100)",1350,"тис.шт",1080,"тис.шт"]
[null,"                СГКД-4,8х127 Саморiз г/к фосфат.по дереву (фас.200)",1350,"тис.шт",1080,"тис.шт"]
[null,"                СГКД-4,8х127 Саморiз г/к фосфат.по дереву (фас.200)",1350,"тис.шт",1080,"тис.шт"]
[null,"                СГКД-4,8х130 Саморiз г/к фосфат.по дереву (фас.200)",1350,"тис.шт",1080,"тис.шт"]
[null,"                СГКД-4,8х152 Саморiз г/к фосфат.по дереву (фас.100)",1500,"тис.шт",1200,"тис.шт"]
[null,"                СГКД-4,8х152 Саморiз г/к фосфат.по дереву (фас.100)",1500,"тис.шт",1200,"тис.шт"]
[null,"                СГКД-4,8х95 Саморiз г/к фосфат.по дереву (фас.200)",936,"тис.шт",748.80000000000007,"тис.шт"]
[null,"                СГКД-4,8х95 Саморiз г/к фосфат.по дереву (фас.200)",936,"тис.шт",748.80000000000007,"тис.шт"]
[null,"                СГКД-4,8х95 Саморiз г/к фосфат.по дереву (фас.250)",936,"тис.шт",748.80000000000007,"тис.шт"]
[null,"                СГКД-4,8х95 Саморiз г/к фосфат.по дереву (фас.250)",936,"тис.шт",748.80000000000007,"тис.шт"]
[null,"                СГКД-4,8х95 Саморiз г/к фосфат.по дереву (фас.300)",936,"тис.шт",748.80000000000007,"тис.шт"]
[null,"            СГКМ","","","",""]
[null,"                СГКМ-3,5х25 Саморiз г/к фосфат.по металу (фас.1000)",153.6,"тис.шт",122.88,"тис.шт"]
[null,"                СГКМ-3,5х25 Саморiз г/к фосфат.по металу (фас.1000)",153.6,"тис.шт",122.88,"тис.шт"]
[null,"                СГКМ-3,5х35 Саморiз г/к фосфат.по металу (фас.1000)",182.4,"тис.шт",145.92000000000002,"тис.шт"]
[null,"                СГКМ-3,5х41 Саморiз г/к фосфат.по металу (фас.500)",228,"тис.шт",182.4,"тис.шт"]
[null,"                СГКМ-4,8х127 Саморiз г/к фосфат.по металу (фас.200)",1350,"тис.шт",1080,"тис.шт"]
[null,"                СГКМ-4,8х152 Саморiз г/к фосфат.по металу (фас.100)",1500,"тис.шт",1200,"тис.шт"]
[null,"                СГКМ-4,8х95 Саморiз г/к фосфат.по металу (фас.250)",936,"тис.шт",748.80000000000007,"тис.шт"]
[null,"            СУ","","","",""]
[null,"                СУ-2,5х10 Саморiз унiв.пот.гол.Pz-1 ЦЖ(фас.1000)",82.8,"тис.шт",66.239999999999995,"тис.шт"]
[null,"                СУ-2,5х12 Саморiз унiв.пот.гол.Pz-1 ЦЖ(фас.1000)",93.6,"тис.шт",74.88,"тис.шт"]
[null,"                СУ-2,5х13 Саморiз унiв.пот.гол.Pz-1 ЦЖ(фас.1000)",93.6,"тис.шт",74.88,"тис.шт"]
[null,"                СУ-2,5х16 Саморiз унiв.пот.гол.Pz-1 ЦЖ(фас.1000)",108,"тис.шт",86.4,"тис.шт"]
[null,"                СУ-2,5х20 Саморiз унiв.пот.гол.Pz-1 ЦЖ(мал.фас.)",118.8,"тис.шт",95.04,"тис.шт"]
[null,"                СУ-2,5х25 Саморiз унiв.пот.гол.Pz-1 ЦЖ(мал.фас.)",136.79999999999998,"тис.шт",109.44,"тис.шт"]
[null,"                СУ-3,0х12 Саморiз унiв.пот.гол.Pz-1 ЦЖ(фас.1000)",109.2,"тис.шт",87.360000000000014,"тис.шт"]
[null,"                СУ-3,0х12 Саморiз унiв.пот.гол.Pz-1 ЦЖ(фас.1000)",109.2,"тис.шт",87.360000000000014,"тис.шт"]
[null,"                СУ-3,0х12 Саморiз унiв.пот.гол.Pz-1 ЦИНК БIЛИЙ(фас.1000)",109.2,"тис.шт",87.360000000000014,"тис.шт"]
[null,"                СУ-3,0х16 Саморiз унiв.пот.гол.Pz-1 ЦЖ(фас.1000)",132,"тис.шт",105.60000000000001,"тис.шт"]
[null,"                СУ-3,0х16 Саморiз унiв.пот.гол.Pz-1 ЦЖ(фас.1000)",132,"тис.шт",105.60000000000001,"тис.шт"]
[null,"                СУ-3,0х16 Саморiз унiв.пот.гол.Pz-1 ЦИНК БIЛИЙ (фас.1000)",132,"тис.шт",105.60000000000001,"тис.шт"]
[null,"                СУ-3,0х20 Саморiз унiв.пот.гол.Pz-1 ЦЖ(фас.1000)",156,"тис.шт",124.80000000000001,"тис.шт"]
[null,"                СУ-3,0х20 Саморiз унiв.пот.гол.Pz-1 ЦЖ(фас.1000)",156,"тис.шт",124.80000000000001,"тис.шт"]
[null,"                СУ-3,0х20 Саморiз унiв.пот.гол.Pz-1 ЦИНК БIЛИЙ(фас.1000)",156,"тис.шт",124.80000000000001,"тис.шт"]
[null,"                СУ-3,0х25 Саморiз унiв.пот.гол.Pz-1 ЦЖ(фас.1000)",186,"тис.шт",148.80000000000001,"тис.шт"]
[null,"                СУ-3,0х25 Саморiз унiв.пот.гол.Pz-1 ЦЖ(фас.1000)",186,"тис.шт",148.80000000000001,"тис.шт"]
[null,"                СУ-3,0х25 Саморiз унiв.пот.гол.Pz-1 ЦИНК БIЛИЙ(фас.1000)",210,"тис.шт",168,"тис.шт"]
[null,"                СУ-3,0х30 Саморiз унiв.пот.гол.Pz-1 ЦЖ(фас.1000)",193.2,"тис.шт",154.56,"тис.шт"]
[null,"                СУ-3,0х30 Саморiз унiв.пот.гол.Pz-1 ЦЖ(фас.1000)",193.2,"тис.шт",154.56,"тис.шт"]
[null,"                СУ-3,0х30 Саморiз унiв.пот.гол.Pz-1 ЦЖ(фас.1000)",193.2,"тис.шт",154.56,"тис.шт"]
[null,"                СУ-3,0х35 Саморiз унiв.пот.гол.Pz-1 ЦЖ (фас.1000)",207.6,"тис.шт",166.08,"тис.шт"]
[null,"                СУ-3,0х35 Саморiз унiв.пот.гол.Pz-1 ЦЖ (фас.1000)",207.6,"тис.шт",166.08,"тис.шт"]
[null,"                СУ-3,0х35 Саморiз унiв.пот.гол.Pz-1 ЦЖ(фас.1000)",207.6,"тис.шт",166.08,"тис.шт"]
[null,"                СУ-3,0х35 Саморiз унiв.пот.гол.Pz-1 ЦИНК БIЛИЙ(фас.1000)",207.6,"тис.шт",166.08,"тис.шт"]
[null,"                СУ-3,0х35 Саморiз унiв.пот.гол.Pz-2 ЦЖ(фас.1000)",207.6,"тис.шт",166.08,"тис.шт"]
[null,"                СУ-3,0х40 Саморiз унiв.пот.гол.Pz-1 ЦЖ(фас.500)",254.39999999999998,"тис.шт",203.51999999999998,"тис.шт"]
[null,"                СУ-3,0х40 Саморiз унiв.пот.гол.Pz-2 ЦЖ(фас.1000)",254.39999999999998,"тис.шт",203.51999999999998,"тис.шт"]
[null,"                СУ-3,0х40 Саморiз унiв.пот.гол.Pz-2 ЦЖ(фас.1000)",254.39999999999998,"тис.шт",203.51999999999998,"тис.шт"]
[null,"                СУ-3,0х50 Саморiз унiв.пот.гол.Pz-1 ЦЖ(фас.500)",288,"тис.шт",230.4,"тис.шт"]
[null,"                СУ-3,5х12 Саморiз унiв.пот.гол.Pz-2 ЦЖ(фас.1000)",180,"тис.шт",144,"тис.шт"]
[null,"                СУ-3,5х12 Саморiз унiв.пот.гол.Pz-2 ЦЖ(фас.1000)",180,"тис.шт",144,"тис.шт"]
[null,"                СУ-3,5х16 Саморiз унiв.пот.гол.Pz-2 ЦЖ(фас.1000)",162,"тис.шт",129.6,"тис.шт"]
[null,"                СУ-3,5х16 Саморiз унiв.пот.гол.Pz-2 ЦЖ(фас.1000)",162,"тис.шт",129.6,"тис.шт"]
[null,"                СУ-3,5х16 Саморiз унiв.пот.гол.Pz-2 ЦИНК БIЛИЙ (фас.1000)",210,"тис.шт",168,"тис.шт"]
[null,"                СУ-3,5х20 Саморiз унiв.пот.гол.Pz-1 ЦЖ(фас.1000)",162,"тис.шт",129.6,"тис.шт"]
[null,"                СУ-3,5х20 Саморiз унiв.пот.гол.Pz-2 ЦЖ(фас.1000)",162,"тис.шт",129.6,"тис.шт"]
[null,"                СУ-3,5х20 Саморiз унiв.пот.гол.Pz-2 ЦИНК БIЛИЙ (фас.1000)",216,"тис.шт",172.8,"тис.шт"]
[null,"                СУ-3,5х20 Саморiз унiв.пот.гол.Pz-2 ЦИНК БIЛИЙ (фас.1000)",216,"тис.шт",172.8,"тис.шт"]
[null,"                СУ-3,5х20 Саморiз унiв.пот.гол.Pz-2 ЦИНК БIЛИЙ (фас.1000)",216,"тис.шт",172.8,"тис.шт"]
[null,"                СУ-3,5х25 Саморiз унiв.пот.гол.Pz-2 ЦЖ (фас.1000)",187.2,"тис.шт",149.76,"тис.шт"]
[null,"                СУ-3,5х25 Саморiз унiв.пот.гол.Pz-2 ЦЖ (фас.1000)",187.2,"тис.шт",149.76,"тис.шт"]
[null,"                СУ-3,5х25 Саморiз унiв.пот.гол.Pz-2 ЦЖ (фас.1000)",187.2,"тис.шт",149.76,"тис.шт"]
[null,"                СУ-3,5х25 Саморiз унiв.пот.гол.Pz-2 ЦИНК БIЛИЙ (фас.1000)",187.2,"тис.шт",149.76,"тис.шт"]
[null,"                СУ-3,5х30 Саморiз унiв.пот.гол.Pz-2 ЦЖ(фас.1000)",216,"тис.шт",172.8,"тис.шт"]
[null,"                СУ-3,5х30 Саморiз унiв.пот.гол.Pz-2 ЦЖ(фас.1000)",216,"тис.шт",172.8,"тис.шт"]
[null,"                СУ-3,5х30 Саморiз унiв.пот.гол.Pz-2 ЦИНК БIЛИЙ (фас.1000)",300,"тис.шт",240,"тис.шт"]
[null,"                СУ-3,5х35 Саморiз унiв.пот.гол.Pz-2 ЦЖ(фас.1000)",236.39999999999998,"тис.шт",189.12,"тис.шт"]
[null,"                СУ-3,5х35 Саморiз унiв.пот.гол.Pz-2 ЦЖ(фас.1000)",236.39999999999998,"тис.шт",189.12,"тис.шт"]
[null,"                СУ-3,5х35 Саморiз унiв.пот.гол.Pz-2 ЦЖ(фас.1000)",236.39999999999998,"тис.шт",189.12,"тис.шт"]
[null,"                СУ-3,5х35 Саморiз унiв.пот.гол.Pz-2 ЦИНК БIЛИЙ (фас.1000)",252,"тис.шт",201.60000000000002,"тис.шт"]
[null,"                СУ-3,5х40 Саморiз унiв.пот.гол.Pz-2 ЦЖ (фас.1000)",312,"тис.шт",249.60000000000002,"тис.шт"]
[null,"                СУ-3,5х40 Саморiз унiв.пот.гол.Pz-2 ЦЖ(фас.1000)",312,"тис.шт",249.60000000000002,"тис.шт"]
[null,"                СУ-3,5х40 Саморiз унiв.пот.гол.Pz-2 ЦЖ(фас.500)",312,"тис.шт",249.60000000000002,"тис.шт"]
[null,"                СУ-3,5х40 Саморiз унiв.пот.гол.Pz-2 ЦИНК БIЛИЙ (фас.1000)",360,"тис.шт",288,"тис.шт"]
[null,"                СУ-3,5х45 Саморiз унiв.пот.гол.Pz-2 ЦЖ(фас.500)",312,"тис.шт",249.60000000000002,"тис.шт"]
[null,"                СУ-3,5х45 Саморiз унiв.пот.гол.Pz-2 ЦЖ(фас.500)",312,"тис.шт",249.60000000000002,"тис.шт"]
[null,"                СУ-3,5х50 Саморiз унiв.пот.гол.Pz-2 ЦЖ(фас.500)",348,"тис.шт",278.40000000000003,"тис.шт"]
[null,"                СУ-3,5х50 Саморiз унiв.пот.гол.Pz-2 ЦЖ(фас.500)",348,"тис.шт",278.40000000000003,"тис.шт"]
[null,"                СУ-3,5х50 Саморiз унiв.пот.гол.Pz-2 ЦИНК БIЛИЙ (фас.500)",432,"тис.шт",345.6,"тис.шт"]
[null,"                СУ-4,0х12 Саморiз унiв.пот.гол.Pz-2 ЦЖ(фас.1000)",216,"тис.шт",172.8,"тис.шт"]
[null,"                СУ-4,0х16 Саморiз унiв.пот.гол.Pz-2 ЦЖ(фас.1000)",186,"тис.шт",148.80000000000001,"тис.шт"]
[null,"                СУ-4,0х16 Саморiз унiв.пот.гол.Pz-2 ЦЖ(фас.1000)",186,"тис.шт",148.80000000000001,"тис.шт"]
[null,"                СУ-4,0х16 Саморiз унiв.пот.гол.Pz-2 ЦИНК БIЛИЙ (фас.1000)",264,"тис.шт",211.20000000000002,"тис.шт"]
[null,"                СУ-4,0х20 Саморiз унiв.пот.гол.Pz-2 ЦЖ (фас.1000)",234,"тис.шт",187.20000000000002,"тис.шт"]
[null,"                СУ-4,0х20 Саморiз унiв.пот.гол.Pz-2 ЦЖ (фас.1000)",234,"тис.шт",187.20000000000002,"тис.шт"]
[null,"                СУ-4,0х20 Саморiз унiв.пот.гол.Pz-2 ЦИНК БIЛИЙ (фас.1000)",300,"тис.шт",240,"тис.шт"]
[null,"                СУ-4,0х25 Саморiз унiв.пот.гол.Pz-2 ЦЖ(фас.1000)",246,"тис.шт",196.8,"тис.шт"]
[null,"                СУ-4,0х25 Саморiз унiв.пот.гол.Pz-2 ЦЖ(фас.1000)",246,"тис.шт",196.8,"тис.шт"]
[null,"                СУ-4,0х25 Саморiз унiв.пот.гол.Pz-2 ЦИНК БIЛИЙ (фас.1000)",324,"тис.шт",259.2,"тис.шт"]
[null,"                СУ-4,0х30 Саморiз унiв.пот.гол.Pz-2 ЦЖ(фас.1000)",300,"тис.шт",240,"тис.шт"]
[null,"                СУ-4,0х30 Саморiз унiв.пот.гол.Pz-2 ЦЖ(фас.1000)",300,"тис.шт",240,"тис.шт"]
[null,"                СУ-4,0х30 Саморiз унiв.пот.гол.Pz-2 ЦЖ(фас.1000)",300,"тис.шт",240,"тис.шт"]
[null,"                СУ-4,0х30 Саморiз унiв.пот.гол.Pz-2 ЦИНК БIЛИЙ (фас.1000)",378,"тис.шт",302.40000000000003,"тис.шт"]
[null,"                СУ-4,0х35 Саморiз унiв.пот.гол.Pz-2 ЦЖ(фас.1000)",330,"тис.шт",264,"тис.шт"]
[null,"                СУ-4,0х35 Саморiз унiв.пот.гол.Pz-2 ЦЖ(фас.1000)",330,"тис.шт",264,"тис.шт"]
[null,"                СУ-4,0х35 Саморiз унiв.пот.гол.Pz-2 ЦЖ(фас.500)",330,"тис.шт",264,"тис.шт"]
[null,"                СУ-4,0х40 Саморiз унiв.пот.гол.Pz-2 ЦЖ(фас.1000)",403.2,"тис.шт",322.56,"тис.шт"]
[null,"                СУ-4,0х40 Саморiз унiв.пот.гол.Pz-2 ЦЖ(фас.500)",403.2,"тис.шт",322.56,"тис.шт"]
[null,"                СУ-4,0х40 Саморiз унiв.пот.гол.Pz-2 ЦИНК БIЛИЙ (фас.1000)",403.2,"тис.шт",322.56,"тис.шт"]
[null,"                СУ-4,0х40 Саморiз унiв.пот.гол.Pz-2 ЦИНК БIЛИЙ (фас.500)",576,"тис.шт",460.8,"тис.шт"]
[null,"                СУ-4,0х40 Саморiз унiв.пот.гол.Pz-2 ЦИНК БІЛИЙ (фас.1000)",576,"тис.шт",460.8,"тис.шт"]
[null,"                СУ-4,0х45 Саморiз унiв.пот.гол.Pz-2 ЦЖ(фас.500)",468,"тис.шт",374.40000000000003,"тис.шт"]
[null,"                СУ-4,0х45 Саморiз унiв.пот.гол.Pz-2 ЦЖ(фас.500)",468,"тис.шт",374.40000000000003,"тис.шт"]
[null,"                СУ-4,0х45 Саморiз унiв.пот.гол.Pz-2 ЦИНК БIЛИЙ (фас.1000)",636,"тис.шт",508.8,"тис.шт"]
[null,"                СУ-4,0х50 Саморiз унiв.пот.гол.Pz-2 ЦЖ(фас.500)",456,"тис.шт",364.8,"тис.шт"]
[null,"                СУ-4,0х50 Саморiз унiв.пот.гол.Pz-2 ЦЖ(фас.500)",456,"тис.шт",364.8,"тис.шт"]
[null,"                СУ-4,0х50 Саморiз унiв.пот.гол.Pz-2 ЦИНК БIЛИЙ (фас.500)",696,"тис.шт",556.80000000000007,"тис.шт"]
[null,"                СУ-4,0х60 Саморiз унiв.пот.гол.Pz-2 ЦЖ(фас.250)",576,"тис.шт",460.8,"тис.шт"]
[null,"                СУ-4,0х60 Саморiз унiв.пот.гол.Pz-2 ЦЖ(фас.500)",576,"тис.шт",460.8,"тис.шт"]
[null,"                СУ-4,0х70 Саморiз унiв.пот.гол.Pz-2 ЦЖ(фас.250)",624,"тис.шт",499.20000000000005,"тис.шт"]
[null,"                СУ-4,0х70 Саморiз унiв.пот.гол.Pz-2 ЦЖ(фас.500)",624,"тис.шт",499.20000000000005,"тис.шт"]
[null,"                СУ-4,0х80 ч/р Саморiз унiв.пот.гол.Pz-2 ЦЖ(фас.500)",924,"тис.шт",739.2,"тис.шт"]
[null,"                СУ-4,5х16 Саморiз унiв.пот.гол.Pz-2 ЦЖ",187.2,"тис.шт",149.76,"тис.шт"]
[null,"                СУ-4,5х20 Саморiз унiв.пот.гол.Pz-2 ЦЖ(фас.500)",216,"тис.шт",172.8,"тис.шт"]
[null,"                СУ-4,5х25 Саморiз унiв.пот.гол.Pz-2 ЦЖ(фас.500)",316.8,"тис.шт",253.44000000000003,"тис.шт"]
[null,"                СУ-4,5х25 Саморiз унiв.пот.гол.Pz-2 ЦИНК БIЛИЙ (фас.500)",316.8,"тис.шт",253.44000000000003,"тис.шт"]
[null,"                СУ-4,5х30 Саморiз унiв.пот.гол.Pz-2 ЦЖ(фас.500)",432,"тис.шт",345.6,"тис.шт"]
[null,"                СУ-4,5х35 Саморiз унiв.пот.гол.Pz-2 ЦЖ(фас.500)",504,"тис.шт",403.20000000000005,"тис.шт"]
[null,"                СУ-4,5х40 Саморiз унiв.пот.гол.Pz-2 ЦЖ(фас.500)",612,"тис.шт",489.6,"тис.шт"]
[null,"                СУ-4,5х45 Саморiз унiв.пот.гол.Pz-2 ЦЖ(фас.500)",648,"тис.шт",518.4,"тис.шт"]
[null,"                СУ-4,5х50 Саморiз унiв.пот.гол.Pz-2 ЦЖ",720,"тис.шт",576,"тис.шт"]
[null,"                СУ-4,5х60 Саморiз унiв.пот.гол.Pz-2 ЦЖ(фас.500)",864,"тис.шт",691.2,"тис.шт"]
[null,"                СУ-4,5х60 ч/р Саморiз унiв.пот.гол.Pz-2 ЦЖ(фас.500)",864,"тис.шт",691.2,"тис.шт"]
[null,"                СУ-4,5х70 ч/р Саморiз унiв.пот.гол.Pz-2 ЦЖ(фас.500)",936,"тис.шт",748.80000000000007,"тис.шт"]
[null,"                СУ-4,5х80 ч/р Саморiз унiв.пот.гол.Pz-2 ЦЖ(фас.200)",1008,"тис.шт",806.40000000000009,"тис.шт"]
[null,"                СУ-5,0х100 Саморiз унiв.пот.гол.Pz-2 ЦЖ(фас.100)",1368,"тис.шт",1094.4000000000001,"тис.шт"]
[null,"                СУ-5,0х100 Саморiз унiв.пот.гол.Pz-2 ЦЖ(фас.100)",1368,"тис.шт",1094.4000000000001,"тис.шт"]
[null,"                СУ-5,0х120 Саморiз унiв.пот.гол.Pz-2 ЦЖ(фас.100)",1920,"тис.шт",1536,"тис.шт"]
[null,"                СУ-5,0х20 Саморiз унiв.пот.гол.Pz-2 ЦЖ(фас.1000)",336,"тис.шт",268.8,"тис.шт"]
[null,"                СУ-5,0х20 Саморiз унiв.пот.гол.Pz-2 ЦЖ(фас.500)",336,"тис.шт",268.8,"тис.шт"]
[null,"                СУ-5,0х20 Саморiз унiв.пот.гол.Pz-2 ЦИНК БIЛИЙ (фас.500)",432,"тис.шт",345.6,"тис.шт"]
[null,"                СУ-5,0х25 Саморiз унiв.пот.гол.Pz-2 ЦЖ(фас.500)",384,"тис.шт",307.20000000000005,"тис.шт"]
[null,"                СУ-5,0х25 Саморiз унiв.пот.гол.Pz-2 ЦЖ(фас.500)",384,"тис.шт",307.20000000000005,"тис.шт"]
[null,"                СУ-5,0х25 Саморiз унiв.пот.гол.Pz-2 ЦИНК БIЛИЙ (фас.500)",504,"тис.шт",403.20000000000005,"тис.шт"]
[null,"                СУ-5,0х30 Саморiз унiв.пот.гол.Pz-2 ЦЖ(фас.500)",468,"тис.шт",374.40000000000003,"тис.шт"]
[null,"                СУ-5,0х30 Саморiз унiв.пот.гол.Pz-2 ЦЖ(фас.500)",468,"тис.шт",374.40000000000003,"тис.шт"]
[null,"                СУ-5,0х30 Саморiз унiв.пот.гол.Pz-2 ЦИНК БIЛИЙ (фас.500)",600,"тис.шт",480,"тис.шт"]
[null,"                СУ-5,0х30 Саморiз унiв.пот.гол.Pz-2 ЦИНК БIЛИЙ (фас.500)",600,"тис.шт",480,"тис.шт"]
[null,"                СУ-5,0х35 Саморiз унiв.пот.гол.Pz-2 ЦЖ(фас.500)",504,"тис.шт",403.20000000000005,"тис.шт"]
[null,"                СУ-5,0х35 Саморiз унiв.пот.гол.Pz-2 ЦЖ(фас.500)",504,"тис.шт",403.20000000000005,"тис.шт"]
[null,"                СУ-5,0х40 Саморiз унiв.пот.гол.Pz-2 ЦЖ(фас.250)",612,"тис.шт",489.6,"тис.шт"]
[null,"                СУ-5,0х40 Саморiз унiв.пот.гол.Pz-2 ЦЖ(фас.250)",612,"тис.шт",489.6,"тис.шт"]
[null,"                СУ-5,0х40 Саморiз унiв.пот.гол.Pz-2 ЦЖ(фас.500)",612,"тис.шт",489.6,"тис.шт"]
[null,"                СУ-5,0х40 Саморiз унiв.пот.гол.Pz-2 ЦИНК БIЛИЙ (фас.500)",720,"тис.шт",576,"тис.шт"]
[null,"                СУ-5,0х45 Саморiз унiв.пот.гол.Pz-2 ЦЖ(фас.500)",732,"тис.шт",585.6,"тис.шт"]
[null,"                СУ-5,0х50 Саморiз унiв.пот.гол.Pz-2 ЦЖ(фас.200)",744,"тис.шт",595.20000000000005,"тис.шт"]
[null,"                СУ-5,0х50 Саморiз унiв.пот.гол.Pz-2 ЦЖ(фас.500)",744,"тис.шт",595.20000000000005,"тис.шт"]
[null,"                СУ-5,0х50 Саморiз унiв.пот.гол.Pz-2 ЦИНК БIЛИЙ (фас.500)",804,"тис.шт",643.20000000000005,"тис.шт"]
[null,"                СУ-5,0х60 Саморiз унiв.пот.гол.Pz-2 ЦЖ(фас.200)",852,"тис.шт",681.6,"тис.шт"]
[null,"                СУ-5,0х60 Саморiз унiв.пот.гол.Pz-2 ЦЖ(фас.500)",852,"тис.шт",681.6,"тис.шт"]
[null,"                СУ-5,0х60 Саморiз унiв.пот.гол.Pz-2 ЦИНК БIЛИЙ (фас.500)",996,"тис.шт",796.80000000000007,"тис.шт"]
[null,"                СУ-5,0х70 Саморiз унiв.пот.гол.Pz-2 ЦЖ (фас.200)",978,"тис.шт",782.40000000000009,"тис.шт"]
[null,"                СУ-5,0х70 Саморiз унiв.пот.гол.Pz-2 ЦЖ(фас.200)",978,"тис.шт",782.40000000000009,"тис.шт"]
[null,"                СУ-5,0х70 Саморiз унiв.пот.гол.Pz-2 ЦЖ(фас.200)",978,"тис.шт",782.40000000000009,"тис.шт"]
[null,"                СУ-5,0х70 Саморiз унiв.пот.гол.Pz-2 ЦЖ(фас.200)",978,"тис.шт",782.40000000000009,"тис.шт"]
[null,"                СУ-5,0х80 Саморiз унiв.пот.гол.Pz-2 ЦЖ (фас.200)",1140,"тис.шт",912,"тис.шт"]
[null,"                СУ-5,0х80 Саморiз унiв.пот.гол.Pz-2 ЦЖ(фас.100)",1140,"тис.шт",912,"тис.шт"]
[null,"                СУ-5,0х80 Саморiз унiв.пот.гол.Pz-2 ЦЖ(фас.200)",1140,"тис.шт",912,"тис.шт"]
[null,"                СУ-5,0х80 Саморiз унiв.пот.гол.Pz-2 ЦЖ(фас.200)",1140,"тис.шт",912,"тис.шт"]
[null,"                СУ-5,0х80 Саморiз унiв.пот.гол.Pz-2 ЦИНК БIЛИЙ (фас.200)",1140,"тис.шт",912,"тис.шт"]
[null,"                СУ-5,0х90 Саморiз унiв.пот.гол.Pz-2 ЦЖ(фас.100)",1272,"тис.шт",1017.6,"тис.шт"]
[null,"                СУ-5,0х90 Саморiз унiв.пот.гол.Pz-2 ЦЖ(фас.200)",1272,"тис.шт",1017.6,"тис.шт"]
[null,"                СУ-6,0х100 Саморiз унiв.пот.гол.Pz-3 ЦЖ(фас.100)",1992,"тис.шт",1593.6000000000001,"тис.шт"]
[null,"                СУ-6,0х100 Саморiз унiв.пот.гол.Pz-3 ЦЖ(фас.100)",1992,"тис.шт",1593.6000000000001,"тис.шт"]
[null,"                СУ-6,0х120 Саморiз унiв.пот.гол.Pz-3 ЦЖ(фас.100)",2364,"тис.шт",1891.2,"тис.шт"]
[null,"                СУ-6,0х120 Саморiз унiв.пот.гол.Pz-3 ЦЖ(фас.100)",2364,"тис.шт",1891.2,"тис.шт"]
[null,"                СУ-6,0х140 Саморiз унiв.пот.гол.Pz-3 ЦЖ(фас.100)",3120,"тис.шт",2496,"тис.шт"]
[null,"                СУ-6,0х140 Саморiз унiв.пот.гол.Pz-3 ЦЖ(фас.100)",3120,"тис.шт",2496,"тис.шт"]
[null,"                СУ-6,0х160 Саморiз унiв.пот.гол.Pz-3 ЦЖ(фас.100)",3276,"тис.шт",2620.8000000000002,"тис.шт"]
[null,"                СУ-6,0х160 Саморiз унiв.пот.гол.Pz-3 ЦЖ(фас.100)",3276,"тис.шт",2620.8000000000002,"тис.шт"]
[null,"                СУ-6,0х180 Саморiз унiв.пот.гол.Pz-3 ЦЖ(фас.100)",4920,"тис.шт",3936,"тис.шт"]
[null,"                СУ-6,0х200 Саморiз унiв.пот.гол.Pz-3 ЦЖ",5520,"тис.шт",4416,"тис.шт"]
[null,"                СУ-6,0х200 Саморiз унiв.пот.гол.Pz-3 ЦЖ(фас.100)",5520,"тис.шт",4416,"тис.шт"]
[null,"                СУ-6,0х200 Саморiз унiв.пот.гол.Pz-3 ЦЖ(фас.100)",5520,"тис.шт",4416,"тис.шт"]
[null,"                СУ-6,0х30 Саморiз унiв.пот.гол.Pz-3 ЦЖ(фас.200)",948,"тис.шт",758.40000000000009,"тис.шт"]
[null,"                СУ-6,0х40 Саморiз унiв.пот.гол.Pz-3 ЦЖ(фас.200)",972,"тис.шт",777.6,"тис.шт"]
[null,"                СУ-6,0х40 Саморiз унiв.пот.гол.Pz-3 ЦИНК БIЛИЙ (фас.200)",972,"тис.шт",777.6,"тис.шт"]
[null,"                СУ-6,0х40 Саморiз унiв.пот.гол.Pz-3 ЦИНК БIЛИЙ (фас.200)",972,"тис.шт",777.6,"тис.шт"]
[null,"                СУ-6,0х45 Саморiз унiв.пот.гол.Pz-3 ЦЖ(фас.200)",996,"тис.шт",796.80000000000007,"тис.шт"]
[null,"                СУ-6,0х50 Саморiз унiв.пот.гол.Pz-3 ЦЖ(фас.200)",1110,"тис.шт",888,"тис.шт"]
[null,"                СУ-6,0х50 Саморiз унiв.пот.гол.Pz-3 ЦЖ(фас.200)",1110,"тис.шт",888,"тис.шт"]
[null,"                СУ-6,0х60 Саморiз унiв.пот.гол.Pz-3 ЦЖ (фас.200)",1296,"тис.шт",1036.8,"тис.шт"]
[null,"                СУ-6,0х60 Саморiз унiв.пот.гол.Pz-3 ЦЖ(фас.200)",1296,"тис.шт",1036.8,"тис.шт"]
[null,"                СУ-6,0х60 Саморiз унiв.пот.гол.Pz-3 ЦИНК БIЛИЙ (фас.200)",1440,"тис.шт",1152,"тис.шт"]
[null,"                СУ-6,0х70 ч/р Саморiз унiв.пот.гол.Pz-3 ЦЖ (фас.100)",1464,"тис.шт",1171.2,"тис.шт"]
[null,"                СУ-6,0х70 ч/р Саморiз унiв.пот.гол.Pz-3 ЦЖ(фас.100)",1464,"тис.шт",1171.2,"тис.шт"]
[null,"                СУ-6,0х80 ч/р Саморiз унiв.пот.гол.Pz-3 ЦЖ(фас.100)",1632,"тис.шт",1305.6000000000001,"тис.шт"]
[null,"                СУ-6,0х80 ч/р Саморiз унiв.пот.гол.Pz-3 ЦЖ(фас.100)",1632,"тис.шт",1305.6000000000001,"тис.шт"]
[null,"                СУ-6,0х90 ч/р Саморiз унiв.пот.гол.Pz-3 ЦЖ(фас.100)",1956,"тис.шт",1564.8000000000002,"тис.шт"]
[null,"                СУ-6,0х90 ч/р Саморiз унiв.пот.гол.Pz-3 ЦЖ(фас.100)",1956,"тис.шт",1564.8000000000002,"тис.шт"]
[null,"            СУ НЕРЖАВІЮЧІ","","","",""]
[null,"                СУ-3,5х25 нержавіючий Шуруп універсальний А2  пот.гол.",67.2,100,53.760000000000005,100]
[null,"                СУ-3,5х35 нержавіючий Шуруп універсальний А2  пот.гол.",75.599999999999994,100,60.48,100]
[null,"                СУ-3,5х50 нержавіючий Шуруп універсальний А2  пот.гол.",115.19999999999999,100,92.16,100]
[null,"            ТЕКС","","","",""]
[null,"                ТЕКС-3,5х9,5 Гвинт самосв.гриб.гол.фосфат. (фас.1000)",202.79999999999998,"тис.шт",162.24,"тис.шт"]
[null,"                ТЕКС-3,5х9,5 Гвинт самосв.гриб.гол.фосфат.(фас.1000)",202.79999999999998,"тис.шт",162.24,"тис.шт"]
[null,"                ТЕКС-3,5х9,5 Гвинт самосв.гриб.гол.ЦБ (фас.1000)",202.79999999999998,"тис.шт",162.24,"тис.шт"]
[null,"                ТЕКС-3,5х9,5 Гвинт самосв.гриб.гол.ЦБ (фас.1000)",202.79999999999998,"тис.шт",162.24,"тис.шт"]
[null,"                ТЕКС-3,5х9,5 Гвинт самосв.гриб.гол.ЦБ (фас.1000) /EU",202.79999999999998,"тис.шт",162.24,"тис.шт"]
[null,"                ТЕКС-3,9х19 нерж.А2 Гвинт самосв.пкр.гол.Рн-2",259.2,100,207.36,100]
[null,"                ТЕКС-4,8х16 нерж.А2 Гвинт самосв.пкр.гол.Рн-2",208.79999999999998,100,167.04,100]
[null,"            Шурупи шг. по дереву","","","",""]
[null,"                К-6х100 Шуруп по дереву шг.гол.ЦБ ГОСТ 11473",324,100,259.2,100]
[null,"                К-6х120 Шуруп по дереву шг.гол.ЦБ ГОСТ 11473",384,100,307.20000000000005,100]
[null,"                К-6х120 Шуруп по дереву шг.гол.ЦБ ГОСТ 11473 (фас.100)",384,100,307.20000000000005,100]
[null,"                К-6х50 Шуруп по дереву шг.гол.ЦБ DIN 571 (фас.100)",144,100,115.2,100]
[null,"                К-6х50 Шуруп по дереву шг.гол.ЦБ ГОСТ 11473/DIN 571",144,100,115.2,100]
[null,"                К-6х60 Шуруп по дереву шг.гол.ЦБ ГОСТ 11473 (фас.100)",168,100,134.4,100]
[null,"                К-6х70 Шуруп по дереву шг.гол.ЦБ ГОСТ 11473 (фас.100)",192,100,153.60000000000002,100]
[null,"                К-6х70 Шуруп по дереву шг.гол.ЦБ ГОСТ 11473 (фас.200)",192,100,153.60000000000002,100]
[null,"                К-6х80 Шуруп по дереву шг.гол.ЦБ ГОСТ 11473",216,100,172.8,100]
[null,"                К-6х80 Шуруп по дереву шг.гол.ЦБ ГОСТ 11473 (фас.100)",216,100,172.8,100]
[null,"                К-6х80 Шуруп по дереву шг.гол.ЦБ ГОСТ 11473 (фас.100)",216,100,172.8,100]
[null,"                К-6х90 Шуруп по дереву шг.гол.ЦБ ГОСТ 11473 (фас.100)",288,100,230.4,100]
[null,"                К-8х100 Шуруп по дереву шг.гол.ЦБ DIN 571 (фас.100)",504,100,403.20000000000005,100]
[null,"                К-8х100 Шуруп по дереву шг.гол.ЦБ ГОСТ 11473",504,100,403.20000000000005,100]
[null,"                К-8х120 Шуруп по дереву шг.гол.ЦБ DIN 571  (фас.100)",600,100,480,100]
[null,"                К-8х120 Шуруп по дереву шг.гол.ЦБ DIN 571  (фас.100)",600,100,480,100]
[null,"                К-8х120 Шуруп по дереву шг.гол.ЦБ ГОСТ 11473",600,100,480,100]
[null,"                К-8х140 Шуруп по дереву шг.гол.ЦБ DIN 571  (фас.50)",696,100,556.80000000000007,100]
[null,"                К-8х140 Шуруп по дереву шг.гол.ЦБ ГОСТ 11473",696,100,556.80000000000007,100]
[null,"                К-8х160 Шуруп по дереву шг.гол.ЦБ DIN 571 (фас.50)",816,100,652.80000000000007,100]
[null,"                К-8х160 Шуруп по дереву шг.гол.ЦБ DIN 571 (фас.50)",816,100,652.80000000000007,100]
[null,"                К-8х160 Шуруп по дереву шг.гол.ЦБ DIN 571 (фас.50)",816,100,652.80000000000007,100]
[null,"                К-8х160 Шуруп по дереву шг.гол.ЦБ DIN 571 (фас.50)",816,100,652.80000000000007,100]
[null,"                К-8х160 Шуруп по дереву шг.гол.ЦБ DIN 571 (фас.50)",816,100,652.80000000000007,100]
[null,"                К-8х160 Шуруп по дереву шг.гол.ЦБ ГОСТ 11473",816,100,652.80000000000007,100]
[null,"                К-8х180 Шуруп по дереву шг.гол.ЦБ ГОСТ 11473",996,100,796.80000000000007,100]
[null,"                К-8х200 Шуруп по дереву шг.гол.ЦБ DIN 571",996,100,796.80000000000007,100]
[null,"                К-8х200 Шуруп по дереву шг.гол.ЦБ DIN 571",996,100,796.80000000000007,100]
[null,"                К-8х50 Шуруп по дереву шг.гол.ЦБ ГОСТ 11473",360,100,288,100]
[null,"                К-8х50 Шуруп по дереву шг.гол.ЦБ ГОСТ 11473 (фас.100)",300,100,240,100]
[null,"                К-8х60 Шуруп по дереву шг.гол.ЦБ ГОСТ 11473 (фас.100)",384,100,307.20000000000005,100]
[null,"                К-8х70 Шуруп по дереву шг.гол.ЦБ ГОСТ 11473",408,100,326.40000000000003,100]
[null,"                К-8х80 Шуруп по дереву шг.гол.ЦБ DIN 571",432,100,345.6,100]
[null,"                К-8х80 Шуруп по дереву шг.гол.ЦБ ГОСТ 11473",432,100,345.6,100]
[null,"                К-8х80 Шуруп по дереву шг.гол.ЦБ ГОСТ 11473  (фас.100)",432,100,345.6,100]
[null,"                К-8х80 Шуруп по дереву шг.гол.ЦБ ГОСТ 11473 (фас.100)",432,100,345.6,100]
[null,"                К-8х90 Шуруп по дереву шг.гол.ЦБ DIN 571  (фас.100)",468,100,374.40000000000003,100]
[null,"                К-8х90 Шуруп по дереву шг.гол.ЦБ ГОСТ 11473  (фас.100)",468,100,374.40000000000003,100]
[null,"            Шурупи шг. по дереву НЕРЖ","","","",""]
[null,"                К-10х60 Шуруп по дереву шг.гол. нерж. А2 DIN 571",2040,100,1632,100]
[null,"                К-10х60 Шуруп по дереву шг.гол. нерж. А2 DIN 571",1422,100,1137.6000000000001,100]
[null,"                К-10х80 Шуруп по дереву шг.гол. нерж. А2 DIN 571",2280,100,1824,100]
[null,"                К-10х80 Шуруп по дереву шг.гол. нерж. А2 DIN 571",2280,100,1824,100]
[null,"                К-5х50 Шуруп по дереву шг.гол. нерж. А2 DIN 571",600,100,480,100]
[null,"                К-5х60 Шуруп по дереву шг.гол. нерж. А2 DIN 571",780,100,624,100]
[null,"                К-5х80 Шуруп по дереву шг.гол. нерж. А2 DIN 571",900,100,720,100]
[null,"                К-6х120 Шуруп по дереву шг.гол. нерж. А2 DIN 571",1440,100,1152,100]
[null,"                К-6х60 Шуруп по дереву шг.гол. нерж. А2 DIN 571",900,100,720,100]
[null,"                К-6х60 Шуруп по дереву шг.гол. нерж. А2 DIN 571",900,100,720,100]
[null,"                К-6х80 Шуруп по дереву шг.гол. нерж. А2 DIN 571",1200,100,960,100]
[null,"                К-6х80 Шуруп по дереву шг.гол. нерж. А2 DIN 571",1200,100,960,100]
[null,"                К-8х120 Шуруп по дереву шг.гол. нерж. А2 DIN 571",2160,100,1728,100]
[null,"                К-8х60 Шуруп по дереву шг.гол. нерж. А2 DIN 571",1200,100,960,100]
[null,"                К-8х60 Шуруп по дереву шг.гол. нерж. А2 DIN 571",1200,100,960,100]
[null,"                К-8х80 Шуруп по дереву шг.гол. нерж. А2 DIN 571",1440,100,1152,100]
[null,"                К-8х80 Шуруп по дереву шг.гол. нерж. А2 DIN 571",1440,100,1152,100]
[null,"        Стрижні різьбові","","","",""]
[null,"            Стрижні різьбові ПГО","","","",""]
[null,"                ПГО М10х1000 Стрижень рiзьбовий ЦБ DIN 975",4800,100,3840,100]
[null,"                ПГО М10х1000 Стрижень рiзьбовий ЦБ DIN 975",4800,100,3840,100]
[null,"                ПГО М10х1000 Стрижень рiзьбовий ЦБ DIN 975",4800,100,3840,100]
[null,"                ПГО М12х1000 Стрижень рiзьбовий кл.міц 5.8 ЦБ DIN 975",7200,100,5760,100]
[null,"                ПГО М12х1000 Стрижень рiзьбовий ЦБ DIN 975",7020,100,5616,100]
[null,"                ПГО М12х1000 Стрижень рiзьбовий ЦБ DIN 975",7020,100,5616,100]
[null,"                ПГО М12х1000 Стрижень рiзьбовий ЦБ DIN 975",7020,100,5616,100]
[null,"                ПГО М14х1000 Стрижень рiзьбовий ЦБ DIN 975",9960,100,7968,100]
[null,"                ПГО М14х1000 Стрижень рiзьбовий ЦБ DIN 975",9960,100,7968,100]
[null,"                ПГО М14х2000 Стрижень рiзьбовий ЦБ DIN 975",21600,100,17280,100]
[null,"                ПГО М16х1000 Стрижень рiзьбовий ЦБ DIN 975",13800,100,11040,100]
[null,"                ПГО М16х1000 Стрижень рiзьбовий ЦБ DIN 975",13800,100,11040,100]
[null,"                ПГО М18х1000 Стрижень рiзьбовий ЦБ DIN 975",18600,100,14880,100]
[null,"                ПГО М20х1000 Стрижень рiзьбовий ЦБ DIN 975",21000,100,16800,100]
[null,"                ПГО М20х1000 Стрижень рiзьбовий ЦБ DIN 975",21000,100,16800,100]
[null,"                ПГО М20х2000 Стрижень рiзьбовий ЦБ DIN 975",42000,100,33600,100]
[null,"                ПГО М20х2000 Стрижень рiзьбовий ЦБ DIN 975",42000,100,33600,100]
[null,"                ПГО М20х2000 Стрижень рiзьбовий ЦБ DIN 975",42000,100,33600,100]
[null,"                ПГО М24х1000 Стрижень рiзьбовий ЦБ DIN 975",32400,100,25920,100]
[null,"                ПГО М24х1000 Стрижень рiзьбовий ЦБ DIN 975",32400,100,25920,100]
[null,"                ПГО М24х1000 Стрижень рiзьбовий ЦБ DIN 975",32400,100,25920,100]
[null,"                ПГО М27х1000 Стрижень рiзьбовий ЦБ DIN 975",44400,100,35520,100]
[null,"                ПГО М27х1000 Стрижень рiзьбовий ЦБ DIN 975",44400,100,35520,100]
[null,"                ПГО М30х1000 Стрижень рiзьбовий ЦБ DIN 975",46800,100,37440,100]
[null,"                ПГО М4х1000 Стрижень рiзьбовий ЦБ DIN 975",973.19999999999993,100,778.56,100]
[null,"                ПГО М4х1000 Стрижень рiзьбовий ЦБ DIN 975",973.19999999999993,100,778.56,100]
[null,"                ПГО М4х1000 Стрижень рiзьбовий ЦБ DIN 975",973.19999999999993,100,778.56,100]
[null,"                ПГО М5х1000 Стрижень рiзьбовий ЦБ DIN 975",1635.6,100,1308.48,100]
[null,"                ПГО М5х1000 Стрижень рiзьбовий ЦБ DIN 975",1635.6,100,1308.48,100]
[null,"                ПГО М6х1000 Стрижень рiзьбовий ЦБ DIN 975",1700.3999999999999,100,1360.32,100]
[null,"                ПГО М6х1000 Стрижень рiзьбовий ЦБ DIN 975",1700.3999999999999,100,1360.32,100]
[null,"                ПГО М6х1000 Стрижень рiзьбовий ЦБ DIN 975",1700.3999999999999,100,1360.32,100]
[null,"                ПГО М6х2000 Стрижень рiзьбовий ЦБ DIN 975",3400.7999999999997,100,2720.64,100]
[null,"                ПГО М6х2000 Стрижень рiзьбовий ЦБ DIN 975",3400.7999999999997,100,2720.64,100]
[null,"                ПГО М8х1000 Стрижень рiзьбовий ЦБ DIN 975",3000,100,2400,100]
[null,"                ПГО М8х1000 Стрижень рiзьбовий ЦБ DIN 975",3000,100,2400,100]
[null,"                ПГО М8х1000 Стрижень рiзьбовий ЦБ DIN 975",3000,100,2400,100]
[null,"            Стрижні різьбові ПГО НЕРЖ","","","",""]
[null,"                ПГО М10х1000  А2 Стрижень рiзьбовий нержавіючий DIN 975",14400,100,11520,100]
[null,"                ПГО М10х1000  А2 Стрижень рiзьбовий нержавіючий DIN 975",14400,100,11520,100]
[null,"                ПГО М10х1000  А4 Стрижень рiзьбовий нержавіючий DIN 975",58200,100,46560,100]
[null,"                ПГО М12х1000  А2 Стрижень рiзьбовий нержавіючий DIN 975",21600,100,17280,100]
[null,"                ПГО М12х1000  А2 Стрижень рiзьбовий нержавіючий DIN 975",21600,100,17280,100]
[null,"                ПГО М16х1000  А2 Стрижень рiзьбовий нержавіючий DIN 975",36000,100,28800,100]
[null,"                ПГО М16х1000  А2 Стрижень рiзьбовий нержавіючий DIN 975",36000,100,28800,100]
[null,"                ПГО М16х1000  А4 Стрижень рiзьбовий нержавіючий DIN 975",44400,100,35520,100]
[null,"                ПГО М18х1000  А2 Стрижень рiзьбовий нержавіючий DIN 975",54000,100,43200,100]
[null,"                ПГО М20х1000  А2 Стрижень рiзьбовий нержавіючий DIN 975",62400,100,49920,100]
[null,"                ПГО М20х1000  А4 Стрижень рiзьбовий  нержавіючій DIN 976",69600,100,55680,100]
[null,"                ПГО М20х1000  А4 Стрижень рiзьбовий нержавіючий DIN 975",69600,100,55680,100]
[null,"                ПГО М20х1000  А4 Стрижень рiзьбовий нержавіючий DIN 975",69600,100,55680,100]
[null,"                ПГО М24х1000  А2 Стрижень рiзьбовий нержавіючий DIN 975",78000,100,62400,100]
[null,"                ПГО М24х1000  А4 Стрижень рiзьбовий нержавіючий DIN 975",99600,100,79680,100]
[null,"                ПГО М30х1000  А2 Стрижень рiзьбовий нержавіючий DIN 975",109200,100,87360,100]
[null,"                ПГО М30х1000  А4 Стрижень рiзьбовий нержавіючий DIN 975",144000,100,115200,100]
[null,"                ПГО М6х1000  А2 Стрижень рiзьбовий нержавіючий DIN 975",6000,100,4800,100]
[null,"                ПГО М8х1000  А2 Стрижень рiзьбовий нержавіючий DIN 975",7200,100,5760,100]
[null,"                ПГО М8х1000  А2 Стрижень рiзьбовий нержавіючий DIN 975",7200,100,5760,100]
[null,"        Такелаж","","","",""]
[null,"            Зажими для тросу","","","",""]
[null,"                ЗТ-10 Зажим для троса ЦБ",48,"шт",38.400000000000006,"шт"]
[null,"                ЗТ-10 Зажим для троса ЦБ",48,"шт",38.400000000000006,"шт"]
[null,"            Карабіни","","","",""]
[null,"                КПЗ-М8 Карабiн пожежний БЕЗ ЗАМКА ЦБ",48,"шт",38.400000000000006,"шт"]
[null,"                КШ-М20 Карабiн шекля ЦБ",300,"шт",240,"шт"]
[null,"            Коуши","","","",""]
[null,"                Коуш-10",24,"шт",19.200000000000003,"шт"]
[null,"                Коуш-12",30,"шт",24,"шт"]
[null,"                Коуш-16",42,"шт",33.6,"шт"]
[null,"                Коуш-5",12,"шт",9.6000000000000014,"шт"]
[null,"                Коуш-5",12,"шт",9.6000000000000014,"шт"]
[null,"                Коуш-6",18,"шт",14.4,"шт"]
[null,"                Коуш-8",21.599999999999998,"шт",17.279999999999998,"шт"]
[null,"            Рим-болти","","","",""]
[null,"                БК-М14х2 Рим-болт (болт з кiльцем) ЦБ",90,"шт",72,"шт"]
[null,"                БК-М64х6,0 Рим-болт (болт з кiльцем) ЦБ",5220,"шт",4176,"шт"]
[null,"                БК-М64х6,0 Рим-болт (болт з кiльцем) ЦБ",5220,"шт",4176,"шт"]
[null,"            Рим-гайки","","","",""]
[null,"                ГК-М20х2,5 Рим-гайка (гайка з кiльцем) ЦБ",120,"шт",96,"шт"]
[null,"                ГК-М24х3 Рим-гайка (гайка з кiльцем) ЦБ",180,"шт",144,"шт"]
[null,"                ГК-М30х3,5 Рим-гайка (гайка з кiльцем) ЦБ",300,"шт",240,"шт"]
[null,"            Стяжки гартовані","","","",""]
[null,"                СУУ-М12х125 Стяжка гартована вухо-вухо ЦБ",60,"шт",48,"шт"]
[null,"        Цвяхи","","","",""]
[null,"            ГМШ-1,2х17 Цвях обміднений, широка шляпка",120,"кг",96,"кг"]
[null,"            ЦБ 5,0х115 Цвях будiвельний",216,100,172.8,100]
[null,"        Шайби","","","",""]
[null,"            Шайби багатолапчасті","","","",""]
[null,"                ШБ-10 Шайба багатолапчаста ГОСТ 11872-89",624,100,499.20000000000005,100]
[null,"                ШБ-12 Шайба багатолапчаста ГОСТ 11872-89",612,100,489.6,100]
[null,"                ШБ-27 Шайба багатолапчаста ГОСТ 11872-89",1680,100,1344,100]
[null,"                ШБ-33 Шайба багатолапчаста ГОСТ 11872-89",2220,100,1776,100]
[null,"                ШБ-39 Шайба багатолапчаста ГОСТ 11872-89",2400,100,1920,100]
[null,"                ШБ-45 Шайба багатолапчаста ГОСТ 11872-89",3636,100,2908.8,100]
[null,"                ШБ-6 Шайба багатолапчаста ГОСТ 11872-89",336,100,268.8,100]
[null,"                ШБ-64 Шайба багатолапчаста ГОСТ 11872-89",5940,100,4752,100]
[null,"                ШБ-8 Шайба багатолапчаста ГОСТ 11872-89",612,100,489.6,100]
[null,"            Шайби плоскі","","","",""]
[null,"                КШД-10д (10х35х3) Шайба плоска ЦБ DIN 440",132,"кг",105.60000000000001,"кг"]
[null,"                КШД-10у (10х20х2) Шайба плоска ЦБ DIN 125",110.39999999999999,"кг",88.32,"кг"]
[null,"                КШД-10у (10х20х2) Шайба плоска ЦБ ГОСТ 11371",110.39999999999999,"кг",88.32,"кг"]
[null,"                КШД-10ш (10х30х2,5) Шайба плоска ЦБ DIN 9021",132,"кг",105.60000000000001,"кг"]
[null,"                КШД-10ш (10х30х2,5) Шайба плоска ЦБ ГОСТ 6958",132,"кг",105.60000000000001,"кг"]
[null,"                КШД-12д (12х42х4) Шайба плоска ЦБ DIN 440",132,"кг",105.60000000000001,"кг"]
[null,"                КШД-12у (12х24х2,5) Шайба плоска ЦБ DIN 125",132,"кг",105.60000000000001,"кг"]
[null,"                КШД-12у (12х24х2,5) Шайба плоска ЦБ ГОСТ 11371",132,"кг",105.60000000000001,"кг"]
[null,"                КШД-12ш (12х37х2,5) Шайба плоска ЦБ DIN 9021",132,"кг",105.60000000000001,"кг"]
[null,"                КШД-12ш (12х37х2,5) Шайба плоска ЦБ ГОСТ 6958",132,"кг",105.60000000000001,"кг"]
[null,"                КШД-12ш тяж (12хх) Шайба плоска важка ЦБ ГОСТ 6958",132,"кг",105.60000000000001,"кг"]
[null,"                КШД-14у (14х26х2,5) Шайба плоска ЦБ DIN 125",132,"кг",105.60000000000001,"кг"]
[null,"                КШД-14у (14х28х2,5) Шайба плоска ЦБ ГОСТ 11371",132,"кг",105.60000000000001,"кг"]
[null,"                КШД-14ш (14х44х3,5) Шайба плоска ЦБ DIN 9021",132,"кг",105.60000000000001,"кг"]
[null,"                КШД-14ш (14х44х3,5) Шайба плоска ЦБ ГОСТ 6958",132,"кг",105.60000000000001,"кг"]
[null,"                КШД-14ш (14х44х3,5) Шайба плоска ЦБ ГОСТ 6958",132,"кг",105.60000000000001,"кг"]
[null,"                КШД-16д (16х55х4) Шайба плоска ЦБ ГОСТ 28848",132,"кг",105.60000000000001,"кг"]
[null,"                КШД-16у (16х30х3) Шайба плоска БП ГОСТ 11371",100.8,"кг",80.64,"кг"]
[null,"                КШД-16у (16х30х3) Шайба плоска ЦБ DIN 125",100.8,"кг",80.64,"кг"]
[null,"                КШД-16у (16х30х3) Шайба плоска ЦБ ГОСТ 11371",100.8,"кг",80.64,"кг"]
[null,"                КШД-16ш (16х50х3) Шайба плоска ЦБ DIN 9021",114,"кг",91.2,"кг"]
[null,"                КШД-16ш тяж (16х40х6) Шайба плоска важка ЦБ ГОСТ 6958",114,"кг",91.2,"кг"]
[null,"                КШД-18у (18х34х3) Шайба плоска БП ГОСТ 11371",132,"кг",105.60000000000001,"кг"]
[null,"                КШД-18у (18х34х3) Шайба плоска ЦБ DIN 125",132,"кг",105.60000000000001,"кг"]
[null,"                КШД-18у (18х34х3) Шайба плоска ЦБ ГОСТ 11371",132,"кг",105.60000000000001,"кг"]
[null,"                КШД-2.5у  Шайба плоска ЦБ ГОСТ 11371",300,"кг",240,"кг"]
[null,"                КШД-20у (20х37х3)  Шайба плоска ЦБ ГОСТ 11371",132,"кг",105.60000000000001,"кг"]
[null,"                КШД-20у (20х37х3) Шайба плоска ЦБ DIN 125",132,"кг",105.60000000000001,"кг"]
[null,"                КШД-20ш (20х60х4) Шайба плоска ЦБ ГОСТ 6958",132,"кг",105.60000000000001,"кг"]
[null,"                КШД-20ш (21х60х4) Шайба плоска ЦБ DIN 9021",132,"кг",105.60000000000001,"кг"]
[null,"                КШД-22у (22х40х3)  Шайба плоска ЦБ ГОСТ 11371",132,"кг",105.60000000000001,"кг"]
[null,"                КШД-24у (25х44х4) Шайба плоска ЦБ DIN 125",132,"кг",105.60000000000001,"кг"]
[null,"                КШД-24у (25х44х4) Шайба плоска ЦБ ГОСТ 11371",132,"кг",105.60000000000001,"кг"]
[null,"                КШД-24ш (24х70х4) Шайба плоска ЦБ DIN 9021",132,"кг",105.60000000000001,"кг"]
[null,"                КШД-27у (28х50х3) Шайба плоска ЦБ DIN 125",132,"кг",105.60000000000001,"кг"]
[null,"                КШД-27у (28х50х3) Шайба плоска ЦБ ГОСТ 11371",132,"кг",105.60000000000001,"кг"]
[null,"                КШД-2у  Шайба плоска БП ГОСТ 11371",300,"кг",240,"кг"]
[null,"                КШД-2у  Шайба плоска ЦБ ГОСТ 11371",300,"кг",240,"кг"]
[null,"                КШД-30у  Шайба плоска ЦБ DIN 125",540,100,432,100]
[null,"                КШД-30у  Шайба плоска ЦБ DIN 125",156,"кг",124.80000000000001,"кг"]
[null,"                КШД-30у  Шайба плоска ЦБ ГОСТ 11371",156,"кг",124.80000000000001,"кг"]
[null,"                КШД-36у  Шайба плоска ЦБ DIN 125",114,"кг",91.2,"кг"]
[null,"                КШД-3у (3.4х7х0.5) Шайба плоска ЦБ ГОСТ 11371",204,"кг",163.20000000000002,"кг"]
[null,"                КШД-4у (4х9х1) Шайба плоска ЦБ DIN 125",180,"кг",144,"кг"]
[null,"                КШД-4у (4х9х1) Шайба плоска ЦБ ГОСТ 11371",180,"кг",144,"кг"]
[null,"                КШД-4ш (4х12х1) Шайба плоска ЦБ ГОСТ 6958",180,"кг",144,"кг"]
[null,"                КШД-4ш (4х12х1) Шайба плоска ЦБ ГОСТ 6958",180,"кг",144,"кг"]
[null,"                КШД-5д (5х18х1,5) Шайба плоска ЦБ DIN 440",156,"кг",124.80000000000001,"кг"]
[null,"                КШД-5д (5х18х1,5) Шайба плоска ЦБ ГОСТ 28848",156,"кг",124.80000000000001,"кг"]
[null,"                КШД-5у (5х10х1) Шайба плоска ЦБ ГОСТ 11371",156,"кг",124.80000000000001,"кг"]
[null,"                КШД-5ш (5х15х1,5) Шайба плоска ЦБ",156,"кг",124.80000000000001,"кг"]
[null,"                КШД-6д (6х22х2) Шайба плоска ЦБ DIN 440",132,"кг",105.60000000000001,"кг"]
[null,"                КШД-6у (6х12х1,5) Шайба плоска ЦБ DIN 125",132,"кг",105.60000000000001,"кг"]
[null,"                КШД-6у (6х12х1,5) Шайба плоска ЦБ ГОСТ 11371",132,"кг",105.60000000000001,"кг"]
[null,"                КШД-6ш (6х18х1,5) Шайба плоска ЦБ DIN 9021",132,"кг",105.60000000000001,"кг"]
[null,"                КШД-8д (8х28х3) Шайба плоска ЦБ DIN 440",132,"кг",105.60000000000001,"кг"]
[null,"                КШД-8у (8х16х1,5) Шайба плоска ЦБ DIN 125",132,"кг",105.60000000000001,"кг"]
[null,"                КШД-8у (8х16х1,5) Шайба плоска ЦБ ГОСТ 11371",132,"кг",105.60000000000001,"кг"]
[null,"                КШД-8ш (8х24х2) Шайба плоска ЦБ DIN 9021",132,"кг",105.60000000000001,"кг"]
[null,"                КШД-8ш (8х24х2) Шайба плоска ЦБ ГОСТ 6958",132,"кг",105.60000000000001,"кг"]
[null,"                КШУ-10 Шайба плоска DIN 125 БП(кл.мiц.10)",720,100,576,100]
[null,"                КШУ-10 Шайба плоска DIN 125 ЦБ (кл.мiц.10)",720,100,576,100]
[null,"                КШУ-12 Шайба плоска DIN 125 БП(кл.мiц.10)",864,100,691.2,100]
[null,"                КШУ-12 Шайба плоска DIN 125 ЦБ (кл.мiц.10)",864,100,691.2,100]
[null,"                КШУ-14 Шайба плоска DIN 125 БП(кл.мiц.10)",990,100,792,100]
[null,"                КШУ-16 Шайба плоска DIN 6916 БП(кл.мiц.10)",1680,100,1344,100]
[null,"                КШУ-16 Шайба плоска DIN 6916 БП(кл.мiц.10)",1680,100,1344,100]
[null,"                КШУ-20 Шайба плоска DIN 6916 БП (кл.мiц.10)",2640,100,2112,100]
[null,"                КШУ-20 Шайба плоска DIN 6916 БП(кл.мiц.10)",2640,100,2112,100]
[null,"                КШУ-24 Шайба плоска DIN 125 БП(кл.мiц.10)",3000,100,2400,100]
[null,"                КШУ-30 Шайба плоска DIN 125 ЦБ (кл.мiц.10)",3600,100,2880,100]
[null,"                КШУ-8 Шайба плоска DIN 125 ЦБ (кл.мiц.10)",504,100,403.20000000000005,100]
[null,"            Шайби плоскі нержавіючі","","","",""]
[null,"                КШ-10 Шайба плоска А2 DIN 125",120,100,96,100]
[null,"                КШ-10 Шайба плоска А2 DIN 125",120,100,96,100]
[null,"                КШ-10 Шайба плоска А2 DIN 6799",372,100,297.60000000000002,100]
[null,"                КШ-10ш Шайба плоска А2 DIN 9021",408,100,326.40000000000003,100]
[null,"                КШ-12 Шайба плоска А2 DIN 125",240,100,192,100]
[null,"                КШ-12 Шайба плоска А2 DIN 125",240,100,192,100]
[null,"                КШ-12ш Шайба плоска А2 DIN 9021",672,100,537.6,100]
[null,"                КШ-12ш Шайба плоска А2 DIN 9021",672,100,537.6,100]
[null,"                КШ-14 Шайба плоска А2 DIN 125",324,100,259.2,100]
[null,"                КШ-16 Шайба плоска А2 DIN 125",360,100,288,100]
[null,"                КШ-16 Шайба плоска А2 DIN 125",360,100,288,100]
[null,"                КШ-16ш Шайба плоска А2 DIN 9021",1164,100,931.2,100]
[null,"                КШ-18 Шайба плоска А2 DIN 125",384,100,307.20000000000005,100]
[null,"                КШ-20 Шайба плоска А2 DIN 125",504,100,403.20000000000005,100]
[null,"                КШ-22 Шайба плоска А2 DIN 125",960,100,768,100]
[null,"                КШ-24 Шайба плоска А2 DIN 125",1020,100,816,100]
[null,"                КШ-30 Шайба плоска А2 DIN 125",1800,100,1440,100]
[null,"                КШ-4 Шайба плоска А2 DIN 125",18,100,14.4,100]
[null,"                КШ-4ш Шайба плоска А2 DIN 9021",33.6,100,26.880000000000003,100]
[null,"                КШ-5 Шайба плоска А2 DIN 125",18,100,14.4,100]
[null,"                КШ-5ш Шайба плоска А2 DIN 9021",48,100,38.400000000000006,100]
[null,"                КШ-6 Шайба плоска А2 DIN 125",36,100,28.8,100]
[null,"                КШ-6 Шайба плоска А2 DIN 125",36,100,28.8,100]
[null,"                КШ-6ш Шайба плоска А2 DIN 9021",78,100,62.400000000000006,100]
[null,"                КШ-8 Шайба плоска А2 DIN 125",72,100,57.6,100]
[null,"                КШ-8ш Шайба плоска А2 DIN 9021",204,100,163.20000000000002,100]
[null,"            Шайби пружинні","","","",""]
[null,"                ПШ д10 Шайба пружинна ЦБ ГОСТ 6402",192,"кг",153.60000000000002,"кг"]
[null,"                ПШ д10 Шайба пружинна ЦБ ГОСТ 6402",192,"кг",153.60000000000002,"кг"]
[null,"                ПШ д12 Шайба пружинна ЦБ DIN 7980",192,"кг",153.60000000000002,"кг"]
[null,"                ПШ д12 Шайба пружинна ЦБ ГОСТ 6402",192,"кг",153.60000000000002,"кг"]
[null,"                ПШ д12 Шайба пружинна ЦБ ГОСТ 6402",192,"кг",153.60000000000002,"кг"]
[null,"                ПШ д14 Шайба пружинна ЦБ DIN 7980",96,100,76.800000000000011,100]
[null,"                ПШ д14 Шайба пружинна ЦБ DIN 7980",192,"кг",153.60000000000002,"кг"]
[null,"                ПШ д14 Шайба пружинна ЦБ ГОСТ 6402",192,"кг",153.60000000000002,"кг"]
[null,"                ПШ д14 Шайба пружинна ЦБ ГОСТ 6402",192,"кг",153.60000000000002,"кг"]
[null,"                ПШ д16 Шайба пружинна ЦБ DIN 127",192,"кг",153.60000000000002,"кг"]
[null,"                ПШ д16 Шайба пружинна ЦБ ГОСТ 6402",192,"кг",153.60000000000002,"кг"]
[null,"                ПШ д18 Шайба пружинна ЦБ DIN 7980",192,"кг",153.60000000000002,"кг"]
[null,"                ПШ д18 Шайба пружинна ЦБ ГОСТ 6402",192,"кг",153.60000000000002,"кг"]
[null,"                ПШ д18 Шайба пружинна ЦБ ГОСТ 6402",192,"кг",153.60000000000002,"кг"]
[null,"                ПШ д2 Шайба пружинна БП ГОСТ 6402",300,"кг",240,"кг"]
[null,"                ПШ д2,5 Шайба пружинна БП ГОСТ 6402",300,"кг",240,"кг"]
[null,"                ПШ д20 Шайба пружинна ЦБ DIN 7980",192,"кг",153.60000000000002,"кг"]
[null,"                ПШ д20 Шайба пружинна ЦБ ГОСТ 6402",192,"кг",153.60000000000002,"кг"]
[null,"                ПШ д20 Шайба пружинна ЦБ ГОСТ 6402",192,"кг",153.60000000000002,"кг"]
[null,"                ПШ д22 Шайба пружинна ЦБ ГОСТ 6402",192,"кг",153.60000000000002,"кг"]
[null,"                ПШ д24 Шайба пружинна ЦБ DIN 7980",192,"кг",153.60000000000002,"кг"]
[null,"                ПШ д24 Шайба пружинна ЦБ ГОСТ 6402",192,"кг",153.60000000000002,"кг"]
[null,"                ПШ д24 Шайба пружинна ЦБ ГОСТ 6402",192,"кг",153.60000000000002,"кг"]
[null,"                ПШ д24 Шайба пружинна ЦЖ ГОСТ 6402",192,"кг",153.60000000000002,"кг"]
[null,"                ПШ д27 Шайба пружинна ЦБ ГОСТ 6402",192,"кг",153.60000000000002,"кг"]
[null,"                ПШ д3 Шайба пружинна ЦБ ГОСТ 6402",300,"кг",240,"кг"]
[null,"                ПШ д30 Шайба пружинна ЦБ ГОСТ 6402",192,"кг",153.60000000000002,"кг"]
[null,"                ПШ д30 Шайба пружинна ЦБ ГОСТ 6402",192,"кг",153.60000000000002,"кг"]
[null,"                ПШ д36 Шайба пружинна ЦБ DIN 127",192,"кг",153.60000000000002,"кг"]
[null,"                ПШ д4 Шайба пружинна ЦБ ГОСТ 6402",240,"кг",192,"кг"]
[null,"                ПШ д4 Шайба пружинна ЦБ ГОСТ 6402",240,"кг",192,"кг"]
[null,"                ПШ д5 Шайба пружинна ЦБ DIN 7980",12,100,9.6000000000000014,100]
[null,"                ПШ д5 Шайба пружинна ЦБ ГОСТ 6402",192,"кг",153.60000000000002,"кг"]
[null,"                ПШ д5 Шайба пружинна ЦБ ГОСТ 6402",192,"кг",153.60000000000002,"кг"]
[null,"                ПШ д6 Шайба пружинна ЦБ DIN 128",90,100,72,100]
[null,"                ПШ д6 Шайба пружинна ЦБ ГОСТ 6402",192,"кг",153.60000000000002,"кг"]
[null,"                ПШ д6 Шайба пружинна ЦБ ГОСТ 6402",192,"кг",153.60000000000002,"кг"]
[null,"                ПШ д8 Шайба пружинна ЦБ ГОСТ 6402",192,"кг",153.60000000000002,"кг"]
[null,"                ПШ д8 Шайба пружинна ЦБ ГОСТ 6402",192,"кг",153.60000000000002,"кг"]
[null,"            Шайби пружинні нержавіючі","","","",""]
[null,"                ПШ д10 Шайба пружинна А2 DIN 7980",120,100,96,100]
[null,"                ПШ д10 Шайба пружинна А2 DIN 7980",120,100,96,100]
[null,"                ПШ д10 Шайба пружинна А4 DIN 7980",120,100,96,100]
[null,"                ПШ д10 Шайба пружинна А4 DIN 7980",120,100,96,100]
[null,"                ПШ д12 Шайба пружинна А2 DIN 7980",144,100,115.2,100]
[null,"                ПШ д12 Шайба пружинна А2 DIN 7980",144,100,115.2,100]
[null,"                ПШ д12 Шайба пружинна А2 DIN 7980",144,100,115.2,100]
[null,"                ПШ д14 Шайба пружинна А2 DIN 7980",216,100,172.8,100]
[null,"                ПШ д16 Шайба пружинна А2 DIN 7980",336,100,268.8,100]
[null,"                ПШ д16 Шайба пружинна А2 DIN 7980",336,100,268.8,100]
[null,"                ПШ д20 Шайба пружинна А2 DIN 7980",696,100,556.80000000000007,100]
[null,"                ПШ д22 Шайба пружинна А2 DIN 7980",1800,100,1440,100]
[null,"                ПШ д22 Шайба пружинна А2 DIN 7980",1800,100,1440,100]
[null,"                ПШ д24 Шайба пружинна А2 DIN 7980",3240,100,2592,100]
[null,"                ПШ д30 Шайба пружинна А2 DIN 7980",3600,100,2880,100]
[null,"                ПШ д4 Шайба пружинна А2 DIN 7980",24,100,19.200000000000003,100]
[null,"                ПШ д5 Шайба пружинна А2 DIN 7980",30,100,24,100]
[null,"                ПШ д6 Шайба пружинна А2 DIN 7980",36,100,28.8,100]
[null,"                ПШ д6 Шайба пружинна А2 DIN 7980",36,100,28.8,100]
[null,"                ПШ д8 Шайба пружинна А2 DIN 7980",72,100,57.6,100]
[null,"                ПШ д8 Шайба пружинна А2 DIN 7980",72,100,57.6,100]
[null,"        Шпильки ШДМ (гвинт - шуруп)","","","",""]
[null,"            ДШДД-10х120 Шпилька ДЕРЕВО-ДЕРЕВО ЦЖ",375.36,100,300.28800000000001,100]
[null,"            ДШДД-8х100 Шпилька ДЕРЕВО-ДЕРЕВО ЦЖ",211.24799999999999,100,168.9984,100]
[null,"            ДШДД-8х120 Шпилька ДЕРЕВО-ДЕРЕВО ЦЖ",258.16799999999995,100,206.53439999999998,100]
[null,"            ДШДД-8х80 Шпилька ДЕРЕВО-ДЕРЕВО ЦЖ",165.756,100,132.60480000000001,100]
[null,"            ШДМ М6х100 Шпилька комб.ЦБ",162,100,129.6,100]
[null,"            ШДМ М6х60 Шпилька комб.ЦБ",99.6,100,79.680000000000007,100]
[null,"            ШДМ М6х80 Шпилька комб.ЦБ",129.6,100,103.68,100]
[null,"            ШДМ М8х100 Шпилька комб. з шестигран.ЦБ",289.2,100,231.36,100]
[null,"            ШДМ М8х120 Шпилька комб. з шестигран.ЦБ",336,100,268.8,100]
[null,"            ШДМ М8х140 Шпилька комб. з шестигран.ЦБ",408,100,326.40000000000003,100]
[null,"            ШДМ М8х160 Шпилька комб. з шестигран.ЦБ",462,100,369.6,100]
[null,"            ШДМ М8х180 Шпилька комб. з шестигран.ЦБ",564,100,451.20000000000005,100]
[null,"            ШДМ М8х200 Шпилька комб. з шестигран.ЦБ",655.19999999999993,100,524.16,100]
[null,"            ШДМ М8х220 Шпилька комб. з шестигран.ЦБ",768,100,614.40000000000009,100]
[null,"            ШДМ М8х60 Шпилька комб. з шестигран.ЦБ",158.4,100,126.72000000000001,100]
[null,"            ШДМ М8х70 Шпилька комб. з шестигран.ЦБ",210,100,168,100]
[null,"            ШДМ М8х80 Шпилька комб. з шестигран.ЦБ",222,100,177.60000000000002,100]
[null,"            Шпилька М 8х80  ЦБ",360,100,288,100]
[null,"        Шплінти","","","",""]
[null,"            Шплiнт 1,6х25 ЦБ ГОСТ 397-79",66,"кг",52.800000000000004,"кг"]
[null,"            Шплiнт 1,6х32 ЦБ ГОСТ 397-79",66,"кг",52.800000000000004,"кг"]
[null,"            Шплiнт 1,6х40 ЦБ ГОСТ 397-79",66,"кг",52.800000000000004,"кг"]
[null,"            Шплiнт 1.6х12 ЦБ ГОСТ 397-79",66,"кг",52.800000000000004,"кг"]
[null,"            Шплiнт 2,0х16  DIN 94 А2",60,100,48,100]
[null,"            Шплiнт 2,0х20  DIN 94 А2",84,100,67.2,100]
[null,"            Шплiнт 2,5х63 ЦБ ГОСТ 397-79",66,"кг",52.800000000000004,"кг"]
[null,"            Шплiнт 2х28 ЦБ",66,"кг",52.800000000000004,"кг"]
[null,"            Шплiнт 2х63 ЦБ ГОСТ 397-79",66,"кг",52.800000000000004,"кг"]
[null,"            Шплiнт 3,2х20 ЦБ ГОСТ 397-79",66,"кг",52.800000000000004,"кг"]
[null,"            Шплiнт 3,2х36 ЦБ ГОСТ 397-79",66,"кг",52.800000000000004,"кг"]
[null,"            Шплiнт 3,5х60 ЦБ ГОСТ 397-79",66,"кг",52.800000000000004,"кг"]
[null,"            Шплiнт 3,5х70 ЦБ ГОСТ 397-79",66,"кг",52.800000000000004,"кг"]
[null,"            Шплiнт 3,5х80 ЦБ ГОСТ 397-79",66,"кг",52.800000000000004,"кг"]
[null,"            Шплiнт 4,0х40 ЦБ DIN 94",66,100,52.800000000000004,100]
[null,"            Шплiнт 4х20 ЦБ ГОСТ 397-79",66,"кг",52.800000000000004,"кг"]
[null,"            Шплiнт 4х36 ЦБ ГОСТ 397-79",66,"кг",52.800000000000004,"кг"]
[null,"            Шплiнт 4х40 ЦБ ГОСТ 397-79",66,"кг",52.800000000000004,"кг"]
[null,"            Шплiнт 5,0х50  DIN 94 А2",744,100,595.20000000000005,100]
[null,"            Шплiнт 5х63 ЦБ ГОСТ 397-79",66,"кг",52.800000000000004,"кг"]
[null,"            Шплiнт 6,3х36 ГОСТ 397-79",66,"кг",52.800000000000004,"кг"]
[null,"            Шплiнт 6,3х36 ЦБ ГОСТ 397-79",66,"кг",52.800000000000004,"кг"]
[null,"            Шплiнт 6,3х40 ЦБ DIN 94",194.4,100,155.52000000000001,100]
[null,"            Шплiнт 6,3х63 ЦБ DIN 94",237.6,100,190.08,100]
[null,"            Шплiнт 6,3х63 ЦБ ГОСТ 397-79",66,"кг",52.800000000000004,"кг"]
[null,"        ЪЪЪ не используем","","","",""]
[null,"            АБШГ КА ЛХС","","","",""]
[null,"                АБШГ-12х140 (М10) Анкерний болт с ш.гол.",936,100,748.80000000000007,100]
[null,"                АБШГ-16х160 (М12) Анкерний болт с ш.гол.",1920,100,1536,100]
[null,"                АБШГ-8х100 (М6) Анкерний болт с ш.гол.",372,100,297.60000000000002,100]
[null,"                КА-6х100 (М6) Клиновий анкер",84,100,67.2,100]
[null,"                КА-8х80 (М8) Клиновий анкер",156,100,124.80000000000001,100]
[null,"                ЛХС-8х40 (М6) Анкер стальний розпiрний з \"С\"-гаком",306,100,244.8,100]
[null,"            БШГ М10х60 А2 Болт ш.г.DIN 933",1680,100,1344,100]
[null,"            БШГ М6х16 А2 Болт ш.г.DIN 933",288,100,230.4,100]
[null,"            БШГЧ М10х1.25х30 кл.м.10.9 Болт ш.г. п/р БП ГОСТ 7805",780,100,624,100]
[null,"            БШГЧ М20х160 кл.м.10,9 Болт ш.г ЦБ ГОСТ 7805",16800,100,13440,100]
[null,"            БШГЧ М20х280 кл.м.10,9 Болт ш.г БП ГОСТ 7805",61200,100,48960,100]
[null,"            БШГЧ М20х80 кл.м.10,9 Болт ш.г БП ГОСТ 7805",8400,100,6720,100]
[null,"            БШГЧ М24х120 кл.пр.10,9 Болт ш.г.ЦБ ГОСТ 22353",480,"кг",384,"кг"]
[null,"            ВДГ,ВДГК, ВДП, ВДПК","","","",""]
[null,"                ВДГ-5х25 Шуруп пкр.гол.БП ГОСТ 1144",72,"кг",57.6,"кг"]
[null,"                ВДГ-5х30 Шуруп пкр.гол.БП ГОСТ 1144",72,"кг",57.6,"кг"]
[null,"                ВДГК-2,5х10 Шуруп пкр.гол. кр.ГОСТ 1144 ЦБ",72,100,57.6,100]
[null,"                ВДГК-3,0х13 Шуруп по дереву пот.гол.ЦБ",72,"кг",57.6,"кг"]
[null,"                ВДГК-3,0х25 Шуруп по дереву гриб.гол.ЦБ ГОСТ 1144 (ЭМ)",72,"кг",57.6,"кг"]
[null,"                ВДГК-3,5х16 Шуруп по дереву гриб.гол.ЦБ (ЕМ)",72,"кг",57.6,"кг"]
[null,"                ВДГК-4х50 Шуруп пкр.гол.кр.ЦБ ГОСТ 1144",72,"кг",57.6,"кг"]
[null,"                ВДГК-5,0х25 Шуруп по дереву гриб.гол.ЦБ Pz-2",72,"кг",57.6,"кг"]
[null,"                ВДП-3,5х25 Шуруп по дереву пот.гол.ЦЖ",72,"кг",57.6,"кг"]
[null,"                ВДП-5,0х100 Шуруп по дереву пот.гол.ЦЖ",72,"кг",57.6,"кг"]
[null,"                ВДП-5,0х80 Шуруп по дереву пот.гол.ЦЖ",72,"кг",57.6,"кг"]
[null,"                ВДП-5х30 Шуруп пот.гол.БП ГОСТ 1145",72,"кг",57.6,"кг"]
[null,"                ВДП-6,0х100 Шуруп по дереву пот.гол.ЦЖ",72,"кг",57.6,"кг"]
[null,"                ВДП-6,0х80 Шуруп по дереву пот.гол.ЦЖ",72,"кг",57.6,"кг"]
[null,"                ВДПК-3,0х13 Шуруп по дереву пот.гол.ЦЖ",72,"кг",57.6,"кг"]
[null,"                ВДПК-3,0х15 Шуруп по дереву пот.гол.ЦЖ",72,"кг",57.6,"кг"]
[null,"                ВДПК-3,0х18 Шуруп по дереву пот.гол.ЦЖ Pz-1",72,"кг",57.6,"кг"]
[null,"                ВДПК-3,0х20 Шуруп по дереву пот.гол.ЦЖ Pz-1",72,"кг",57.6,"кг"]
[null,"                ВДПК-3,0х30 Шуруп по дереву пот.гол.ЦЖ Pz-1",72,"кг",57.6,"кг"]
[null,"                ВДПК-3,0х40 Шуруп по дереву пот.гол.ЦЖ Pz-1",72,"кг",57.6,"кг"]
[null,"                ВДПК-3,5х16 Шуруп по дереву пот.гол.ЦЖ Pz-2",72,"кг",57.6,"кг"]
[null,"                ВДПК-4,0х16 Шуруп по дереву пот.гол.ЦБ Pz-2",72,"кг",57.6,"кг"]
[null,"                ВДПК-4,0х16 Шуруп по дереву пот.гол.ЦЖ Pz-2",72,"кг",57.6,"кг"]
[null,"                ВДПК-4,0х25 Шуруп по дереву пот.гол.ЦБ Pz-2",72,"кг",57.6,"кг"]
[null,"                ВДПК-5,0х20 Шуруп по дереву пот.гол.ЦЖ Pz-2",72,"кг",57.6,"кг"]
[null,"                ВДПК-5,0х30 Шуруп по дереву пот.гол.ЦЖ Pz-2",72,"кг",57.6,"кг"]
[null,"                ВДПК-5,0х45 Шуруп по дереву пот.гол.ЦЖ Pz-2",72,"кг",57.6,"кг"]
[null,"                ВДПК-6,0х40 Шуруп по дереву пот.гол.ЦЖ Pz-3",72,"кг",57.6,"кг"]
[null,"                ВДПК-6,0х90 Шуруп по дереву пот.гол.ЦЖ Pz-3",72,"кг",57.6,"кг"]
[null,"            ВПЦТ-4,2х51 Саморiз по металу з пресшайбою ЦБ(фас.250)",540,"тис.шт",432,"тис.шт"]
[null,"            ВФДц-4,8х35 Гвинт самосв. по дереву з шг.гол.+EPDM ЦБ",126,100,100.80000000000001,100]
[null,"            ВФДц-4,8х35 Гвинт самосв. по дереву з шг.гол.+EPDM ЦБ",126,100,100.80000000000001,100]
[null,"            ВХИЛО","","","",""]
[null,"                ВХИЛО-3,9х20 Саморез HILO для ПХВ",9.6,100,7.68,100]
[null,"                ВХИЛО-3,9х25 Саморез HILO для ПХВ",9.6,100,7.68,100]
[null,"                ВХИЛО-3,9х30 Саморез HILO для ПХВ",9.6,100,7.68,100]
[null,"            ГШ М10 Гайка шг.А2 ГОСТ 5915",360,100,288,100]
[null,"            ГШ М16 Гайка шг.А2 ГОСТ 5915",1008,100,806.40000000000009,100]
[null,"            ГШ М16 Гайка шг.кл.м.10 ЦБ ГОСТ 22354",1200,100,960,100]
[null,"            ГШ М16х1.5 Гайка шг.кл.м.8 ЦБ ГОСТ 5915",1200,100,960,100]
[null,"            ГШ М18 Гайка шг.А2 DIN 934",1920,100,1536,100]
[null,"            ГШ М20 Гайка шг.А2 ГОСТ 5915",2040,100,1632,100]
[null,"            ГШ М6 Гайка шг.А2 ГОСТ 5915",84,100,67.2,100]
[null,"            КММ КМУ","","","",""]
[null,"                КМУ-12х100 Набор для крепления умывальника",9.24,"паков",7.3920000000000003,"паков"]
[null,"                КМУ-12х120 Набор для крепления умывальника",10.56,"паков",8.4480000000000004,"паков"]
[null,"            КШД-16ш (16х50х3) Шайба плоска ЦБ ГОСТ 6958",114,"кг",91.2,"кг"]
[null,"            ЛIМ-10х220 Розпiрний дюбель для термоiзоляцiї з МЕТАЛЕВИМ стрижнем та ТЕРМОГОЛОВОЮ (фас.50)",446.28,100,446.28,100]
[null,"            ЛОА-10х182 Дюбель метал.для вiкон.i двер.коробок",7200,"тис.шт",5760,"тис.шт"]
[null,"            ПГО М20х2000 Стрижень рiзьбовий ЦБ DIN 975",42000,100,33600,100]
[null,"            ПГО М24х1000 Стрижень рiзьбовий ЦБ DIN 975",32400,100,25920,100]
[null,"            ПГО М5х1000 Стрижень рiзьбовий ЦБ DIN 975",1635.6,100,1308.48,100]
[null,"            ПШ д16 Шайба пружинна ЦБ ГОСТ 6402",192,"кг",153.60000000000002,"кг"]
[null,"            СГКД-3,5х19 Саморiз г/к фосфат.по дереву (фас.1000)",159.6,"тис.шт",127.68,"тис.шт"]
[null,"            СГКД-3,5х45 Саморiз г/к фосфат.по дереву (фас.1000)",243.6,"тис.шт",194.88,"тис.шт"]
[null,"            СГКД-3,5х45 Саморiз г/к фосфат.по дереву (фас.1000)",243.6,"тис.шт",194.88,"тис.шт"]
[null,"            СГКД-3,5х45 Саморiз г/к ЦБ по дереву (фас.500)",243.6,"тис.шт",194.88,"тис.шт"]
[null,"            СГКД-4,8х100 Саморiз г/к фосфат.по дереву (фас.100)",889.19999999999993,"тис.шт",711.36,"тис.шт"]
[null,"            СГКД-4,8х100 Саморiз г/к фосфат.по дереву (фас.200)",889.19999999999993,"тис.шт",711.36,"тис.шт"]
[null,"            СГКД-4,8х100 Саморiз г/к фосфат.по дереву (фас.200)",889.19999999999993,"тис.шт",711.36,"тис.шт"]
[null,"            СГКД-4,8х100 Саморiз г/к фосфат.по дереву (фас.200)",889.19999999999993,"тис.шт",711.36,"тис.шт"]
[null,"            СГКД-4,8х100 Саморiз г/к фосфат.по дереву (фас.200)",889.19999999999993,"тис.шт",711.36,"тис.шт"]
[null,"            СГКД-4,8х100 Саморiз г/к фосфат.по дереву (фас.250)",889.19999999999993,"тис.шт",711.36,"тис.шт"]
[null,"            СГКД-4,8х152 Саморiз г/к фосфат.по дереву (фас.100)",1500,"тис.шт",1200,"тис.шт"]
[null,"            СКК-М5х70 Стяжка гартована гак-гак ЦБ",12,"шт",9.6000000000000014,"шт"]
[null,"            СУ-2,5х25 Саморiз унiв.пот.гол.Pz-1 ЦЖ(мал.фас.)",136.79999999999998,"тис.шт",109.44,"тис.шт"]
[null,"            СУ-3,0х20 Саморiз унiв.пот.гол.Pz-1 ЦИНК БIЛИЙ(фас.1000)",156,"тис.шт",124.80000000000001,"тис.шт"]
[null,"            СУ-3,0х25 Саморiз унiв.пот.гол.Pz-1 ЦИНК БIЛИЙ (фас.1000)",210,"тис.шт",168,"тис.шт"]
[null,"            СУ-3,0х30 Саморiз унiв.пот.гол.Pz-1 ЦИНК БIЛИЙ (фас.1000)",193.2,"тис.шт",154.56,"тис.шт"]
[null,"            СУ-3,5х25 Саморiз унiв.пот.гол.Pz-2 ЦИНК БIЛИЙ (фас.1000)",187.2,"тис.шт",149.76,"тис.шт"]
[null,"            СУ-3,5х35 Саморiз унiв.пот.гол.Pz-2 ЦЖ(фас.1000)",236.39999999999998,"тис.шт",189.12,"тис.шт"]
[null,"            СУ-4,0х30 Саморiз унiв.пот.гол.Pz-2 ЦЖ(фас.1000) Укр",300,"тис.шт",240,"тис.шт"]
[null,"            СУ-4,5х20 Саморiз унiв.пот.гол.Pz-2 ЦЖ(фас.500)",216,"тис.шт",172.8,"тис.шт"]
[null,"            СУ-4,5х25 Саморiз унiв.пот.гол.Pz-2 ЦЖ(фас.500)",316.8,"тис.шт",253.44000000000003,"тис.шт"]
[null,"            СУ-4,5х40 Саморiз унiв.пот.гол.Pz-2 ЦЖ(фас.500)",612,"тис.шт",489.6,"тис.шт"]
[null,"            СУ-5,0х25 Саморiз унiв.пот.гол.Pz-2 ЦЖ(фас.500)",384,"тис.шт",307.20000000000005,"тис.шт"]
[null,"            СУ-5,0х45 Саморiз унiв.пот.гол.Pz-2 ЦЖ(фас.500)",732,"тис.шт",585.6,"тис.шт"]
[null,"            СУ-5,0х80 Саморiз унiв.пот.гол.Pz-2 ЦЖ(фас.200)",1140,"тис.шт",912,"тис.шт"]
[null,"            СУ-6,0х100 Саморiз унiв.пот.гол.Pz-3 ЦИНК БIЛИЙ (фас.100)",2760,"тис.шт",2208,"тис.шт"]
[null,"            СУ-6,0х30 Саморiз унiв.пот.гол.Pz-3 ЦЖ(фас.200)",948,"тис.шт",758.40000000000009,"тис.шт"]
[null,"            УС-3,5х16 Унiв.саморiз пкр.гол.Pz-2 ЦБ",120,"тис.шт",96,"тис.шт"]
[null,"            ШГ М 16 Гайка ш.г. кл.м.10 ГОСТ 22354",840,100,672,100]
[null,"            ШГ М12 Гайка ш.г.кл.м.5 ЦБ ГОСТ 5915",127.19999999999999,"кг",101.75999999999999,"кг"]
[null,"            ШГ М12 Гайка ш.г.кл.пр.5 ЦБ ГОСТ 5915",127.19999999999999,"кг",101.75999999999999,"кг"]
[null,"            ШГ М12х1,25 Гайка ш.г.ЦБ корончата ГОСТ 5918",360,"кг",288,"кг"]
[null,"            ШГ М14 Гайка ш.г.кл.м.5 ЦБ ГОСТ 5915",192,"кг",153.60000000000002,"кг"]
[null,"            ШГ М16 Гайка ш.г.кл.м.5 ЦБ ГОСТ 5915",126,"кг",100.80000000000001,"кг"]
[null,"            ШГ М20 Гайка ш.г.выс.БП ГОСТ 5927",192,"кг",153.60000000000002,"кг"]
[null,"            ШГ М20 кл.м.10 Гайка ш.г. ЦБ ГОСТ 22354",408,"кг",326.40000000000003,"кг"]
[null,"            ШГ М22 Гайка ш.г.м.пр.5 БП ГОСТ 5915",192,"кг",153.60000000000002,"кг"]
[null,"            ШГ М24 Гайка ш.г.кл.м.5 ЦБ ГОСТ 5915",192,"кг",153.60000000000002,"кг"]
[null,"            ШГ М24 кл.м.10 Гайка ш.г. БП ГОСТ 22354",480,"кг",384,"кг"]
[null,"            ШГ М30 Гайка ш.г.кл.м.5 ЦБ ГОСТ 5915",216,"кг",172.8,"кг"]
[null,"            ШГ М36 Гайка ш.г.кл.м.5 ЦБ ГОСТ 5915",216,"кг",172.8,"кг"]
[null,"            ШГ М4 Гайка ш.г.штамп.ЦБ ГОСТ 5915",324,"кг",259.2,"кг"]
[null,"            ШГ М5 Гайка ш.г.кл.м.5 ЦБ ГОСТ 5915",234,"кг",187.20000000000002,"кг"]
[null,"            ШГ М6 Гайка ш.г.кл.м.5 ЦБ ГОСТ 5915",117.6,"кг",94.08,"кг"]
[null,"            ШГ М8 Гайка ш.г.низ.ЦБ ГОСТ 5916",192,"кг",153.60000000000002,"кг"]
[null,"            Шплiнт 6,3х36 ЦБ ГОСТ 397-79",66,"кг",52.800000000000004,"кг"]

{"sheet":"Заборона збереження","index":3,"n_rows":0,"n_cols":0,"rows_kept":0,"cut":false,"hidden":true,"merged":[]}

{"sheet":"Вибірка","index":4,"n_rows":3000,"n_cols":19,"rows_kept":3000,"cut":false,"hidden":true,"merged":[]}
[null,null,null,null,null,null,null,null,null,null,"колонка ліміта","колонка для"]
[null,null,null,null,null,null,null,null,null,null,"рядків","підрахунка"]
[null,null,null,null,null,null,null,null,null,null,null,"кінця"]
[null,null,null,null,null,null,null,null,null,null,"зараз","заявки"]
[null,null,null,null,null,null,null,null,null,null,"на 100 рядків"]
[null,null,null,null,null,null,null,null,null,null,"заявки"]
[]
[]
[]
[]
[null,null,null,null,null,null,null,null,"номер рядка (11)",null,null,null,"ТОВАР","Кількість","Од Вим",null,null,null,"примітка"]
[null,null,null,null,null,null,null,null,{"$f":"IF(Магазин!$G$12:$G$3000>0,ROW(),\"\")","v":""},null,null,{"$f":"IF(M12<>\"\",\"до кошика\",\"\")","v":""},{"$f":"IF(ISERROR(INDEX(Магазин!$B$12:$B$3000,SMALL(IF(\"\"<>$I$12:$I$3000,ROW(Магазин!$G$12:$G$3000)-11,\"\"),ROW()-11))),\"\",INDEX(Магазин!$B$12:$B$3000,SMALL(IF(\"\"<>$I$12:$I$3000,ROW(Магазин!$G$12:$G$3000)-11,\"\"),ROW()-11)))","v":""},{"$f":"IF(ISERROR(INDEX(Магазин!$G$12:$G$3000,SMALL(IF(\"\"<>$I$12:$I$3000,ROW(Магазин!$G$12:$G$3000)-11,\"\"),ROW()-11))),\"\",INDEX(Магазин!$G$12:$G$3000,SMALL(IF(\"\"<>$I$12:$I$3000,ROW(Магазин!$G$12:$G$3000)-11,\"\"),ROW()-11)))","v":""},{"$f":"IF(ISERROR(INDEX(Магазин!$D$12:$D$3000,SMALL(IF(\"\"<>$I$12:$I$3000,ROW(Магазин!$G$12:$G$3000)-11,\"\"),ROW()-11))),\"\",INDEX(Магазин!$D$12:$D$3000,SMALL(IF(\"\"<>$I$12:$I$3000,ROW(Магазин!$G$12:$G$3000)-11,\"\"),ROW()-11)))","v":""}]
[null,null,null,null,null,null,null,null,{"$f":"IF(Магазин!$G$12:$G$3000>0,ROW(),\"\")","v":""},null,null,{"$f":"IF(M13<>\"\",\"до кошика\",\"\")","v":""},{"$f":"IF(ISERROR(INDEX(Магазин!$B$12:$B$3000,SMALL(IF(\"\"<>$I$12:$I$3000,ROW(Магазин!$G$12:$G$3000)-11,\"\"),ROW()-11))),\"\",INDEX(Магазин!$B$12:$B$3000,SMALL(IF(\"\"<>$I$12:$I$3000,ROW(Магазин!$G$12:$G$3000)-11,\"\"),ROW()-11)))","v":""},{"$f":"IF(ISERROR(INDEX(Магазин!$G$12:$G$3000,SMALL(IF(\"\"<>$I$12:$I$3000,ROW(Магазин!$G$12:$G$3000)-11,\"\"),ROW()-11))),\"\",INDEX(Магазин!$G$12:$G$3000,SMALL(IF(\"\"<>$I$12:$I$3000,ROW(Магазин!$G$12:$G$3000)-11,\"\"),ROW()-11)))","v":""},{"$f":"IF(ISERROR(INDEX(Магазин!$D$12:$D$3000,SMALL(IF(\"\"<>$I$12:$I$3000,ROW(Магазин!$G$12:$G$3000)-11,\"\"),ROW()-11))),\"\",INDEX(Магазин!$D$12:$D$3000,SMALL(IF(\"\"<>$I$12:$I$3000,ROW(Магазин!$G$12:$G$3000)-11,\"\"),ROW()-11)))","v":""}]
[null,null,null,null,null,null,null,null,{"$f":"IF(Магазин!$G$12:$G$3000>0,ROW(),\"\")","v":""},null,null,"",{"$f":"IF(ISERROR(INDEX(Магазин!$B$12:$B$3000,SMALL(IF(\"\"<>$I$12:$I$3000,ROW(Магазин!$G$12:$G$3000)-11,\"\"),ROW()-11))),\"\",INDEX(Магазин!$B$12:$B$3000,SMALL(IF(\"\"<>$I$12:$I$3000,ROW(Магазин!$G$12:$G$3000)-11,\"\"),ROW()-11)))","v":""},{"$f":"IF(ISERROR(INDEX(Магазин!$G$12:$G$3000,SMALL(IF(\"\"<>$I$12:$I$3000,ROW(Магазин!$G$12:$G$3000)-11,\"\"),ROW()-11))),\"\",INDEX(Магазин!$G$12:$G$3000,SMALL(IF(\"\"<>$I$12:$I$3000,ROW(Магазин!$G$12:$G$3000)-11,\"\"),ROW()-11)))","v":""},{"$f":"IF(ISERROR(INDEX(Магазин!$D$12:$D$3000,SMALL(IF(\"\"<>$I$12:$I$3000,ROW(Магазин!$G$12:$G$3000)-11,\"\"),ROW()-11))),\"\",INDEX(Магазин!$D$12:$D$3000,SMALL(IF(\"\"<>$I$12:$I$3000,ROW(Магазин!$G$12:$G$3000)-11,\"\"),ROW()-11)))","v":""}]
[null,null,null,null,null,null,null,null,{"$f":"IF(Магазин!$G$12:$G$3000>0,ROW(),\"\")","v":""},null,null,"",{"$f":"IF(ISERROR(INDEX(Магазин!$B$12:$B$3000,SMALL(IF(\"\"<>$I$12:$I$3000,ROW(Магазин!$G$12:$G$3000)-11,\"\"),ROW()-11))),\"\",INDEX(Магазин!$B$12:$B$3000,SMALL(IF(\"\"<>$I$12:$I$3000,ROW(Магазин!$G$12:$G$3000)-11,\"\"),ROW()-11)))","v":""},{"$f":"IF(ISERROR(INDEX(Магазин!$G$12:$G$3000,SMALL(IF(\"\"<>$I$12:$I$3000,ROW(Магазин!$G$12:$G$3000)-11,\"\"),ROW()-11))),\"\",INDEX(Магазин!$G$12:$G$3000,SMALL(IF(\"\"<>$I$12:$I$3000,ROW(Магазин!$G$12:$G$3000)-11,\"\"),ROW()-11)))","v":""},{"$f":"IF(ISERROR(INDEX(Магазин!$D$12:$D$3000,SMALL(IF(\"\"<>$I$12:$I$3000,ROW(Магазин!$G$12:$G$3000)-11,\"\"),ROW()-11))),\"\",INDEX(Магазин!$D$12:$D$3000,SMALL(IF(\"\"<>$I$12:$I$3000,ROW(Магазин!$G$12:$G$3000)-11,\"\"),ROW()-11)))","v":""}]
[null,null,null,null,null,null,null,null,{"$f":"IF(Магазин!$G$12:$G$3000>0,ROW(),\"\")","v":""},null,null,"",{"$f":"IF(ISERROR(INDEX(Магазин!$B$12:$B$3000,SMALL(IF(\"\"<>$I$12:$I$3000,ROW(Магазин!$G$12:$G$3000)-11,\"\"),ROW()-11))),\"\",INDEX(Магазин!$B$12:$B$3000,SMALL(IF(\"\"<>$I$12:$I$3000,ROW(Магазин!$G$12:$G$3000)-11,\"\"),ROW()-11)))","v":""},{"$f":"IF(ISERROR(INDEX(Магазин!$G$12:$G$3000,SMALL(IF(\"\"<>$I$12:$I$3000,ROW(Магазин!$G$12:$G$3000)-11,\"\"),ROW()-11))),\"\",INDEX(Магазин!$G$12:$G$3000,SMALL(IF(\"\"<>$I$12:$I$3000,ROW(Магазин!$G$12:$G$3000)-11,\"\"),ROW()-11)))","v":""},{"$f":"IF(ISERROR(INDEX(Магазин!$D$12:$D$3000,SMALL(IF(\"\"<>$I$12:$I$3000,ROW(Магазин!$G$12:$G$3000)-11,\"\"),ROW()-11))),\"\",INDEX(Магазин!$D$12:$D$3000,SMALL(IF(\"\"<>$I$12:$I$3000,ROW(Магазин!$G$12:$G$3000)-11,\"\"),ROW()-11)))","v":""}]
[null,null,null,null,null,null,null,null,{"$f":"IF(Магазин!$G$12:$G$3000>0,ROW(),\"\")","v":""},null,null,"",{"$f":"IF(ISERROR(INDEX(Магазин!$B$12:$B$3000,SMALL(IF(\"\"<>$I$12:$I$3000,ROW(Магазин!$G$12:$G$3000)-11,\"\"),ROW()-11))),\"\",INDEX(Магазин!$B$12:$B$3000,SMALL(IF(\"\"<>$I$12:$I$3000,ROW(Магазин!$G$12:$G$3000)-11,\"\"),ROW()-11)))","v":""},{"$f":"IF(ISERROR(INDEX(Магазин!$G$12:$G$3000,SMALL(IF(\"\"<>$I$12:$I$3000,ROW(Магазин!$G$12:$G$3000)-11,\"\"),ROW()-11))),\"\",INDEX(Магазин!$G$12:$G$3000,SMALL(IF(\"\"<>$I$12:$I$3000,ROW(Магазин!$G$12:$G$3000)-11,\"\"),ROW()-11)))","v":""},{"$f":"IF(ISERROR(INDEX(Магазин!$D$12:$D$3000,SMALL(IF(\"\"<>$I$12:$I$3000,ROW(Магазин!$G$12:$G$3000)-11,\"\"),ROW()-11))),\"\",INDEX(Магазин!$D$12:$D$3000,SMALL(IF(\"\"<>$I$12:$I$3000,ROW(Магазин!$G$12:$G$3000)-11,\"\"),ROW()-11)))","v":""}]
[null,null,null,null,null,null,null,null,{"$f":"IF(Магазин!$G$12:$G$3000>0,ROW(),\"\")","v":""},null,null,"",{"$f":"IF(ISERROR(INDEX(Магазин!$B$12:$B$3000,SMALL(IF(\"\"<>$I$12:$I$3000,ROW(Магазин!$G$12:$G$3000)-11,\"\"),ROW()-11))),\"\",INDEX(Магазин!$B$12:$B$3000,SMALL(IF(\"\"<>$I$12:$I$3000,ROW(Магазин!$G$12:$G$3000)-11,\"\"),ROW()-11)))","v":""},{"$f":"IF(ISERROR(INDEX(Магазин!$G$12:$G$3000,SMALL(IF(\"\"<>$I$12:$I$3000,ROW(Магазин!$G$12:$G$3000)-11,\"\"),ROW()-11))),\"\",INDEX(Магазин!$G$12:$G$3000,SMALL(IF(\"\"<>$I$12:$I$3000,ROW(Магазин!$G$12:$G$3000)-11,\"\"),ROW()-11)))","v":""},{"$f":"IF(ISERROR(INDEX(Магазин!$D$12:$D$3000,SMALL(IF(\"\"<>$I$12:$I$3000,ROW(Магазин!$G$12:$G$3000)-11,\"\"),ROW()-11))),\"\",INDEX(Магазин!$D$12:$D$3000,SMALL(IF(\"\"<>$I$12:$I$3000,ROW(Магазин!$G$12:$G$3000)-11,\"\"),ROW()-11)))","v":""}]
[null,null,null,null,null,null,null,null,{"$f":"IF(Магазин!$G$12:$G$3000>0,ROW(),\"\")","v":""},null,null,"",{"$f":"IF(ISERROR(INDEX(Магазин!$B$12:$B$3000,SMALL(IF(\"\"<>$I$12:$I$3000,ROW(Магазин!$G$12:$G$3000)-11,\"\"),ROW()-11))),\"\",INDEX(Магазин!$B$12:$B$3000,SMALL(IF(\"\"<>$I$12:$I$3000,ROW(Магазин!$G$12:$G$3000)-11,\"\"),ROW()-11)))","v":""},{"$f":"IF(ISERROR(INDEX(Магазин!$G$12:$G$3000,SMALL(IF(\"\"<>$I$12:$I$3000,ROW(Магазин!$G$12:$G$3000)-11,\"\"),ROW()-11))),\"\",INDEX(Магазин!$G$12:$G$3000,SMALL(IF(\"\"<>$I$12:$I$3000,ROW(Магазин!$G$12:$G$3000)-11,\"\"),ROW()-11)))","v":""},{"$f":"IF(ISERROR(INDEX(Магазин!$D$12:$D$3000,SMALL(IF(\"\"<>$I$12:$I$3000,ROW(Магазин!$G$12:$G$3000)-11,\"\"),ROW()-11))),\"\",INDEX(Магазин!$D$12:$D$3000,SMALL(IF(\"\"<>$I$12:$I$3000,ROW(Магазин!$G$12:$G$3000)-11,\"\"),ROW()-11)))","v":""}]
[null,null,null,null,null,null,null,null,{"$f":"IF(Магазин!$G$12:$G$3000>0,ROW(),\"\")","v":""},null,null,"",{"$f":"IF(ISERROR(INDEX(Магазин!$B$12:$B$3000,SMALL(IF(\"\"<>$I$12:$I$3000,ROW(Магазин!$G$12:$G$3000)-11,\"\"),ROW()-11))),\"\",INDEX(Магазин!$B$12:$B$3000,SMALL(IF(\"\"<>$I$12:$I$3000,ROW(Магазин!$G$12:$G$3000)-11,\"\"),ROW()-11)))","v":""},{"$f":"IF(ISERROR(INDEX(Магазин!$G$12:$G$3000,SMALL(IF(\"\"<>$I$12:$I$3000,ROW(Магазин!$G$12:$G$3000)-11,\"\"),ROW()-11))),\"\",INDEX(Магазин!$G$12:$G$3000,SMALL(IF(\"\"<>$I$12:$I$3000,ROW(Магазин!$G$12:$G$3000)-11,\"\"),ROW()-11)))","v":""},{"$f":"IF(ISERROR(INDEX(Магазин!$D$12:$D$3000,SMALL(IF(\"\"<>$I$12:$I$3000,ROW(Магазин!$G$12:$G$3000)-11,\"\"),ROW()-11))),\"\",INDEX(Магазин!$D$12:$D$3000,SMALL(IF(\"\"<>$I$12:$I$3000,ROW(Магазин!$G$12:$G$3000)-11,\"\"),ROW()-11)))","v":""}]
[null,null,null,null,null,null,null,null,{"$f":"IF(Магазин!$G$12:$G$3000>0,ROW(),\"\")","v":""},null,null,"",{"$f":"IF(ISERROR(INDEX(Магазин!$B$12:$B$3000,SMALL(IF(\"\"<>$I$12:$I$3000,ROW(Магазин!$G$12:$G$3000)-11,\"\"),ROW()-11))),\"\",INDEX(Магазин!$B$12:$B$3000,SMALL(IF(\"\"<>$I$12:$I$3000,ROW(Магазин!$G$12:$G$3000)-11,\"\"),ROW()-11)))","v":""},{"$f":"IF(ISERROR(INDEX(Магазин!$G$12:$G$3000,SMALL(IF(\"\"<>$I$12:$I$3000,ROW(Магазин!$G$12:$G$3000)-11,\"\"),ROW()-11))),\"\",INDEX(Магазин!$G$12:$G$3000,SMALL(IF(\"\"<>$I$12:$I$3000,ROW(Магазин!$G$12:$G$3000)-11,\"\"),ROW()-11)))","v":""},{"$f":"IF(ISERROR(INDEX(Магазин!$D$12:$D$3000,SMALL(IF(\"\"<>$I$12:$I$3000,ROW(Магазин!$G$12:$G$3000)-11,\"\"),ROW()-11))),\"\",INDEX(Магазин!$D$12:$D$3000,SMALL(IF(\"\"<>$I$12:$I$3000,ROW(Магазин!$G$12:$G$3000)-11,\"\"),ROW()-11)))","v":""}]
[null,null,null,null,null,null,null,null,{"$f":"IF(Магазин!$G$12:$G$3000>0,ROW(),\"\")","v":""},null,null,"",{"$f":"IF(ISERROR(INDEX(Магазин!$B$12:$B$3000,SMALL(IF(\"\"<>$I$12:$I$3000,ROW(Магазин!$G$12:$G$3000)-11,\"\"),ROW()-11))),\"\",INDEX(Магазин!$B$12:$B$3000,SMALL(IF(\"\"<>$I$12:$I$3000,ROW(Магазин!$G$12:$G$3000)-11,\"\"),ROW()-11)))","v":""},{"$f":"IF(ISERROR(INDEX(Магазин!$G$12:$G$3000,SMALL(IF(\"\"<>$I$12:$I$3000,ROW(Магазин!$G$12:$G$3000)-11,\"\"),ROW()-11))),\"\",INDEX(Магазин!$G$12:$G$3000,SMALL(IF(\"\"<>$I$12:$I$3000,ROW(Магазин!$G$12:$G$3000)-11,\"\"),ROW()-11)))","v":""},{"$f":"IF(ISERROR(INDEX(Магазин!$D$12:$D$3000,SMALL(IF(\"\"<>$I$12:$I$3000,ROW(Магазин!$G$12:$G$3000)-11,\"\"),ROW()-11))),\"\",INDEX(Магазин!$D$12:$D$3000,SMALL(IF(\"\"<>$I$12:$I$3000,ROW(Магазин!$G$12:$G$3000)-11,\"\"),ROW()-11)))","v":""}]
[null,null,null,null,null,null,null,null,{"$f":"IF(Магазин!$G$12:$G$3000>0,ROW(),\"\")","v":""},null,null,"",{"$f":"IF(ISERROR(INDEX(Магазин!$B$12:$B$3000,SMALL(IF(\"\"<>$I$12:$I$3000,ROW(Магазин!$G$12:$G$3000)-11,\"\"),ROW()-11))),\"\",INDEX(Магазин!$B$12:$B$3000,SMALL(IF(\"\"<>$I$12:$I$3000,ROW(Магазин!$G$12:$G$3000)-11,\"\"),ROW()-11)))","v":""},{"$f":"IF(ISERROR(INDEX(Магазин!$G$12:$G$3000,SMALL(IF(\"\"<>$I$12:$I$3000,ROW(Магазин!$G$12:$G$3000)-11,\"\"),ROW()-11))),\"\",INDEX(Магазин!$G$12:$G$3000,SMALL(IF(\"\"<>$I$12:$I$3000,ROW(Магазин!$G$12:$G$3000)-11,\"\"),ROW()-11)))","v":""},{"$f":"IF(ISERROR(INDEX(Магазин!$D$12:$D$3000,SMALL(IF(\"\"<>$I$12:$I$3000,ROW(Магазин!$G$12:$G$3000)-11,\"\"),ROW()-11))),\"\",INDEX(Магазин!$D$12:$D$3000,SMALL(IF(\"\"<>$I$12:$I$3000,ROW(Магазин!$G$12:$G$3000)-11,\"\"),ROW()-11)))","v":""}]
[null,null,null,null,null,null,null,null,{"$f":"IF(Магазин!$G$12:$G$3000>0,ROW(),\"\")","v":""},null,null,"",{"$f":"IF(ISERROR(INDEX(Магазин!$B$12:$B$3000,SMALL(IF(\"\"<>$I$12:$I$3000,ROW(Магазин!$G$12:$G$3000)-11,\"\"),ROW()-11))),\"\",INDEX(Магазин!$B$12:$B$3000,SMALL(IF(\"\"<>$I$12:$I$3000,ROW(Магазин!$G$12:$G$3000)-11,\"\"),ROW()-11)))","v":""},{"$f":"IF(ISERROR(INDEX(Магазин!$G$12:$G$3000,SMALL(IF(\"\"<>$I$12:$I$3000,ROW(Магазин!$G$12:$G$3000)-11,\"\"),ROW()-11))),\"\",INDEX(Магазин!$G$12:$G$3000,SMALL(IF(\"\"<>$I$12:$I$3000,ROW(Магазин!$G$12:$G$3000)-11,\"\"),ROW()-11)))","v":""},{"$f":"IF(ISERROR(INDEX(Магазин!$D$12:$D$3000,SMALL(IF(\"\"<>$I$12:$I$3000,ROW(Магазин!$G$12:$G$3000)-11,\"\"),ROW()-11))),\"\",INDEX(Магазин!$D$12:$D$3000,SMALL(IF(\"\"<>$I$12:$I$3000,ROW(Магазин!$G$12:$G$3000)-11,\"\"),ROW()-11)))","v":""}]
[null,null,null,null,null,null,null,null,{"$f":"IF(Магазин!$G$12:$G$3000>0,ROW(),\"\")","v":""},null,null,"",{"$f":"IF(ISERROR(INDEX(Магазин!$B$12:$B$3000,SMALL(IF(\"\"<>$I$12:$I$3000,ROW(Магазин!$G$12:$G$3000)-11,\"\"),ROW()-11))),\"\",INDEX(Магазин!$B$12:$B$3000,SMALL(IF(\"\"<>$I$12:$I$3000,ROW(Магазин!$G$12:$G$3000)-11,\"\"),ROW()-11)))","v":""},{"$f":"IF(ISERROR(INDEX(Магазин!$G$12:$G$3000,SMALL(IF(\"\"<>$I$12:$I$3000,ROW(Магазин!$G$12:$G$3000)-11,\"\"),ROW()-11))),\"\",INDEX(Магазин!$G$12:$G$3000,SMALL(IF(\"\"<>$I$12:$I$3000,ROW(Магазин!$G$12:$G$3000)-11,\"\"),ROW()-11)))","v":""},{"$f":"IF(ISERROR(INDEX(Магазин!$D$12:$D$3000,SMALL(IF(\"\"<>$I$12:$I$3000,ROW(Магазин!$G$12:$G$3000)-11,\"\"),ROW()-11))),\"\",INDEX(Магазин!$D$12:$D$3000,SMALL(IF(\"\"<>$I$12:$I$3000,ROW(Магазин!$G$12:$G$3000)-11,\"\"),ROW()-11)))","v":""}]
[null,null,null,null,null,null,null,null,{"$f":"IF(Магазин!$G$12:$G$3000>0,ROW(),\"\")","v":""},null,null,"",{"$f":"IF(ISERROR(INDEX(Магазин!$B$12:$B$3000,SMALL(IF(\"\"<>$I$12:$I$3000,ROW(Магазин!$G$12:$G$3000)-11,\"\"),ROW()-11))),\"\",INDEX(Магазин!$B$12:$B$3000,SMALL(IF(\"\"<>$I$12:$I$3000,ROW(Магазин!$G$12:$G$3000)-11,\"\"),ROW()-11)))","v":""},{"$f":"IF(ISERROR(INDEX(Магазин!$G$12:$G$3000,SMALL(IF(\"\"<>$I$12:$I$3000,ROW(Магазин!$G$12:$G$3000)-11,\"\"),ROW()-11))),\"\",INDEX(Магазин!$G$12:$G$3000,SMALL(IF(\"\"<>$I$12:$I$3000,ROW(Магазин!$G$12:$G$3000)-11,\"\"),ROW()-11)))","v":""},{"$f":"IF(ISERROR(INDEX(Магазин!$D$12:$D$3000,SMALL(IF(\"\"<>$I$12:$I$3000,ROW(Магазин!$G$12:$G$3000)-11,\"\"),ROW()-11))),\"\",INDEX(Магазин!$D$12:$D$3000,SMALL(IF(\"\"<>$I$12:$I$3000,ROW(Магазин!$G$12:$G$3000)-11,\"\"),ROW()-11)))","v":""}]
[null,null,null,null,null,null,null,null,{"$f":"IF(Магазин!$G$12:$G$3000>0,ROW(),\"\")","v":""},null,null,"",{"$f":"IF(ISERROR(INDEX(Магазин!$B$12:$B$3000,SMALL(IF(\"\"<>$I$12:$I$3000,ROW(Магазин!$G$12:$G$3000)-11,\"\"),ROW()-11))),\"\",INDEX(Магазин!$B$12:$B$3000,SMALL(IF(\"\"<>$I$12:$I$3000,ROW(Магазин!$G$12:$G$3000)-11,\"\"),ROW()-11)))","v":""},{"$f":"IF(ISERROR(INDEX(Магазин!$G$12:$G$3000,SMALL(IF(\"\"<>$I$12:$I$3000,ROW(Магазин!$G$12:$G$3000)-11,\"\"),ROW()-11))),\"\",INDEX(Магазин!$G$12:$G$3000,SMALL(IF(\"\"<>$I$12:$I$3000,ROW(Магазин!$G$12:$G$3000)-11,\"\"),ROW()-11)))","v":""},{"$f":"IF(ISERROR(INDEX(Магазин!$D$12:$D$3000,SMALL(IF(\"\"<>$I$12:$I$3000,ROW(Магазин!$G$12:$G$3000)-11,\"\"),ROW()-11))),\"\",INDEX(Магазин!$D$12:$D$3000,SMALL(IF(\"\"<>$I$12:$I$3000,ROW(Магазин!$G$12:$G$3000)-11,\"\"),ROW()-11)))","v":""}]
[null,null,null,null,null,null,null,null,{"$f":"IF(Магазин!$G$12:$G$3000>0,ROW(),\"\")","v":""},null,null,"",{"$f":"IF(ISERROR(INDEX(Магазин!$B$12:$B$3000,SMALL(IF(\"\"<>$I$12:$I$3000,ROW(Магазин!$G$12:$G$3000)-11,\"\"),ROW()-11))),\"\",INDEX(Магазин!$B$12:$B$3000,SMALL(IF(\"\"<>$I$12:$I$3000,ROW(Магазин!$G$12:$G$3000)-11,\"\"),ROW()-11)))","v":""},{"$f":"IF(ISERROR(INDEX(Магазин!$G$12:$G$3000,SMALL(IF(\"\"<>$I$12:$I$3000,ROW(Магазин!$G$12:$G$3000)-11,\"\"),ROW()-11))),\"\",INDEX(Магазин!$G$12:$G$3000,SMALL(IF(\"\"<>$I$12:$I$3000,ROW(Магазин!$G$12:$G$3000)-11,\"\"),ROW()-11)))","v":""},{"$f":"IF(ISERROR(INDEX(Магазин!$D$12:$D$3000,SMALL(IF(\"\"<>$I$12:$I$3000,ROW(Магазин!$G$12:$G$3000)-11,\"\"),ROW()-11))),\"\",INDEX(Магазин!$D$12:$D$3000,SMALL(IF(\"\"<>$I$12:$I$3000,ROW(Магазин!$G$12:$G$3000)-11,\"\"),ROW()-11)))","v":""}]
[null,null,null,null,null,null,null,null,{"$f":"IF(Магазин!$G$12:$G$3000>0,ROW(),\"\")","v":""},null,null,"",{"$f":"IF(ISERROR(INDEX(Магазин!$B$12:$B$3000,SMALL(IF(\"\"<>$I$12:$I$3000,ROW(Магазин!$G$12:$G$3000)-11,\"\"),ROW()-11))),\"\",INDEX(Магазин!$B$12:$B$3000,SMALL(IF(\"\"<>$I$12:$I$3000,ROW(Магазин!$G$12:$G$3000)-11,\"\"),ROW()-11)))","v":""},{"$f":"IF(ISERROR(INDEX(Магазин!$G$12:$G$3000,SMALL(IF(\"\"<>$I$12:$I$3000,ROW(Магазин!$G$12:$G$3000)-11,\"\"),ROW()-11))),\"\",INDEX(Магазин!$G$12:$G$3000,SMALL(IF(\"\"<>$I$12:$I$3000,ROW(Магазин!$G$12:$G$3000)-11,\"\"),ROW()-11)))","v":""},{"$f":"IF(ISERROR(INDEX(Магазин!$D$12:$D$3000,SMALL(IF(\"\"<>$I$12:$I$3000,ROW(Магазин!$G$12:$G$3000)-11,\"\"),ROW()-11))),\"\",INDEX(Магазин!$D$12:$D$3000,SMALL(IF(\"\"<>$I$12:$I$3000,ROW(Магазин!$G$12:$G$3000)-11,\"\"),ROW()-11)))","v":""}]
[null,null,null,null,null,null,null,null,{"$f":"IF(Магазин!$G$12:$G$3000>0,ROW(),\"\")","v":""},null,null,"",{"$f":"IF(ISERROR(INDEX(Магазин!$B$12:$B$3000,SMALL(IF(\"\"<>$I$12:$I$3000,ROW(Магазин!$G$12:$G$3000)-11,\"\"),ROW()-11))),\"\",INDEX(Магазин!$B$12:$B$3000,SMALL(IF(\"\"<>$I$12:$I$3000,ROW(Магазин!$G$12:$G$3000)-11,\"\"),ROW()-11)))","v":""},{"$f":"IF(ISERROR(INDEX(Магазин!$G$12:$G$3000,SMALL(IF(\"\"<>$I$12:$I$3000,ROW(Магазин!$G$12:$G$3000)-11,\"\"),ROW()-11))),\"\",INDEX(Магазин!$G$12:$G$3000,SMALL(IF(\"\"<>$I$12:$I$3000,ROW(Магазин!$G$12:$G$3000)-11,\"\"),ROW()-11)))","v":""},{"$f":"IF(ISERROR(INDEX(Магазин!$D$12:$D$3000,SMALL(IF(\"\"<>$I$12:$I$3000,ROW(Магазин!$G$12:$G$3000)-11,\"\"),ROW()-11))),\"\",INDEX(Магазин!$D$12:$D$3000,SMALL(IF(\"\"<>$I$12:$I$3000,ROW(Магазин!$G$12:$G$3000)-11,\"\"),ROW()-11)))","v":""}]
[null,null,null,null,null,null,null,null,{"$f":"IF(Магазин!$G$12:$G$3000>0,ROW(),\"\")","v":""},null,null,"",{"$f":"IF(ISERROR(INDEX(Магазин!$B$12:$B$3000,SMALL(IF(\"\"<>$I$12:$I$3000,ROW(Магазин!$G$12:$G$3000)-11,\"\"),ROW()-11))),\"\",INDEX(Магазин!$B$12:$B$3000,SMALL(IF(\"\"<>$I$12:$I$3000,ROW(Магазин!$G$12:$G$3000)-11,\"\"),ROW()-11)))","v":""},{"$f":"IF(ISERROR(INDEX(Магазин!$G$12:$G$3000,SMALL(IF(\"\"<>$I$12:$I$3000,ROW(Магазин!$G$12:$G$3000)-11,\"\"),ROW()-11))),\"\",INDEX(Магазин!$G$12:$G$3000,SMALL(IF(\"\"<>$I$12:$I$3000,ROW(Магазин!$G$12:$G$3000)-11,\"\"),ROW()-11)))","v":""},{"$f":"IF(ISERROR(INDEX(Магазин!$D$12:$D$3000,SMALL(IF(\"\"<>$I$12:$I$3000,ROW(Магазин!$G$12:$G$3000)-11,\"\"),ROW()-11))),\"\",INDEX(Магазин!$D$12:$D$3000,SMALL(IF(\"\"<>$I$12:$I$3000,ROW(Магазин!$G$12:$G$3000)-11,\"\"),ROW()-11)))","v":""}]
[null,null,null,null,null,null,null,null,{"$f":"IF(Магазин!$G$12:$G$3000>0,ROW(),\"\")","v":""},null,null,"",{"$f":"IF(ISERROR(INDEX(Магазин!$B$12:$B$3000,SMALL(IF(\"\"<>$I$12:$I$3000,ROW(Магазин!$G$12:$G$3000)-11,\"\"),ROW()-11))),\"\",INDEX(Магазин!$B$12:$B$3000,SMALL(IF(\"\"<>$I$12:$I$3000,ROW(Магазин!$G$12:$G$3000)-11,\"\"),ROW()-11)))","v":""},{"$f":"IF(ISERROR(INDEX(Магазин!$G$12:$G$3000,SMALL(IF(\"\"<>$I$12:$I$3000,ROW(Магазин!$G$12:$G$3000)-11,\"\"),ROW()-11))),\"\",INDEX(Магазин!$G$12:$G$3000,SMALL(IF(\"\"<>$I$12:$I$3000,ROW(Магазин!$G$12:$G$3000)-11,\"\"),ROW()-11)))","v":""},{"$f":"IF(ISERROR(INDEX(Магазин!$D$12:$D$3000,SMALL(IF(\"\"<>$I$12:$I$3000,ROW(Магазин!$G$12:$G$3000)-11,\"\"),ROW()-11))),\"\",INDEX(Магазин!$D$12:$D$3000,SMALL(IF(\"\"<>$I$12:$I$3000,ROW(Магазин!$G$12:$G$3000)-11,\"\"),ROW()-11)))","v":""}]
[null,null,null,null,null,null,null,null,{"$f":"IF(Магазин!$G$12:$G$3000>0,ROW(),\"\")","v":""},null,null,"",{"$f":"IF(ISERROR(INDEX(Магазин!$B$12:$B$3000,SMALL(IF(\"\"<>$I$12:$I$3000,ROW(Магазин!$G$12:$G$3000)-11,\"\"),ROW()-11))),\"\",INDEX(Магазин!$B$12:$B$3000,SMALL(IF(\"\"<>$I$12:$I$3000,ROW(Магазин!$G$12:$G$3000)-11,\"\"),ROW()-11)))","v":""},{"$f":"IF(ISERROR(INDEX(Магазин!$G$12:$G$3000,SMALL(IF(\"\"<>$I$12:$I$3000,ROW(Магазин!$G$12:$G$3000)-11,\"\"),ROW()-11))),\"\",INDEX(Магазин!$G$12:$G$3000,SMALL(IF(\"\"<>$I$12:$I$3000,ROW(Магазин!$G$12:$G$3000)-11,\"\"),ROW()-11)))","v":""},{"$f":"IF(ISERROR(INDEX(Магазин!$D$12:$D$3000,SMALL(IF(\"\"<>$I$12:$I$3000,ROW(Магазин!$G$12:$G$3000)-11,\"\"),ROW()-11))),\"\",INDEX(Магазин!$D$12:$D$3000,SMALL(IF(\"\"<>$I$12:$I$3000,ROW(Магазин!$G$12:$G$3000)-11,\"\"),ROW()-11)))","v":""}]
[null,null,null,null,null,null,null,null,{"$f":"IF(Магазин!$G$12:$G$3000>0,ROW(),\"\")","v":""},null,null,"",{"$f":"IF(ISERROR(INDEX(Магазин!$B$12:$B$3000,SMALL(IF(\"\"<>$I$12:$I$3000,ROW(Магазин!$G$12:$G$3000)-11,\"\"),ROW()-11))),\"\",INDEX(Магазин!$B$12:$B$3000,SMALL(IF(\"\"<>$I$12:$I$3000,ROW(Магазин!$G$12:$G$3000)-11,\"\"),ROW()-11)))","v":""},{"$f":"IF(ISERROR(INDEX(Магазин!$G$12:$G$3000,SMALL(IF(\"\"<>$I$12:$I$3000,ROW(Магазин!$G$12:$G$3000)-11,\"\"),ROW()-11))),\"\",INDEX(Магазин!$G$12:$G$3000,SMALL(IF(\"\"<>$I$12:$I$3000,ROW(Магазин!$G$12:$G$3000)-11,\"\"),ROW()-11)))","v":""},{"$f":"IF(ISERROR(INDEX(Магазин!$D$12:$D$3000,SMALL(IF(\"\"<>$I$12:$I$3000,ROW(Магазин!$G$12:$G$3000)-11,\"\"),ROW()-11))),\"\",INDEX(Магазин!$D$12:$D$3000,SMALL(IF(\"\"<>$I$12:$I$3000,ROW(Магазин!$G$12:$G$3000)-11,\"\"),ROW()-11)))","v":""}]
[null,null,null,null,null,null,null,null,{"$f":"IF(Магазин!$G$12:$G$3000>0,ROW(),\"\")","v":""},null,null,"",{"$f":"IF(ISERROR(INDEX(Магазин!$B$12:$B$3000,SMALL(IF(\"\"<>$I$12:$I$3000,ROW(Магазин!$G$12:$G$3000)-11,\"\"),ROW()-11))),\"\",INDEX(Магазин!$B$12:$B$3000,SMALL(IF(\"\"<>$I$12:$I$3000,ROW(Магазин!$G$12:$G$3000)-11,\"\"),ROW()-11)))","v":""},{"$f":"IF(ISERROR(INDEX(Магазин!$G$12:$G$3000,SMALL(IF(\"\"<>$I$12:$I$3000,ROW(Магазин!$G$12:$G$3000)-11,\"\"),ROW()-11))),\"\",INDEX(Магазин!$G$12:$G$3000,SMALL(IF(\"\"<>$I$12:$I$3000,ROW(Магазин!$G$12:$G$3000)-11,\"\"),ROW()-11)))","v":""},{"$f":"IF(ISERROR(INDEX(Магазин!$D$12:$D$3000,SMALL(IF(\"\"<>$I$12:$I$3000,ROW(Магазин!$G$12:$G$3000)-11,\"\"),ROW()-11))),\"\",INDEX(Магазин!$D$12:$D$3000,SMALL(IF(\"\"<>$I$12:$I$3000,ROW(Магазин!$G$12:$G$3000)-11,\"\"),ROW()-11)))","v":""}]
[null,null,null,null,null,null,null,null,{"$f":"IF(Магазин!$G$12:$G$3000>0,ROW(),\"\")","v":""},null,null,"",{"$f":"IF(ISERROR(INDEX(Магазин!$B$12:$B$3000,SMALL(IF(\"\"<>$I$12:$I$3000,ROW(Магазин!$G$12:$G$3000)-11,\"\"),ROW()-11))),\"\",INDEX(Магазин!$B$12:$B$3000,SMALL(IF(\"\"<>$I$12:$I$3000,ROW(Магазин!$G$12:$G$3000)-11,\"\"),ROW()-11)))","v":""},{"$f":"IF(ISERROR(INDEX(Магазин!$G$12:$G$3000,SMALL(IF(\"\"<>$I$12:$I$3000,ROW(Магазин!$G$12:$G$3000)-11,\"\"),ROW()-11))),\"\",INDEX(Магазин!$G$12:$G$3000,SMALL(IF(\"\"<>$I$12:$I$3000,ROW(Магазин!$G$12:$G$3000)-11,\"\"),ROW()-11)))","v":""},{"$f":"IF(ISERROR(INDEX(Магазин!$D$12:$D$3000,SMALL(IF(\"\"<>$I$12:$I$3000,ROW(Магазин!$G$12:$G$3000)-11,\"\"),ROW()-11))),\"\",INDEX(Магазин!$D$12:$D$3000,SMALL(IF(\"\"<>$I$12:$I$3000,ROW(Магазин!$G$12:$G$3000)-11,\"\"),ROW()-11)))","v":""}]
[null,null,null,null,null,null,null,null,{"$f":"IF(Магазин!$G$12:$G$3000>0,ROW(),\"\")","v":""},null,null,"",{"$f":"IF(ISERROR(INDEX(Магазин!$B$12:$B$3000,SMALL(IF(\"\"<>$I$12:$I$3000,ROW(Магазин!$G$12:$G$3000)-11,\"\"),ROW()-11))),\"\",INDEX(Магазин!$B$12:$B$3000,SMALL(IF(\"\"<>$I$12:$I$3000,ROW(Магазин!$G$12:$G$3000)-11,\"\"),ROW()-11)))","v":""},{"$f":"IF(ISERROR(INDEX(Магазин!$G$12:$G$3000,SMALL(IF(\"\"<>$I$12:$I$3000,ROW(Магазин!$G$12:$G$3000)-11,\"\"),ROW()-11))),\"\",INDEX(Магазин!$G$12:$G$3000,SMALL(IF(\"\"<>$I$12:$I$3000,ROW(Магазин!$G$12:$G$3000)-11,\"\"),ROW()-11)))","v":""},{"$f":"IF(ISERROR(INDEX(Магазин!$D$12:$D$3000,SMALL(IF(\"\"<>$I$12:$I$3000,ROW(Магазин!$G$12:$G$3000)-11,\"\"),ROW()-11))),\"\",INDEX(Магазин!$D$12:$D$3000,SMALL(IF(\"\"<>$I$12:$I$3000,ROW(Магазин!$G$12:$G$3000)-11,\"\"),ROW()-11)))","v":""}]
[null,null,null,null,null,null,null,null,{"$f":"IF(Магазин!$G$12:$G$3000>0,ROW(),\"\")","v":""},null,null,"",{"$f":"IF(ISERROR(INDEX(Магазин!$B$12:$B$3000,SMALL(IF(\"\"<>$I$12:$I$3000,ROW(Магазин!$G$12:$G$3000)-11,\"\"),ROW()-11))),\"\",INDEX(Магазин!$B$12:$B$3000,SMALL(IF(\"\"<>$I$12:$I$3000,ROW(Магазин!$G$12:$G$3000)-11,\"\"),ROW()-11)))","v":""},{"$f":"IF(ISERROR(INDEX(Магазин!$G$12:$G$3000,SMALL(IF(\"\"<>$I$12:$I$3000,ROW(Магазин!$G$12:$G$3000)-11,\"\"),ROW()-11))),\"\",INDEX(Магазин!$G$12:$G$3000,SMALL(IF(\"\"<>$I$12:$I$3000,ROW(Магазин!$G$12:$G$3000)-11,\"\"),ROW()-11)))","v":""},{"$f":"IF(ISERROR(INDEX(Магазин!$D$12:$D$3000,SMALL(IF(\"\"<>$I$12:$I$3000,ROW(Магазин!$G$12:$G$3000)-11,\"\"),ROW()-11))),\"\",INDEX(Магазин!$D$12:$D$3000,SMALL(IF(\"\"<>$I$12:$I$3000,ROW(Магазин!$G$12:$G$3000)-11,\"\"),ROW()-11)))","v":""}]
[null,null,null,null,null,null,null,null,{"$f":"IF(Магазин!$G$12:$G$3000>0,ROW(),\"\")","v":""},null,null,"",{"$f":"IF(ISERROR(INDEX(Магазин!$B$12:$B$3000,SMALL(IF(\"\"<>$I$12:$I$3000,ROW(Магазин!$G$12:$G$3000)-11,\"\"),ROW()-11))),\"\",INDEX(Магазин!$B$12:$B$3000,SMALL(IF(\"\"<>$I$12:$I$3000,ROW(Магазин!$G$12:$G$3000)-11,\"\"),ROW()-11)))","v":""},{"$f":"IF(ISERROR(INDEX(Магазин!$G$12:$G$3000,SMALL(IF(\"\"<>$I$12:$I$3000,ROW(Магазин!$G$12:$G$3000)-11,\"\"),ROW()-11))),\"\",INDEX(Магазин!$G$12:$G$3000,SMALL(IF(\"\"<>$I$12:$I$3000,ROW(Магазин!$G$12:$G$3000)-11,\"\"),ROW()-11)))","v":""},{"$f":"IF(ISERROR(INDEX(Магазин!$D$12:$D$3000,SMALL(IF(\"\"<>$I$12:$I$3000,ROW(Магазин!$G$12:$G$3000)-11,\"\"),ROW()-11))),\"\",INDEX(Магазин!$D$12:$D$3000,SMALL(IF(\"\"<>$I$12:$I$3000,ROW(Магазин!$G$12:$G$3000)-11,\"\"),ROW()-11)))","v":""}]
[null,null,null,null,null,null,null,null,{"$f":"IF(Магазин!$G$12:$G$3000>0,ROW(),\"\")","v":""},null,null,"",{"$f":"IF(ISERROR(INDEX(Магазин!$B$12:$B$3000,SMALL(IF(\"\"<>$I$12:$I$3000,ROW(Магазин!$G$12:$G$3000)-11,\"\"),ROW()-11))),\"\",INDEX(Магазин!$B$12:$B$3000,SMALL(IF(\"\"<>$I$12:$I$3000,ROW(Магазин!$G$12:$G$3000)-11,\"\"),ROW()-11)))","v":""},{"$f":"IF(ISERROR(INDEX(Магазин!$G$12:$G$3000,SMALL(IF(\"\"<>$I$12:$I$3000,ROW(Магазин!$G$12:$G$3000)-11,\"\"),ROW()-11))),\"\",INDEX(Магазин!$G$12:$G$3000,SMALL(IF(\"\"<>$I$12:$I$3000,ROW(Магазин!$G$12:$G$3000)-11,\"\"),ROW()-11)))","v":""},{"$f":"IF(ISERROR(INDEX(Магазин!$D$12:$D$3000,SMALL(IF(\"\"<>$I$12:$I$3000,ROW(Магазин!$G$12:$G$3000)-11,\"\"),ROW()-11))),\"\",INDEX(Магазин!$D$12:$D$3000,SMALL(IF(\"\"<>$I$12:$I$3000,ROW(Магазин!$G$12:$G$3000)-11,\"\"),ROW()-11)))","v":""}]
[null,null,null,null,null,null,null,null,{"$f":"IF(Магазин!$G$12:$G$3000>0,ROW(),\"\")","v":""},null,null,"",{"$f":"IF(ISERROR(INDEX(Магазин!$B$12:$B$3000,SMALL(IF(\"\"<>$I$12:$I$3000,ROW(Магазин!$G$12:$G$3000)-11,\"\"),ROW()-11))),\"\",INDEX(Магазин!$B$12:$B$3000,SMALL(IF(\"\"<>$I$12:$I$3000,ROW(Магазин!$G$12:$G$3000)-11,\"\"),ROW()-11)))","v":""},{"$f":"IF(ISERROR(INDEX(Магазин!$G$12:$G$3000,SMALL(IF(\"\"<>$I$12:$I$3000,ROW(Магазин!$G$12:$G$3000)-11,\"\"),ROW()-11))),\"\",INDEX(Магазин!$G$12:$G$3000,SMALL(IF(\"\"<>$I$12:$I$3000,ROW(Магазин!$G$12:$G$3000)-11,\"\"),ROW()-11)))","v":""},{"$f":"IF(ISERROR(INDEX(Магазин!$D$12:$D$3000,SMALL(IF(\"\"<>$I$12:$I$3000,ROW(Магазин!$G$12:$G$3000)-11,\"\"),ROW()-11))),\"\",INDEX(Магазин!$D$12:$D$3000,SMALL(IF(\"\"<>$I$12:$I$3000,ROW(Магазин!$G$12:$G$3000)-11,\"\"),ROW()-11)))","v":""}]
[null,null,null,null,null,null,null,null,{"$f":"IF(Магазин!$G$12:$G$3000>0,ROW(),\"\")","v":""},null,null,"",{"$f":"IF(ISERROR(INDEX(Магазин!$B$12:$B$3000,SMALL(IF(\"\"<>$I$12:$I$3000,ROW(Магазин!$G$12:$G$3000)-11,\"\"),ROW()-11))),\"\",INDEX(Магазин!$B$12:$B$3000,SMALL(IF(\"\"<>$I$12:$I$3000,ROW(Магазин!$G$12:$G$3000)-11,\"\"),ROW()-11)))","v":""},{"$f":"IF(ISERROR(INDEX(Магазин!$G$12:$G$3000,SMALL(IF(\"\"<>$I$12:$I$3000,ROW(Магазин!$G$12:$G$3000)-11,\"\"),ROW()-11))),\"\",INDEX(Магазин!$G$12:$G$3000,SMALL(IF(\"\"<>$I$12:$I$3000,ROW(Магазин!$G$12:$G$3000)-11,\"\"),ROW()-11)))","v":""},{"$f":"IF(ISERROR(INDEX(Магазин!$D$12:$D$3000,SMALL(IF(\"\"<>$I$12:$I$3000,ROW(Магазин!$G$12:$G$3000)-11,\"\"),ROW()-11))),\"\",INDEX(Магазин!$D$12:$D$3000,SMALL(IF(\"\"<>$I$12:$I$3000,ROW(Магазин!$G$12:$G$3000)-11,\"\"),ROW()-11)))","v":""}]
[null,null,null,null,null,null,null,null,{"$f":"IF(Магазин!$G$12:$G$3000>0,ROW(),\"\")","v":""},null,null,"",{"$f":"IF(ISERROR(INDEX(Магазин!$B$12:$B$3000,SMALL(IF(\"\"<>$I$12:$I$3000,ROW(Магазин!$G$12:$G$3000)-11,\"\"),ROW()-11))),\"\",INDEX(Магазин!$B$12:$B$3000,SMALL(IF(\"\"<>$I$12:$I$3000,ROW(Магазин!$G$12:$G$3000)-11,\"\"),ROW()-11)))","v":""},{"$f":"IF(ISERROR(INDEX(Магазин!$G$12:$G$3000,SMALL(IF(\"\"<>$I$12:$I$3000,ROW(Магазин!$G$12:$G$3000)-11,\"\"),ROW()-11))),\"\",INDEX(Магазин!$G$12:$G$3000,SMALL(IF(\"\"<>$I$12:$I$3000,ROW(Магазин!$G$12:$G$3000)-11,\"\"),ROW()-11)))","v":""},{"$f":"IF(ISERROR(INDEX(Магазин!$D$12:$D$3000,SMALL(IF(\"\"<>$I$12:$I$3000,ROW(Магазин!$G$12:$G$3000)-11,\"\"),ROW()-11))),\"\",INDEX(Магазин!$D$12:$D$3000,SMALL(IF(\"\"<>$I$12:$I$3000,ROW(Магазин!$G$12:$G$3000)-11,\"\"),ROW()-11)))","v":""}]
[null,null,null,null,null,null,null,null,{"$f":"IF(Магазин!$G$12:$G$3000>0,ROW(),\"\")","v":""},null,null,"",{"$f":"IF(ISERROR(INDEX(Магазин!$B$12:$B$3000,SMALL(IF(\"\"<>$I$12:$I$3000,ROW(Магазин!$G$12:$G$3000)-11,\"\"),ROW()-11))),\"\",INDEX(Магазин!$B$12:$B$3000,SMALL(IF(\"\"<>$I$12:$I$3000,ROW(Магазин!$G$12:$G$3000)-11,\"\"),ROW()-11)))","v":""},{"$f":"IF(ISERROR(INDEX(Магазин!$G$12:$G$3000,SMALL(IF(\"\"<>$I$12:$I$3000,ROW(Магазин!$G$12:$G$3000)-11,\"\"),ROW()-11))),\"\",INDEX(Магазин!$G$12:$G$3000,SMALL(IF(\"\"<>$I$12:$I$3000,ROW(Магазин!$G$12:$G$3000)-11,\"\"),ROW()-11)))","v":""},{"$f":"IF(ISERROR(INDEX(Магазин!$D$12:$D$3000,SMALL(IF(\"\"<>$I$12:$I$3000,ROW(Магазин!$G$12:$G$3000)-11,\"\"),ROW()-11))),\"\",INDEX(Магазин!$D$12:$D$3000,SMALL(IF(\"\"<>$I$12:$I$3000,ROW(Магазин!$G$12:$G$3000)-11,\"\"),ROW()-11)))","v":""}]
[null,null,null,null,null,null,null,null,{"$f":"IF(Магазин!$G$12:$G$3000>0,ROW(),\"\")","v":""},null,null,"",{"$f":"IF(ISERROR(INDEX(Магазин!$B$12:$B$3000,SMALL(IF(\"\"<>$I$12:$I$3000,ROW(Магазин!$G$12:$G$3000)-11,\"\"),ROW()-11))),\"\",INDEX(Магазин!$B$12:$B$3000,SMALL(IF(\"\"<>$I$12:$I$3000,ROW(Магазин!$G$12:$G$3000)-11,\"\"),ROW()-11)))","v":""},{"$f":"IF(ISERROR(INDEX(Магазин!$G$12:$G$3000,SMALL(IF(\"\"<>$I$12:$I$3000,ROW(Магазин!$G$12:$G$3000)-11,\"\"),ROW()-11))),\"\",INDEX(Магазин!$G$12:$G$3000,SMALL(IF(\"\"<>$I$12:$I$3000,ROW(Магазин!$G$12:$G$3000)-11,\"\"),ROW()-11)))","v":""},{"$f":"IF(ISERROR(INDEX(Магазин!$D$12:$D$3000,SMALL(IF(\"\"<>$I$12:$I$3000,ROW(Магазин!$G$12:$G$3000)-11,\"\"),ROW()-11))),\"\",INDEX(Магазин!$D$12:$D$3000,SMALL(IF(\"\"<>$I$12:$I$3000,ROW(Магазин!$G$12:$G$3000)-11,\"\"),ROW()-11)))","v":""}]
[null,null,null,null,null,null,null,null,{"$f":"IF(Магазин!$G$12:$G$3000>0,ROW(),\"\")","v":""},null,null,"",{"$f":"IF(ISERROR(INDEX(Магазин!$B$12:$B$3000,SMALL(IF(\"\"<>$I$12:$I$3000,ROW(Магазин!$G$12:$G$3000)-11,\"\"),ROW()-11))),\"\",INDEX(Магазин!$B$12:$B$3000,SMALL(IF(\"\"<>$I$12:$I$3000,ROW(Магазин!$G$12:$G$3000)-11,\"\"),ROW()-11)))","v":""},{"$f":"IF(ISERROR(INDEX(Магазин!$G$12:$G$3000,SMALL(IF(\"\"<>$I$12:$I$3000,ROW(Магазин!$G$12:$G$3000)-11,\"\"),ROW()-11))),\"\",INDEX(Магазин!$G$12:$G$3000,SMALL(IF(\"\"<>$I$12:$I$3000,ROW(Магазин!$G$12:$G$3000)-11,\"\"),ROW()-11)))","v":""},{"$f":"IF(ISERROR(INDEX(Магазин!$D$12:$D$3000,SMALL(IF(\"\"<>$I$12:$I$3000,ROW(Магазин!$G$12:$G$3000)-11,\"\"),ROW()-11))),\"\",INDEX(Магазин!$D$12:$D$3000,SMALL(IF(\"\"<>$I$12:$I$3000,ROW(Магазин!$G$12:$G$3000)-11,\"\"),ROW()-11)))","v":""}]
[null,null,null,null,null,null,null,null,{"$f":"IF(Магазин!$G$12:$G$3000>0,ROW(),\"\")","v":""},null,null,"",{"$f":"IF(ISERROR(INDEX(Магазин!$B$12:$B$3000,SMALL(IF(\"\"<>$I$12:$I$3000,ROW(Магазин!$G$12:$G$3000)-11,\"\"),ROW()-11))),\"\",INDEX(Магазин!$B$12:$B$3000,SMALL(IF(\"\"<>$I$12:$I$3000,ROW(Магазин!$G$12:$G$3000)-11,\"\"),ROW()-11)))","v":""},{"$f":"IF(ISERROR(INDEX(Магазин!$G$12:$G$3000,SMALL(IF(\"\"<>$I$12:$I$3000,ROW(Магазин!$G$12:$G$3000)-11,\"\"),ROW()-11))),\"\",INDEX(Магазин!$G$12:$G$3000,SMALL(IF(\"\"<>$I$12:$I$3000,ROW(Магазин!$G$12:$G$3000)-11,\"\"),ROW()-11)))","v":""},{"$f":"IF(ISERROR(INDEX(Магазин!$D$12:$D$3000,SMALL(IF(\"\"<>$I$12:$I$3000,ROW(Магазин!$G$12:$G$3000)-11,\"\"),ROW()-11))),\"\",INDEX(Магазин!$D$12:$D$3000,SMALL(IF(\"\"<>$I$12:$I$3000,ROW(Магазин!$G$12:$G$3000)-11,\"\"),ROW()-11)))","v":""}]
[null,null,null,null,null,null,null,null,{"$f":"IF(Магазин!$G$12:$G$3000>0,ROW(),\"\")","v":""},null,null,"",{"$f":"IF(ISERROR(INDEX(Магазин!$B$12:$B$3000,SMALL(IF(\"\"<>$I$12:$I$3000,ROW(Магазин!$G$12:$G$3000)-11,\"\"),ROW()-11))),\"\",INDEX(Магазин!$B$12:$B$3000,SMALL(IF(\"\"<>$I$12:$I$3000,ROW(Магазин!$G$12:$G$3000)-11,\"\"),ROW()-11)))","v":""},{"$f":"IF(ISERROR(INDEX(Магазин!$G$12:$G$3000,SMALL(IF(\"\"<>$I$12:$I$3000,ROW(Магазин!$G$12:$G$3000)-11,\"\"),ROW()-11))),\"\",INDEX(Магазин!$G$12:$G$3000,SMALL(IF(\"\"<>$I$12:$I$3000,ROW(Магазин!$G$12:$G$3000)-11,\"\"),ROW()-11)))","v":""},{"$f":"IF(ISERROR(INDEX(Магазин!$D$12:$D$3000,SMALL(IF(\"\"<>$I$12:$I$3000,ROW(Магазин!$G$12:$G$3000)-11,\"\"),ROW()-11))),\"\",INDEX(Магазин!$D$12:$D$3000,SMALL(IF(\"\"<>$I$12:$I$3000,ROW(Магазин!$G$12:$G$3000)-11,\"\"),ROW()-11)))","v":""}]
[null,null,null,null,null,null,null,null,{"$f":"IF(Магазин!$G$12:$G$3000>0,ROW(),\"\")","v":""},null,null,"",{"$f":"IF(ISERROR(INDEX(Магазин!$B$12:$B$3000,SMALL(IF(\"\"<>$I$12:$I$3000,ROW(Магазин!$G$12:$G$3000)-11,\"\"),ROW()-11))),\"\",INDEX(Магазин!$B$12:$B$3000,SMALL(IF(\"\"<>$I$12:$I$3000,ROW(Магазин!$G$12:$G$3000)-11,\"\"),ROW()-11)))","v":""},{"$f":"IF(ISERROR(INDEX(Магазин!$G$12:$G$3000,SMALL(IF(\"\"<>$I$12:$I$3000,ROW(Магазин!$G$12:$G$3000)-11,\"\"),ROW()-11))),\"\",INDEX(Магазин!$G$12:$G$3000,SMALL(IF(\"\"<>$I$12:$I$3000,ROW(Магазин!$G$12:$G$3000)-11,\"\"),ROW()-11)))","v":""},{"$f":"IF(ISERROR(INDEX(Магазин!$D$12:$D$3000,SMALL(IF(\"\"<>$I$12:$I$3000,ROW(Магазин!$G$12:$G$3000)-11,\"\"),ROW()-11))),\"\",INDEX(Магазин!$D$12:$D$3000,SMALL(IF(\"\"<>$I$12:$I$3000,ROW(Магазин!$G$12:$G$3000)-11,\"\"),ROW()-11)))","v":""}]
[null,null,null,null,null,null,null,null,{"$f":"IF(Магазин!$G$12:$G$3000>0,ROW(),\"\")","v":""},null,null,"",{"$f":"IF(ISERROR(INDEX(Магазин!$B$12:$B$3000,SMALL(IF(\"\"<>$I$12:$I$3000,ROW(Магазин!$G$12:$G$3000)-11,\"\"),ROW()-11))),\"\",INDEX(Магазин!$B$12:$B$3000,SMALL(IF(\"\"<>$I$12:$I$3000,ROW(Магазин!$G$12:$G$3000)-11,\"\"),ROW()-11)))","v":""},{"$f":"IF(ISERROR(INDEX(Магазин!$G$12:$G$3000,SMALL(IF(\"\"<>$I$12:$I$3000,ROW(Магазин!$G$12:$G$3000)-11,\"\"),ROW()-11))),\"\",INDEX(Магазин!$G$12:$G$3000,SMALL(IF(\"\"<>$I$12:$I$3000,ROW(Магазин!$G$12:$G$3000)-11,\"\"),ROW()-11)))","v":""},{"$f":"IF(ISERROR(INDEX(Магазин!$D$12:$D$3000,SMALL(IF(\"\"<>$I$12:$I$3000,ROW(Магазин!$G$12:$G$3000)-11,\"\"),ROW()-11))),\"\",INDEX(Магазин!$D$12:$D$3000,SMALL(IF(\"\"<>$I$12:$I$3000,ROW(Магазин!$G$12:$G$3000)-11,\"\"),ROW()-11)))","v":""}]
[null,null,null,null,null,null,null,null,{"$f":"IF(Магазин!$G$12:$G$3000>0,ROW(),\"\")","v":""},null,null,"",{"$f":"IF(ISERROR(INDEX(Магазин!$B$12:$B$3000,SMALL(IF(\"\"<>$I$12:$I$3000,ROW(Магазин!$G$12:$G$3000)-11,\"\"),ROW()-11))),\"\",INDEX(Магазин!$B$12:$B$3000,SMALL(IF(\"\"<>$I$12:$I$3000,ROW(Магазин!$G$12:$G$3000)-11,\"\"),ROW()-11)))","v":""},{"$f":"IF(ISERROR(INDEX(Магазин!$G$12:$G$3000,SMALL(IF(\"\"<>$I$12:$I$3000,ROW(Магазин!$G$12:$G$3000)-11,\"\"),ROW()-11))),\"\",INDEX(Магазин!$G$12:$G$3000,SMALL(IF(\"\"<>$I$12:$I$3000,ROW(Магазин!$G$12:$G$3000)-11,\"\"),ROW()-11)))","v":""},{"$f":"IF(ISERROR(INDEX(Магазин!$D$12:$D$3000,SMALL(IF(\"\"<>$I$12:$I$3000,ROW(Магазин!$G$12:$G$3000)-11,\"\"),ROW()-11))),\"\",INDEX(Магазин!$D$12:$D$3000,SMALL(IF(\"\"<>$I$12:$I$3000,ROW(Магазин!$G$12:$G$3000)-11,\"\"),ROW()-11)))","v":""}]
[null,null,null,null,null,null,null,null,{"$f":"IF(Магазин!$G$12:$G$3000>0,ROW(),\"\")","v":""},null,null,"",{"$f":"IF(ISERROR(INDEX(Магазин!$B$12:$B$3000,SMALL(IF(\"\"<>$I$12:$I$3000,ROW(Магазин!$G$12:$G$3000)-11,\"\"),ROW()-11))),\"\",INDEX(Магазин!$B$12:$B$3000,SMALL(IF(\"\"<>$I$12:$I$3000,ROW(Магазин!$G$12:$G$3000)-11,\"\"),ROW()-11)))","v":""},{"$f":"IF(ISERROR(INDEX(Магазин!$G$12:$G$3000,SMALL(IF(\"\"<>$I$12:$I$3000,ROW(Магазин!$G$12:$G$3000)-11,\"\"),ROW()-11))),\"\",INDEX(Магазин!$G$12:$G$3000,SMALL(IF(\"\"<>$I$12:$I$3000,ROW(Магазин!$G$12:$G$3000)-11,\"\"),ROW()-11)))","v":""},{"$f":"IF(ISERROR(INDEX(Магазин!$D$12:$D$3000,SMALL(IF(\"\"<>$I$12:$I$3000,ROW(Магазин!$G$12:$G$3000)-11,\"\"),ROW()-11))),\"\",INDEX(Магазин!$D$12:$D$3000,SMALL(IF(\"\"<>$I$12:$I$3000,ROW(Магазин!$G$12:$G$3000)-11,\"\"),ROW()-11)))","v":""}]
[null,null,null,null,null,null,null,null,{"$f":"IF(Магазин!$G$12:$G$3000>0,ROW(),\"\")","v":""},null,null,"",{"$f":"IF(ISERROR(INDEX(Магазин!$B$12:$B$3000,SMALL(IF(\"\"<>$I$12:$I$3000,ROW(Магазин!$G$12:$G$3000)-11,\"\"),ROW()-11))),\"\",INDEX(Магазин!$B$12:$B$3000,SMALL(IF(\"\"<>$I$12:$I$3000,ROW(Магазин!$G$12:$G$3000)-11,\"\"),ROW()-11)))","v":""},{"$f":"IF(ISERROR(INDEX(Магазин!$G$12:$G$3000,SMALL(IF(\"\"<>$I$12:$I$3000,ROW(Магазин!$G$12:$G$3000)-11,\"\"),ROW()-11))),\"\",INDEX(Магазин!$G$12:$G$3000,SMALL(IF(\"\"<>$I$12:$I$3000,ROW(Магазин!$G$12:$G$3000)-11,\"\"),ROW()-11)))","v":""},{"$f":"IF(ISERROR(INDEX(Магазин!$D$12:$D$3000,SMALL(IF(\"\"<>$I$12:$I$3000,ROW(Магазин!$G$12:$G$3000)-11,\"\"),ROW()-11))),\"\",INDEX(Магазин!$D$12:$D$3000,SMALL(IF(\"\"<>$I$12:$I$3000,ROW(Магазин!$G$12:$G$3000)-11,\"\"),ROW()-11)))","v":""}]
[null,null,null,null,null,null,null,null,{"$f":"IF(Магазин!$G$12:$G$3000>0,ROW(),\"\")","v":""},null,null,"",{"$f":"IF(ISERROR(INDEX(Магазин!$B$12:$B$3000,SMALL(IF(\"\"<>$I$12:$I$3000,ROW(Магазин!$G$12:$G$3000)-11,\"\"),ROW()-11))),\"\",INDEX(Магазин!$B$12:$B$3000,SMALL(IF(\"\"<>$I$12:$I$3000,ROW(Магазин!$G$12:$G$3000)-11,\"\"),ROW()-11)))","v":""},{"$f":"IF(ISERROR(INDEX(Магазин!$G$12:$G$3000,SMALL(IF(\"\"<>$I$12:$I$3000,ROW(Магазин!$G$12:$G$3000)-11,\"\"),ROW()-11))),\"\",INDEX(Магазин!$G$12:$G$3000,SMALL(IF(\"\"<>$I$12:$I$3000,ROW(Магазин!$G$12:$G$3000)-11,\"\"),ROW()-11)))","v":""},{"$f":"IF(ISERROR(INDEX(Магазин!$D$12:$D$3000,SMALL(IF(\"\"<>$I$12:$I$3000,ROW(Магазин!$G$12:$G$3000)-11,\"\"),ROW()-11))),\"\",INDEX(Магазин!$D$12:$D$3000,SMALL(IF(\"\"<>$I$12:$I$3000,ROW(Магазин!$G$12:$G$3000)-11,\"\"),ROW()-11)))","v":""}]
[null,null,null,null,null,null,null,null,{"$f":"IF(Магазин!$G$12:$G$3000>0,ROW(),\"\")","v":""},null,null,"",{"$f":"IF(ISERROR(INDEX(Магазин!$B$12:$B$3000,SMALL(IF(\"\"<>$I$12:$I$3000,ROW(Магазин!$G$12:$G$3000)-11,\"\"),ROW()-11))),\"\",INDEX(Магазин!$B$12:$B$3000,SMALL(IF(\"\"<>$I$12:$I$3000,ROW(Магазин!$G$12:$G$3000)-11,\"\"),ROW()-11)))","v":""},{"$f":"IF(ISERROR(INDEX(Магазин!$G$12:$G$3000,SMALL(IF(\"\"<>$I$12:$I$3000,ROW(Магазин!$G$12:$G$3000)-11,\"\"),ROW()-11))),\"\",INDEX(Магазин!$G$12:$G$3000,SMALL(IF(\"\"<>$I$12:$I$3000,ROW(Магазин!$G$12:$G$3000)-11,\"\"),ROW()-11)))","v":""},{"$f":"IF(ISERROR(INDEX(Магазин!$D$12:$D$3000,SMALL(IF(\"\"<>$I$12:$I$3000,ROW(Магазин!$G$12:$G$3000)-11,\"\"),ROW()-11))),\"\",INDEX(Магазин!$D$12:$D$3000,SMALL(IF(\"\"<>$I$12:$I$3000,ROW(Магазин!$G$12:$G$3000)-11,\"\"),ROW()-11)))","v":""}]
[null,null,null,null,null,null,null,null,{"$f":"IF(Магазин!$G$12:$G$3000>0,ROW(),\"\")","v":""},null,null,"",{"$f":"IF(ISERROR(INDEX(Магазин!$B$12:$B$3000,SMALL(IF(\"\"<>$I$12:$I$3000,ROW(Магазин!$G$12:$G$3000)-11,\"\"),ROW()-11))),\"\",INDEX(Магазин!$B$12:$B$3000,SMALL(IF(\"\"<>$I$12:$I$3000,ROW(Магазин!$G$12:$G$3000)-11,\"\"),ROW()-11)))","v":""},{"$f":"IF(ISERROR(INDEX(Магазин!$G$12:$G$3000,SMALL(IF(\"\"<>$I$12:$I$3000,ROW(Магазин!$G$12:$G$3000)-11,\"\"),ROW()-11))),\"\",INDEX(Магазин!$G$12:$G$3000,SMALL(IF(\"\"<>$I$12:$I$3000,ROW(Магазин!$G$12:$G$3000)-11,\"\"),ROW()-11)))","v":""},{"$f":"IF(ISERROR(INDEX(Магазин!$D$12:$D$3000,SMALL(IF(\"\"<>$I$12:$I$3000,ROW(Магазин!$G$12:$G$3000)-11,\"\"),ROW()-11))),\"\",INDEX(Магазин!$D$12:$D$3000,SMALL(IF(\"\"<>$I$12:$I$3000,ROW(Магазин!$G$12:$G$3000)-11,\"\"),ROW()-11)))","v":""}]
[null,null,null,null,null,null,null,null,{"$f":"IF(Магазин!$G$12:$G$3000>0,ROW(),\"\")","v":""},null,null,"",{"$f":"IF(ISERROR(INDEX(Магазин!$B$12:$B$3000,SMALL(IF(\"\"<>$I$12:$I$3000,ROW(Магазин!$G$12:$G$3000)-11,\"\"),ROW()-11))),\"\",INDEX(Магазин!$B$12:$B$3000,SMALL(IF(\"\"<>$I$12:$I$3000,ROW(Магазин!$G$12:$G$3000)-11,\"\"),ROW()-11)))","v":""},{"$f":"IF(ISERROR(INDEX(Магазин!$G$12:$G$3000,SMALL(IF(\"\"<>$I$12:$I$3000,ROW(Магазин!$G$12:$G$3000)-11,\"\"),ROW()-11))),\"\",INDEX(Магазин!$G$12:$G$3000,SMALL(IF(\"\"<>$I$12:$I$3000,ROW(Магазин!$G$12:$G$3000)-11,\"\"),ROW()-11)))","v":""},{"$f":"IF(ISERROR(INDEX(Магазин!$D$12:$D$3000,SMALL(IF(\"\"<>$I$12:$I$3000,ROW(Магазин!$G$12:$G$3000)-11,\"\"),ROW()-11))),\"\",INDEX(Магазин!$D$12:$D$3000,SMALL(IF(\"\"<>$I$12:$I$3000,ROW(Магазин!$G$12:$G$3000)-11,\"\"),ROW()-11)))","v":""}]
[null,null,null,null,null,null,null,null,{"$f":"IF(Магазин!$G$12:$G$3000>0,ROW(),\"\")","v":""},null,null,"",{"$f":"IF(ISERROR(INDEX(Магазин!$B$12:$B$3000,SMALL(IF(\"\"<>$I$12:$I$3000,ROW(Магазин!$G$12:$G$3000)-11,\"\"),ROW()-11))),\"\",INDEX(Магазин!$B$12:$B$3000,SMALL(IF(\"\"<>$I$12:$I$3000,ROW(Магазин!$G$12:$G$3000)-11,\"\"),ROW()-11)))","v":""},{"$f":"IF(ISERROR(INDEX(Магазин!$G$12:$G$3000,SMALL(IF(\"\"<>$I$12:$I$3000,ROW(Магазин!$G$12:$G$3000)-11,\"\"),ROW()-11))),\"\",INDEX(Магазин!$G$12:$G$3000,SMALL(IF(\"\"<>$I$12:$I$3000,ROW(Магазин!$G$12:$G$3000)-11,\"\"),ROW()-11)))","v":""},{"$f":"IF(ISERROR(INDEX(Магазин!$D$12:$D$3000,SMALL(IF(\"\"<>$I$12:$I$3000,ROW(Магазин!$G$12:$G$3000)-11,\"\"),ROW()-11))),\"\",INDEX(Магазин!$D$12:$D$3000,SMALL(IF(\"\"<>$I$12:$I$3000,ROW(Магазин!$G$12:$G$3000)-11,\"\"),ROW()-11)))","v":""}]
[null,null,null,null,null,null,null,null,{"$f":"IF(Магазин!$G$12:$G$3000>0,ROW(),\"\")","v":""},null,null,"",{"$f":"IF(ISERROR(INDEX(Магазин!$B$12:$B$3000,SMALL(IF(\"\"<>$I$12:$I$3000,ROW(Магазин!$G$12:$G$3000)-11,\"\"),ROW()-11))),\"\",INDEX(Магазин!$B$12:$B$3000,SMALL(IF(\"\"<>$I$12:$I$3000,ROW(Магазин!$G$12:$G$3000)-11,\"\"),ROW()-11)))","v":""},{"$f":"IF(ISERROR(INDEX(Магазин!$G$12:$G$3000,SMALL(IF(\"\"<>$I$12:$I$3000,ROW(Магазин!$G$12:$G$3000)-11,\"\"),ROW()-11))),\"\",INDEX(Магазин!$G$12:$G$3000,SMALL(IF(\"\"<>$I$12:$I$3000,ROW(Магазин!$G$12:$G$3000)-11,\"\"),ROW()-11)))","v":""},{"$f":"IF(ISERROR(INDEX(Магазин!$D$12:$D$3000,SMALL(IF(\"\"<>$I$12:$I$3000,ROW(Магазин!$G$12:$G$3000)-11,\"\"),ROW()-11))),\"\",INDEX(Магазин!$D$12:$D$3000,SMALL(IF(\"\"<>$I$12:$I$3000,ROW(Магазин!$G$12:$G$3000)-11,\"\"),ROW()-11)))","v":""}]
[null,null,null,null,null,null,null,null,{"$f":"IF(Магазин!$G$12:$G$3000>0,ROW(),\"\")","v":""},null,null,"",{"$f":"IF(ISERROR(INDEX(Магазин!$B$12:$B$3000,SMALL(IF(\"\"<>$I$12:$I$3000,ROW(Магазин!$G$12:$G$3000)-11,\"\"),ROW()-11))),\"\",INDEX(Магазин!$B$12:$B$3000,SMALL(IF(\"\"<>$I$12:$I$3000,ROW(Магазин!$G$12:$G$3000)-11,\"\"),ROW()-11)))","v":""},{"$f":"IF(ISERROR(INDEX(Магазин!$G$12:$G$3000,SMALL(IF(\"\"<>$I$12:$I$3000,ROW(Магазин!$G$12:$G$3000)-11,\"\"),ROW()-11))),\"\",INDEX(Магазин!$G$12:$G$3000,SMALL(IF(\"\"<>$I$12:$I$3000,ROW(Магазин!$G$12:$G$3000)-11,\"\"),ROW()-11)))","v":""},{"$f":"IF(ISERROR(INDEX(Магазин!$D$12:$D$3000,SMALL(IF(\"\"<>$I$12:$I$3000,ROW(Магазин!$G$12:$G$3000)-11,\"\"),ROW()-11))),\"\",INDEX(Магазин!$D$12:$D$3000,SMALL(IF(\"\"<>$I$12:$I$3000,ROW(Магазин!$G$12:$G$3000)-11,\"\"),ROW()-11)))","v":""}]
[null,null,null,null,null,null,null,null,{"$f":"IF(Магазин!$G$12:$G$3000>0,ROW(),\"\")","v":""},null,null,"",{"$f":"IF(ISERROR(INDEX(Магазин!$B$12:$B$3000,SMALL(IF(\"\"<>$I$12:$I$3000,ROW(Магазин!$G$12:$G$3000)-11,\"\"),ROW()-11))),\"\",INDEX(Магазин!$B$12:$B$3000,SMALL(IF(\"\"<>$I$12:$I$3000,ROW(Магазин!$G$12:$G$3000)-11,\"\"),ROW()-11)))","v":""},{"$f":"IF(ISERROR(INDEX(Магазин!$G$12:$G$3000,SMALL(IF(\"\"<>$I$12:$I$3000,ROW(Магазин!$G$12:$G$3000)-11,\"\"),ROW()-11))),\"\",INDEX(Магазин!$G$12:$G$3000,SMALL(IF(\"\"<>$I$12:$I$3000,ROW(Магазин!$G$12:$G$3000)-11,\"\"),ROW()-11)))","v":""},{"$f":"IF(ISERROR(INDEX(Магазин!$D$12:$D$3000,SMALL(IF(\"\"<>$I$12:$I$3000,ROW(Магазин!$G$12:$G$3000)-11,\"\"),ROW()-11))),\"\",INDEX(Магазин!$D$12:$D$3000,SMALL(IF(\"\"<>$I$12:$I$3000,ROW(Магазин!$G$12:$G$3000)-11,\"\"),ROW()-11)))","v":""}]
[null,null,null,null,null,null,null,null,{"$f":"IF(Магазин!$G$12:$G$3000>0,ROW(),\"\")","v":""},null,null,"",{"$f":"IF(ISERROR(INDEX(Магазин!$B$12:$B$3000,SMALL(IF(\"\"<>$I$12:$I$3000,ROW(Магазин!$G$12:$G$3000)-11,\"\"),ROW()-11))),\"\",INDEX(Магазин!$B$12:$B$3000,SMALL(IF(\"\"<>$I$12:$I$3000,ROW(Магазин!$G$12:$G$3000)-11,\"\"),ROW()-11)))","v":""},{"$f":"IF(ISERROR(INDEX(Магазин!$G$12:$G$3000,SMALL(IF(\"\"<>$I$12:$I$3000,ROW(Магазин!$G$12:$G$3000)-11,\"\"),ROW()-11))),\"\",INDEX(Магазин!$G$12:$G$3000,SMALL(IF(\"\"<>$I$12:$I$3000,ROW(Магазин!$G$12:$G$3000)-11,\"\"),ROW()-11)))","v":""},{"$f":"IF(ISERROR(INDEX(Магазин!$D$12:$D$3000,SMALL(IF(\"\"<>$I$12:$I$3000,ROW(Магазин!$G$12:$G$3000)-11,\"\"),ROW()-11))),\"\",INDEX(Магазин!$D$12:$D$3000,SMALL(IF(\"\"<>$I$12:$I$3000,ROW(Магазин!$G$12:$G$3000)-11,\"\"),ROW()-11)))","v":""}]
[null,null,null,null,null,null,null,null,{"$f":"IF(Магазин!$G$12:$G$3000>0,ROW(),\"\")","v":""},null,null,"",{"$f":"IF(ISERROR(INDEX(Магазин!$B$12:$B$3000,SMALL(IF(\"\"<>$I$12:$I$3000,ROW(Магазин!$G$12:$G$3000)-11,\"\"),ROW()-11))),\"\",INDEX(Магазин!$B$12:$B$3000,SMALL(IF(\"\"<>$I$12:$I$3000,ROW(Магазин!$G$12:$G$3000)-11,\"\"),ROW()-11)))","v":""},{"$f":"IF(ISERROR(INDEX(Магазин!$G$12:$G$3000,SMALL(IF(\"\"<>$I$12:$I$3000,ROW(Магазин!$G$12:$G$3000)-11,\"\"),ROW()-11))),\"\",INDEX(Магазин!$G$12:$G$3000,SMALL(IF(\"\"<>$I$12:$I$3000,ROW(Магазин!$G$12:$G$3000)-11,\"\"),ROW()-11)))","v":""},{"$f":"IF(ISERROR(INDEX(Магазин!$D$12:$D$3000,SMALL(IF(\"\"<>$I$12:$I$3000,ROW(Магазин!$G$12:$G$3000)-11,\"\"),ROW()-11))),\"\",INDEX(Магазин!$D$12:$D$3000,SMALL(IF(\"\"<>$I$12:$I$3000,ROW(Магазин!$G$12:$G$3000)-11,\"\"),ROW()-11)))","v":""}]
[null,null,null,null,null,null,null,null,{"$f":"IF(Магазин!$G$12:$G$3000>0,ROW(),\"\")","v":""},null,null,"",{"$f":"IF(ISERROR(INDEX(Магазин!$B$12:$B$3000,SMALL(IF(\"\"<>$I$12:$I$3000,ROW(Магазин!$G$12:$G$3000)-11,\"\"),ROW()-11))),\"\",INDEX(Магазин!$B$12:$B$3000,SMALL(IF(\"\"<>$I$12:$I$3000,ROW(Магазин!$G$12:$G$3000)-11,\"\"),ROW()-11)))","v":""},{"$f":"IF(ISERROR(INDEX(Магазин!$G$12:$G$3000,SMALL(IF(\"\"<>$I$12:$I$3000,ROW(Магазин!$G$12:$G$3000)-11,\"\"),ROW()-11))),\"\",INDEX(Магазин!$G$12:$G$3000,SMALL(IF(\"\"<>$I$12:$I$3000,ROW(Магазин!$G$12:$G$3000)-11,\"\"),ROW()-11)))","v":""},{"$f":"IF(ISERROR(INDEX(Магазин!$D$12:$D$3000,SMALL(IF(\"\"<>$I$12:$I$3000,ROW(Магазин!$G$12:$G$3000)-11,\"\"),ROW()-11))),\"\",INDEX(Магазин!$D$12:$D$3000,SMALL(IF(\"\"<>$I$12:$I$3000,ROW(Магазин!$G$12:$G$3000)-11,\"\"),ROW()-11)))","v":""}]
[null,null,null,null,null,null,null,null,{"$f":"IF(Магазин!$G$12:$G$3000>0,ROW(),\"\")","v":""},null,null,"",{"$f":"IF(ISERROR(INDEX(Магазин!$B$12:$B$3000,SMALL(IF(\"\"<>$I$12:$I$3000,ROW(Магазин!$G$12:$G$3000)-11,\"\"),ROW()-11))),\"\",INDEX(Магазин!$B$12:$B$3000,SMALL(IF(\"\"<>$I$12:$I$3000,ROW(Магазин!$G$12:$G$3000)-11,\"\"),ROW()-11)))","v":""},{"$f":"IF(ISERROR(INDEX(Магазин!$G$12:$G$3000,SMALL(IF(\"\"<>$I$12:$I$3000,ROW(Магазин!$G$12:$G$3000)-11,\"\"),ROW()-11))),\"\",INDEX(Магазин!$G$12:$G$3000,SMALL(IF(\"\"<>$I$12:$I$3000,ROW(Магазин!$G$12:$G$3000)-11,\"\"),ROW()-11)))","v":""},{"$f":"IF(ISERROR(INDEX(Магазин!$D$12:$D$3000,SMALL(IF(\"\"<>$I$12:$I$3000,ROW(Магазин!$G$12:$G$3000)-11,\"\"),ROW()-11))),\"\",INDEX(Магазин!$D$12:$D$3000,SMALL(IF(\"\"<>$I$12:$I$3000,ROW(Магазин!$G$12:$G$3000)-11,\"\"),ROW()-11)))","v":""}]
[null,null,null,null,null,null,null,null,{"$f":"IF(Магазин!$G$12:$G$3000>0,ROW(),\"\")","v":""},null,null,"",{"$f":"IF(ISERROR(INDEX(Магазин!$B$12:$B$3000,SMALL(IF(\"\"<>$I$12:$I$3000,ROW(Магазин!$G$12:$G$3000)-11,\"\"),ROW()-11))),\"\",INDEX(Магазин!$B$12:$B$3000,SMALL(IF(\"\"<>$I$12:$I$3000,ROW(Магазин!$G$12:$G$3000)-11,\"\"),ROW()-11)))","v":""},{"$f":"IF(ISERROR(INDEX(Магазин!$G$12:$G$3000,SMALL(IF(\"\"<>$I$12:$I$3000,ROW(Магазин!$G$12:$G$3000)-11,\"\"),ROW()-11))),\"\",INDEX(Магазин!$G$12:$G$3000,SMALL(IF(\"\"<>$I$12:$I$3000,ROW(Магазин!$G$12:$G$3000)-11,\"\"),ROW()-11)))","v":""},{"$f":"IF(ISERROR(INDEX(Магазин!$D$12:$D$3000,SMALL(IF(\"\"<>$I$12:$I$3000,ROW(Магазин!$G$12:$G$3000)-11,\"\"),ROW()-11))),\"\",INDEX(Магазин!$D$12:$D$3000,SMALL(IF(\"\"<>$I$12:$I$3000,ROW(Магазин!$G$12:$G$3000)-11,\"\"),ROW()-11)))","v":""}]
[null,null,null,null,null,null,null,null,{"$f":"IF(Магазин!$G$12:$G$3000>0,ROW(),\"\")","v":""},null,null,"",{"$f":"IF(ISERROR(INDEX(Магазин!$B$12:$B$3000,SMALL(IF(\"\"<>$I$12:$I$3000,ROW(Магазин!$G$12:$G$3000)-11,\"\"),ROW()-11))),\"\",INDEX(Магазин!$B$12:$B$3000,SMALL(IF(\"\"<>$I$12:$I$3000,ROW(Магазин!$G$12:$G$3000)-11,\"\"),ROW()-11)))","v":""},{"$f":"IF(ISERROR(INDEX(Магазин!$G$12:$G$3000,SMALL(IF(\"\"<>$I$12:$I$3000,ROW(Магазин!$G$12:$G$3000)-11,\"\"),ROW()-11))),\"\",INDEX(Магазин!$G$12:$G$3000,SMALL(IF(\"\"<>$I$12:$I$3000,ROW(Магазин!$G$12:$G$3000)-11,\"\"),ROW()-11)))","v":""},{"$f":"IF(ISERROR(INDEX(Магазин!$D$12:$D$3000,SMALL(IF(\"\"<>$I$12:$I$3000,ROW(Магазин!$G$12:$G$3000)-11,\"\"),ROW()-11))),\"\",INDEX(Магазин!$D$12:$D$3000,SMALL(IF(\"\"<>$I$12:$I$3000,ROW(Магазин!$G$12:$G$3000)-11,\"\"),ROW()-11)))","v":""}]
[null,null,null,null,null,null,null,null,{"$f":"IF(Магазин!$G$12:$G$3000>0,ROW(),\"\")","v":""},null,null,"",{"$f":"IF(ISERROR(INDEX(Магазин!$B$12:$B$3000,SMALL(IF(\"\"<>$I$12:$I$3000,ROW(Магазин!$G$12:$G$3000)-11,\"\"),ROW()-11))),\"\",INDEX(Магазин!$B$12:$B$3000,SMALL(IF(\"\"<>$I$12:$I$3000,ROW(Магазин!$G$12:$G$3000)-11,\"\"),ROW()-11)))","v":""},{"$f":"IF(ISERROR(INDEX(Магазин!$G$12:$G$3000,SMALL(IF(\"\"<>$I$12:$I$3000,ROW(Магазин!$G$12:$G$3000)-11,\"\"),ROW()-11))),\"\",INDEX(Магазин!$G$12:$G$3000,SMALL(IF(\"\"<>$I$12:$I$3000,ROW(Магазин!$G$12:$G$3000)-11,\"\"),ROW()-11)))","v":""},{"$f":"IF(ISERROR(INDEX(Магазин!$D$12:$D$3000,SMALL(IF(\"\"<>$I$12:$I$3000,ROW(Магазин!$G$12:$G$3000)-11,\"\"),ROW()-11))),\"\",INDEX(Магазин!$D$12:$D$3000,SMALL(IF(\"\"<>$I$12:$I$3000,ROW(Магазин!$G$12:$G$3000)-11,\"\"),ROW()-11)))","v":""}]
[null,null,null,null,null,null,null,null,{"$f":"IF(Магазин!$G$12:$G$3000>0,ROW(),\"\")","v":""},null,null,"",{"$f":"IF(ISERROR(INDEX(Магазин!$B$12:$B$3000,SMALL(IF(\"\"<>$I$12:$I$3000,ROW(Магазин!$G$12:$G$3000)-11,\"\"),ROW()-11))),\"\",INDEX(Магазин!$B$12:$B$3000,SMALL(IF(\"\"<>$I$12:$I$3000,ROW(Магазин!$G$12:$G$3000)-11,\"\"),ROW()-11)))","v":""},{"$f":"IF(ISERROR(INDEX(Магазин!$G$12:$G$3000,SMALL(IF(\"\"<>$I$12:$I$3000,ROW(Магазин!$G$12:$G$3000)-11,\"\"),ROW()-11))),\"\",INDEX(Магазин!$G$12:$G$3000,SMALL(IF(\"\"<>$I$12:$I$3000,ROW(Магазин!$G$12:$G$3000)-11,\"\"),ROW()-11)))","v":""},{"$f":"IF(ISERROR(INDEX(Магазин!$D$12:$D$3000,SMALL(IF(\"\"<>$I$12:$I$3000,ROW(Магазин!$G$12:$G$3000)-11,\"\"),ROW()-11))),\"\",INDEX(Магазин!$D$12:$D$3000,SMALL(IF(\"\"<>$I$12:$I$3000,ROW(Магазин!$G$12:$G$3000)-11,\"\"),ROW()-11)))","v":""}]
[null,null,null,null,null,null,null,null,{"$f":"IF(Магазин!$G$12:$G$3000>0,ROW(),\"\")","v":""},null,null,"",{"$f":"IF(ISERROR(INDEX(Магазин!$B$12:$B$3000,SMALL(IF(\"\"<>$I$12:$I$3000,ROW(Магазин!$G$12:$G$3000)-11,\"\"),ROW()-11))),\"\",INDEX(Магазин!$B$12:$B$3000,SMALL(IF(\"\"<>$I$12:$I$3000,ROW(Магазин!$G$12:$G$3000)-11,\"\"),ROW()-11)))","v":""},{"$f":"IF(ISERROR(INDEX(Магазин!$G$12:$G$3000,SMALL(IF(\"\"<>$I$12:$I$3000,ROW(Магазин!$G$12:$G$3000)-11,\"\"),ROW()-11))),\"\",INDEX(Магазин!$G$12:$G$3000,SMALL(IF(\"\"<>$I$12:$I$3000,ROW(Магазин!$G$12:$G$3000)-11,\"\"),ROW()-11)))","v":""},{"$f":"IF(ISERROR(INDEX(Магазин!$D$12:$D$3000,SMALL(IF(\"\"<>$I$12:$I$3000,ROW(Магазин!$G$12:$G$3000)-11,\"\"),ROW()-11))),\"\",INDEX(Магазин!$D$12:$D$3000,SMALL(IF(\"\"<>$I$12:$I$3000,ROW(Магазин!$G$12:$G$3000)-11,\"\"),ROW()-11)))","v":""}]
[null,null,null,null,null,null,null,null,{"$f":"IF(Магазин!$G$12:$G$3000>0,ROW(),\"\")","v":""},null,null,"",{"$f":"IF(ISERROR(INDEX(Магазин!$B$12:$B$3000,SMALL(IF(\"\"<>$I$12:$I$3000,ROW(Магазин!$G$12:$G$3000)-11,\"\"),ROW()-11))),\"\",INDEX(Магазин!$B$12:$B$3000,SMALL(IF(\"\"<>$I$12:$I$3000,ROW(Магазин!$G$12:$G$3000)-11,\"\"),ROW()-11)))","v":""},{"$f":"IF(ISERROR(INDEX(Магазин!$G$12:$G$3000,SMALL(IF(\"\"<>$I$12:$I$3000,ROW(Магазин!$G$12:$G$3000)-11,\"\"),ROW()-11))),\"\",INDEX(Магазин!$G$12:$G$3000,SMALL(IF(\"\"<>$I$12:$I$3000,ROW(Магазин!$G$12:$G$3000)-11,\"\"),ROW()-11)))","v":""},{"$f":"IF(ISERROR(INDEX(Магазин!$D$12:$D$3000,SMALL(IF(\"\"<>$I$12:$I$3000,ROW(Магазин!$G$12:$G$3000)-11,\"\"),ROW()-11))),\"\",INDEX(Магазин!$D$12:$D$3000,SMALL(IF(\"\"<>$I$12:$I$3000,ROW(Магазин!$G$12:$G$3000)-11,\"\"),ROW()-11)))","v":""}]
[null,null,null,null,null,null,null,null,{"$f":"IF(Магазин!$G$12:$G$3000>0,ROW(),\"\")","v":""},null,null,"",{"$f":"IF(ISERROR(INDEX(Магазин!$B$12:$B$3000,SMALL(IF(\"\"<>$I$12:$I$3000,ROW(Магазин!$G$12:$G$3000)-11,\"\"),ROW()-11))),\"\",INDEX(Магазин!$B$12:$B$3000,SMALL(IF(\"\"<>$I$12:$I$3000,ROW(Магазин!$G$12:$G$3000)-11,\"\"),ROW()-11)))","v":""},{"$f":"IF(ISERROR(INDEX(Магазин!$G$12:$G$3000,SMALL(IF(\"\"<>$I$12:$I$3000,ROW(Магазин!$G$12:$G$3000)-11,\"\"),ROW()-11))),\"\",INDEX(Магазин!$G$12:$G$3000,SMALL(IF(\"\"<>$I$12:$I$3000,ROW(Магазин!$G$12:$G$3000)-11,\"\"),ROW()-11)))","v":""},{"$f":"IF(ISERROR(INDEX(Магазин!$D$12:$D$3000,SMALL(IF(\"\"<>$I$12:$I$3000,ROW(Магазин!$G$12:$G$3000)-11,\"\"),ROW()-11))),\"\",INDEX(Магазин!$D$12:$D$3000,SMALL(IF(\"\"<>$I$12:$I$3000,ROW(Магазин!$G$12:$G$3000)-11,\"\"),ROW()-11)))","v":""}]
[null,null,null,null,null,null,null,null,{"$f":"IF(Магазин!$G$12:$G$3000>0,ROW(),\"\")","v":""},null,null,"",{"$f":"IF(ISERROR(INDEX(Магазин!$B$12:$B$3000,SMALL(IF(\"\"<>$I$12:$I$3000,ROW(Магазин!$G$12:$G$3000)-11,\"\"),ROW()-11))),\"\",INDEX(Магазин!$B$12:$B$3000,SMALL(IF(\"\"<>$I$12:$I$3000,ROW(Магазин!$G$12:$G$3000)-11,\"\"),ROW()-11)))","v":""},{"$f":"IF(ISERROR(INDEX(Магазин!$G$12:$G$3000,SMALL(IF(\"\"<>$I$12:$I$3000,ROW(Магазин!$G$12:$G$3000)-11,\"\"),ROW()-11))),\"\",INDEX(Магазин!$G$12:$G$3000,SMALL(IF(\"\"<>$I$12:$I$3000,ROW(Магазин!$G$12:$G$3000)-11,\"\"),ROW()-11)))","v":""},{"$f":"IF(ISERROR(INDEX(Магазин!$D$12:$D$3000,SMALL(IF(\"\"<>$I$12:$I$3000,ROW(Магазин!$G$12:$G$3000)-11,\"\"),ROW()-11))),\"\",INDEX(Магазин!$D$12:$D$3000,SMALL(IF(\"\"<>$I$12:$I$3000,ROW(Магазин!$G$12:$G$3000)-11,\"\"),ROW()-11)))","v":""}]
[null,null,null,null,null,null,null,null,{"$f":"IF(Магазин!$G$12:$G$3000>0,ROW(),\"\")","v":""},null,null,"",{"$f":"IF(ISERROR(INDEX(Магазин!$B$12:$B$3000,SMALL(IF(\"\"<>$I$12:$I$3000,ROW(Магазин!$G$12:$G$3000)-11,\"\"),ROW()-11))),\"\",INDEX(Магазин!$B$12:$B$3000,SMALL(IF(\"\"<>$I$12:$I$3000,ROW(Магазин!$G$12:$G$3000)-11,\"\"),ROW()-11)))","v":""},{"$f":"IF(ISERROR(INDEX(Магазин!$G$12:$G$3000,SMALL(IF(\"\"<>$I$12:$I$3000,ROW(Магазин!$G$12:$G$3000)-11,\"\"),ROW()-11))),\"\",INDEX(Магазин!$G$12:$G$3000,SMALL(IF(\"\"<>$I$12:$I$3000,ROW(Магазин!$G$12:$G$3000)-11,\"\"),ROW()-11)))","v":""},{"$f":"IF(ISERROR(INDEX(Магазин!$D$12:$D$3000,SMALL(IF(\"\"<>$I$12:$I$3000,ROW(Магазин!$G$12:$G$3000)-11,\"\"),ROW()-11))),\"\",INDEX(Магазин!$D$12:$D$3000,SMALL(IF(\"\"<>$I$12:$I$3000,ROW(Магазин!$G$12:$G$3000)-11,\"\"),ROW()-11)))","v":""}]
[null,null,null,null,null,null,null,null,{"$f":"IF(Магазин!$G$12:$G$3000>0,ROW(),\"\")","v":""},null,null,"",{"$f":"IF(ISERROR(INDEX(Магазин!$B$12:$B$3000,SMALL(IF(\"\"<>$I$12:$I$3000,ROW(Магазин!$G$12:$G$3000)-11,\"\"),ROW()-11))),\"\",INDEX(Магазин!$B$12:$B$3000,SMALL(IF(\"\"<>$I$12:$I$3000,ROW(Магазин!$G$12:$G$3000)-11,\"\"),ROW()-11)))","v":""},{"$f":"IF(ISERROR(INDEX(Магазин!$G$12:$G$3000,SMALL(IF(\"\"<>$I$12:$I$3000,ROW(Магазин!$G$12:$G$3000)-11,\"\"),ROW()-11))),\"\",INDEX(Магазин!$G$12:$G$3000,SMALL(IF(\"\"<>$I$12:$I$3000,ROW(Магазин!$G$12:$G$3000)-11,\"\"),ROW()-11)))","v":""},{"$f":"IF(ISERROR(INDEX(Магазин!$D$12:$D$3000,SMALL(IF(\"\"<>$I$12:$I$3000,ROW(Магазин!$G$12:$G$3000)-11,\"\"),ROW()-11))),\"\",INDEX(Магазин!$D$12:$D$3000,SMALL(IF(\"\"<>$I$12:$I$3000,ROW(Магазин!$G$12:$G$3000)-11,\"\"),ROW()-11)))","v":""}]
[null,null,null,null,null,null,null,null,{"$f":"IF(Магазин!$G$12:$G$3000>0,ROW(),\"\")","v":""},null,null,"",{"$f":"IF(ISERROR(INDEX(Магазин!$B$12:$B$3000,SMALL(IF(\"\"<>$I$12:$I$3000,ROW(Магазин!$G$12:$G$3000)-11,\"\"),ROW()-11))),\"\",INDEX(Магазин!$B$12:$B$3000,SMALL(IF(\"\"<>$I$12:$I$3000,ROW(Магазин!$G$12:$G$3000)-11,\"\"),ROW()-11)))","v":""},{"$f":"IF(ISERROR(INDEX(Магазин!$G$12:$G$3000,SMALL(IF(\"\"<>$I$12:$I$3000,ROW(Магазин!$G$12:$G$3000)-11,\"\"),ROW()-11))),\"\",INDEX(Магазин!$G$12:$G$3000,SMALL(IF(\"\"<>$I$12:$I$3000,ROW(Магазин!$G$12:$G$3000)-11,\"\"),ROW()-11)))","v":""},{"$f":"IF(ISERROR(INDEX(Магазин!$D$12:$D$3000,SMALL(IF(\"\"<>$I$12:$I$3000,ROW(Магазин!$G$12:$G$3000)-11,\"\"),ROW()-11))),\"\",INDEX(Магазин!$D$12:$D$3000,SMALL(IF(\"\"<>$I$12:$I$3000,ROW(Магазин!$G$12:$G$3000)-11,\"\"),ROW()-11)))","v":""}]
[null,null,null,null,null,null,null,null,{"$f":"IF(Магазин!$G$12:$G$3000>0,ROW(),\"\")","v":""},null,null,{"$f":"IF(M77<>\"\",\"до кошика\",\"\")","v":""},{"$f":"IF(ISERROR(INDEX(Магазин!$B$12:$B$3000,SMALL(IF(\"\"<>$I$12:$I$3000,ROW(Магазин!$G$12:$G$3000)-11,\"\"),ROW()-11))),\"\",INDEX(Магазин!$B$12:$B$3000,SMALL(IF(\"\"<>$I$12:$I$3000,ROW(Магазин!$G$12:$G$3000)-11,\"\"),ROW()-11)))","v":""},{"$f":"IF(ISERROR(INDEX(Магазин!$G$12:$G$3000,SMALL(IF(\"\"<>$I$12:$I$3000,ROW(Магазин!$G$12:$G$3000)-11,\"\"),ROW()-11))),\"\",INDEX(Магазин!$G$12:$G$3000,SMALL(IF(\"\"<>$I$12:$I$3000,ROW(Магазин!$G$12:$G$3000)-11,\"\"),ROW()-11)))","v":""},{"$f":"IF(ISERROR(INDEX(Магазин!$D$12:$D$3000,SMALL(IF(\"\"<>$I$12:$I$3000,ROW(Магазин!$G$12:$G$3000)-11,\"\"),ROW()-11))),\"\",INDEX(Магазин!$D$12:$D$3000,SMALL(IF(\"\"<>$I$12:$I$3000,ROW(Магазин!$G$12:$G$3000)-11,\"\"),ROW()-11)))","v":""}]
[null,null,null,null,null,null,null,null,{"$f":"IF(Магазин!$G$12:$G$3000>0,ROW(),\"\")","v":""},null,null,"",{"$f":"IF(ISERROR(INDEX(Магазин!$B$12:$B$3000,SMALL(IF(\"\"<>$I$12:$I$3000,ROW(Магазин!$G$12:$G$3000)-11,\"\"),ROW()-11))),\"\",INDEX(Магазин!$B$12:$B$3000,SMALL(IF(\"\"<>$I$12:$I$3000,ROW(Магазин!$G$12:$G$3000)-11,\"\"),ROW()-11)))","v":""},{"$f":"IF(ISERROR(INDEX(Магазин!$G$12:$G$3000,SMALL(IF(\"\"<>$I$12:$I$3000,ROW(Магазин!$G$12:$G$3000)-11,\"\"),ROW()-11))),\"\",INDEX(Магазин!$G$12:$G$3000,SMALL(IF(\"\"<>$I$12:$I$3000,ROW(Магазин!$G$12:$G$3000)-11,\"\"),ROW()-11)))","v":""},{"$f":"IF(ISERROR(INDEX(Магазин!$D$12:$D$3000,SMALL(IF(\"\"<>$I$12:$I$3000,ROW(Магазин!$G$12:$G$3000)-11,\"\"),ROW()-11))),\"\",INDEX(Магазин!$D$12:$D$3000,SMALL(IF(\"\"<>$I$12:$I$3000,ROW(Магазин!$G$12:$G$3000)-11,\"\"),ROW()-11)))","v":""}]
[null,null,null,null,null,null,null,null,{"$f":"IF(Магазин!$G$12:$G$3000>0,ROW(),\"\")","v":""},null,null,"",{"$f":"IF(ISERROR(INDEX(Магазин!$B$12:$B$3000,SMALL(IF(\"\"<>$I$12:$I$3000,ROW(Магазин!$G$12:$G$3000)-11,\"\"),ROW()-11))),\"\",INDEX(Магазин!$B$12:$B$3000,SMALL(IF(\"\"<>$I$12:$I$3000,ROW(Магазин!$G$12:$G$3000)-11,\"\"),ROW()-11)))","v":""},{"$f":"IF(ISERROR(INDEX(Магазин!$G$12:$G$3000,SMALL(IF(\"\"<>$I$12:$I$3000,ROW(Магазин!$G$12:$G$3000)-11,\"\"),ROW()-11))),\"\",INDEX(Магазин!$G$12:$G$3000,SMALL(IF(\"\"<>$I$12:$I$3000,ROW(Магазин!$G$12:$G$3000)-11,\"\"),ROW()-11)))","v":""},{"$f":"IF(ISERROR(INDEX(Магазин!$D$12:$D$3000,SMALL(IF(\"\"<>$I$12:$I$3000,ROW(Магазин!$G$12:$G$3000)-11,\"\"),ROW()-11))),\"\",INDEX(Магазин!$D$12:$D$3000,SMALL(IF(\"\"<>$I$12:$I$3000,ROW(Магазин!$G$12:$G$3000)-11,\"\"),ROW()-11)))","v":""}]
[null,null,null,null,null,null,null,null,{"$f":"IF(Магазин!$G$12:$G$3000>0,ROW(),\"\")","v":""},null,null,"",{"$f":"IF(ISERROR(INDEX(Магазин!$B$12:$B$3000,SMALL(IF(\"\"<>$I$12:$I$3000,ROW(Магазин!$G$12:$G$3000)-11,\"\"),ROW()-11))),\"\",INDEX(Магазин!$B$12:$B$3000,SMALL(IF(\"\"<>$I$12:$I$3000,ROW(Магазин!$G$12:$G$3000)-11,\"\"),ROW()-11)))","v":""},{"$f":"IF(ISERROR(INDEX(Магазин!$G$12:$G$3000,SMALL(IF(\"\"<>$I$12:$I$3000,ROW(Магазин!$G$12:$G$3000)-11,\"\"),ROW()-11))),\"\",INDEX(Магазин!$G$12:$G$3000,SMALL(IF(\"\"<>$I$12:$I$3000,ROW(Магазин!$G$12:$G$3000)-11,\"\"),ROW()-11)))","v":""},{"$f":"IF(ISERROR(INDEX(Магазин!$D$12:$D$3000,SMALL(IF(\"\"<>$I$12:$I$3000,ROW(Магазин!$G$12:$G$3000)-11,\"\"),ROW()-11))),\"\",INDEX(Магазин!$D$12:$D$3000,SMALL(IF(\"\"<>$I$12:$I$3000,ROW(Магазин!$G$12:$G$3000)-11,\"\"),ROW()-11)))","v":""}]
[null,null,null,null,null,null,null,null,{"$f":"IF(Магазин!$G$12:$G$3000>0,ROW(),\"\")","v":""},null,null,"",{"$f":"IF(ISERROR(INDEX(Магазин!$B$12:$B$3000,SMALL(IF(\"\"<>$I$12:$I$3000,ROW(Магазин!$G$12:$G$3000)-11,\"\"),ROW()-11))),\"\",INDEX(Магазин!$B$12:$B$3000,SMALL(IF(\"\"<>$I$12:$I$3000,ROW(Магазин!$G$12:$G$3000)-11,\"\"),ROW()-11)))","v":""},{"$f":"IF(ISERROR(INDEX(Магазин!$G$12:$G$3000,SMALL(IF(\"\"<>$I$12:$I$3000,ROW(Магазин!$G$12:$G$3000)-11,\"\"),ROW()-11))),\"\",INDEX(Магазин!$G$12:$G$3000,SMALL(IF(\"\"<>$I$12:$I$3000,ROW(Магазин!$G$12:$G$3000)-11,\"\"),ROW()-11)))","v":""},{"$f":"IF(ISERROR(INDEX(Магазин!$D$12:$D$3000,SMALL(IF(\"\"<>$I$12:$I$3000,ROW(Магазин!$G$12:$G$3000)-11,\"\"),ROW()-11))),\"\",INDEX(Магазин!$D$12:$D$3000,SMALL(IF(\"\"<>$I$12:$I$3000,ROW(Магазин!$G$12:$G$3000)-11,\"\"),ROW()-11)))","v":""}]
[null,null,null,null,null,null,null,null,{"$f":"IF(Магазин!$G$12:$G$3000>0,ROW(),\"\")","v":""},null,null,"",{"$f":"IF(ISERROR(INDEX(Магазин!$B$12:$B$3000,SMALL(IF(\"\"<>$I$12:$I$3000,ROW(Магазин!$G$12:$G$3000)-11,\"\"),ROW()-11))),\"\",INDEX(Магазин!$B$12:$B$3000,SMALL(IF(\"\"<>$I$12:$I$3000,ROW(Магазин!$G$12:$G$3000)-11,\"\"),ROW()-11)))","v":""},{"$f":"IF(ISERROR(INDEX(Магазин!$G$12:$G$3000,SMALL(IF(\"\"<>$I$12:$I$3000,ROW(Магазин!$G$12:$G$3000)-11,\"\"),ROW()-11))),\"\",INDEX(Магазин!$G$12:$G$3000,SMALL(IF(\"\"<>$I$12:$I$3000,ROW(Магазин!$G$12:$G$3000)-11,\"\"),ROW()-11)))","v":""},{"$f":"IF(ISERROR(INDEX(Магазин!$D$12:$D$3000,SMALL(IF(\"\"<>$I$12:$I$3000,ROW(Магазин!$G$12:$G$3000)-11,\"\"),ROW()-11))),\"\",INDEX(Магазин!$D$12:$D$3000,SMALL(IF(\"\"<>$I$12:$I$3000,ROW(Магазин!$G$12:$G$3000)-11,\"\"),ROW()-11)))","v":""}]
[null,null,null,null,null,null,null,null,{"$f":"IF(Магазин!$G$12:$G$3000>0,ROW(),\"\")","v":""},null,null,"",{"$f":"IF(ISERROR(INDEX(Магазин!$B$12:$B$3000,SMALL(IF(\"\"<>$I$12:$I$3000,ROW(Магазин!$G$12:$G$3000)-11,\"\"),ROW()-11))),\"\",INDEX(Магазин!$B$12:$B$3000,SMALL(IF(\"\"<>$I$12:$I$3000,ROW(Магазин!$G$12:$G$3000)-11,\"\"),ROW()-11)))","v":""},{"$f":"IF(ISERROR(INDEX(Магазин!$G$12:$G$3000,SMALL(IF(\"\"<>$I$12:$I$3000,ROW(Магазин!$G$12:$G$3000)-11,\"\"),ROW()-11))),\"\",INDEX(Магазин!$G$12:$G$3000,SMALL(IF(\"\"<>$I$12:$I$3000,ROW(Магазин!$G$12:$G$3000)-11,\"\"),ROW()-11)))","v":""},{"$f":"IF(ISERROR(INDEX(Магазин!$D$12:$D$3000,SMALL(IF(\"\"<>$I$12:$I$3000,ROW(Магазин!$G$12:$G$3000)-11,\"\"),ROW()-11))),\"\",INDEX(Магазин!$D$12:$D$3000,SMALL(IF(\"\"<>$I$12:$I$3000,ROW(Магазин!$G$12:$G$3000)-11,\"\"),ROW()-11)))","v":""}]
[null,null,null,null,null,null,null,null,{"$f":"IF(Магазин!$G$12:$G$3000>0,ROW(),\"\")","v":""},null,null,"",{"$f":"IF(ISERROR(INDEX(Магазин!$B$12:$B$3000,SMALL(IF(\"\"<>$I$12:$I$3000,ROW(Магазин!$G$12:$G$3000)-11,\"\"),ROW()-11))),\"\",INDEX(Магазин!$B$12:$B$3000,SMALL(IF(\"\"<>$I$12:$I$3000,ROW(Магазин!$G$12:$G$3000)-11,\"\"),ROW()-11)))","v":""},{"$f":"IF(ISERROR(INDEX(Магазин!$G$12:$G$3000,SMALL(IF(\"\"<>$I$12:$I$3000,ROW(Магазин!$G$12:$G$3000)-11,\"\"),ROW()-11))),\"\",INDEX(Магазин!$G$12:$G$3000,SMALL(IF(\"\"<>$I$12:$I$3000,ROW(Магазин!$G$12:$G$3000)-11,\"\"),ROW()-11)))","v":""},{"$f":"IF(ISERROR(INDEX(Магазин!$D$12:$D$3000,SMALL(IF(\"\"<>$I$12:$I$3000,ROW(Магазин!$G$12:$G$3000)-11,\"\"),ROW()-11))),\"\",INDEX(Магазин!$D$12:$D$3000,SMALL(IF(\"\"<>$I$12:$I$3000,ROW(Магазин!$G$12:$G$3000)-11,\"\"),ROW()-11)))","v":""}]
[null,null,null,null,null,null,null,null,{"$f":"IF(Магазин!$G$12:$G$3000>0,ROW(),\"\")","v":""},null,null,"",{"$f":"IF(ISERROR(INDEX(Магазин!$B$12:$B$3000,SMALL(IF(\"\"<>$I$12:$I$3000,ROW(Магазин!$G$12:$G$3000)-11,\"\"),ROW()-11))),\"\",INDEX(Магазин!$B$12:$B$3000,SMALL(IF(\"\"<>$I$12:$I$3000,ROW(Магазин!$G$12:$G$3000)-11,\"\"),ROW()-11)))","v":""},{"$f":"IF(ISERROR(INDEX(Магазин!$G$12:$G$3000,SMALL(IF(\"\"<>$I$12:$I$3000,ROW(Магазин!$G$12:$G$3000)-11,\"\"),ROW()-11))),\"\",INDEX(Магазин!$G$12:$G$3000,SMALL(IF(\"\"<>$I$12:$I$3000,ROW(Магазин!$G$12:$G$3000)-11,\"\"),ROW()-11)))","v":""},{"$f":"IF(ISERROR(INDEX(Магазин!$D$12:$D$3000,SMALL(IF(\"\"<>$I$12:$I$3000,ROW(Магазин!$G$12:$G$3000)-11,\"\"),ROW()-11))),\"\",INDEX(Магазин!$D$12:$D$3000,SMALL(IF(\"\"<>$I$12:$I$3000,ROW(Магазин!$G$12:$G$3000)-11,\"\"),ROW()-11)))","v":""}]
[null,null,null,null,null,null,null,null,{"$f":"IF(Магазин!$G$12:$G$3000>0,ROW(),\"\")","v":""},null,null,"",{"$f":"IF(ISERROR(INDEX(Магазин!$B$12:$B$3000,SMALL(IF(\"\"<>$I$12:$I$3000,ROW(Магазин!$G$12:$G$3000)-11,\"\"),ROW()-11))),\"\",INDEX(Магазин!$B$12:$B$3000,SMALL(IF(\"\"<>$I$12:$I$3000,ROW(Магазин!$G$12:$G$3000)-11,\"\"),ROW()-11)))","v":""},{"$f":"IF(ISERROR(INDEX(Магазин!$G$12:$G$3000,SMALL(IF(\"\"<>$I$12:$I$3000,ROW(Магазин!$G$12:$G$3000)-11,\"\"),ROW()-11))),\"\",INDEX(Магазин!$G$12:$G$3000,SMALL(IF(\"\"<>$I$12:$I$3000,ROW(Магазин!$G$12:$G$3000)-11,\"\"),ROW()-11)))","v":""},{"$f":"IF(ISERROR(INDEX(Магазин!$D$12:$D$3000,SMALL(IF(\"\"<>$I$12:$I$3000,ROW(Магазин!$G$12:$G$3000)-11,\"\"),ROW()-11))),\"\",INDEX(Магазин!$D$12:$D$3000,SMALL(IF(\"\"<>$I$12:$I$3000,ROW(Магазин!$G$12:$G$3000)-11,\"\"),ROW()-11)))","v":""}]
[null,null,null,null,null,null,null,null,{"$f":"IF(Магазин!$G$12:$G$3000>0,ROW(),\"\")","v":""},null,null,"",{"$f":"IF(ISERROR(INDEX(Магазин!$B$12:$B$3000,SMALL(IF(\"\"<>$I$12:$I$3000,ROW(Магазин!$G$12:$G$3000)-11,\"\"),ROW()-11))),\"\",INDEX(Магазин!$B$12:$B$3000,SMALL(IF(\"\"<>$I$12:$I$3000,ROW(Магазин!$G$12:$G$3000)-11,\"\"),ROW()-11)))","v":""},{"$f":"IF(ISERROR(INDEX(Магазин!$G$12:$G$3000,SMALL(IF(\"\"<>$I$12:$I$3000,ROW(Магазин!$G$12:$G$3000)-11,\"\"),ROW()-11))),\"\",INDEX(Магазин!$G$12:$G$3000,SMALL(IF(\"\"<>$I$12:$I$3000,ROW(Магазин!$G$12:$G$3000)-11,\"\"),ROW()-11)))","v":""},{"$f":"IF(ISERROR(INDEX(Магазин!$D$12:$D$3000,SMALL(IF(\"\"<>$I$12:$I$3000,ROW(Магазин!$G$12:$G$3000)-11,\"\"),ROW()-11))),\"\",INDEX(Магазин!$D$12:$D$3000,SMALL(IF(\"\"<>$I$12:$I$3000,ROW(Магазин!$G$12:$G$3000)-11,\"\"),ROW()-11)))","v":""}]
[null,null,null,null,null,null,null,null,{"$f":"IF(Магазин!$G$12:$G$3000>0,ROW(),\"\")","v":""},null,null,"",{"$f":"IF(ISERROR(INDEX(Магазин!$B$12:$B$3000,SMALL(IF(\"\"<>$I$12:$I$3000,ROW(Магазин!$G$12:$G$3000)-11,\"\"),ROW()-11))),\"\",INDEX(Магазин!$B$12:$B$3000,SMALL(IF(\"\"<>$I$12:$I$3000,ROW(Магазин!$G$12:$G$3000)-11,\"\"),ROW()-11)))","v":""},{"$f":"IF(ISERROR(INDEX(Магазин!$G$12:$G$3000,SMALL(IF(\"\"<>$I$12:$I$3000,ROW(Магазин!$G$12:$G$3000)-11,\"\"),ROW()-11))),\"\",INDEX(Магазин!$G$12:$G$3000,SMALL(IF(\"\"<>$I$12:$I$3000,ROW(Магазин!$G$12:$G$3000)-11,\"\"),ROW()-11)))","v":""},{"$f":"IF(ISERROR(INDEX(Магазин!$D$12:$D$3000,SMALL(IF(\"\"<>$I$12:$I$3000,ROW(Магазин!$G$12:$G$3000)-11,\"\"),ROW()-11))),\"\",INDEX(Магазин!$D$12:$D$3000,SMALL(IF(\"\"<>$I$12:$I$3000,ROW(Магазин!$G$12:$G$3000)-11,\"\"),ROW()-11)))","v":""}]
[null,null,null,null,null,null,null,null,{"$f":"IF(Магазин!$G$12:$G$3000>0,ROW(),\"\")","v":""},null,null,"",{"$f":"IF(ISERROR(INDEX(Магазин!$B$12:$B$3000,SMALL(IF(\"\"<>$I$12:$I$3000,ROW(Магазин!$G$12:$G$3000)-11,\"\"),ROW()-11))),\"\",INDEX(Магазин!$B$12:$B$3000,SMALL(IF(\"\"<>$I$12:$I$3000,ROW(Магазин!$G$12:$G$3000)-11,\"\"),ROW()-11)))","v":""},{"$f":"IF(ISERROR(INDEX(Магазин!$G$12:$G$3000,SMALL(IF(\"\"<>$I$12:$I$3000,ROW(Магазин!$G$12:$G$3000)-11,\"\"),ROW()-11))),\"\",INDEX(Магазин!$G$12:$G$3000,SMALL(IF(\"\"<>$I$12:$I$3000,ROW(Магазин!$G$12:$G$3000)-11,\"\"),ROW()-11)))","v":""},{"$f":"IF(ISERROR(INDEX(Магазин!$D$12:$D$3000,SMALL(IF(\"\"<>$I$12:$I$3000,ROW(Магазин!$G$12:$G$3000)-11,\"\"),ROW()-11))),\"\",INDEX(Магазин!$D$12:$D$3000,SMALL(IF(\"\"<>$I$12:$I$3000,ROW(Магазин!$G$12:$G$3000)-11,\"\"),ROW()-11)))","v":""}]
[null,null,null,null,null,null,null,null,{"$f":"IF(Магазин!$G$12:$G$3000>0,ROW(),\"\")","v":""},null,null,"",{"$f":"IF(ISERROR(INDEX(Магазин!$B$12:$B$3000,SMALL(IF(\"\"<>$I$12:$I$3000,ROW(Магазин!$G$12:$G$3000)-11,\"\"),ROW()-11))),\"\",INDEX(Магазин!$B$12:$B$3000,SMALL(IF(\"\"<>$I$12:$I$3000,ROW(Магазин!$G$12:$G$3000)-11,\"\"),ROW()-11)))","v":""},{"$f":"IF(ISERROR(INDEX(Магазин!$G$12:$G$3000,SMALL(IF(\"\"<>$I$12:$I$3000,ROW(Магазин!$G$12:$G$3000)-11,\"\"),ROW()-11))),\"\",INDEX(Магазин!$G$12:$G$3000,SMALL(IF(\"\"<>$I$12:$I$3000,ROW(Магазин!$G$12:$G$3000)-11,\"\"),ROW()-11)))","v":""},{"$f":"IF(ISERROR(INDEX(Магазин!$D$12:$D$3000,SMALL(IF(\"\"<>$I$12:$I$3000,ROW(Магазин!$G$12:$G$3000)-11,\"\"),ROW()-11))),\"\",INDEX(Магазин!$D$12:$D$3000,SMALL(IF(\"\"<>$I$12:$I$3000,ROW(Магазин!$G$12:$G$3000)-11,\"\"),ROW()-11)))","v":""}]
[null,null,null,null,null,null,null,null,{"$f":"IF(Магазин!$G$12:$G$3000>0,ROW(),\"\")","v":""},null,null,"",{"$f":"IF(ISERROR(INDEX(Магазин!$B$12:$B$3000,SMALL(IF(\"\"<>$I$12:$I$3000,ROW(Магазин!$G$12:$G$3000)-11,\"\"),ROW()-11))),\"\",INDEX(Магазин!$B$12:$B$3000,SMALL(IF(\"\"<>$I$12:$I$3000,ROW(Магазин!$G$12:$G$3000)-11,\"\"),ROW()-11)))","v":""},{"$f":"IF(ISERROR(INDEX(Магазин!$G$12:$G$3000,SMALL(IF(\"\"<>$I$12:$I$3000,ROW(Магазин!$G$12:$G$3000)-11,\"\"),ROW()-11))),\"\",INDEX(Магазин!$G$12:$G$3000,SMALL(IF(\"\"<>$I$12:$I$3000,ROW(Магазин!$G$12:$G$3000)-11,\"\"),ROW()-11)))","v":""},{"$f":"IF(ISERROR(INDEX(Магазин!$D$12:$D$3000,SMALL(IF(\"\"<>$I$12:$I$3000,ROW(Магазин!$G$12:$G$3000)-11,\"\"),ROW()-11))),\"\",INDEX(Магазин!$D$12:$D$3000,SMALL(IF(\"\"<>$I$12:$I$3000,ROW(Магазин!$G$12:$G$3000)-11,\"\"),ROW()-11)))","v":""}]
[null,null,null,null,null,null,null,null,{"$f":"IF(Магазин!$G$12:$G$3000>0,ROW(),\"\")","v":""},null,null,"",{"$f":"IF(ISERROR(INDEX(Магазин!$B$12:$B$3000,SMALL(IF(\"\"<>$I$12:$I$3000,ROW(Магазин!$G$12:$G$3000)-11,\"\"),ROW()-11))),\"\",INDEX(Магазин!$B$12:$B$3000,SMALL(IF(\"\"<>$I$12:$I$3000,ROW(Магазин!$G$12:$G$3000)-11,\"\"),ROW()-11)))","v":""},{"$f":"IF(ISERROR(INDEX(Магазин!$G$12:$G$3000,SMALL(IF(\"\"<>$I$12:$I$3000,ROW(Магазин!$G$12:$G$3000)-11,\"\"),ROW()-11))),\"\",INDEX(Магазин!$G$12:$G$3000,SMALL(IF(\"\"<>$I$12:$I$3000,ROW(Магазин!$G$12:$G$3000)-11,\"\"),ROW()-11)))","v":""},{"$f":"IF(ISERROR(INDEX(Магазин!$D$12:$D$3000,SMALL(IF(\"\"<>$I$12:$I$3000,ROW(Магазин!$G$12:$G$3000)-11,\"\"),ROW()-11))),\"\",INDEX(Магазин!$D$12:$D$3000,SMALL(IF(\"\"<>$I$12:$I$3000,ROW(Магазин!$G$12:$G$3000)-11,\"\"),ROW()-11)))","v":""}]
[null,null,null,null,null,null,null,null,{"$f":"IF(Магазин!$G$12:$G$3000>0,ROW(),\"\")","v":""},null,null,"",{"$f":"IF(ISERROR(INDEX(Магазин!$B$12:$B$3000,SMALL(IF(\"\"<>$I$12:$I$3000,ROW(Магазин!$G$12:$G$3000)-11,\"\"),ROW()-11))),\"\",INDEX(Магазин!$B$12:$B$3000,SMALL(IF(\"\"<>$I$12:$I$3000,ROW(Магазин!$G$12:$G$3000)-11,\"\"),ROW()-11)))","v":""},{"$f":"IF(ISERROR(INDEX(Магазин!$G$12:$G$3000,SMALL(IF(\"\"<>$I$12:$I$3000,ROW(Магазин!$G$12:$G$3000)-11,\"\"),ROW()-11))),\"\",INDEX(Магазин!$G$12:$G$3000,SMALL(IF(\"\"<>$I$12:$I$3000,ROW(Магазин!$G$12:$G$3000)-11,\"\"),ROW()-11)))","v":""},{"$f":"IF(ISERROR(INDEX(Магазин!$D$12:$D$3000,SMALL(IF(\"\"<>$I$12:$I$3000,ROW(Магазин!$G$12:$G$3000)-11,\"\"),ROW()-11))),\"\",INDEX(Магазин!$D$12:$D$3000,SMALL(IF(\"\"<>$I$12:$I$3000,ROW(Магазин!$G$12:$G$3000)-11,\"\"),ROW()-11)))","v":""}]
[null,null,null,null,null,null,null,null,{"$f":"IF(Магазин!$G$12:$G$3000>0,ROW(),\"\")","v":""},null,null,"",{"$f":"IF(ISERROR(INDEX(Магазин!$B$12:$B$3000,SMALL(IF(\"\"<>$I$12:$I$3000,ROW(Магазин!$G$12:$G$3000)-11,\"\"),ROW()-11))),\"\",INDEX(Магазин!$B$12:$B$3000,SMALL(IF(\"\"<>$I$12:$I$3000,ROW(Магазин!$G$12:$G$3000)-11,\"\"),ROW()-11)))","v":""},{"$f":"IF(ISERROR(INDEX(Магазин!$G$12:$G$3000,SMALL(IF(\"\"<>$I$12:$I$3000,ROW(Магазин!$G$12:$G$3000)-11,\"\"),ROW()-11))),\"\",INDEX(Магазин!$G$12:$G$3000,SMALL(IF(\"\"<>$I$12:$I$3000,ROW(Магазин!$G$12:$G$3000)-11,\"\"),ROW()-11)))","v":""},{"$f":"IF(ISERROR(INDEX(Магазин!$D$12:$D$3000,SMALL(IF(\"\"<>$I$12:$I$3000,ROW(Магазин!$G$12:$G$3000)-11,\"\"),ROW()-11))),\"\",INDEX(Магазин!$D$12:$D$3000,SMALL(IF(\"\"<>$I$12:$I$3000,ROW(Магазин!$G$12:$G$3000)-11,\"\"),ROW()-11)))","v":""}]
[null,null,null,null,null,null,null,null,{"$f":"IF(Магазин!$G$12:$G$3000>0,ROW(),\"\")","v":""},null,null,"",{"$f":"IF(ISERROR(INDEX(Магазин!$B$12:$B$3000,SMALL(IF(\"\"<>$I$12:$I$3000,ROW(Магазин!$G$12:$G$3000)-11,\"\"),ROW()-11))),\"\",INDEX(Магазин!$B$12:$B$3000,SMALL(IF(\"\"<>$I$12:$I$3000,ROW(Магазин!$G$12:$G$3000)-11,\"\"),ROW()-11)))","v":""},{"$f":"IF(ISERROR(INDEX(Магазин!$G$12:$G$3000,SMALL(IF(\"\"<>$I$12:$I$3000,ROW(Магазин!$G$12:$G$3000)-11,\"\"),ROW()-11))),\"\",INDEX(Магазин!$G$12:$G$3000,SMALL(IF(\"\"<>$I$12:$I$3000,ROW(Магазин!$G$12:$G$3000)-11,\"\"),ROW()-11)))","v":""},{"$f":"IF(ISERROR(INDEX(Магазин!$D$12:$D$3000,SMALL(IF(\"\"<>$I$12:$I$3000,ROW(Магазин!$G$12:$G$3000)-11,\"\"),ROW()-11))),\"\",INDEX(Магазин!$D$12:$D$3000,SMALL(IF(\"\"<>$I$12:$I$3000,ROW(Магазин!$G$12:$G$3000)-11,\"\"),ROW()-11)))","v":""}]
[null,null,null,null,null,null,null,null,{"$f":"IF(Магазин!$G$12:$G$3000>0,ROW(),\"\")","v":""},null,null,"",{"$f":"IF(ISERROR(INDEX(Магазин!$B$12:$B$3000,SMALL(IF(\"\"<>$I$12:$I$3000,ROW(Магазин!$G$12:$G$3000)-11,\"\"),ROW()-11))),\"\",INDEX(Магазин!$B$12:$B$3000,SMALL(IF(\"\"<>$I$12:$I$3000,ROW(Магазин!$G$12:$G$3000)-11,\"\"),ROW()-11)))","v":""},{"$f":"IF(ISERROR(INDEX(Магазин!$G$12:$G$3000,SMALL(IF(\"\"<>$I$12:$I$3000,ROW(Магазин!$G$12:$G$3000)-11,\"\"),ROW()-11))),\"\",INDEX(Магазин!$G$12:$G$3000,SMALL(IF(\"\"<>$I$12:$I$3000,ROW(Магазин!$G$12:$G$3000)-11,\"\"),ROW()-11)))","v":""},{"$f":"IF(ISERROR(INDEX(Магазин!$D$12:$D$3000,SMALL(IF(\"\"<>$I$12:$I$3000,ROW(Магазин!$G$12:$G$3000)-11,\"\"),ROW()-11))),\"\",INDEX(Магазин!$D$12:$D$3000,SMALL(IF(\"\"<>$I$12:$I$3000,ROW(Магазин!$G$12:$G$3000)-11,\"\"),ROW()-11)))","v":""}]
[null,null,null,null,null,null,null,null,{"$f":"IF(Магазин!$G$12:$G$3000>0,ROW(),\"\")","v":""},null,null,"",{"$f":"IF(ISERROR(INDEX(Магазин!$B$12:$B$3000,SMALL(IF(\"\"<>$I$12:$I$3000,ROW(Магазин!$G$12:$G$3000)-11,\"\"),ROW()-11))),\"\",INDEX(Магазин!$B$12:$B$3000,SMALL(IF(\"\"<>$I$12:$I$3000,ROW(Магазин!$G$12:$G$3000)-11,\"\"),ROW()-11)))","v":""},{"$f":"IF(ISERROR(INDEX(Магазин!$G$12:$G$3000,SMALL(IF(\"\"<>$I$12:$I$3000,ROW(Магазин!$G$12:$G$3000)-11,\"\"),ROW()-11))),\"\",INDEX(Магазин!$G$12:$G$3000,SMALL(IF(\"\"<>$I$12:$I$3000,ROW(Магазин!$G$12:$G$3000)-11,\"\"),ROW()-11)))","v":""},{"$f":"IF(ISERROR(INDEX(Магазин!$D$12:$D$3000,SMALL(IF(\"\"<>$I$12:$I$3000,ROW(Магазин!$G$12:$G$3000)-11,\"\"),ROW()-11))),\"\",INDEX(Магазин!$D$12:$D$3000,SMALL(IF(\"\"<>$I$12:$I$3000,ROW(Магазин!$G$12:$G$3000)-11,\"\"),ROW()-11)))","v":""}]
[null,null,null,null,null,null,null,null,{"$f":"IF(Магазин!$G$12:$G$3000>0,ROW(),\"\")","v":""},null,null,"",{"$f":"IF(ISERROR(INDEX(Магазин!$B$12:$B$3000,SMALL(IF(\"\"<>$I$12:$I$3000,ROW(Магазин!$G$12:$G$3000)-11,\"\"),ROW()-11))),\"\",INDEX(Магазин!$B$12:$B$3000,SMALL(IF(\"\"<>$I$12:$I$3000,ROW(Магазин!$G$12:$G$3000)-11,\"\"),ROW()-11)))","v":""},{"$f":"IF(ISERROR(INDEX(Магазин!$G$12:$G$3000,SMALL(IF(\"\"<>$I$12:$I$3000,ROW(Магазин!$G$12:$G$3000)-11,\"\"),ROW()-11))),\"\",INDEX(Магазин!$G$12:$G$3000,SMALL(IF(\"\"<>$I$12:$I$3000,ROW(Магазин!$G$12:$G$3000)-11,\"\"),ROW()-11)))","v":""},{"$f":"IF(ISERROR(INDEX(Магазин!$D$12:$D$3000,SMALL(IF(\"\"<>$I$12:$I$3000,ROW(Магазин!$G$12:$G$3000)-11,\"\"),ROW()-11))),\"\",INDEX(Магазин!$D$12:$D$3000,SMALL(IF(\"\"<>$I$12:$I$3000,ROW(Магазин!$G$12:$G$3000)-11,\"\"),ROW()-11)))","v":""}]
[null,null,null,null,null,null,null,null,{"$f":"IF(Магазин!$G$12:$G$3000>0,ROW(),\"\")","v":""},null,null,{"$f":"IF(M99<>\"\",\"до кошика\",\"\")","v":""},{"$f":"IF(ISERROR(INDEX(Магазин!$B$12:$B$3000,SMALL(IF(\"\"<>$I$12:$I$3000,ROW(Магазин!$G$12:$G$3000)-11,\"\"),ROW()-11))),\"\",INDEX(Магазин!$B$12:$B$3000,SMALL(IF(\"\"<>$I$12:$I$3000,ROW(Магазин!$G$12:$G$3000)-11,\"\"),ROW()-11)))","v":""},{"$f":"IF(ISERROR(INDEX(Магазин!$G$12:$G$3000,SMALL(IF(\"\"<>$I$12:$I$3000,ROW(Магазин!$G$12:$G$3000)-11,\"\"),ROW()-11))),\"\",INDEX(Магазин!$G$12:$G$3000,SMALL(IF(\"\"<>$I$12:$I$3000,ROW(Магазин!$G$12:$G$3000)-11,\"\"),ROW()-11)))","v":""},{"$f":"IF(ISERROR(INDEX(Магазин!$D$12:$D$3000,SMALL(IF(\"\"<>$I$12:$I$3000,ROW(Магазин!$G$12:$G$3000)-11,\"\"),ROW()-11))),\"\",INDEX(Магазин!$D$12:$D$3000,SMALL(IF(\"\"<>$I$12:$I$3000,ROW(Магазин!$G$12:$G$3000)-11,\"\"),ROW()-11)))","v":""}]
[null,null,null,null,null,null,null,null,{"$f":"IF(Магазин!$G$12:$G$3000>0,ROW(),\"\")","v":""},null,null,"",{"$f":"IF(ISERROR(INDEX(Магазин!$B$12:$B$3000,SMALL(IF(\"\"<>$I$12:$I$3000,ROW(Магазин!$G$12:$G$3000)-11,\"\"),ROW()-11))),\"\",INDEX(Магазин!$B$12:$B$3000,SMALL(IF(\"\"<>$I$12:$I$3000,ROW(Магазин!$G$12:$G$3000)-11,\"\"),ROW()-11)))","v":""},{"$f":"IF(ISERROR(INDEX(Магазин!$G$12:$G$3000,SMALL(IF(\"\"<>$I$12:$I$3000,ROW(Магазин!$G$12:$G$3000)-11,\"\"),ROW()-11))),\"\",INDEX(Магазин!$G$12:$G$3000,SMALL(IF(\"\"<>$I$12:$I$3000,ROW(Магазин!$G$12:$G$3000)-11,\"\"),ROW()-11)))","v":""},{"$f":"IF(ISERROR(INDEX(Магазин!$D$12:$D$3000,SMALL(IF(\"\"<>$I$12:$I$3000,ROW(Магазин!$G$12:$G$3000)-11,\"\"),ROW()-11))),\"\",INDEX(Магазин!$D$12:$D$3000,SMALL(IF(\"\"<>$I$12:$I$3000,ROW(Магазин!$G$12:$G$3000)-11,\"\"),ROW()-11)))","v":""}]
[null,null,null,null,null,null,null,null,{"$f":"IF(Магазин!$G$12:$G$3000>0,ROW(),\"\")","v":""},null,null,"",{"$f":"IF(ISERROR(INDEX(Магазин!$B$12:$B$3000,SMALL(IF(\"\"<>$I$12:$I$3000,ROW(Магазин!$G$12:$G$3000)-11,\"\"),ROW()-11))),\"\",INDEX(Магазин!$B$12:$B$3000,SMALL(IF(\"\"<>$I$12:$I$3000,ROW(Магазин!$G$12:$G$3000)-11,\"\"),ROW()-11)))","v":""},{"$f":"IF(ISERROR(INDEX(Магазин!$G$12:$G$3000,SMALL(IF(\"\"<>$I$12:$I$3000,ROW(Магазин!$G$12:$G$3000)-11,\"\"),ROW()-11))),\"\",INDEX(Магазин!$G$12:$G$3000,SMALL(IF(\"\"<>$I$12:$I$3000,ROW(Магазин!$G$12:$G$3000)-11,\"\"),ROW()-11)))","v":""},{"$f":"IF(ISERROR(INDEX(Магазин!$D$12:$D$3000,SMALL(IF(\"\"<>$I$12:$I$3000,ROW(Магазин!$G$12:$G$3000)-11,\"\"),ROW()-11))),\"\",INDEX(Магазин!$D$12:$D$3000,SMALL(IF(\"\"<>$I$12:$I$3000,ROW(Магазин!$G$12:$G$3000)-11,\"\"),ROW()-11)))","v":""}]
[null,null,null,null,null,null,null,null,{"$f":"IF(Магазин!$G$12:$G$3000>0,ROW(),\"\")","v":""},null,null,"",{"$f":"IF(ISERROR(INDEX(Магазин!$B$12:$B$3000,SMALL(IF(\"\"<>$I$12:$I$3000,ROW(Магазин!$G$12:$G$3000)-11,\"\"),ROW()-11))),\"\",INDEX(Магазин!$B$12:$B$3000,SMALL(IF(\"\"<>$I$12:$I$3000,ROW(Магазин!$G$12:$G$3000)-11,\"\"),ROW()-11)))","v":""},{"$f":"IF(ISERROR(INDEX(Магазин!$G$12:$G$3000,SMALL(IF(\"\"<>$I$12:$I$3000,ROW(Магазин!$G$12:$G$3000)-11,\"\"),ROW()-11))),\"\",INDEX(Магазин!$G$12:$G$3000,SMALL(IF(\"\"<>$I$12:$I$3000,ROW(Магазин!$G$12:$G$3000)-11,\"\"),ROW()-11)))","v":""},{"$f":"IF(ISERROR(INDEX(Магазин!$D$12:$D$3000,SMALL(IF(\"\"<>$I$12:$I$3000,ROW(Магазин!$G$12:$G$3000)-11,\"\"),ROW()-11))),\"\",INDEX(Магазин!$D$12:$D$3000,SMALL(IF(\"\"<>$I$12:$I$3000,ROW(Магазин!$G$12:$G$3000)-11,\"\"),ROW()-11)))","v":""}]
[null,null,null,null,null,null,null,null,{"$f":"IF(Магазин!$G$12:$G$3000>0,ROW(),\"\")","v":""},null,null,"",{"$f":"IF(ISERROR(INDEX(Магазин!$B$12:$B$3000,SMALL(IF(\"\"<>$I$12:$I$3000,ROW(Магазин!$G$12:$G$3000)-11,\"\"),ROW()-11))),\"\",INDEX(Магазин!$B$12:$B$3000,SMALL(IF(\"\"<>$I$12:$I$3000,ROW(Магазин!$G$12:$G$3000)-11,\"\"),ROW()-11)))","v":""},{"$f":"IF(ISERROR(INDEX(Магазин!$G$12:$G$3000,SMALL(IF(\"\"<>$I$12:$I$3000,ROW(Магазин!$G$12:$G$3000)-11,\"\"),ROW()-11))),\"\",INDEX(Магазин!$G$12:$G$3000,SMALL(IF(\"\"<>$I$12:$I$3000,ROW(Магазин!$G$12:$G$3000)-11,\"\"),ROW()-11)))","v":""},{"$f":"IF(ISERROR(INDEX(Магазин!$D$12:$D$3000,SMALL(IF(\"\"<>$I$12:$I$3000,ROW(Магазин!$G$12:$G$3000)-11,\"\"),ROW()-11))),\"\",INDEX(Магазин!$D$12:$D$3000,SMALL(IF(\"\"<>$I$12:$I$3000,ROW(Магазин!$G$12:$G$3000)-11,\"\"),ROW()-11)))","v":""}]
[null,null,null,null,null,null,null,null,{"$f":"IF(Магазин!$G$12:$G$3000>0,ROW(),\"\")","v":""},null,null,"",{"$f":"IF(ISERROR(INDEX(Магазин!$B$12:$B$3000,SMALL(IF(\"\"<>$I$12:$I$3000,ROW(Магазин!$G$12:$G$3000)-11,\"\"),ROW()-11))),\"\",INDEX(Магазин!$B$12:$B$3000,SMALL(IF(\"\"<>$I$12:$I$3000,ROW(Магазин!$G$12:$G$3000)-11,\"\"),ROW()-11)))","v":""},{"$f":"IF(ISERROR(INDEX(Магазин!$G$12:$G$3000,SMALL(IF(\"\"<>$I$12:$I$3000,ROW(Магазин!$G$12:$G$3000)-11,\"\"),ROW()-11))),\"\",INDEX(Магазин!$G$12:$G$3000,SMALL(IF(\"\"<>$I$12:$I$3000,ROW(Магазин!$G$12:$G$3000)-11,\"\"),ROW()-11)))","v":""},{"$f":"IF(ISERROR(INDEX(Магазин!$D$12:$D$3000,SMALL(IF(\"\"<>$I$12:$I$3000,ROW(Магазин!$G$12:$G$3000)-11,\"\"),ROW()-11))),\"\",INDEX(Магазин!$D$12:$D$3000,SMALL(IF(\"\"<>$I$12:$I$3000,ROW(Магазин!$G$12:$G$3000)-11,\"\"),ROW()-11)))","v":""}]
[null,null,null,null,null,null,null,null,{"$f":"IF(Магазин!$G$12:$G$3000>0,ROW(),\"\")","v":""},null,null,"",{"$f":"IF(ISERROR(INDEX(Магазин!$B$12:$B$3000,SMALL(IF(\"\"<>$I$12:$I$3000,ROW(Магазин!$G$12:$G$3000)-11,\"\"),ROW()-11))),\"\",INDEX(Магазин!$B$12:$B$3000,SMALL(IF(\"\"<>$I$12:$I$3000,ROW(Магазин!$G$12:$G$3000)-11,\"\"),ROW()-11)))","v":""},{"$f":"IF(ISERROR(INDEX(Магазин!$G$12:$G$3000,SMALL(IF(\"\"<>$I$12:$I$3000,ROW(Магазин!$G$12:$G$3000)-11,\"\"),ROW()-11))),\"\",INDEX(Магазин!$G$12:$G$3000,SMALL(IF(\"\"<>$I$12:$I$3000,ROW(Магазин!$G$12:$G$3000)-11,\"\"),ROW()-11)))","v":""},{"$f":"IF(ISERROR(INDEX(Магазин!$D$12:$D$3000,SMALL(IF(\"\"<>$I$12:$I$3000,ROW(Магазин!$G$12:$G$3000)-11,\"\"),ROW()-11))),\"\",INDEX(Магазин!$D$12:$D$3000,SMALL(IF(\"\"<>$I$12:$I$3000,ROW(Магазин!$G$12:$G$3000)-11,\"\"),ROW()-11)))","v":""}]
[null,null,null,null,null,null,null,null,{"$f":"IF(Магазин!$G$12:$G$3000>0,ROW(),\"\")","v":""},null,null,"",{"$f":"IF(ISERROR(INDEX(Магазин!$B$12:$B$3000,SMALL(IF(\"\"<>$I$12:$I$3000,ROW(Магазин!$G$12:$G$3000)-11,\"\"),ROW()-11))),\"\",INDEX(Магазин!$B$12:$B$3000,SMALL(IF(\"\"<>$I$12:$I$3000,ROW(Магазин!$G$12:$G$3000)-11,\"\"),ROW()-11)))","v":""},{"$f":"IF(ISERROR(INDEX(Магазин!$G$12:$G$3000,SMALL(IF(\"\"<>$I$12:$I$3000,ROW(Магазин!$G$12:$G$3000)-11,\"\"),ROW()-11))),\"\",INDEX(Магазин!$G$12:$G$3000,SMALL(IF(\"\"<>$I$12:$I$3000,ROW(Магазин!$G$12:$G$3000)-11,\"\"),ROW()-11)))","v":""},{"$f":"IF(ISERROR(INDEX(Магазин!$D$12:$D$3000,SMALL(IF(\"\"<>$I$12:$I$3000,ROW(Магазин!$G$12:$G$3000)-11,\"\"),ROW()-11))),\"\",INDEX(Магазин!$D$12:$D$3000,SMALL(IF(\"\"<>$I$12:$I$3000,ROW(Магазин!$G$12:$G$3000)-11,\"\"),ROW()-11)))","v":""}]
[null,null,null,null,null,null,null,null,{"$f":"IF(Магазин!$G$12:$G$3000>0,ROW(),\"\")","v":""},null,null,"",{"$f":"IF(ISERROR(INDEX(Магазин!$B$12:$B$3000,SMALL(IF(\"\"<>$I$12:$I$3000,ROW(Магазин!$G$12:$G$3000)-11,\"\"),ROW()-11))),\"\",INDEX(Магазин!$B$12:$B$3000,SMALL(IF(\"\"<>$I$12:$I$3000,ROW(Магазин!$G$12:$G$3000)-11,\"\"),ROW()-11)))","v":""},{"$f":"IF(ISERROR(INDEX(Магазин!$G$12:$G$3000,SMALL(IF(\"\"<>$I$12:$I$3000,ROW(Магазин!$G$12:$G$3000)-11,\"\"),ROW()-11))),\"\",INDEX(Магазин!$G$12:$G$3000,SMALL(IF(\"\"<>$I$12:$I$3000,ROW(Магазин!$G$12:$G$3000)-11,\"\"),ROW()-11)))","v":""},{"$f":"IF(ISERROR(INDEX(Магазин!$D$12:$D$3000,SMALL(IF(\"\"<>$I$12:$I$3000,ROW(Магазин!$G$12:$G$3000)-11,\"\"),ROW()-11))),\"\",INDEX(Магазин!$D$12:$D$3000,SMALL(IF(\"\"<>$I$12:$I$3000,ROW(Магазин!$G$12:$G$3000)-11,\"\"),ROW()-11)))","v":""}]
[null,null,null,null,null,null,null,null,{"$f":"IF(Магазин!$G$12:$G$3000>0,ROW(),\"\")","v":""},null,null,"",{"$f":"IF(ISERROR(INDEX(Магазин!$B$12:$B$3000,SMALL(IF(\"\"<>$I$12:$I$3000,ROW(Магазин!$G$12:$G$3000)-11,\"\"),ROW()-11))),\"\",INDEX(Магазин!$B$12:$B$3000,SMALL(IF(\"\"<>$I$12:$I$3000,ROW(Магазин!$G$12:$G$3000)-11,\"\"),ROW()-11)))","v":""},{"$f":"IF(ISERROR(INDEX(Магазин!$G$12:$G$3000,SMALL(IF(\"\"<>$I$12:$I$3000,ROW(Магазин!$G$12:$G$3000)-11,\"\"),ROW()-11))),\"\",INDEX(Магазин!$G$12:$G$3000,SMALL(IF(\"\"<>$I$12:$I$3000,ROW(Магазин!$G$12:$G$3000)-11,\"\"),ROW()-11)))","v":""},{"$f":"IF(ISERROR(INDEX(Магазин!$D$12:$D$3000,SMALL(IF(\"\"<>$I$12:$I$3000,ROW(Магазин!$G$12:$G$3000)-11,\"\"),ROW()-11))),\"\",INDEX(Магазин!$D$12:$D$3000,SMALL(IF(\"\"<>$I$12:$I$3000,ROW(Магазин!$G$12:$G$3000)-11,\"\"),ROW()-11)))","v":""}]
[null,null,null,null,null,null,null,null,{"$f":"IF(Магазин!$G$12:$G$3000>0,ROW(),\"\")","v":""},null,null,"",{"$f":"IF(ISERROR(INDEX(Магазин!$B$12:$B$3000,SMALL(IF(\"\"<>$I$12:$I$3000,ROW(Магазин!$G$12:$G$3000)-11,\"\"),ROW()-11))),\"\",INDEX(Магазин!$B$12:$B$3000,SMALL(IF(\"\"<>$I$12:$I$3000,ROW(Магазин!$G$12:$G$3000)-11,\"\"),ROW()-11)))","v":""},{"$f":"IF(ISERROR(INDEX(Магазин!$G$12:$G$3000,SMALL(IF(\"\"<>$I$12:$I$3000,ROW(Магазин!$G$12:$G$3000)-11,\"\"),ROW()-11))),\"\",INDEX(Магазин!$G$12:$G$3000,SMALL(IF(\"\"<>$I$12:$I$3000,ROW(Магазин!$G$12:$G$3000)-11,\"\"),ROW()-11)))","v":""},{"$f":"IF(ISERROR(INDEX(Магазин!$D$12:$D$3000,SMALL(IF(\"\"<>$I$12:$I$3000,ROW(Магазин!$G$12:$G$3000)-11,\"\"),ROW()-11))),\"\",INDEX(Магазин!$D$12:$D$3000,SMALL(IF(\"\"<>$I$12:$I$3000,ROW(Магазин!$G$12:$G$3000)-11,\"\"),ROW()-11)))","v":""}]
[null,null,null,null,null,null,null,null,{"$f":"IF(Магазин!$G$12:$G$3000>0,ROW(),\"\")","v":""},null,null,"",{"$f":"IF(ISERROR(INDEX(Магазин!$B$12:$B$3000,SMALL(IF(\"\"<>$I$12:$I$3000,ROW(Магазин!$G$12:$G$3000)-11,\"\"),ROW()-11))),\"\",INDEX(Магазин!$B$12:$B$3000,SMALL(IF(\"\"<>$I$12:$I$3000,ROW(Магазин!$G$12:$G$3000)-11,\"\"),ROW()-11)))","v":""},{"$f":"IF(ISERROR(INDEX(Магазин!$G$12:$G$3000,SMALL(IF(\"\"<>$I$12:$I$3000,ROW(Магазин!$G$12:$G$3000)-11,\"\"),ROW()-11))),\"\",INDEX(Магазин!$G$12:$G$3000,SMALL(IF(\"\"<>$I$12:$I$3000,ROW(Магазин!$G$12:$G$3000)-11,\"\"),ROW()-11)))","v":""},{"$f":"IF(ISERROR(INDEX(Магазин!$D$12:$D$3000,SMALL(IF(\"\"<>$I$12:$I$3000,ROW(Магазин!$G$12:$G$3000)-11,\"\"),ROW()-11))),\"\",INDEX(Магазин!$D$12:$D$3000,SMALL(IF(\"\"<>$I$12:$I$3000,ROW(Магазин!$G$12:$G$3000)-11,\"\"),ROW()-11)))","v":""}]
[null,null,null,null,null,null,null,null,{"$f":"IF(Магазин!$G$12:$G$3000>0,ROW(),\"\")","v":""},null,"ліміт","",{"$f":"IF(ISERROR(INDEX(Магазин!$B$12:$B$3000,SMALL(IF(\"\"<>$I$12:$I$3000,ROW(Магазин!$G$12:$G$3000)-11,\"\"),ROW()-11))),\"\",INDEX(Магазин!$B$12:$B$3000,SMALL(IF(\"\"<>$I$12:$I$3000,ROW(Магазин!$G$12:$G$3000)-11,\"\"),ROW()-11)))","v":""},{"$f":"IF(ISERROR(INDEX(Магазин!$G$12:$G$3000,SMALL(IF(\"\"<>$I$12:$I$3000,ROW(Магазин!$G$12:$G$3000)-11,\"\"),ROW()-11))),\"\",INDEX(Магазин!$G$12:$G$3000,SMALL(IF(\"\"<>$I$12:$I$3000,ROW(Магазин!$G$12:$G$3000)-11,\"\"),ROW()-11)))","v":""},{"$f":"IF(ISERROR(INDEX(Магазин!$D$12:$D$3000,SMALL(IF(\"\"<>$I$12:$I$3000,ROW(Магазин!$G$12:$G$3000)-11,\"\"),ROW()-11))),\"\",INDEX(Магазин!$D$12:$D$3000,SMALL(IF(\"\"<>$I$12:$I$3000,ROW(Магазин!$G$12:$G$3000)-11,\"\"),ROW()-11)))","v":""}]
[null,null,null,null,null,null,null,null,{"$f":"IF(Магазин!$G$12:$G$3000>0,ROW(),\"\")","v":""},null,null,"",{"$f":"IF(ISERROR(INDEX(Магазин!$B$12:$B$3000,SMALL(IF(\"\"<>$I$12:$I$3000,ROW(Магазин!$G$12:$G$3000)-11,\"\"),ROW()-11))),\"\",INDEX(Магазин!$B$12:$B$3000,SMALL(IF(\"\"<>$I$12:$I$3000,ROW(Магазин!$G$12:$G$3000)-11,\"\"),ROW()-11)))","v":""},{"$f":"IF(ISERROR(INDEX(Магазин!$G$12:$G$3000,SMALL(IF(\"\"<>$I$12:$I$3000,ROW(Магазин!$G$12:$G$3000)-11,\"\"),ROW()-11))),\"\",INDEX(Магазин!$G$12:$G$3000,SMALL(IF(\"\"<>$I$12:$I$3000,ROW(Магазин!$G$12:$G$3000)-11,\"\"),ROW()-11)))","v":""},{"$f":"IF(ISERROR(INDEX(Магазин!$D$12:$D$3000,SMALL(IF(\"\"<>$I$12:$I$3000,ROW(Магазин!$G$12:$G$3000)-11,\"\"),ROW()-11))),\"\",INDEX(Магазин!$D$12:$D$3000,SMALL(IF(\"\"<>$I$12:$I$3000,ROW(Магазин!$G$12:$G$3000)-11,\"\"),ROW()-11)))","v":""}]
[null,null,null,null,null,null,null,null,{"$f":"IF(Магазин!$G$12:$G$3000>0,ROW(),\"\")","v":""}]
[null,null,null,null,null,null,null,null,{"$f":"IF(Магазин!$G$12:$G$3000>0,ROW(),\"\")","v":""}]
[null,null,null,null,null,null,null,null,{"$f":"IF(Магазин!$G$12:$G$3000>0,ROW(),\"\")","v":""}]
[null,null,null,null,null,null,null,null,{"$f":"IF(Магазин!$G$12:$G$3000>0,ROW(),\"\")","v":""}]
[null,null,null,null,null,null,null,null,{"$f":"IF(Магазин!$G$12:$G$3000>0,ROW(),\"\")","v":""}]
[null,null,null,null,null,null,null,null,{"$f":"IF(Магазин!$G$12:$G$3000>0,ROW(),\"\")","v":""}]
[null,null,null,null,null,null,null,null,{"$f":"IF(Магазин!$G$12:$G$3000>0,ROW(),\"\")","v":""}]
[null,null,null,null,null,null,null,null,{"$f":"IF(Магазин!$G$12:$G$3000>0,ROW(),\"\")","v":""}]
[null,null,null,null,null,null,null,null,{"$f":"IF(Магазин!$G$12:$G$3000>0,ROW(),\"\")","v":""}]
[null,null,null,null,null,null,null,null,{"$f":"IF(Магазин!$G$12:$G$3000>0,ROW(),\"\")","v":""}]
[null,null,null,null,null,null,null,null,{"$f":"IF(Магазин!$G$12:$G$3000>0,ROW(),\"\")","v":""}]
[null,null,null,null,null,null,null,null,{"$f":"IF(Магазин!$G$12:$G$3000>0,ROW(),\"\")","v":""}]
[null,null,null,null,null,null,null,null,{"$f":"IF(Магазин!$G$12:$G$3000>0,ROW(),\"\")","v":""}]
[null,null,null,null,null,null,null,null,{"$f":"IF(Магазин!$G$12:$G$3000>0,ROW(),\"\")","v":""}]
[null,null,null,null,null,null,null,null,{"$f":"IF(Магазин!$G$12:$G$3000>0,ROW(),\"\")","v":""}]
[null,null,null,null,null,null,null,null,{"$f":"IF(Магазин!$G$12:$G$3000>0,ROW(),\"\")","v":""}]
[null,null,null,null,null,null,null,null,{"$f":"IF(Магазин!$G$12:$G$3000>0,ROW(),\"\")","v":""}]
[null,null,null,null,null,null,null,null,{"$f":"IF(Магазин!$G$12:$G$3000>0,ROW(),\"\")","v":""}]
[null,null,null,null,null,null,null,null,{"$f":"IF(Магазин!$G$12:$G$3000>0,ROW(),\"\")","v":""}]
[null,null,null,null,null,null,null,null,{"$f":"IF(Магазин!$G$12:$G$3000>0,ROW(),\"\")","v":""}]
[null,null,null,null,null,null,null,null,{"$f":"IF(Магазин!$G$12:$G$3000>0,ROW(),\"\")","v":""}]
[null,null,null,null,null,null,null,null,{"$f":"IF(Магазин!$G$12:$G$3000>0,ROW(),\"\")","v":""}]
[null,null,null,null,null,null,null,null,{"$f":"IF(Магазин!$G$12:$G$3000>0,ROW(),\"\")","v":""}]
[null,null,null,null,null,null,null,null,{"$f":"IF(Магазин!$G$12:$G$3000>0,ROW(),\"\")","v":""}]
[null,null,null,null,null,null,null,null,{"$f":"IF(Магазин!$G$12:$G$3000>0,ROW(),\"\")","v":""}]
[null,null,null,null,null,null,null,null,{"$f":"IF(Магазин!$G$12:$G$3000>0,ROW(),\"\")","v":""}]
[null,null,null,null,null,null,null,null,{"$f":"IF(Магазин!$G$12:$G$3000>0,ROW(),\"\")","v":""}]
[null,null,null,null,null,null,null,null,{"$f":"IF(Магазин!$G$12:$G$3000>0,ROW(),\"\")","v":""}]
[null,null,null,null,null,null,null,null,{"$f":"IF(Магазин!$G$12:$G$3000>0,ROW(),\"\")","v":""}]
[null,null,null,null,null,null,null,null,{"$f":"IF(Магазин!$G$12:$G$3000>0,ROW(),\"\")","v":""}]
[null,null,null,null,null,null,null,null,{"$f":"IF(Магазин!$G$12:$G$3000>0,ROW(),\"\")","v":""}]
[null,null,null,null,null,null,null,null,{"$f":"IF(Магазин!$G$12:$G$3000>0,ROW(),\"\")","v":""}]
[null,null,null,null,null,null,null,null,{"$f":"IF(Магазин!$G$12:$G$3000>0,ROW(),\"\")","v":""}]
[null,null,null,null,null,null,null,null,{"$f":"IF(Магазин!$G$12:$G$3000>0,ROW(),\"\")","v":""}]
[null,null,null,null,null,null,null,null,{"$f":"IF(Магазин!$G$12:$G$3000>0,ROW(),\"\")","v":""}]
[null,null,null,null,null,null,null,null,{"$f":"IF(Магазин!$G$12:$G$3000>0,ROW(),\"\")","v":""}]
[null,null,null,null,null,null,null,null,{"$f":"IF(Магазин!$G$12:$G$3000>0,ROW(),\"\")","v":""}]
[null,null,null,null,null,null,null,null,{"$f":"IF(Магазин!$G$12:$G$3000>0,ROW(),\"\")","v":""}]
[null,null,null,null,null,null,null,null,{"$f":"IF(Магазин!$G$12:$G$3000>0,ROW(),\"\")","v":""}]
[null,null,null,null,null,null,null,null,{"$f":"IF(Магазин!$G$12:$G$3000>0,ROW(),\"\")","v":""}]
[null,null,null,null,null,null,null,null,{"$f":"IF(Магазин!$G$12:$G$3000>0,ROW(),\"\")","v":""}]
[null,null,null,null,null,null,null,null,{"$f":"IF(Магазин!$G$12:$G$3000>0,ROW(),\"\")","v":""}]
[null,null,null,null,null,null,null,null,{"$f":"IF(Магазин!$G$12:$G$3000>0,ROW(),\"\")","v":""}]
[null,null,null,null,null,null,null,null,{"$f":"IF(Магазин!$G$12:$G$3000>0,ROW(),\"\")","v":""}]
[null,null,null,null,null,null,null,null,{"$f":"IF(Магазин!$G$12:$G$3000>0,ROW(),\"\")","v":""}]
[null,null,null,null,null,null,null,null,{"$f":"IF(Магазин!$G$12:$G$3000>0,ROW(),\"\")","v":""}]
[null,null,null,null,null,null,null,null,{"$f":"IF(Магазин!$G$12:$G$3000>0,ROW(),\"\")","v":""}]
[null,null,null,null,null,null,null,null,{"$f":"IF(Магазин!$G$12:$G$3000>0,ROW(),\"\")","v":""}]
[null,null,null,null,null,null,null,null,{"$f":"IF(Магазин!$G$12:$G$3000>0,ROW(),\"\")","v":""}]
[null,null,null,null,null,null,null,null,{"$f":"IF(Магазин!$G$12:$G$3000>0,ROW(),\"\")","v":""}]
[null,null,null,null,null,null,null,null,{"$f":"IF(Магазин!$G$12:$G$3000>0,ROW(),\"\")","v":""}]
[null,null,null,null,null,null,null,null,{"$f":"IF(Магазин!$G$12:$G$3000>0,ROW(),\"\")","v":""}]
[null,null,null,null,null,null,null,null,{"$f":"IF(Магазин!$G$12:$G$3000>0,ROW(),\"\")","v":""}]
[null,null,null,null,null,null,null,null,{"$f":"IF(Магазин!$G$12:$G$3000>0,ROW(),\"\")","v":""}]
[null,null,null,null,null,null,null,null,{"$f":"IF(Магазин!$G$12:$G$3000>0,ROW(),\"\")","v":""}]
[null,null,null,null,null,null,null,null,{"$f":"IF(Магазин!$G$12:$G$3000>0,ROW(),\"\")","v":""}]
[null,null,null,null,null,null,null,null,{"$f":"IF(Магазин!$G$12:$G$3000>0,ROW(),\"\")","v":""}]
[null,null,null,null,null,null,null,null,{"$f":"IF(Магазин!$G$12:$G$3000>0,ROW(),\"\")","v":""}]
[null,null,null,null,null,null,null,null,{"$f":"IF(Магазин!$G$12:$G$3000>0,ROW(),\"\")","v":""}]
[null,null,null,null,null,null,null,null,{"$f":"IF(Магазин!$G$12:$G$3000>0,ROW(),\"\")","v":""}]
[null,null,null,null,null,null,null,null,{"$f":"IF(Магазин!$G$12:$G$3000>0,ROW(),\"\")","v":""}]
[null,null,null,null,null,null,null,null,{"$f":"IF(Магазин!$G$12:$G$3000>0,ROW(),\"\")","v":""}]
[null,null,null,null,null,null,null,null,{"$f":"IF(Магазин!$G$12:$G$3000>0,ROW(),\"\")","v":""}]
[null,null,null,null,null,null,null,null,{"$f":"IF(Магазин!$G$12:$G$3000>0,ROW(),\"\")","v":""}]
[null,null,null,null,null,null,null,null,{"$f":"IF(Магазин!$G$12:$G$3000>0,ROW(),\"\")","v":""}]
[null,null,null,null,null,null,null,null,{"$f":"IF(Магазин!$G$12:$G$3000>0,ROW(),\"\")","v":""}]
[null,null,null,null,null,null,null,null,{"$f":"IF(Магазин!$G$12:$G$3000>0,ROW(),\"\")","v":""}]
[null,null,null,null,null,null,null,null,{"$f":"IF(Магазин!$G$12:$G$3000>0,ROW(),\"\")","v":""}]
[null,null,null,null,null,null,null,null,{"$f":"IF(Магазин!$G$12:$G$3000>0,ROW(),\"\")","v":""}]
[null,null,null,null,null,null,null,null,{"$f":"IF(Магазин!$G$12:$G$3000>0,ROW(),\"\")","v":""}]
[null,null,null,null,null,null,null,null,{"$f":"IF(Магазин!$G$12:$G$3000>0,ROW(),\"\")","v":""}]
[null,null,null,null,null,null,null,null,{"$f":"IF(Магазин!$G$12:$G$3000>0,ROW(),\"\")","v":""}]
[null,null,null,null,null,null,null,null,{"$f":"IF(Магазин!$G$12:$G$3000>0,ROW(),\"\")","v":""}]
[null,null,null,null,null,null,null,null,{"$f":"IF(Магазин!$G$12:$G$3000>0,ROW(),\"\")","v":""}]
[null,null,null,null,null,null,null,null,{"$f":"IF(Магазин!$G$12:$G$3000>0,ROW(),\"\")","v":""}]
[null,null,null,null,null,null,null,null,{"$f":"IF(Магазин!$G$12:$G$3000>0,ROW(),\"\")","v":""}]
[null,null,null,null,null,null,null,null,{"$f":"IF(Магазин!$G$12:$G$3000>0,ROW(),\"\")","v":""}]
[null,null,null,null,null,null,null,null,{"$f":"IF(Магазин!$G$12:$G$3000>0,ROW(),\"\")","v":""}]
[null,null,null,null,null,null,null,null,{"$f":"IF(Магазин!$G$12:$G$3000>0,ROW(),\"\")","v":""}]
[null,null,null,null,null,null,null,null,{"$f":"IF(Магазин!$G$12:$G$3000>0,ROW(),\"\")","v":""}]
[null,null,null,null,null,null,null,null,{"$f":"IF(Магазин!$G$12:$G$3000>0,ROW(),\"\")","v":""}]
[null,null,null,null,null,null,null,null,{"$f":"IF(Магазин!$G$12:$G$3000>0,ROW(),\"\")","v":""}]
[null,null,null,null,null,null,null,null,{"$f":"IF(Магазин!$G$12:$G$3000>0,ROW(),\"\")","v":""}]
[null,null,null,null,null,null,null,null,{"$f":"IF(Магазин!$G$12:$G$3000>0,ROW(),\"\")","v":""}]
[null,null,null,null,null,null,null,null,{"$f":"IF(Магазин!$G$12:$G$3000>0,ROW(),\"\")","v":""}]
[null,null,null,null,null,null,null,null,{"$f":"IF(Магазин!$G$12:$G$3000>0,ROW(),\"\")","v":""}]
[null,null,null,null,null,null,null,null,{"$f":"IF(Магазин!$G$12:$G$3000>0,ROW(),\"\")","v":""}]
[null,null,null,null,null,null,null,null,{"$f":"IF(Магазин!$G$12:$G$3000>0,ROW(),\"\")","v":""}]
[null,null,null,null,null,null,null,null,{"$f":"IF(Магазин!$G$12:$G$3000>0,ROW(),\"\")","v":""}]
[null,null,null,null,null,null,null,null,{"$f":"IF(Магазин!$G$12:$G$3000>0,ROW(),\"\")","v":""}]
[null,null,null,null,null,null,null,null,{"$f":"IF(Магазин!$G$12:$G$3000>0,ROW(),\"\")","v":""}]
[null,null,null,null,null,null,null,null,{"$f":"IF(Магазин!$G$12:$G$3000>0,ROW(),\"\")","v":""}]
[null,null,null,null,null,null,null,null,{"$f":"IF(Магазин!$G$12:$G$3000>0,ROW(),\"\")","v":""}]
[null,null,null,null,null,null,null,null,{"$f":"IF(Магазин!$G$12:$G$3000>0,ROW(),\"\")","v":""}]
[null,null,null,null,null,null,null,null,{"$f":"IF(Магазин!$G$12:$G$3000>0,ROW(),\"\")","v":""}]
[null,null,null,null,null,null,null,null,{"$f":"IF(Магазин!$G$12:$G$3000>0,ROW(),\"\")","v":""}]
[null,null,null,null,null,null,null,null,{"$f":"IF(Магазин!$G$12:$G$3000>0,ROW(),\"\")","v":""}]
[null,null,null,null,null,null,null,null,{"$f":"IF(Магазин!$G$12:$G$3000>0,ROW(),\"\")","v":""}]
[null,null,null,null,null,null,null,null,{"$f":"IF(Магазин!$G$12:$G$3000>0,ROW(),\"\")","v":""}]
[null,null,null,null,null,null,null,null,{"$f":"IF(Магазин!$G$12:$G$3000>0,ROW(),\"\")","v":""}]
[null,null,null,null,null,null,null,null,{"$f":"IF(Магазин!$G$12:$G$3000>0,ROW(),\"\")","v":""}]
[null,null,null,null,null,null,null,null,{"$f":"IF(Магазин!$G$12:$G$3000>0,ROW(),\"\")","v":""}]
[null,null,null,null,null,null,null,null,{"$f":"IF(Магазин!$G$12:$G$3000>0,ROW(),\"\")","v":""}]
[null,null,null,null,null,null,null,null,{"$f":"IF(Магазин!$G$12:$G$3000>0,ROW(),\"\")","v":""}]
[null,null,null,null,null,null,null,null,{"$f":"IF(Магазин!$G$12:$G$3000>0,ROW(),\"\")","v":""}]
[null,null,null,null,null,null,null,null,{"$f":"IF(Магазин!$G$12:$G$3000>0,ROW(),\"\")","v":""}]
[null,null,null,null,null,null,null,null,{"$f":"IF(Магазин!$G$12:$G$3000>0,ROW(),\"\")","v":""}]
[null,null,null,null,null,null,null,null,{"$f":"IF(Магазин!$G$12:$G$3000>0,ROW(),\"\")","v":""}]
[null,null,null,null,null,null,null,null,{"$f":"IF(Магазин!$G$12:$G$3000>0,ROW(),\"\")","v":""}]
[null,null,null,null,null,null,null,null,{"$f":"IF(Магазин!$G$12:$G$3000>0,ROW(),\"\")","v":""}]
[null,null,null,null,null,null,null,null,{"$f":"IF(Магазин!$G$12:$G$3000>0,ROW(),\"\")","v":""}]
[null,null,null,null,null,null,null,null,{"$f":"IF(Магазин!$G$12:$G$3000>0,ROW(),\"\")","v":""}]
[null,null,null,null,null,null,null,null,{"$f":"IF(Магазин!$G$12:$G$3000>0,ROW(),\"\")","v":""}]
[null,null,null,null,null,null,null,null,{"$f":"IF(Магазин!$G$12:$G$3000>0,ROW(),\"\")","v":""}]
[null,null,null,null,null,null,null,null,{"$f":"IF(Магазин!$G$12:$G$3000>0,ROW(),\"\")","v":""}]
[null,null,null,null,null,null,null,null,{"$f":"IF(Магазин!$G$12:$G$3000>0,ROW(),\"\")","v":""}]
[null,null,null,null,null,null,null,null,{"$f":"IF(Магазин!$G$12:$G$3000>0,ROW(),\"\")","v":""}]
[null,null,null,null,null,null,null,null,{"$f":"IF(Магазин!$G$12:$G$3000>0,ROW(),\"\")","v":""}]
[null,null,null,null,null,null,null,null,{"$f":"IF(Магазин!$G$12:$G$3000>0,ROW(),\"\")","v":""}]
[null,null,null,null,null,null,null,null,{"$f":"IF(Магазин!$G$12:$G$3000>0,ROW(),\"\")","v":""}]
[null,null,null,null,null,null,null,null,{"$f":"IF(Магазин!$G$12:$G$3000>0,ROW(),\"\")","v":""}]
[null,null,null,null,null,null,null,null,{"$f":"IF(Магазин!$G$12:$G$3000>0,ROW(),\"\")","v":""}]
[null,null,null,null,null,null,null,null,{"$f":"IF(Магазин!$G$12:$G$3000>0,ROW(),\"\")","v":""}]
[null,null,null,null,null,null,null,null,{"$f":"IF(Магазин!$G$12:$G$3000>0,ROW(),\"\")","v":""}]
[null,null,null,null,null,null,null,null,{"$f":"IF(Магазин!$G$12:$G$3000>0,ROW(),\"\")","v":""}]
[null,null,null,null,null,null,null,null,{"$f":"IF(Магазин!$G$12:$G$3000>0,ROW(),\"\")","v":""}]
[null,null,null,null,null,null,null,null,{"$f":"IF(Магазин!$G$12:$G$3000>0,ROW(),\"\")","v":""}]
[null,null,null,null,null,null,null,null,{"$f":"IF(Магазин!$G$12:$G$3000>0,ROW(),\"\")","v":""}]
[null,null,null,null,null,null,null,null,{"$f":"IF(Магазин!$G$12:$G$3000>0,ROW(),\"\")","v":""}]
[null,null,null,null,null,null,null,null,{"$f":"IF(Магазин!$G$12:$G$3000>0,ROW(),\"\")","v":""}]
[null,null,null,null,null,null,null,null,{"$f":"IF(Магазин!$G$12:$G$3000>0,ROW(),\"\")","v":""}]
[null,null,null,null,null,null,null,null,{"$f":"IF(Магазин!$G$12:$G$3000>0,ROW(),\"\")","v":""}]
[null,null,null,null,null,null,null,null,{"$f":"IF(Магазин!$G$12:$G$3000>0,ROW(),\"\")","v":""}]
[null,null,null,null,null,null,null,null,{"$f":"IF(Магазин!$G$12:$G$3000>0,ROW(),\"\")","v":""}]
[null,null,null,null,null,null,null,null,{"$f":"IF(Магазин!$G$12:$G$3000>0,ROW(),\"\")","v":""}]
[null,null,null,null,null,null,null,null,{"$f":"IF(Магазин!$G$12:$G$3000>0,ROW(),\"\")","v":""}]
[null,null,null,null,null,null,null,null,{"$f":"IF(Магазин!$G$12:$G$3000>0,ROW(),\"\")","v":""}]
[null,null,null,null,null,null,null,null,{"$f":"IF(Магазин!$G$12:$G$3000>0,ROW(),\"\")","v":""}]
[null,null,null,null,null,null,null,null,{"$f":"IF(Магазин!$G$12:$G$3000>0,ROW(),\"\")","v":""}]
[null,null,null,null,null,null,null,null,{"$f":"IF(Магазин!$G$12:$G$3000>0,ROW(),\"\")","v":""}]
[null,null,null,null,null,null,null,null,{"$f":"IF(Магазин!$G$12:$G$3000>0,ROW(),\"\")","v":""}]
[null,null,null,null,null,null,null,null,{"$f":"IF(Магазин!$G$12:$G$3000>0,ROW(),\"\")","v":""}]
[null,null,null,null,null,null,null,null,{"$f":"IF(Магазин!$G$12:$G$3000>0,ROW(),\"\")","v":""}]
[null,null,null,null,null,null,null,null,{"$f":"IF(Магазин!$G$12:$G$3000>0,ROW(),\"\")","v":""}]
[null,null,null,null,null,null,null,null,{"$f":"IF(Магазин!$G$12:$G$3000>0,ROW(),\"\")","v":""}]
[null,null,null,null,null,null,null,null,{"$f":"IF(Магазин!$G$12:$G$3000>0,ROW(),\"\")","v":""}]
[null,null,null,null,null,null,null,null,{"$f":"IF(Магазин!$G$12:$G$3000>0,ROW(),\"\")","v":""}]
[null,null,null,null,null,null,null,null,{"$f":"IF(Магазин!$G$12:$G$3000>0,ROW(),\"\")","v":""}]
[null,null,null,null,null,null,null,null,{"$f":"IF(Магазин!$G$12:$G$3000>0,ROW(),\"\")","v":""}]
[null,null,null,null,null,null,null,null,{"$f":"IF(Магазин!$G$12:$G$3000>0,ROW(),\"\")","v":""}]
[null,null,null,null,null,null,null,null,{"$f":"IF(Магазин!$G$12:$G$3000>0,ROW(),\"\")","v":""}]
[null,null,null,null,null,null,null,null,{"$f":"IF(Магазин!$G$12:$G$3000>0,ROW(),\"\")","v":""}]
[null,null,null,null,null,null,null,null,{"$f":"IF(Магазин!$G$12:$G$3000>0,ROW(),\"\")","v":""}]
[null,null,null,null,null,null,null,null,{"$f":"IF(Магазин!$G$12:$G$3000>0,ROW(),\"\")","v":""}]
[null,null,null,null,null,null,null,null,{"$f":"IF(Магазин!$G$12:$G$3000>0,ROW(),\"\")","v":""}]
[null,null,null,null,null,null,null,null,{"$f":"IF(Магазин!$G$12:$G$3000>0,ROW(),\"\")","v":""}]
[null,null,null,null,null,null,null,null,{"$f":"IF(Магазин!$G$12:$G$3000>0,ROW(),\"\")","v":""}]
[null,null,null,null,null,null,null,null,{"$f":"IF(Магазин!$G$12:$G$3000>0,ROW(),\"\")","v":""}]
[null,null,null,null,null,null,null,null,{"$f":"IF(Магазин!$G$12:$G$3000>0,ROW(),\"\")","v":""}]
[null,null,null,null,null,null,null,null,{"$f":"IF(Магазин!$G$12:$G$3000>0,ROW(),\"\")","v":""}]
[null,null,null,null,null,null,null,null,{"$f":"IF(Магазин!$G$12:$G$3000>0,ROW(),\"\")","v":""}]
[null,null,null,null,null,null,null,null,{"$f":"IF(Магазин!$G$12:$G$3000>0,ROW(),\"\")","v":""}]
[null,null,null,null,null,null,null,null,{"$f":"IF(Магазин!$G$12:$G$3000>0,ROW(),\"\")","v":""}]
[null,null,null,null,null,null,null,null,{"$f":"IF(Магазин!$G$12:$G$3000>0,ROW(),\"\")","v":""}]
[null,null,null,null,null,null,null,null,{"$f":"IF(Магазин!$G$12:$G$3000>0,ROW(),\"\")","v":""}]
[null,null,null,null,null,null,null,null,{"$f":"IF(Магазин!$G$12:$G$3000>0,ROW(),\"\")","v":""}]
[null,null,null,null,null,null,null,null,{"$f":"IF(Магазин!$G$12:$G$3000>0,ROW(),\"\")","v":""}]
[null,null,null,null,null,null,null,null,{"$f":"IF(Магазин!$G$12:$G$3000>0,ROW(),\"\")","v":""}]
[null,null,null,null,null,null,null,null,{"$f":"IF(Магазин!$G$12:$G$3000>0,ROW(),\"\")","v":""}]
[null,null,null,null,null,null,null,null,{"$f":"IF(Магазин!$G$12:$G$3000>0,ROW(),\"\")","v":""}]
[null,null,null,null,null,null,null,null,{"$f":"IF(Магазин!$G$12:$G$3000>0,ROW(),\"\")","v":""}]
[null,null,null,null,null,null,null,null,{"$f":"IF(Магазин!$G$12:$G$3000>0,ROW(),\"\")","v":""}]
[null,null,null,null,null,null,null,null,{"$f":"IF(Магазин!$G$12:$G$3000>0,ROW(),\"\")","v":""}]
[null,null,null,null,null,null,null,null,{"$f":"IF(Магазин!$G$12:$G$3000>0,ROW(),\"\")","v":""}]
[null,null,null,null,null,null,null,null,{"$f":"IF(Магазин!$G$12:$G$3000>0,ROW(),\"\")","v":""}]
[null,null,null,null,null,null,null,null,{"$f":"IF(Магазин!$G$12:$G$3000>0,ROW(),\"\")","v":""}]
[null,null,null,null,null,null,null,null,{"$f":"IF(Магазин!$G$12:$G$3000>0,ROW(),\"\")","v":""}]
[null,null,null,null,null,null,null,null,{"$f":"IF(Магазин!$G$12:$G$3000>0,ROW(),\"\")","v":""}]
[null,null,null,null,null,null,null,null,{"$f":"IF(Магазин!$G$12:$G$3000>0,ROW(),\"\")","v":""}]
[null,null,null,null,null,null,null,null,{"$f":"IF(Магазин!$G$12:$G$3000>0,ROW(),\"\")","v":""}]
[null,null,null,null,null,null,null,null,{"$f":"IF(Магазин!$G$12:$G$3000>0,ROW(),\"\")","v":""}]
[null,null,null,null,null,null,null,null,{"$f":"IF(Магазин!$G$12:$G$3000>0,ROW(),\"\")","v":""}]
[null,null,null,null,null,null,null,null,{"$f":"IF(Магазин!$G$12:$G$3000>0,ROW(),\"\")","v":""}]
[null,null,null,null,null,null,null,null,{"$f":"IF(Магазин!$G$12:$G$3000>0,ROW(),\"\")","v":""}]
[null,null,null,null,null,null,null,null,{"$f":"IF(Магазин!$G$12:$G$3000>0,ROW(),\"\")","v":""}]
[null,null,null,null,null,null,null,null,{"$f":"IF(Магазин!$G$12:$G$3000>0,ROW(),\"\")","v":""}]
[null,null,null,null,null,null,null,null,{"$f":"IF(Магазин!$G$12:$G$3000>0,ROW(),\"\")","v":""}]
[null,null,null,null,null,null,null,null,{"$f":"IF(Магазин!$G$12:$G$3000>0,ROW(),\"\")","v":""}]
[null,null,null,null,null,null,null,null,{"$f":"IF(Магазин!$G$12:$G$3000>0,ROW(),\"\")","v":""}]
[null,null,null,null,null,null,null,null,{"$f":"IF(Магазин!$G$12:$G$3000>0,ROW(),\"\")","v":""}]
[null,null,null,null,null,null,null,null,{"$f":"IF(Магазин!$G$12:$G$3000>0,ROW(),\"\")","v":""}]
[null,null,null,null,null,null,null,null,{"$f":"IF(Магазин!$G$12:$G$3000>0,ROW(),\"\")","v":""}]
[null,null,null,null,null,null,null,null,{"$f":"IF(Магазин!$G$12:$G$3000>0,ROW(),\"\")","v":""}]
[null,null,null,null,null,null,null,null,{"$f":"IF(Магазин!$G$12:$G$3000>0,ROW(),\"\")","v":""}]
[null,null,null,null,null,null,null,null,{"$f":"IF(Магазин!$G$12:$G$3000>0,ROW(),\"\")","v":""}]
[null,null,null,null,null,null,null,null,{"$f":"IF(Магазин!$G$12:$G$3000>0,ROW(),\"\")","v":""}]
[null,null,null,null,null,null,null,null,{"$f":"IF(Магазин!$G$12:$G$3000>0,ROW(),\"\")","v":""}]
[null,null,null,null,null,null,null,null,{"$f":"IF(Магазин!$G$12:$G$3000>0,ROW(),\"\")","v":""}]
[null,null,null,null,null,null,null,null,{"$f":"IF(Магазин!$G$12:$G$3000>0,ROW(),\"\")","v":""}]
[null,null,null,null,null,null,null,null,{"$f":"IF(Магазин!$G$12:$G$3000>0,ROW(),\"\")","v":""}]
[null,null,null,null,null,null,null,null,{"$f":"IF(Магазин!$G$12:$G$3000>0,ROW(),\"\")","v":""}]
[null,null,null,null,null,null,null,null,{"$f":"IF(Магазин!$G$12:$G$3000>0,ROW(),\"\")","v":""}]
[null,null,null,null,null,null,null,null,{"$f":"IF(Магазин!$G$12:$G$3000>0,ROW(),\"\")","v":""}]
[null,null,null,null,null,null,null,null,{"$f":"IF(Магазин!$G$12:$G$3000>0,ROW(),\"\")","v":""}]
[null,null,null,null,null,null,null,null,{"$f":"IF(Магазин!$G$12:$G$3000>0,ROW(),\"\")","v":""}]
[null,null,null,null,null,null,null,null,{"$f":"IF(Магазин!$G$12:$G$3000>0,ROW(),\"\")","v":""}]
[null,null,null,null,null,null,null,null,{"$f":"IF(Магазин!$G$12:$G$3000>0,ROW(),\"\")","v":""}]
[null,null,null,null,null,null,null,null,{"$f":"IF(Магазин!$G$12:$G$3000>0,ROW(),\"\")","v":""}]
[null,null,null,null,null,null,null,null,{"$f":"IF(Магазин!$G$12:$G$3000>0,ROW(),\"\")","v":""}]
[null,null,null,null,null,null,null,null,{"$f":"IF(Магазин!$G$12:$G$3000>0,ROW(),\"\")","v":""}]
[null,null,null,null,null,null,null,null,{"$f":"IF(Магазин!$G$12:$G$3000>0,ROW(),\"\")","v":""}]
[null,null,null,null,null,null,null,null,{"$f":"IF(Магазин!$G$12:$G$3000>0,ROW(),\"\")","v":""}]
[null,null,null,null,null,null,null,null,{"$f":"IF(Магазин!$G$12:$G$3000>0,ROW(),\"\")","v":""}]
[null,null,null,null,null,null,null,null,{"$f":"IF(Магазин!$G$12:$G$3000>0,ROW(),\"\")","v":""}]
[null,null,null,null,null,null,null,null,{"$f":"IF(Магазин!$G$12:$G$3000>0,ROW(),\"\")","v":""}]
[null,null,null,null,null,null,null,null,{"$f":"IF(Магазин!$G$12:$G$3000>0,ROW(),\"\")","v":""}]
[null,null,null,null,null,null,null,null,{"$f":"IF(Магазин!$G$12:$G$3000>0,ROW(),\"\")","v":""}]
[null,null,null,null,null,null,null,null,{"$f":"IF(Магазин!$G$12:$G$3000>0,ROW(),\"\")","v":""}]
[null,null,null,null,null,null,null,null,{"$f":"IF(Магазин!$G$12:$G$3000>0,ROW(),\"\")","v":""}]
[null,null,null,null,null,null,null,null,{"$f":"IF(Магазин!$G$12:$G$3000>0,ROW(),\"\")","v":""}]
[null,null,null,null,null,null,null,null,{"$f":"IF(Магазин!$G$12:$G$3000>0,ROW(),\"\")","v":""}]
[null,null,null,null,null,null,null,null,{"$f":"IF(Магазин!$G$12:$G$3000>0,ROW(),\"\")","v":""}]
[null,null,null,null,null,null,null,null,{"$f":"IF(Магазин!$G$12:$G$3000>0,ROW(),\"\")","v":""}]
[null,null,null,null,null,null,null,null,{"$f":"IF(Магазин!$G$12:$G$3000>0,ROW(),\"\")","v":""}]
[null,null,null,null,null,null,null,null,{"$f":"IF(Магазин!$G$12:$G$3000>0,ROW(),\"\")","v":""}]
[null,null,null,null,null,null,null,null,{"$f":"IF(Магазин!$G$12:$G$3000>0,ROW(),\"\")","v":""}]
[null,null,null,null,null,null,null,null,{"$f":"IF(Магазин!$G$12:$G$3000>0,ROW(),\"\")","v":""}]
[null,null,null,null,null,null,null,null,{"$f":"IF(Магазин!$G$12:$G$3000>0,ROW(),\"\")","v":""}]
[null,null,null,null,null,null,null,null,{"$f":"IF(Магазин!$G$12:$G$3000>0,ROW(),\"\")","v":""}]
[null,null,null,null,null,null,null,null,{"$f":"IF(Магазин!$G$12:$G$3000>0,ROW(),\"\")","v":""}]
[null,null,null,null,null,null,null,null,{"$f":"IF(Магазин!$G$12:$G$3000>0,ROW(),\"\")","v":""}]
[null,null,null,null,null,null,null,null,{"$f":"IF(Магазин!$G$12:$G$3000>0,ROW(),\"\")","v":""}]
[null,null,null,null,null,null,null,null,{"$f":"IF(Магазин!$G$12:$G$3000>0,ROW(),\"\")","v":""}]
[null,null,null,null,null,null,null,null,{"$f":"IF(Магазин!$G$12:$G$3000>0,ROW(),\"\")","v":""}]
[null,null,null,null,null,null,null,null,{"$f":"IF(Магазин!$G$12:$G$3000>0,ROW(),\"\")","v":""}]
[null,null,null,null,null,null,null,null,{"$f":"IF(Магазин!$G$12:$G$3000>0,ROW(),\"\")","v":""}]
[null,null,null,null,null,null,null,null,{"$f":"IF(Магазин!$G$12:$G$3000>0,ROW(),\"\")","v":""}]
[null,null,null,null,null,null,null,null,{"$f":"IF(Магазин!$G$12:$G$3000>0,ROW(),\"\")","v":""}]
[null,null,null,null,null,null,null,null,{"$f":"IF(Магазин!$G$12:$G$3000>0,ROW(),\"\")","v":""}]
[null,null,null,null,null,null,null,null,{"$f":"IF(Магазин!$G$12:$G$3000>0,ROW(),\"\")","v":""}]
[null,null,null,null,null,null,null,null,{"$f":"IF(Магазин!$G$12:$G$3000>0,ROW(),\"\")","v":""}]
[null,null,null,null,null,null,null,null,{"$f":"IF(Магазин!$G$12:$G$3000>0,ROW(),\"\")","v":""}]
[null,null,null,null,null,null,null,null,{"$f":"IF(Магазин!$G$12:$G$3000>0,ROW(),\"\")","v":""}]
[null,null,null,null,null,null,null,null,{"$f":"IF(Магазин!$G$12:$G$3000>0,ROW(),\"\")","v":""}]
[null,null,null,null,null,null,null,null,{"$f":"IF(Магазин!$G$12:$G$3000>0,ROW(),\"\")","v":""}]
[null,null,null,null,null,null,null,null,{"$f":"IF(Магазин!$G$12:$G$3000>0,ROW(),\"\")","v":""}]
[null,null,null,null,null,null,null,null,{"$f":"IF(Магазин!$G$12:$G$3000>0,ROW(),\"\")","v":""}]
[null,null,null,null,null,null,null,null,{"$f":"IF(Магазин!$G$12:$G$3000>0,ROW(),\"\")","v":""}]
[null,null,null,null,null,null,null,null,{"$f":"IF(Магазин!$G$12:$G$3000>0,ROW(),\"\")","v":""}]
[null,null,null,null,null,null,null,null,{"$f":"IF(Магазин!$G$12:$G$3000>0,ROW(),\"\")","v":""}]
[null,null,null,null,null,null,null,null,{"$f":"IF(Магазин!$G$12:$G$3000>0,ROW(),\"\")","v":""}]
[null,null,null,null,null,null,null,null,{"$f":"IF(Магазин!$G$12:$G$3000>0,ROW(),\"\")","v":""}]
[null,null,null,null,null,null,null,null,{"$f":"IF(Магазин!$G$12:$G$3000>0,ROW(),\"\")","v":""}]
[null,null,null,null,null,null,null,null,{"$f":"IF(Магазин!$G$12:$G$3000>0,ROW(),\"\")","v":""}]
[null,null,null,null,null,null,null,null,{"$f":"IF(Магазин!$G$12:$G$3000>0,ROW(),\"\")","v":""}]
[null,null,null,null,null,null,null,null,{"$f":"IF(Магазин!$G$12:$G$3000>0,ROW(),\"\")","v":""}]
[null,null,null,null,null,null,null,null,{"$f":"IF(Магазин!$G$12:$G$3000>0,ROW(),\"\")","v":""}]
[null,null,null,null,null,null,null,null,{"$f":"IF(Магазин!$G$12:$G$3000>0,ROW(),\"\")","v":""}]
[null,null,null,null,null,null,null,null,{"$f":"IF(Магазин!$G$12:$G$3000>0,ROW(),\"\")","v":""}]
[null,null,null,null,null,null,null,null,{"$f":"IF(Магазин!$G$12:$G$3000>0,ROW(),\"\")","v":""}]
[null,null,null,null,null,null,null,null,{"$f":"IF(Магазин!$G$12:$G$3000>0,ROW(),\"\")","v":""}]
[null,null,null,null,null,null,null,null,{"$f":"IF(Магазин!$G$12:$G$3000>0,ROW(),\"\")","v":""}]
[null,null,null,null,null,null,null,null,{"$f":"IF(Магазин!$G$12:$G$3000>0,ROW(),\"\")","v":""}]
[null,null,null,null,null,null,null,null,{"$f":"IF(Магазин!$G$12:$G$3000>0,ROW(),\"\")","v":""}]
[null,null,null,null,null,null,null,null,{"$f":"IF(Магазин!$G$12:$G$3000>0,ROW(),\"\")","v":""}]
[null,null,null,null,null,null,null,null,{"$f":"IF(Магазин!$G$12:$G$3000>0,ROW(),\"\")","v":""}]
[null,null,null,null,null,null,null,null,{"$f":"IF(Магазин!$G$12:$G$3000>0,ROW(),\"\")","v":""}]
[null,null,null,null,null,null,null,null,{"$f":"IF(Магазин!$G$12:$G$3000>0,ROW(),\"\")","v":""}]
[null,null,null,null,null,null,null,null,{"$f":"IF(Магазин!$G$12:$G$3000>0,ROW(),\"\")","v":""}]
[null,null,null,null,null,null,null,null,{"$f":"IF(Магазин!$G$12:$G$3000>0,ROW(),\"\")","v":""}]
[null,null,null,null,null,null,null,null,{"$f":"IF(Магазин!$G$12:$G$3000>0,ROW(),\"\")","v":""}]
[null,null,null,null,null,null,null,null,{"$f":"IF(Магазин!$G$12:$G$3000>0,ROW(),\"\")","v":""}]
[null,null,null,null,null,null,null,null,{"$f":"IF(Магазин!$G$12:$G$3000>0,ROW(),\"\")","v":""}]
[null,null,null,null,null,null,null,null,{"$f":"IF(Магазин!$G$12:$G$3000>0,ROW(),\"\")","v":""}]
[null,null,null,null,null,null,null,null,{"$f":"IF(Магазин!$G$12:$G$3000>0,ROW(),\"\")","v":""}]
[null,null,null,null,null,null,null,null,{"$f":"IF(Магазин!$G$12:$G$3000>0,ROW(),\"\")","v":""}]
[null,null,null,null,null,null,null,null,{"$f":"IF(Магазин!$G$12:$G$3000>0,ROW(),\"\")","v":""}]
[null,null,null,null,null,null,null,null,{"$f":"IF(Магазин!$G$12:$G$3000>0,ROW(),\"\")","v":""}]
[null,null,null,null,null,null,null,null,{"$f":"IF(Магазин!$G$12:$G$3000>0,ROW(),\"\")","v":""}]
[null,null,null,null,null,null,null,null,{"$f":"IF(Магазин!$G$12:$G$3000>0,ROW(),\"\")","v":""}]
[null,null,null,null,null,null,null,null,{"$f":"IF(Магазин!$G$12:$G$3000>0,ROW(),\"\")","v":""}]
[null,null,null,null,null,null,null,null,{"$f":"IF(Магазин!$G$12:$G$3000>0,ROW(),\"\")","v":""}]
[null,null,null,null,null,null,null,null,{"$f":"IF(Магазин!$G$12:$G$3000>0,ROW(),\"\")","v":""}]
[null,null,null,null,null,null,null,null,{"$f":"IF(Магазин!$G$12:$G$3000>0,ROW(),\"\")","v":""}]
[null,null,null,null,null,null,null,null,{"$f":"IF(Магазин!$G$12:$G$3000>0,ROW(),\"\")","v":""}]
[null,null,null,null,null,null,null,null,{"$f":"IF(Магазин!$G$12:$G$3000>0,ROW(),\"\")","v":""}]
[null,null,null,null,null,null,null,null,{"$f":"IF(Магазин!$G$12:$G$3000>0,ROW(),\"\")","v":""}]
[null,null,null,null,null,null,null,null,{"$f":"IF(Магазин!$G$12:$G$3000>0,ROW(),\"\")","v":""}]
[null,null,null,null,null,null,null,null,{"$f":"IF(Магазин!$G$12:$G$3000>0,ROW(),\"\")","v":""}]
[null,null,null,null,null,null,null,null,{"$f":"IF(Магазин!$G$12:$G$3000>0,ROW(),\"\")","v":""}]
[null,null,null,null,null,null,null,null,{"$f":"IF(Магазин!$G$12:$G$3000>0,ROW(),\"\")","v":""}]
[null,null,null,null,null,null,null,null,{"$f":"IF(Магазин!$G$12:$G$3000>0,ROW(),\"\")","v":""}]
[null,null,null,null,null,null,null,null,{"$f":"IF(Магазин!$G$12:$G$3000>0,ROW(),\"\")","v":""}]
[null,null,null,null,null,null,null,null,{"$f":"IF(Магазин!$G$12:$G$3000>0,ROW(),\"\")","v":""}]
[null,null,null,null,null,null,null,null,{"$f":"IF(Магазин!$G$12:$G$3000>0,ROW(),\"\")","v":""}]
[null,null,null,null,null,null,null,null,{"$f":"IF(Магазин!$G$12:$G$3000>0,ROW(),\"\")","v":""}]
[null,null,null,null,null,null,null,null,{"$f":"IF(Магазин!$G$12:$G$3000>0,ROW(),\"\")","v":""}]
[null,null,null,null,null,null,null,null,{"$f":"IF(Магазин!$G$12:$G$3000>0,ROW(),\"\")","v":""}]
[null,null,null,null,null,null,null,null,{"$f":"IF(Магазин!$G$12:$G$3000>0,ROW(),\"\")","v":""}]
[null,null,null,null,null,null,null,null,{"$f":"IF(Магазин!$G$12:$G$3000>0,ROW(),\"\")","v":""}]
[null,null,null,null,null,null,null,null,{"$f":"IF(Магазин!$G$12:$G$3000>0,ROW(),\"\")","v":""}]
[null,null,null,null,null,null,null,null,{"$f":"IF(Магазин!$G$12:$G$3000>0,ROW(),\"\")","v":""}]
[null,null,null,null,null,null,null,null,{"$f":"IF(Магазин!$G$12:$G$3000>0,ROW(),\"\")","v":""}]
[null,null,null,null,null,null,null,null,{"$f":"IF(Магазин!$G$12:$G$3000>0,ROW(),\"\")","v":""}]
[null,null,null,null,null,null,null,null,{"$f":"IF(Магазин!$G$12:$G$3000>0,ROW(),\"\")","v":""}]
[null,null,null,null,null,null,null,null,{"$f":"IF(Магазин!$G$12:$G$3000>0,ROW(),\"\")","v":""}]
[null,null,null,null,null,null,null,null,{"$f":"IF(Магазин!$G$12:$G$3000>0,ROW(),\"\")","v":""}]
[null,null,null,null,null,null,null,null,{"$f":"IF(Магазин!$G$12:$G$3000>0,ROW(),\"\")","v":""}]
[null,null,null,null,null,null,null,null,{"$f":"IF(Магазин!$G$12:$G$3000>0,ROW(),\"\")","v":""}]
[null,null,null,null,null,null,null,null,{"$f":"IF(Магазин!$G$12:$G$3000>0,ROW(),\"\")","v":""}]
[null,null,null,null,null,null,null,null,{"$f":"IF(Магазин!$G$12:$G$3000>0,ROW(),\"\")","v":""}]
[null,null,null,null,null,null,null,null,{"$f":"IF(Магазин!$G$12:$G$3000>0,ROW(),\"\")","v":""}]
[null,null,null,null,null,null,null,null,{"$f":"IF(Магазин!$G$12:$G$3000>0,ROW(),\"\")","v":""}]
[null,null,null,null,null,null,null,null,{"$f":"IF(Магазин!$G$12:$G$3000>0,ROW(),\"\")","v":""}]
[null,null,null,null,null,null,null,null,{"$f":"IF(Магазин!$G$12:$G$3000>0,ROW(),\"\")","v":""}]
[null,null,null,null,null,null,null,null,{"$f":"IF(Магазин!$G$12:$G$3000>0,ROW(),\"\")","v":""}]
[null,null,null,null,null,null,null,null,{"$f":"IF(Магазин!$G$12:$G$3000>0,ROW(),\"\")","v":""}]
[null,null,null,null,null,null,null,null,{"$f":"IF(Магазин!$G$12:$G$3000>0,ROW(),\"\")","v":""}]
[null,null,null,null,null,null,null,null,{"$f":"IF(Магазин!$G$12:$G$3000>0,ROW(),\"\")","v":""}]
[null,null,null,null,null,null,null,null,{"$f":"IF(Магазин!$G$12:$G$3000>0,ROW(),\"\")","v":""}]
[null,null,null,null,null,null,null,null,{"$f":"IF(Магазин!$G$12:$G$3000>0,ROW(),\"\")","v":""}]
[null,null,null,null,null,null,null,null,{"$f":"IF(Магазин!$G$12:$G$3000>0,ROW(),\"\")","v":""}]
[null,null,null,null,null,null,null,null,{"$f":"IF(Магазин!$G$12:$G$3000>0,ROW(),\"\")","v":""}]
[null,null,null,null,null,null,null,null,{"$f":"IF(Магазин!$G$12:$G$3000>0,ROW(),\"\")","v":""}]
[null,null,null,null,null,null,null,null,{"$f":"IF(Магазин!$G$12:$G$3000>0,ROW(),\"\")","v":""}]
[null,null,null,null,null,null,null,null,{"$f":"IF(Магазин!$G$12:$G$3000>0,ROW(),\"\")","v":""}]
[null,null,null,null,null,null,null,null,{"$f":"IF(Магазин!$G$12:$G$3000>0,ROW(),\"\")","v":""}]
[null,null,null,null,null,null,null,null,{"$f":"IF(Магазин!$G$12:$G$3000>0,ROW(),\"\")","v":""}]
[null,null,null,null,null,null,null,null,{"$f":"IF(Магазин!$G$12:$G$3000>0,ROW(),\"\")","v":""}]
[null,null,null,null,null,null,null,null,{"$f":"IF(Магазин!$G$12:$G$3000>0,ROW(),\"\")","v":""}]
[null,null,null,null,null,null,null,null,{"$f":"IF(Магазин!$G$12:$G$3000>0,ROW(),\"\")","v":""}]
[null,null,null,null,null,null,null,null,{"$f":"IF(Магазин!$G$12:$G$3000>0,ROW(),\"\")","v":""}]
[null,null,null,null,null,null,null,null,{"$f":"IF(Магазин!$G$12:$G$3000>0,ROW(),\"\")","v":""}]
[null,null,null,null,null,null,null,null,{"$f":"IF(Магазин!$G$12:$G$3000>0,ROW(),\"\")","v":""}]
[null,null,null,null,null,null,null,null,{"$f":"IF(Магазин!$G$12:$G$3000>0,ROW(),\"\")","v":""}]
[null,null,null,null,null,null,null,null,{"$f":"IF(Магазин!$G$12:$G$3000>0,ROW(),\"\")","v":""}]
[null,null,null,null,null,null,null,null,{"$f":"IF(Магазин!$G$12:$G$3000>0,ROW(),\"\")","v":""}]
[null,null,null,null,null,null,null,null,{"$f":"IF(Магазин!$G$12:$G$3000>0,ROW(),\"\")","v":""}]
[null,null,null,null,null,null,null,null,{"$f":"IF(Магазин!$G$12:$G$3000>0,ROW(),\"\")","v":""}]
[null,null,null,null,null,null,null,null,{"$f":"IF(Магазин!$G$12:$G$3000>0,ROW(),\"\")","v":""}]
[null,null,null,null,null,null,null,null,{"$f":"IF(Магазин!$G$12:$G$3000>0,ROW(),\"\")","v":""}]
[null,null,null,null,null,null,null,null,{"$f":"IF(Магазин!$G$12:$G$3000>0,ROW(),\"\")","v":""}]
[null,null,null,null,null,null,null,null,{"$f":"IF(Магазин!$G$12:$G$3000>0,ROW(),\"\")","v":""}]
[null,null,null,null,null,null,null,null,{"$f":"IF(Магазин!$G$12:$G$3000>0,ROW(),\"\")","v":""}]
[null,null,null,null,null,null,null,null,{"$f":"IF(Магазин!$G$12:$G$3000>0,ROW(),\"\")","v":""}]
[null,null,null,null,null,null,null,null,{"$f":"IF(Магазин!$G$12:$G$3000>0,ROW(),\"\")","v":""}]
[null,null,null,null,null,null,null,null,{"$f":"IF(Магазин!$G$12:$G$3000>0,ROW(),\"\")","v":""}]
[null,null,null,null,null,null,null,null,{"$f":"IF(Магазин!$G$12:$G$3000>0,ROW(),\"\")","v":""}]
[null,null,null,null,null,null,null,null,{"$f":"IF(Магазин!$G$12:$G$3000>0,ROW(),\"\")","v":""}]
[null,null,null,null,null,null,null,null,{"$f":"IF(Магазин!$G$12:$G$3000>0,ROW(),\"\")","v":""}]
[null,null,null,null,null,null,null,null,{"$f":"IF(Магазин!$G$12:$G$3000>0,ROW(),\"\")","v":""}]
[null,null,null,null,null,null,null,null,{"$f":"IF(Магазин!$G$12:$G$3000>0,ROW(),\"\")","v":""}]
[null,null,null,null,null,null,null,null,{"$f":"IF(Магазин!$G$12:$G$3000>0,ROW(),\"\")","v":""}]
[null,null,null,null,null,null,null,null,{"$f":"IF(Магазин!$G$12:$G$3000>0,ROW(),\"\")","v":""}]
[null,null,null,null,null,null,null,null,{"$f":"IF(Магазин!$G$12:$G$3000>0,ROW(),\"\")","v":""}]
[null,null,null,null,null,null,null,null,{"$f":"IF(Магазин!$G$12:$G$3000>0,ROW(),\"\")","v":""}]
[null,null,null,null,null,null,null,null,{"$f":"IF(Магазин!$G$12:$G$3000>0,ROW(),\"\")","v":""}]
[null,null,null,null,null,null,null,null,{"$f":"IF(Магазин!$G$12:$G$3000>0,ROW(),\"\")","v":""}]
[null,null,null,null,null,null,null,null,{"$f":"IF(Магазин!$G$12:$G$3000>0,ROW(),\"\")","v":""}]
[null,null,null,null,null,null,null,null,{"$f":"IF(Магазин!$G$12:$G$3000>0,ROW(),\"\")","v":""}]
[null,null,null,null,null,null,null,null,{"$f":"IF(Магазин!$G$12:$G$3000>0,ROW(),\"\")","v":""}]
[null,null,null,null,null,null,null,null,{"$f":"IF(Магазин!$G$12:$G$3000>0,ROW(),\"\")","v":""}]
[null,null,null,null,null,null,null,null,{"$f":"IF(Магазин!$G$12:$G$3000>0,ROW(),\"\")","v":""}]
[null,null,null,null,null,null,null,null,{"$f":"IF(Магазин!$G$12:$G$3000>0,ROW(),\"\")","v":""}]
[null,null,null,null,null,null,null,null,{"$f":"IF(Магазин!$G$12:$G$3000>0,ROW(),\"\")","v":""}]
[null,null,null,null,null,null,null,null,{"$f":"IF(Магазин!$G$12:$G$3000>0,ROW(),\"\")","v":""}]
[null,null,null,null,null,null,null,null,{"$f":"IF(Магазин!$G$12:$G$3000>0,ROW(),\"\")","v":""}]
[null,null,null,null,null,null,null,null,{"$f":"IF(Магазин!$G$12:$G$3000>0,ROW(),\"\")","v":""}]
[null,null,null,null,null,null,null,null,{"$f":"IF(Магазин!$G$12:$G$3000>0,ROW(),\"\")","v":""}]
[null,null,null,null,null,null,null,null,{"$f":"IF(Магазин!$G$12:$G$3000>0,ROW(),\"\")","v":""}]
[null,null,null,null,null,null,null,null,{"$f":"IF(Магазин!$G$12:$G$3000>0,ROW(),\"\")","v":""}]
[null,null,null,null,null,null,null,null,{"$f":"IF(Магазин!$G$12:$G$3000>0,ROW(),\"\")","v":""}]
[null,null,null,null,null,null,null,null,{"$f":"IF(Магазин!$G$12:$G$3000>0,ROW(),\"\")","v":""}]
[null,null,null,null,null,null,null,null,{"$f":"IF(Магазин!$G$12:$G$3000>0,ROW(),\"\")","v":""}]
[null,null,null,null,null,null,null,null,{"$f":"IF(Магазин!$G$12:$G$3000>0,ROW(),\"\")","v":""}]
[null,null,null,null,null,null,null,null,{"$f":"IF(Магазин!$G$12:$G$3000>0,ROW(),\"\")","v":""}]
[null,null,null,null,null,null,null,null,{"$f":"IF(Магазин!$G$12:$G$3000>0,ROW(),\"\")","v":""}]
[null,null,null,null,null,null,null,null,{"$f":"IF(Магазин!$G$12:$G$3000>0,ROW(),\"\")","v":""}]
[null,null,null,null,null,null,null,null,{"$f":"IF(Магазин!$G$12:$G$3000>0,ROW(),\"\")","v":""}]
[null,null,null,null,null,null,null,null,{"$f":"IF(Магазин!$G$12:$G$3000>0,ROW(),\"\")","v":""}]
[null,null,null,null,null,null,null,null,{"$f":"IF(Магазин!$G$12:$G$3000>0,ROW(),\"\")","v":""}]
[null,null,null,null,null,null,null,null,{"$f":"IF(Магазин!$G$12:$G$3000>0,ROW(),\"\")","v":""}]
[null,null,null,null,null,null,null,null,{"$f":"IF(Магазин!$G$12:$G$3000>0,ROW(),\"\")","v":""}]
[null,null,null,null,null,null,null,null,{"$f":"IF(Магазин!$G$12:$G$3000>0,ROW(),\"\")","v":""}]
[null,null,null,null,null,null,null,null,{"$f":"IF(Магазин!$G$12:$G$3000>0,ROW(),\"\")","v":""}]
[null,null,null,null,null,null,null,null,{"$f":"IF(Магазин!$G$12:$G$3000>0,ROW(),\"\")","v":""}]
[null,null,null,null,null,null,null,null,{"$f":"IF(Магазин!$G$12:$G$3000>0,ROW(),\"\")","v":""}]
[null,null,null,null,null,null,null,null,{"$f":"IF(Магазин!$G$12:$G$3000>0,ROW(),\"\")","v":""}]
[null,null,null,null,null,null,null,null,{"$f":"IF(Магазин!$G$12:$G$3000>0,ROW(),\"\")","v":""}]
[null,null,null,null,null,null,null,null,{"$f":"IF(Магазин!$G$12:$G$3000>0,ROW(),\"\")","v":""}]
[null,null,null,null,null,null,null,null,{"$f":"IF(Магазин!$G$12:$G$3000>0,ROW(),\"\")","v":""}]
[null,null,null,null,null,null,null,null,{"$f":"IF(Магазин!$G$12:$G$3000>0,ROW(),\"\")","v":""}]
[null,null,null,null,null,null,null,null,{"$f":"IF(Магазин!$G$12:$G$3000>0,ROW(),\"\")","v":""}]
[null,null,null,null,null,null,null,null,{"$f":"IF(Магазин!$G$12:$G$3000>0,ROW(),\"\")","v":""}]
[null,null,null,null,null,null,null,null,{"$f":"IF(Магазин!$G$12:$G$3000>0,ROW(),\"\")","v":""}]
[null,null,null,null,null,null,null,null,{"$f":"IF(Магазин!$G$12:$G$3000>0,ROW(),\"\")","v":""}]
[null,null,null,null,null,null,null,null,{"$f":"IF(Магазин!$G$12:$G$3000>0,ROW(),\"\")","v":""}]
[null,null,null,null,null,null,null,null,{"$f":"IF(Магазин!$G$12:$G$3000>0,ROW(),\"\")","v":""}]
[null,null,null,null,null,null,null,null,{"$f":"IF(Магазин!$G$12:$G$3000>0,ROW(),\"\")","v":""}]
[null,null,null,null,null,null,null,null,{"$f":"IF(Магазин!$G$12:$G$3000>0,ROW(),\"\")","v":""}]
[null,null,null,null,null,null,null,null,{"$f":"IF(Магазин!$G$12:$G$3000>0,ROW(),\"\")","v":""}]
[null,null,null,null,null,null,null,null,{"$f":"IF(Магазин!$G$12:$G$3000>0,ROW(),\"\")","v":""}]
[null,null,null,null,null,null,null,null,{"$f":"IF(Магазин!$G$12:$G$3000>0,ROW(),\"\")","v":""}]
[null,null,null,null,null,null,null,null,{"$f":"IF(Магазин!$G$12:$G$3000>0,ROW(),\"\")","v":""}]
[null,null,null,null,null,null,null,null,{"$f":"IF(Магазин!$G$12:$G$3000>0,ROW(),\"\")","v":""}]
[null,null,null,null,null,null,null,null,{"$f":"IF(Магазин!$G$12:$G$3000>0,ROW(),\"\")","v":""}]
[null,null,null,null,null,null,null,null,{"$f":"IF(Магазин!$G$12:$G$3000>0,ROW(),\"\")","v":""}]
[null,null,null,null,null,null,null,null,{"$f":"IF(Магазин!$G$12:$G$3000>0,ROW(),\"\")","v":""}]
[null,null,null,null,null,null,null,null,{"$f":"IF(Магазин!$G$12:$G$3000>0,ROW(),\"\")","v":""}]
[null,null,null,null,null,null,null,null,{"$f":"IF(Магазин!$G$12:$G$3000>0,ROW(),\"\")","v":""}]
[null,null,null,null,null,null,null,null,{"$f":"IF(Магазин!$G$12:$G$3000>0,ROW(),\"\")","v":""}]
[null,null,null,null,null,null,null,null,{"$f":"IF(Магазин!$G$12:$G$3000>0,ROW(),\"\")","v":""}]
[null,null,null,null,null,null,null,null,{"$f":"IF(Магазин!$G$12:$G$3000>0,ROW(),\"\")","v":""}]
[null,null,null,null,null,null,null,null,{"$f":"IF(Магазин!$G$12:$G$3000>0,ROW(),\"\")","v":""}]
[null,null,null,null,null,null,null,null,{"$f":"IF(Магазин!$G$12:$G$3000>0,ROW(),\"\")","v":""}]
[null,null,null,null,null,null,null,null,{"$f":"IF(Магазин!$G$12:$G$3000>0,ROW(),\"\")","v":""}]
[null,null,null,null,null,null,null,null,{"$f":"IF(Магазин!$G$12:$G$3000>0,ROW(),\"\")","v":""}]
[null,null,null,null,null,null,null,null,{"$f":"IF(Магазин!$G$12:$G$3000>0,ROW(),\"\")","v":""}]
[null,null,null,null,null,null,null,null,{"$f":"IF(Магазин!$G$12:$G$3000>0,ROW(),\"\")","v":""}]
[null,null,null,null,null,null,null,null,{"$f":"IF(Магазин!$G$12:$G$3000>0,ROW(),\"\")","v":""}]
[null,null,null,null,null,null,null,null,{"$f":"IF(Магазин!$G$12:$G$3000>0,ROW(),\"\")","v":""}]
[null,null,null,null,null,null,null,null,{"$f":"IF(Магазин!$G$12:$G$3000>0,ROW(),\"\")","v":""}]
[null,null,null,null,null,null,null,null,{"$f":"IF(Магазин!$G$12:$G$3000>0,ROW(),\"\")","v":""}]
[null,null,null,null,null,null,null,null,{"$f":"IF(Магазин!$G$12:$G$3000>0,ROW(),\"\")","v":""}]
[null,null,null,null,null,null,null,null,{"$f":"IF(Магазин!$G$12:$G$3000>0,ROW(),\"\")","v":""}]
[null,null,null,null,null,null,null,null,{"$f":"IF(Магазин!$G$12:$G$3000>0,ROW(),\"\")","v":""}]
[null,null,null,null,null,null,null,null,{"$f":"IF(Магазин!$G$12:$G$3000>0,ROW(),\"\")","v":""}]
[null,null,null,null,null,null,null,null,{"$f":"IF(Магазин!$G$12:$G$3000>0,ROW(),\"\")","v":""}]
[null,null,null,null,null,null,null,null,{"$f":"IF(Магазин!$G$12:$G$3000>0,ROW(),\"\")","v":""}]
[null,null,null,null,null,null,null,null,{"$f":"IF(Магазин!$G$12:$G$3000>0,ROW(),\"\")","v":""}]
[null,null,null,null,null,null,null,null,{"$f":"IF(Магазин!$G$12:$G$3000>0,ROW(),\"\")","v":""}]
[null,null,null,null,null,null,null,null,{"$f":"IF(Магазин!$G$12:$G$3000>0,ROW(),\"\")","v":""}]
[null,null,null,null,null,null,null,null,{"$f":"IF(Магазин!$G$12:$G$3000>0,ROW(),\"\")","v":""}]
[null,null,null,null,null,null,null,null,{"$f":"IF(Магазин!$G$12:$G$3000>0,ROW(),\"\")","v":""}]
[null,null,null,null,null,null,null,null,{"$f":"IF(Магазин!$G$12:$G$3000>0,ROW(),\"\")","v":""}]
[null,null,null,null,null,null,null,null,{"$f":"IF(Магазин!$G$12:$G$3000>0,ROW(),\"\")","v":""}]
[null,null,null,null,null,null,null,null,{"$f":"IF(Магазин!$G$12:$G$3000>0,ROW(),\"\")","v":""}]
[null,null,null,null,null,null,null,null,{"$f":"IF(Магазин!$G$12:$G$3000>0,ROW(),\"\")","v":""}]
[null,null,null,null,null,null,null,null,{"$f":"IF(Магазин!$G$12:$G$3000>0,ROW(),\"\")","v":""}]
[null,null,null,null,null,null,null,null,{"$f":"IF(Магазин!$G$12:$G$3000>0,ROW(),\"\")","v":""}]
[null,null,null,null,null,null,null,null,{"$f":"IF(Магазин!$G$12:$G$3000>0,ROW(),\"\")","v":""}]
[null,null,null,null,null,null,null,null,{"$f":"IF(Магазин!$G$12:$G$3000>0,ROW(),\"\")","v":""}]
[null,null,null,null,null,null,null,null,{"$f":"IF(Магазин!$G$12:$G$3000>0,ROW(),\"\")","v":""}]
[null,null,null,null,null,null,null,null,{"$f":"IF(Магазин!$G$12:$G$3000>0,ROW(),\"\")","v":""}]
[null,null,null,null,null,null,null,null,{"$f":"IF(Магазин!$G$12:$G$3000>0,ROW(),\"\")","v":""}]
[null,null,null,null,null,null,null,null,{"$f":"IF(Магазин!$G$12:$G$3000>0,ROW(),\"\")","v":""}]
[null,null,null,null,null,null,null,null,{"$f":"IF(Магазин!$G$12:$G$3000>0,ROW(),\"\")","v":""}]
[null,null,null,null,null,null,null,null,{"$f":"IF(Магазин!$G$12:$G$3000>0,ROW(),\"\")","v":""}]
[null,null,null,null,null,null,null,null,{"$f":"IF(Магазин!$G$12:$G$3000>0,ROW(),\"\")","v":""}]
[null,null,null,null,null,null,null,null,{"$f":"IF(Магазин!$G$12:$G$3000>0,ROW(),\"\")","v":""}]
[null,null,null,null,null,null,null,null,{"$f":"IF(Магазин!$G$12:$G$3000>0,ROW(),\"\")","v":""}]
[null,null,null,null,null,null,null,null,{"$f":"IF(Магазин!$G$12:$G$3000>0,ROW(),\"\")","v":""}]
[null,null,null,null,null,null,null,null,{"$f":"IF(Магазин!$G$12:$G$3000>0,ROW(),\"\")","v":""}]
[null,null,null,null,null,null,null,null,{"$f":"IF(Магазин!$G$12:$G$3000>0,ROW(),\"\")","v":""}]
[null,null,null,null,null,null,null,null,{"$f":"IF(Магазин!$G$12:$G$3000>0,ROW(),\"\")","v":""}]
[null,null,null,null,null,null,null,null,{"$f":"IF(Магазин!$G$12:$G$3000>0,ROW(),\"\")","v":""}]
[null,null,null,null,null,null,null,null,{"$f":"IF(Магазин!$G$12:$G$3000>0,ROW(),\"\")","v":""}]
[null,null,null,null,null,null,null,null,{"$f":"IF(Магазин!$G$12:$G$3000>0,ROW(),\"\")","v":""}]
[null,null,null,null,null,null,null,null,{"$f":"IF(Магазин!$G$12:$G$3000>0,ROW(),\"\")","v":""}]
[null,null,null,null,null,null,null,null,{"$f":"IF(Магазин!$G$12:$G$3000>0,ROW(),\"\")","v":""}]
[null,null,null,null,null,null,null,null,{"$f":"IF(Магазин!$G$12:$G$3000>0,ROW(),\"\")","v":""}]
[null,null,null,null,null,null,null,null,{"$f":"IF(Магазин!$G$12:$G$3000>0,ROW(),\"\")","v":""}]
[null,null,null,null,null,null,null,null,{"$f":"IF(Магазин!$G$12:$G$3000>0,ROW(),\"\")","v":""}]
[null,null,null,null,null,null,null,null,{"$f":"IF(Магазин!$G$12:$G$3000>0,ROW(),\"\")","v":""}]
[null,null,null,null,null,null,null,null,{"$f":"IF(Магазин!$G$12:$G$3000>0,ROW(),\"\")","v":""}]
[null,null,null,null,null,null,null,null,{"$f":"IF(Магазин!$G$12:$G$3000>0,ROW(),\"\")","v":""}]
[null,null,null,null,null,null,null,null,{"$f":"IF(Магазин!$G$12:$G$3000>0,ROW(),\"\")","v":""}]
[null,null,null,null,null,null,null,null,{"$f":"IF(Магазин!$G$12:$G$3000>0,ROW(),\"\")","v":""}]
[null,null,null,null,null,null,null,null,{"$f":"IF(Магазин!$G$12:$G$3000>0,ROW(),\"\")","v":""}]
[null,null,null,null,null,null,null,null,{"$f":"IF(Магазин!$G$12:$G$3000>0,ROW(),\"\")","v":""}]
[null,null,null,null,null,null,null,null,{"$f":"IF(Магазин!$G$12:$G$3000>0,ROW(),\"\")","v":""}]
[null,null,null,null,null,null,null,null,{"$f":"IF(Магазин!$G$12:$G$3000>0,ROW(),\"\")","v":""}]
[null,null,null,null,null,null,null,null,{"$f":"IF(Магазин!$G$12:$G$3000>0,ROW(),\"\")","v":""}]
[null,null,null,null,null,null,null,null,{"$f":"IF(Магазин!$G$12:$G$3000>0,ROW(),\"\")","v":""}]
[null,null,null,null,null,null,null,null,{"$f":"IF(Магазин!$G$12:$G$3000>0,ROW(),\"\")","v":""}]
[null,null,null,null,null,null,null,null,{"$f":"IF(Магазин!$G$12:$G$3000>0,ROW(),\"\")","v":""}]
[null,null,null,null,null,null,null,null,{"$f":"IF(Магазин!$G$12:$G$3000>0,ROW(),\"\")","v":""}]
[null,null,null,null,null,null,null,null,{"$f":"IF(Магазин!$G$12:$G$3000>0,ROW(),\"\")","v":""}]
[null,null,null,null,null,null,null,null,{"$f":"IF(Магазин!$G$12:$G$3000>0,ROW(),\"\")","v":""}]
[null,null,null,null,null,null,null,null,{"$f":"IF(Магазин!$G$12:$G$3000>0,ROW(),\"\")","v":""}]
[null,null,null,null,null,null,null,null,{"$f":"IF(Магазин!$G$12:$G$3000>0,ROW(),\"\")","v":""}]
[null,null,null,null,null,null,null,null,{"$f":"IF(Магазин!$G$12:$G$3000>0,ROW(),\"\")","v":""}]
[null,null,null,null,null,null,null,null,{"$f":"IF(Магазин!$G$12:$G$3000>0,ROW(),\"\")","v":""}]
[null,null,null,null,null,null,null,null,{"$f":"IF(Магазин!$G$12:$G$3000>0,ROW(),\"\")","v":""}]
[null,null,null,null,null,null,null,null,{"$f":"IF(Магазин!$G$12:$G$3000>0,ROW(),\"\")","v":""}]
[null,null,null,null,null,null,null,null,{"$f":"IF(Магазин!$G$12:$G$3000>0,ROW(),\"\")","v":""}]
[null,null,null,null,null,null,null,null,{"$f":"IF(Магазин!$G$12:$G$3000>0,ROW(),\"\")","v":""}]
[null,null,null,null,null,null,null,null,{"$f":"IF(Магазин!$G$12:$G$3000>0,ROW(),\"\")","v":""}]
[null,null,null,null,null,null,null,null,{"$f":"IF(Магазин!$G$12:$G$3000>0,ROW(),\"\")","v":""}]
[null,null,null,null,null,null,null,null,{"$f":"IF(Магазин!$G$12:$G$3000>0,ROW(),\"\")","v":""}]
[null,null,null,null,null,null,null,null,{"$f":"IF(Магазин!$G$12:$G$3000>0,ROW(),\"\")","v":""}]
[null,null,null,null,null,null,null,null,{"$f":"IF(Магазин!$G$12:$G$3000>0,ROW(),\"\")","v":""}]
[null,null,null,null,null,null,null,null,{"$f":"IF(Магазин!$G$12:$G$3000>0,ROW(),\"\")","v":""}]
[null,null,null,null,null,null,null,null,{"$f":"IF(Магазин!$G$12:$G$3000>0,ROW(),\"\")","v":""}]
[null,null,null,null,null,null,null,null,{"$f":"IF(Магазин!$G$12:$G$3000>0,ROW(),\"\")","v":""}]
[null,null,null,null,null,null,null,null,{"$f":"IF(Магазин!$G$12:$G$3000>0,ROW(),\"\")","v":""}]
[null,null,null,null,null,null,null,null,{"$f":"IF(Магазин!$G$12:$G$3000>0,ROW(),\"\")","v":""}]
[null,null,null,null,null,null,null,null,{"$f":"IF(Магазин!$G$12:$G$3000>0,ROW(),\"\")","v":""}]
[null,null,null,null,null,null,null,null,{"$f":"IF(Магазин!$G$12:$G$3000>0,ROW(),\"\")","v":""}]
[null,null,null,null,null,null,null,null,{"$f":"IF(Магазин!$G$12:$G$3000>0,ROW(),\"\")","v":""}]
[null,null,null,null,null,null,null,null,{"$f":"IF(Магазин!$G$12:$G$3000>0,ROW(),\"\")","v":""}]
[null,null,null,null,null,null,null,null,{"$f":"IF(Магазин!$G$12:$G$3000>0,ROW(),\"\")","v":""}]
[null,null,null,null,null,null,null,null,{"$f":"IF(Магазин!$G$12:$G$3000>0,ROW(),\"\")","v":""}]
[null,null,null,null,null,null,null,null,{"$f":"IF(Магазин!$G$12:$G$3000>0,ROW(),\"\")","v":""}]
[null,null,null,null,null,null,null,null,{"$f":"IF(Магазин!$G$12:$G$3000>0,ROW(),\"\")","v":""}]
[null,null,null,null,null,null,null,null,{"$f":"IF(Магазин!$G$12:$G$3000>0,ROW(),\"\")","v":""}]
[null,null,null,null,null,null,null,null,{"$f":"IF(Магазин!$G$12:$G$3000>0,ROW(),\"\")","v":""}]
[null,null,null,null,null,null,null,null,{"$f":"IF(Магазин!$G$12:$G$3000>0,ROW(),\"\")","v":""}]
[null,null,null,null,null,null,null,null,{"$f":"IF(Магазин!$G$12:$G$3000>0,ROW(),\"\")","v":""}]
[null,null,null,null,null,null,null,null,{"$f":"IF(Магазин!$G$12:$G$3000>0,ROW(),\"\")","v":""}]
[null,null,null,null,null,null,null,null,{"$f":"IF(Магазин!$G$12:$G$3000>0,ROW(),\"\")","v":""}]
[null,null,null,null,null,null,null,null,{"$f":"IF(Магазин!$G$12:$G$3000>0,ROW(),\"\")","v":""}]
[null,null,null,null,null,null,null,null,{"$f":"IF(Магазин!$G$12:$G$3000>0,ROW(),\"\")","v":""}]
[null,null,null,null,null,null,null,null,{"$f":"IF(Магазин!$G$12:$G$3000>0,ROW(),\"\")","v":""}]
[null,null,null,null,null,null,null,null,{"$f":"IF(Магазин!$G$12:$G$3000>0,ROW(),\"\")","v":""}]
[null,null,null,null,null,null,null,null,{"$f":"IF(Магазин!$G$12:$G$3000>0,ROW(),\"\")","v":""}]
[null,null,null,null,null,null,null,null,{"$f":"IF(Магазин!$G$12:$G$3000>0,ROW(),\"\")","v":""}]
[null,null,null,null,null,null,null,null,{"$f":"IF(Магазин!$G$12:$G$3000>0,ROW(),\"\")","v":""}]
[null,null,null,null,null,null,null,null,{"$f":"IF(Магазин!$G$12:$G$3000>0,ROW(),\"\")","v":""}]
[null,null,null,null,null,null,null,null,{"$f":"IF(Магазин!$G$12:$G$3000>0,ROW(),\"\")","v":""}]
[null,null,null,null,null,null,null,null,{"$f":"IF(Магазин!$G$12:$G$3000>0,ROW(),\"\")","v":""}]
[null,null,null,null,null,null,null,null,{"$f":"IF(Магазин!$G$12:$G$3000>0,ROW(),\"\")","v":""}]
[null,null,null,null,null,null,null,null,{"$f":"IF(Магазин!$G$12:$G$3000>0,ROW(),\"\")","v":""}]
[null,null,null,null,null,null,null,null,{"$f":"IF(Магазин!$G$12:$G$3000>0,ROW(),\"\")","v":""}]
[null,null,null,null,null,null,null,null,{"$f":"IF(Магазин!$G$12:$G$3000>0,ROW(),\"\")","v":""}]
[null,null,null,null,null,null,null,null,{"$f":"IF(Магазин!$G$12:$G$3000>0,ROW(),\"\")","v":""}]
[null,null,null,null,null,null,null,null,{"$f":"IF(Магазин!$G$12:$G$3000>0,ROW(),\"\")","v":""}]
[null,null,null,null,null,null,null,null,{"$f":"IF(Магазин!$G$12:$G$3000>0,ROW(),\"\")","v":""}]
[null,null,null,null,null,null,null,null,{"$f":"IF(Магазин!$G$12:$G$3000>0,ROW(),\"\")","v":""}]
[null,null,null,null,null,null,null,null,{"$f":"IF(Магазин!$G$12:$G$3000>0,ROW(),\"\")","v":""}]
[null,null,null,null,null,null,null,null,{"$f":"IF(Магазин!$G$12:$G$3000>0,ROW(),\"\")","v":""}]
[null,null,null,null,null,null,null,null,{"$f":"IF(Магазин!$G$12:$G$3000>0,ROW(),\"\")","v":""}]
[null,null,null,null,null,null,null,null,{"$f":"IF(Магазин!$G$12:$G$3000>0,ROW(),\"\")","v":""}]
[null,null,null,null,null,null,null,null,{"$f":"IF(Магазин!$G$12:$G$3000>0,ROW(),\"\")","v":""}]
[null,null,null,null,null,null,null,null,{"$f":"IF(Магазин!$G$12:$G$3000>0,ROW(),\"\")","v":""}]
[null,null,null,null,null,null,null,null,{"$f":"IF(Магазин!$G$12:$G$3000>0,ROW(),\"\")","v":""}]
[null,null,null,null,null,null,null,null,{"$f":"IF(Магазин!$G$12:$G$3000>0,ROW(),\"\")","v":""}]
[null,null,null,null,null,null,null,null,{"$f":"IF(Магазин!$G$12:$G$3000>0,ROW(),\"\")","v":""}]
[null,null,null,null,null,null,null,null,{"$f":"IF(Магазин!$G$12:$G$3000>0,ROW(),\"\")","v":""}]
[null,null,null,null,null,null,null,null,{"$f":"IF(Магазин!$G$12:$G$3000>0,ROW(),\"\")","v":""}]
[null,null,null,null,null,null,null,null,{"$f":"IF(Магазин!$G$12:$G$3000>0,ROW(),\"\")","v":""}]
[null,null,null,null,null,null,null,null,{"$f":"IF(Магазин!$G$12:$G$3000>0,ROW(),\"\")","v":""}]
[null,null,null,null,null,null,null,null,{"$f":"IF(Магазин!$G$12:$G$3000>0,ROW(),\"\")","v":""}]
[null,null,null,null,null,null,null,null,{"$f":"IF(Магазин!$G$12:$G$3000>0,ROW(),\"\")","v":""}]
[null,null,null,null,null,null,null,null,{"$f":"IF(Магазин!$G$12:$G$3000>0,ROW(),\"\")","v":""}]
[null,null,null,null,null,null,null,null,{"$f":"IF(Магазин!$G$12:$G$3000>0,ROW(),\"\")","v":""}]
[null,null,null,null,null,null,null,null,{"$f":"IF(Магазин!$G$12:$G$3000>0,ROW(),\"\")","v":""}]
[null,null,null,null,null,null,null,null,{"$f":"IF(Магазин!$G$12:$G$3000>0,ROW(),\"\")","v":""}]
[null,null,null,null,null,null,null,null,{"$f":"IF(Магазин!$G$12:$G$3000>0,ROW(),\"\")","v":""}]
[null,null,null,null,null,null,null,null,{"$f":"IF(Магазин!$G$12:$G$3000>0,ROW(),\"\")","v":""}]
[null,null,null,null,null,null,null,null,{"$f":"IF(Магазин!$G$12:$G$3000>0,ROW(),\"\")","v":""}]
[null,null,null,null,null,null,null,null,{"$f":"IF(Магазин!$G$12:$G$3000>0,ROW(),\"\")","v":""}]
[null,null,null,null,null,null,null,null,{"$f":"IF(Магазин!$G$12:$G$3000>0,ROW(),\"\")","v":""}]
[null,null,null,null,null,null,null,null,{"$f":"IF(Магазин!$G$12:$G$3000>0,ROW(),\"\")","v":""}]
[null,null,null,null,null,null,null,null,{"$f":"IF(Магазин!$G$12:$G$3000>0,ROW(),\"\")","v":""}]
[null,null,null,null,null,null,null,null,{"$f":"IF(Магазин!$G$12:$G$3000>0,ROW(),\"\")","v":""}]
[null,null,null,null,null,null,null,null,{"$f":"IF(Магазин!$G$12:$G$3000>0,ROW(),\"\")","v":""}]
[null,null,null,null,null,null,null,null,{"$f":"IF(Магазин!$G$12:$G$3000>0,ROW(),\"\")","v":""}]
[null,null,null,null,null,null,null,null,{"$f":"IF(Магазин!$G$12:$G$3000>0,ROW(),\"\")","v":""}]
[null,null,null,null,null,null,null,null,{"$f":"IF(Магазин!$G$12:$G$3000>0,ROW(),\"\")","v":""}]
[null,null,null,null,null,null,null,null,{"$f":"IF(Магазин!$G$12:$G$3000>0,ROW(),\"\")","v":""}]
[null,null,null,null,null,null,null,null,{"$f":"IF(Магазин!$G$12:$G$3000>0,ROW(),\"\")","v":""}]
[null,null,null,null,null,null,null,null,{"$f":"IF(Магазин!$G$12:$G$3000>0,ROW(),\"\")","v":""}]
[null,null,null,null,null,null,null,null,{"$f":"IF(Магазин!$G$12:$G$3000>0,ROW(),\"\")","v":""}]
[null,null,null,null,null,null,null,null,{"$f":"IF(Магазин!$G$12:$G$3000>0,ROW(),\"\")","v":""}]
[null,null,null,null,null,null,null,null,{"$f":"IF(Магазин!$G$12:$G$3000>0,ROW(),\"\")","v":""}]
[null,null,null,null,null,null,null,null,{"$f":"IF(Магазин!$G$12:$G$3000>0,ROW(),\"\")","v":""}]
[null,null,null,null,null,null,null,null,{"$f":"IF(Магазин!$G$12:$G$3000>0,ROW(),\"\")","v":""}]
[null,null,null,null,null,null,null,null,{"$f":"IF(Магазин!$G$12:$G$3000>0,ROW(),\"\")","v":""}]
[null,null,null,null,null,null,null,null,{"$f":"IF(Магазин!$G$12:$G$3000>0,ROW(),\"\")","v":""}]
[null,null,null,null,null,null,null,null,{"$f":"IF(Магазин!$G$12:$G$3000>0,ROW(),\"\")","v":""}]
[null,null,null,null,null,null,null,null,{"$f":"IF(Магазин!$G$12:$G$3000>0,ROW(),\"\")","v":""}]
[null,null,null,null,null,null,null,null,{"$f":"IF(Магазин!$G$12:$G$3000>0,ROW(),\"\")","v":""}]
[null,null,null,null,null,null,null,null,{"$f":"IF(Магазин!$G$12:$G$3000>0,ROW(),\"\")","v":""}]
[null,null,null,null,null,null,null,null,{"$f":"IF(Магазин!$G$12:$G$3000>0,ROW(),\"\")","v":""}]
[null,null,null,null,null,null,null,null,{"$f":"IF(Магазин!$G$12:$G$3000>0,ROW(),\"\")","v":""}]
[null,null,null,null,null,null,null,null,{"$f":"IF(Магазин!$G$12:$G$3000>0,ROW(),\"\")","v":""}]
[null,null,null,null,null,null,null,null,{"$f":"IF(Магазин!$G$12:$G$3000>0,ROW(),\"\")","v":""}]
[null,null,null,null,null,null,null,null,{"$f":"IF(Магазин!$G$12:$G$3000>0,ROW(),\"\")","v":""}]
[null,null,null,null,null,null,null,null,{"$f":"IF(Магазин!$G$12:$G$3000>0,ROW(),\"\")","v":""}]
[null,null,null,null,null,null,null,null,{"$f":"IF(Магазин!$G$12:$G$3000>0,ROW(),\"\")","v":""}]
[null,null,null,null,null,null,null,null,{"$f":"IF(Магазин!$G$12:$G$3000>0,ROW(),\"\")","v":""}]
[null,null,null,null,null,null,null,null,{"$f":"IF(Магазин!$G$12:$G$3000>0,ROW(),\"\")","v":""}]
[null,null,null,null,null,null,null,null,{"$f":"IF(Магазин!$G$12:$G$3000>0,ROW(),\"\")","v":""}]
[null,null,null,null,null,null,null,null,{"$f":"IF(Магазин!$G$12:$G$3000>0,ROW(),\"\")","v":""}]
[null,null,null,null,null,null,null,null,{"$f":"IF(Магазин!$G$12:$G$3000>0,ROW(),\"\")","v":""}]
[null,null,null,null,null,null,null,null,{"$f":"IF(Магазин!$G$12:$G$3000>0,ROW(),\"\")","v":""}]
[null,null,null,null,null,null,null,null,{"$f":"IF(Магазин!$G$12:$G$3000>0,ROW(),\"\")","v":""}]
[null,null,null,null,null,null,null,null,{"$f":"IF(Магазин!$G$12:$G$3000>0,ROW(),\"\")","v":""}]
[null,null,null,null,null,null,null,null,{"$f":"IF(Магазин!$G$12:$G$3000>0,ROW(),\"\")","v":""}]
[null,null,null,null,null,null,null,null,{"$f":"IF(Магазин!$G$12:$G$3000>0,ROW(),\"\")","v":""}]
[null,null,null,null,null,null,null,null,{"$f":"IF(Магазин!$G$12:$G$3000>0,ROW(),\"\")","v":""}]
[null,null,null,null,null,null,null,null,{"$f":"IF(Магазин!$G$12:$G$3000>0,ROW(),\"\")","v":""}]
[null,null,null,null,null,null,null,null,{"$f":"IF(Магазин!$G$12:$G$3000>0,ROW(),\"\")","v":""}]
[null,null,null,null,null,null,null,null,{"$f":"IF(Магазин!$G$12:$G$3000>0,ROW(),\"\")","v":""}]
[null,null,null,null,null,null,null,null,{"$f":"IF(Магазин!$G$12:$G$3000>0,ROW(),\"\")","v":""}]
[null,null,null,null,null,null,null,null,{"$f":"IF(Магазин!$G$12:$G$3000>0,ROW(),\"\")","v":""}]
[null,null,null,null,null,null,null,null,{"$f":"IF(Магазин!$G$12:$G$3000>0,ROW(),\"\")","v":""}]
[null,null,null,null,null,null,null,null,{"$f":"IF(Магазин!$G$12:$G$3000>0,ROW(),\"\")","v":""}]
[null,null,null,null,null,null,null,null,{"$f":"IF(Магазин!$G$12:$G$3000>0,ROW(),\"\")","v":""}]
[null,null,null,null,null,null,null,null,{"$f":"IF(Магазин!$G$12:$G$3000>0,ROW(),\"\")","v":""}]
[null,null,null,null,null,null,null,null,{"$f":"IF(Магазин!$G$12:$G$3000>0,ROW(),\"\")","v":""}]
[null,null,null,null,null,null,null,null,{"$f":"IF(Магазин!$G$12:$G$3000>0,ROW(),\"\")","v":""}]
[null,null,null,null,null,null,null,null,{"$f":"IF(Магазин!$G$12:$G$3000>0,ROW(),\"\")","v":""}]
[null,null,null,null,null,null,null,null,{"$f":"IF(Магазин!$G$12:$G$3000>0,ROW(),\"\")","v":""}]
[null,null,null,null,null,null,null,null,{"$f":"IF(Магазин!$G$12:$G$3000>0,ROW(),\"\")","v":""}]
[null,null,null,null,null,null,null,null,{"$f":"IF(Магазин!$G$12:$G$3000>0,ROW(),\"\")","v":""}]
[null,null,null,null,null,null,null,null,{"$f":"IF(Магазин!$G$12:$G$3000>0,ROW(),\"\")","v":""}]
[null,null,null,null,null,null,null,null,{"$f":"IF(Магазин!$G$12:$G$3000>0,ROW(),\"\")","v":""}]
[null,null,null,null,null,null,null,null,{"$f":"IF(Магазин!$G$12:$G$3000>0,ROW(),\"\")","v":""}]
[null,null,null,null,null,null,null,null,{"$f":"IF(Магазин!$G$12:$G$3000>0,ROW(),\"\")","v":""}]
[null,null,null,null,null,null,null,null,{"$f":"IF(Магазин!$G$12:$G$3000>0,ROW(),\"\")","v":""}]
[null,null,null,null,null,null,null,null,{"$f":"IF(Магазин!$G$12:$G$3000>0,ROW(),\"\")","v":""}]
[null,null,null,null,null,null,null,null,{"$f":"IF(Магазин!$G$12:$G$3000>0,ROW(),\"\")","v":""}]
[null,null,null,null,null,null,null,null,{"$f":"IF(Магазин!$G$12:$G$3000>0,ROW(),\"\")","v":""}]
[null,null,null,null,null,null,null,null,{"$f":"IF(Магазин!$G$12:$G$3000>0,ROW(),\"\")","v":""}]
[null,null,null,null,null,null,null,null,{"$f":"IF(Магазин!$G$12:$G$3000>0,ROW(),\"\")","v":""}]
[null,null,null,null,null,null,null,null,{"$f":"IF(Магазин!$G$12:$G$3000>0,ROW(),\"\")","v":""}]
[null,null,null,null,null,null,null,null,{"$f":"IF(Магазин!$G$12:$G$3000>0,ROW(),\"\")","v":""}]
[null,null,null,null,null,null,null,null,{"$f":"IF(Магазин!$G$12:$G$3000>0,ROW(),\"\")","v":""}]
[null,null,null,null,null,null,null,null,{"$f":"IF(Магазин!$G$12:$G$3000>0,ROW(),\"\")","v":""}]
[null,null,null,null,null,null,null,null,{"$f":"IF(Магазин!$G$12:$G$3000>0,ROW(),\"\")","v":""}]
[null,null,null,null,null,null,null,null,{"$f":"IF(Магазин!$G$12:$G$3000>0,ROW(),\"\")","v":""}]
[null,null,null,null,null,null,null,null,{"$f":"IF(Магазин!$G$12:$G$3000>0,ROW(),\"\")","v":""}]
[null,null,null,null,null,null,null,null,{"$f":"IF(Магазин!$G$12:$G$3000>0,ROW(),\"\")","v":""}]
[null,null,null,null,null,null,null,null,{"$f":"IF(Магазин!$G$12:$G$3000>0,ROW(),\"\")","v":""}]
[null,null,null,null,null,null,null,null,{"$f":"IF(Магазин!$G$12:$G$3000>0,ROW(),\"\")","v":""}]
[null,null,null,null,null,null,null,null,{"$f":"IF(Магазин!$G$12:$G$3000>0,ROW(),\"\")","v":""}]
[null,null,null,null,null,null,null,null,{"$f":"IF(Магазин!$G$12:$G$3000>0,ROW(),\"\")","v":""}]
[null,null,null,null,null,null,null,null,{"$f":"IF(Магазин!$G$12:$G$3000>0,ROW(),\"\")","v":""}]
[null,null,null,null,null,null,null,null,{"$f":"IF(Магазин!$G$12:$G$3000>0,ROW(),\"\")","v":""}]
[null,null,null,null,null,null,null,null,{"$f":"IF(Магазин!$G$12:$G$3000>0,ROW(),\"\")","v":""}]
[null,null,null,null,null,null,null,null,{"$f":"IF(Магазин!$G$12:$G$3000>0,ROW(),\"\")","v":""}]
[null,null,null,null,null,null,null,null,{"$f":"IF(Магазин!$G$12:$G$3000>0,ROW(),\"\")","v":""}]
[null,null,null,null,null,null,null,null,{"$f":"IF(Магазин!$G$12:$G$3000>0,ROW(),\"\")","v":""}]
[null,null,null,null,null,null,null,null,{"$f":"IF(Магазин!$G$12:$G$3000>0,ROW(),\"\")","v":""}]
[null,null,null,null,null,null,null,null,{"$f":"IF(Магазин!$G$12:$G$3000>0,ROW(),\"\")","v":""}]
[null,null,null,null,null,null,null,null,{"$f":"IF(Магазин!$G$12:$G$3000>0,ROW(),\"\")","v":""}]
[null,null,null,null,null,null,null,null,{"$f":"IF(Магазин!$G$12:$G$3000>0,ROW(),\"\")","v":""}]
[null,null,null,null,null,null,null,null,{"$f":"IF(Магазин!$G$12:$G$3000>0,ROW(),\"\")","v":""}]
[null,null,null,null,null,null,null,null,{"$f":"IF(Магазин!$G$12:$G$3000>0,ROW(),\"\")","v":""}]
[null,null,null,null,null,null,null,null,{"$f":"IF(Магазин!$G$12:$G$3000>0,ROW(),\"\")","v":""}]
[null,null,null,null,null,null,null,null,{"$f":"IF(Магазин!$G$12:$G$3000>0,ROW(),\"\")","v":""}]
[null,null,null,null,null,null,null,null,{"$f":"IF(Магазин!$G$12:$G$3000>0,ROW(),\"\")","v":""}]
[null,null,null,null,null,null,null,null,{"$f":"IF(Магазин!$G$12:$G$3000>0,ROW(),\"\")","v":""}]
[null,null,null,null,null,null,null,null,{"$f":"IF(Магазин!$G$12:$G$3000>0,ROW(),\"\")","v":""}]
[null,null,null,null,null,null,null,null,{"$f":"IF(Магазин!$G$12:$G$3000>0,ROW(),\"\")","v":""}]
[null,null,null,null,null,null,null,null,{"$f":"IF(Магазин!$G$12:$G$3000>0,ROW(),\"\")","v":""}]
[null,null,null,null,null,null,null,null,{"$f":"IF(Магазин!$G$12:$G$3000>0,ROW(),\"\")","v":""}]
[null,null,null,null,null,null,null,null,{"$f":"IF(Магазин!$G$12:$G$3000>0,ROW(),\"\")","v":""}]
[null,null,null,null,null,null,null,null,{"$f":"IF(Магазин!$G$12:$G$3000>0,ROW(),\"\")","v":""}]
[null,null,null,null,null,null,null,null,{"$f":"IF(Магазин!$G$12:$G$3000>0,ROW(),\"\")","v":""}]
[null,null,null,null,null,null,null,null,{"$f":"IF(Магазин!$G$12:$G$3000>0,ROW(),\"\")","v":""}]
[null,null,null,null,null,null,null,null,{"$f":"IF(Магазин!$G$12:$G$3000>0,ROW(),\"\")","v":""}]
[null,null,null,null,null,null,null,null,{"$f":"IF(Магазин!$G$12:$G$3000>0,ROW(),\"\")","v":""}]
[null,null,null,null,null,null,null,null,{"$f":"IF(Магазин!$G$12:$G$3000>0,ROW(),\"\")","v":""}]
[null,null,null,null,null,null,null,null,{"$f":"IF(Магазин!$G$12:$G$3000>0,ROW(),\"\")","v":""}]
[null,null,null,null,null,null,null,null,{"$f":"IF(Магазин!$G$12:$G$3000>0,ROW(),\"\")","v":""}]
[null,null,null,null,null,null,null,null,{"$f":"IF(Магазин!$G$12:$G$3000>0,ROW(),\"\")","v":""}]
[null,null,null,null,null,null,null,null,{"$f":"IF(Магазин!$G$12:$G$3000>0,ROW(),\"\")","v":""}]
[null,null,null,null,null,null,null,null,{"$f":"IF(Магазин!$G$12:$G$3000>0,ROW(),\"\")","v":""}]
[null,null,null,null,null,null,null,null,{"$f":"IF(Магазин!$G$12:$G$3000>0,ROW(),\"\")","v":""}]
[null,null,null,null,null,null,null,null,{"$f":"IF(Магазин!$G$12:$G$3000>0,ROW(),\"\")","v":""}]
[null,null,null,null,null,null,null,null,{"$f":"IF(Магазин!$G$12:$G$3000>0,ROW(),\"\")","v":""}]
[null,null,null,null,null,null,null,null,{"$f":"IF(Магазин!$G$12:$G$3000>0,ROW(),\"\")","v":""}]
[null,null,null,null,null,null,null,null,{"$f":"IF(Магазин!$G$12:$G$3000>0,ROW(),\"\")","v":""}]
[null,null,null,null,null,null,null,null,{"$f":"IF(Магазин!$G$12:$G$3000>0,ROW(),\"\")","v":""}]
[null,null,null,null,null,null,null,null,{"$f":"IF(Магазин!$G$12:$G$3000>0,ROW(),\"\")","v":""}]
[null,null,null,null,null,null,null,null,{"$f":"IF(Магазин!$G$12:$G$3000>0,ROW(),\"\")","v":""}]
[null,null,null,null,null,null,null,null,{"$f":"IF(Магазин!$G$12:$G$3000>0,ROW(),\"\")","v":""}]
[null,null,null,null,null,null,null,null,{"$f":"IF(Магазин!$G$12:$G$3000>0,ROW(),\"\")","v":""}]
[null,null,null,null,null,null,null,null,{"$f":"IF(Магазин!$G$12:$G$3000>0,ROW(),\"\")","v":""}]
[null,null,null,null,null,null,null,null,{"$f":"IF(Магазин!$G$12:$G$3000>0,ROW(),\"\")","v":""}]
[null,null,null,null,null,null,null,null,{"$f":"IF(Магазин!$G$12:$G$3000>0,ROW(),\"\")","v":""}]
[null,null,null,null,null,null,null,null,{"$f":"IF(Магазин!$G$12:$G$3000>0,ROW(),\"\")","v":""}]
[null,null,null,null,null,null,null,null,{"$f":"IF(Магазин!$G$12:$G$3000>0,ROW(),\"\")","v":""}]
[null,null,null,null,null,null,null,null,{"$f":"IF(Магазин!$G$12:$G$3000>0,ROW(),\"\")","v":""}]
[null,null,null,null,null,null,null,null,{"$f":"IF(Магазин!$G$12:$G$3000>0,ROW(),\"\")","v":""}]
[null,null,null,null,null,null,null,null,{"$f":"IF(Магазин!$G$12:$G$3000>0,ROW(),\"\")","v":""}]
[null,null,null,null,null,null,null,null,{"$f":"IF(Магазин!$G$12:$G$3000>0,ROW(),\"\")","v":""}]
[null,null,null,null,null,null,null,null,{"$f":"IF(Магазин!$G$12:$G$3000>0,ROW(),\"\")","v":""}]
[null,null,null,null,null,null,null,null,{"$f":"IF(Магазин!$G$12:$G$3000>0,ROW(),\"\")","v":""}]
[null,null,null,null,null,null,null,null,{"$f":"IF(Магазин!$G$12:$G$3000>0,ROW(),\"\")","v":""}]
[null,null,null,null,null,null,null,null,{"$f":"IF(Магазин!$G$12:$G$3000>0,ROW(),\"\")","v":""}]
[null,null,null,null,null,null,null,null,{"$f":"IF(Магазин!$G$12:$G$3000>0,ROW(),\"\")","v":""}]
[null,null,null,null,null,null,null,null,{"$f":"IF(Магазин!$G$12:$G$3000>0,ROW(),\"\")","v":""}]
[null,null,null,null,null,null,null,null,{"$f":"IF(Магазин!$G$12:$G$3000>0,ROW(),\"\")","v":""}]
[null,null,null,null,null,null,null,null,{"$f":"IF(Магазин!$G$12:$G$3000>0,ROW(),\"\")","v":""}]
[null,null,null,null,null,null,null,null,{"$f":"IF(Магазин!$G$12:$G$3000>0,ROW(),\"\")","v":""}]
[null,null,null,null,null,null,null,null,{"$f":"IF(Магазин!$G$12:$G$3000>0,ROW(),\"\")","v":""}]
[null,null,null,null,null,null,null,null,{"$f":"IF(Магазин!$G$12:$G$3000>0,ROW(),\"\")","v":""}]
[null,null,null,null,null,null,null,null,{"$f":"IF(Магазин!$G$12:$G$3000>0,ROW(),\"\")","v":""}]
[null,null,null,null,null,null,null,null,{"$f":"IF(Магазин!$G$12:$G$3000>0,ROW(),\"\")","v":""}]
[null,null,null,null,null,null,null,null,{"$f":"IF(Магазин!$G$12:$G$3000>0,ROW(),\"\")","v":""}]
[null,null,null,null,null,null,null,null,{"$f":"IF(Магазин!$G$12:$G$3000>0,ROW(),\"\")","v":""}]
[null,null,null,null,null,null,null,null,{"$f":"IF(Магазин!$G$12:$G$3000>0,ROW(),\"\")","v":""}]
[null,null,null,null,null,null,null,null,{"$f":"IF(Магазин!$G$12:$G$3000>0,ROW(),\"\")","v":""}]
[null,null,null,null,null,null,null,null,{"$f":"IF(Магазин!$G$12:$G$3000>0,ROW(),\"\")","v":""}]
[null,null,null,null,null,null,null,null,{"$f":"IF(Магазин!$G$12:$G$3000>0,ROW(),\"\")","v":""}]
[null,null,null,null,null,null,null,null,{"$f":"IF(Магазин!$G$12:$G$3000>0,ROW(),\"\")","v":""}]
[null,null,null,null,null,null,null,null,{"$f":"IF(Магазин!$G$12:$G$3000>0,ROW(),\"\")","v":""}]
[null,null,null,null,null,null,null,null,{"$f":"IF(Магазин!$G$12:$G$3000>0,ROW(),\"\")","v":""}]
[null,null,null,null,null,null,null,null,{"$f":"IF(Магазин!$G$12:$G$3000>0,ROW(),\"\")","v":""}]
[null,null,null,null,null,null,null,null,{"$f":"IF(Магазин!$G$12:$G$3000>0,ROW(),\"\")","v":""}]
[null,null,null,null,null,null,null,null,{"$f":"IF(Магазин!$G$12:$G$3000>0,ROW(),\"\")","v":""}]
[null,null,null,null,null,null,null,null,{"$f":"IF(Магазин!$G$12:$G$3000>0,ROW(),\"\")","v":""}]
[null,null,null,null,null,null,null,null,{"$f":"IF(Магазин!$G$12:$G$3000>0,ROW(),\"\")","v":""}]
[null,null,null,null,null,null,null,null,{"$f":"IF(Магазин!$G$12:$G$3000>0,ROW(),\"\")","v":""}]
[null,null,null,null,null,null,null,null,{"$f":"IF(Магазин!$G$12:$G$3000>0,ROW(),\"\")","v":""}]
[null,null,null,null,null,null,null,null,{"$f":"IF(Магазин!$G$12:$G$3000>0,ROW(),\"\")","v":""}]
[null,null,null,null,null,null,null,null,{"$f":"IF(Магазин!$G$12:$G$3000>0,ROW(),\"\")","v":""}]
[null,null,null,null,null,null,null,null,{"$f":"IF(Магазин!$G$12:$G$3000>0,ROW(),\"\")","v":""}]
[null,null,null,null,null,null,null,null,{"$f":"IF(Магазин!$G$12:$G$3000>0,ROW(),\"\")","v":""}]
[null,null,null,null,null,null,null,null,{"$f":"IF(Магазин!$G$12:$G$3000>0,ROW(),\"\")","v":""}]
[null,null,null,null,null,null,null,null,{"$f":"IF(Магазин!$G$12:$G$3000>0,ROW(),\"\")","v":""}]
[null,null,null,null,null,null,null,null,{"$f":"IF(Магазин!$G$12:$G$3000>0,ROW(),\"\")","v":""}]
[null,null,null,null,null,null,null,null,{"$f":"IF(Магазин!$G$12:$G$3000>0,ROW(),\"\")","v":""}]
[null,null,null,null,null,null,null,null,{"$f":"IF(Магазин!$G$12:$G$3000>0,ROW(),\"\")","v":""}]
[null,null,null,null,null,null,null,null,{"$f":"IF(Магазин!$G$12:$G$3000>0,ROW(),\"\")","v":""}]
[null,null,null,null,null,null,null,null,{"$f":"IF(Магазин!$G$12:$G$3000>0,ROW(),\"\")","v":""}]
[null,null,null,null,null,null,null,null,{"$f":"IF(Магазин!$G$12:$G$3000>0,ROW(),\"\")","v":""}]
[null,null,null,null,null,null,null,null,{"$f":"IF(Магазин!$G$12:$G$3000>0,ROW(),\"\")","v":""}]
[null,null,null,null,null,null,null,null,{"$f":"IF(Магазин!$G$12:$G$3000>0,ROW(),\"\")","v":""}]
[null,null,null,null,null,null,null,null,{"$f":"IF(Магазин!$G$12:$G$3000>0,ROW(),\"\")","v":""}]
[null,null,null,null,null,null,null,null,{"$f":"IF(Магазин!$G$12:$G$3000>0,ROW(),\"\")","v":""}]
[null,null,null,null,null,null,null,null,{"$f":"IF(Магазин!$G$12:$G$3000>0,ROW(),\"\")","v":""}]
[null,null,null,null,null,null,null,null,{"$f":"IF(Магазин!$G$12:$G$3000>0,ROW(),\"\")","v":""}]
[null,null,null,null,null,null,null,null,{"$f":"IF(Магазин!$G$12:$G$3000>0,ROW(),\"\")","v":""}]
[null,null,null,null,null,null,null,null,{"$f":"IF(Магазин!$G$12:$G$3000>0,ROW(),\"\")","v":""}]
[null,null,null,null,null,null,null,null,{"$f":"IF(Магазин!$G$12:$G$3000>0,ROW(),\"\")","v":""}]
[null,null,null,null,null,null,null,null,{"$f":"IF(Магазин!$G$12:$G$3000>0,ROW(),\"\")","v":""}]
[null,null,null,null,null,null,null,null,{"$f":"IF(Магазин!$G$12:$G$3000>0,ROW(),\"\")","v":""}]
[null,null,null,null,null,null,null,null,{"$f":"IF(Магазин!$G$12:$G$3000>0,ROW(),\"\")","v":""}]
[null,null,null,null,null,null,null,null,{"$f":"IF(Магазин!$G$12:$G$3000>0,ROW(),\"\")","v":""}]
[null,null,null,null,null,null,null,null,{"$f":"IF(Магазин!$G$12:$G$3000>0,ROW(),\"\")","v":""}]
[null,null,null,null,null,null,null,null,{"$f":"IF(Магазин!$G$12:$G$3000>0,ROW(),\"\")","v":""}]
[null,null,null,null,null,null,null,null,{"$f":"IF(Магазин!$G$12:$G$3000>0,ROW(),\"\")","v":""}]
[null,null,null,null,null,null,null,null,{"$f":"IF(Магазин!$G$12:$G$3000>0,ROW(),\"\")","v":""}]
[null,null,null,null,null,null,null,null,{"$f":"IF(Магазин!$G$12:$G$3000>0,ROW(),\"\")","v":""}]
[null,null,null,null,null,null,null,null,{"$f":"IF(Магазин!$G$12:$G$3000>0,ROW(),\"\")","v":""}]
[null,null,null,null,null,null,null,null,{"$f":"IF(Магазин!$G$12:$G$3000>0,ROW(),\"\")","v":""}]
[null,null,null,null,null,null,null,null,{"$f":"IF(Магазин!$G$12:$G$3000>0,ROW(),\"\")","v":""}]
[null,null,null,null,null,null,null,null,{"$f":"IF(Магазин!$G$12:$G$3000>0,ROW(),\"\")","v":""}]
[null,null,null,null,null,null,null,null,{"$f":"IF(Магазин!$G$12:$G$3000>0,ROW(),\"\")","v":""}]
[null,null,null,null,null,null,null,null,{"$f":"IF(Магазин!$G$12:$G$3000>0,ROW(),\"\")","v":""}]
[null,null,null,null,null,null,null,null,{"$f":"IF(Магазин!$G$12:$G$3000>0,ROW(),\"\")","v":""}]
[null,null,null,null,null,null,null,null,{"$f":"IF(Магазин!$G$12:$G$3000>0,ROW(),\"\")","v":""}]
[null,null,null,null,null,null,null,null,{"$f":"IF(Магазин!$G$12:$G$3000>0,ROW(),\"\")","v":""}]
[null,null,null,null,null,null,null,null,{"$f":"IF(Магазин!$G$12:$G$3000>0,ROW(),\"\")","v":""}]
[null,null,null,null,null,null,null,null,{"$f":"IF(Магазин!$G$12:$G$3000>0,ROW(),\"\")","v":""}]
[null,null,null,null,null,null,null,null,{"$f":"IF(Магазин!$G$12:$G$3000>0,ROW(),\"\")","v":""}]
[null,null,null,null,null,null,null,null,{"$f":"IF(Магазин!$G$12:$G$3000>0,ROW(),\"\")","v":""}]
[null,null,null,null,null,null,null,null,{"$f":"IF(Магазин!$G$12:$G$3000>0,ROW(),\"\")","v":""}]
[null,null,null,null,null,null,null,null,{"$f":"IF(Магазин!$G$12:$G$3000>0,ROW(),\"\")","v":""}]
[null,null,null,null,null,null,null,null,{"$f":"IF(Магазин!$G$12:$G$3000>0,ROW(),\"\")","v":""}]
[null,null,null,null,null,null,null,null,{"$f":"IF(Магазин!$G$12:$G$3000>0,ROW(),\"\")","v":""}]
[null,null,null,null,null,null,null,null,{"$f":"IF(Магазин!$G$12:$G$3000>0,ROW(),\"\")","v":""}]
[null,null,null,null,null,null,null,null,{"$f":"IF(Магазин!$G$12:$G$3000>0,ROW(),\"\")","v":""}]
[null,null,null,null,null,null,null,null,{"$f":"IF(Магазин!$G$12:$G$3000>0,ROW(),\"\")","v":""}]
[null,null,null,null,null,null,null,null,{"$f":"IF(Магазин!$G$12:$G$3000>0,ROW(),\"\")","v":""}]
[null,null,null,null,null,null,null,null,{"$f":"IF(Магазин!$G$12:$G$3000>0,ROW(),\"\")","v":""}]
[null,null,null,null,null,null,null,null,{"$f":"IF(Магазин!$G$12:$G$3000>0,ROW(),\"\")","v":""}]
[null,null,null,null,null,null,null,null,{"$f":"IF(Магазин!$G$12:$G$3000>0,ROW(),\"\")","v":""}]
[null,null,null,null,null,null,null,null,{"$f":"IF(Магазин!$G$12:$G$3000>0,ROW(),\"\")","v":""}]
[null,null,null,null,null,null,null,null,{"$f":"IF(Магазин!$G$12:$G$3000>0,ROW(),\"\")","v":""}]
[null,null,null,null,null,null,null,null,{"$f":"IF(Магазин!$G$12:$G$3000>0,ROW(),\"\")","v":""}]
[null,null,null,null,null,null,null,null,{"$f":"IF(Магазин!$G$12:$G$3000>0,ROW(),\"\")","v":""}]
[null,null,null,null,null,null,null,null,{"$f":"IF(Магазин!$G$12:$G$3000>0,ROW(),\"\")","v":""}]
[null,null,null,null,null,null,null,null,{"$f":"IF(Магазин!$G$12:$G$3000>0,ROW(),\"\")","v":""}]
[null,null,null,null,null,null,null,null,{"$f":"IF(Магазин!$G$12:$G$3000>0,ROW(),\"\")","v":""}]
[null,null,null,null,null,null,null,null,{"$f":"IF(Магазин!$G$12:$G$3000>0,ROW(),\"\")","v":""}]
[null,null,null,null,null,null,null,null,{"$f":"IF(Магазин!$G$12:$G$3000>0,ROW(),\"\")","v":""}]
[null,null,null,null,null,null,null,null,{"$f":"IF(Магазин!$G$12:$G$3000>0,ROW(),\"\")","v":""}]
[null,null,null,null,null,null,null,null,{"$f":"IF(Магазин!$G$12:$G$3000>0,ROW(),\"\")","v":""}]
[null,null,null,null,null,null,null,null,{"$f":"IF(Магазин!$G$12:$G$3000>0,ROW(),\"\")","v":""}]
[null,null,null,null,null,null,null,null,{"$f":"IF(Магазин!$G$12:$G$3000>0,ROW(),\"\")","v":""}]
[null,null,null,null,null,null,null,null,{"$f":"IF(Магазин!$G$12:$G$3000>0,ROW(),\"\")","v":""}]
[null,null,null,null,null,null,null,null,{"$f":"IF(Магазин!$G$12:$G$3000>0,ROW(),\"\")","v":""}]
[null,null,null,null,null,null,null,null,{"$f":"IF(Магазин!$G$12:$G$3000>0,ROW(),\"\")","v":""}]
[null,null,null,null,null,null,null,null,{"$f":"IF(Магазин!$G$12:$G$3000>0,ROW(),\"\")","v":""}]
[null,null,null,null,null,null,null,null,{"$f":"IF(Магазин!$G$12:$G$3000>0,ROW(),\"\")","v":""}]
[null,null,null,null,null,null,null,null,{"$f":"IF(Магазин!$G$12:$G$3000>0,ROW(),\"\")","v":""}]
[null,null,null,null,null,null,null,null,{"$f":"IF(Магазин!$G$12:$G$3000>0,ROW(),\"\")","v":""}]
[null,null,null,null,null,null,null,null,{"$f":"IF(Магазин!$G$12:$G$3000>0,ROW(),\"\")","v":""}]
[null,null,null,null,null,null,null,null,{"$f":"IF(Магазин!$G$12:$G$3000>0,ROW(),\"\")","v":""}]
[null,null,null,null,null,null,null,null,{"$f":"IF(Магазин!$G$12:$G$3000>0,ROW(),\"\")","v":""}]
[null,null,null,null,null,null,null,null,{"$f":"IF(Магазин!$G$12:$G$3000>0,ROW(),\"\")","v":""}]
[null,null,null,null,null,null,null,null,{"$f":"IF(Магазин!$G$12:$G$3000>0,ROW(),\"\")","v":""}]
[null,null,null,null,null,null,null,null,{"$f":"IF(Магазин!$G$12:$G$3000>0,ROW(),\"\")","v":""}]
[null,null,null,null,null,null,null,null,{"$f":"IF(Магазин!$G$12:$G$3000>0,ROW(),\"\")","v":""}]
[null,null,null,null,null,null,null,null,{"$f":"IF(Магазин!$G$12:$G$3000>0,ROW(),\"\")","v":""}]
[null,null,null,null,null,null,null,null,{"$f":"IF(Магазин!$G$12:$G$3000>0,ROW(),\"\")","v":""}]
[null,null,null,null,null,null,null,null,{"$f":"IF(Магазин!$G$12:$G$3000>0,ROW(),\"\")","v":""}]
[null,null,null,null,null,null,null,null,{"$f":"IF(Магазин!$G$12:$G$3000>0,ROW(),\"\")","v":""}]
[null,null,null,null,null,null,null,null,{"$f":"IF(Магазин!$G$12:$G$3000>0,ROW(),\"\")","v":""}]
[null,null,null,null,null,null,null,null,{"$f":"IF(Магазин!$G$12:$G$3000>0,ROW(),\"\")","v":""}]
[null,null,null,null,null,null,null,null,{"$f":"IF(Магазин!$G$12:$G$3000>0,ROW(),\"\")","v":""}]
[null,null,null,null,null,null,null,null,{"$f":"IF(Магазин!$G$12:$G$3000>0,ROW(),\"\")","v":""}]
[null,null,null,null,null,null,null,null,{"$f":"IF(Магазин!$G$12:$G$3000>0,ROW(),\"\")","v":""}]
[null,null,null,null,null,null,null,null,{"$f":"IF(Магазин!$G$12:$G$3000>0,ROW(),\"\")","v":""}]
[null,null,null,null,null,null,null,null,{"$f":"IF(Магазин!$G$12:$G$3000>0,ROW(),\"\")","v":""}]
[null,null,null,null,null,null,null,null,{"$f":"IF(Магазин!$G$12:$G$3000>0,ROW(),\"\")","v":""}]
[null,null,null,null,null,null,null,null,{"$f":"IF(Магазин!$G$12:$G$3000>0,ROW(),\"\")","v":""}]
[null,null,null,null,null,null,null,null,{"$f":"IF(Магазин!$G$12:$G$3000>0,ROW(),\"\")","v":""}]
[null,null,null,null,null,null,null,null,{"$f":"IF(Магазин!$G$12:$G$3000>0,ROW(),\"\")","v":""}]
[null,null,null,null,null,null,null,null,{"$f":"IF(Магазин!$G$12:$G$3000>0,ROW(),\"\")","v":""}]
[null,null,null,null,null,null,null,null,{"$f":"IF(Магазин!$G$12:$G$3000>0,ROW(),\"\")","v":""}]
[null,null,null,null,null,null,null,null,{"$f":"IF(Магазин!$G$12:$G$3000>0,ROW(),\"\")","v":""}]
[null,null,null,null,null,null,null,null,{"$f":"IF(Магазин!$G$12:$G$3000>0,ROW(),\"\")","v":""}]
[null,null,null,null,null,null,null,null,{"$f":"IF(Магазин!$G$12:$G$3000>0,ROW(),\"\")","v":""}]
[null,null,null,null,null,null,null,null,{"$f":"IF(Магазин!$G$12:$G$3000>0,ROW(),\"\")","v":""}]
[null,null,null,null,null,null,null,null,{"$f":"IF(Магазин!$G$12:$G$3000>0,ROW(),\"\")","v":""}]
[null,null,null,null,null,null,null,null,{"$f":"IF(Магазин!$G$12:$G$3000>0,ROW(),\"\")","v":""}]
[null,null,null,null,null,null,null,null,{"$f":"IF(Магазин!$G$12:$G$3000>0,ROW(),\"\")","v":""}]
[null,null,null,null,null,null,null,null,{"$f":"IF(Магазин!$G$12:$G$3000>0,ROW(),\"\")","v":""}]
[null,null,null,null,null,null,null,null,{"$f":"IF(Магазин!$G$12:$G$3000>0,ROW(),\"\")","v":""}]
[null,null,null,null,null,null,null,null,{"$f":"IF(Магазин!$G$12:$G$3000>0,ROW(),\"\")","v":""}]
[null,null,null,null,null,null,null,null,{"$f":"IF(Магазин!$G$12:$G$3000>0,ROW(),\"\")","v":""}]
[null,null,null,null,null,null,null,null,{"$f":"IF(Магазин!$G$12:$G$3000>0,ROW(),\"\")","v":""}]
[null,null,null,null,null,null,null,null,{"$f":"IF(Магазин!$G$12:$G$3000>0,ROW(),\"\")","v":""}]
[null,null,null,null,null,null,null,null,{"$f":"IF(Магазин!$G$12:$G$3000>0,ROW(),\"\")","v":""}]
[null,null,null,null,null,null,null,null,{"$f":"IF(Магазин!$G$12:$G$3000>0,ROW(),\"\")","v":""}]
[null,null,null,null,null,null,null,null,{"$f":"IF(Магазин!$G$12:$G$3000>0,ROW(),\"\")","v":""}]
[null,null,null,null,null,null,null,null,{"$f":"IF(Магазин!$G$12:$G$3000>0,ROW(),\"\")","v":""}]
[null,null,null,null,null,null,null,null,{"$f":"IF(Магазин!$G$12:$G$3000>0,ROW(),\"\")","v":""}]
[null,null,null,null,null,null,null,null,{"$f":"IF(Магазин!$G$12:$G$3000>0,ROW(),\"\")","v":""}]
[null,null,null,null,null,null,null,null,{"$f":"IF(Магазин!$G$12:$G$3000>0,ROW(),\"\")","v":""}]
[null,null,null,null,null,null,null,null,{"$f":"IF(Магазин!$G$12:$G$3000>0,ROW(),\"\")","v":""}]
[null,null,null,null,null,null,null,null,{"$f":"IF(Магазин!$G$12:$G$3000>0,ROW(),\"\")","v":""}]
[null,null,null,null,null,null,null,null,{"$f":"IF(Магазин!$G$12:$G$3000>0,ROW(),\"\")","v":""}]
[null,null,null,null,null,null,null,null,{"$f":"IF(Магазин!$G$12:$G$3000>0,ROW(),\"\")","v":""}]
[null,null,null,null,null,null,null,null,{"$f":"IF(Магазин!$G$12:$G$3000>0,ROW(),\"\")","v":""}]
[null,null,null,null,null,null,null,null,{"$f":"IF(Магазин!$G$12:$G$3000>0,ROW(),\"\")","v":""}]
[null,null,null,null,null,null,null,null,{"$f":"IF(Магазин!$G$12:$G$3000>0,ROW(),\"\")","v":""}]
[null,null,null,null,null,null,null,null,{"$f":"IF(Магазин!$G$12:$G$3000>0,ROW(),\"\")","v":""}]
[null,null,null,null,null,null,null,null,{"$f":"IF(Магазин!$G$12:$G$3000>0,ROW(),\"\")","v":""}]
[null,null,null,null,null,null,null,null,{"$f":"IF(Магазин!$G$12:$G$3000>0,ROW(),\"\")","v":""}]
[null,null,null,null,null,null,null,null,{"$f":"IF(Магазин!$G$12:$G$3000>0,ROW(),\"\")","v":""}]
[null,null,null,null,null,null,null,null,{"$f":"IF(Магазин!$G$12:$G$3000>0,ROW(),\"\")","v":""}]
[null,null,null,null,null,null,null,null,{"$f":"IF(Магазин!$G$12:$G$3000>0,ROW(),\"\")","v":""}]
[null,null,null,null,null,null,null,null,{"$f":"IF(Магазин!$G$12:$G$3000>0,ROW(),\"\")","v":""}]
[null,null,null,null,null,null,null,null,{"$f":"IF(Магазин!$G$12:$G$3000>0,ROW(),\"\")","v":""}]
[null,null,null,null,null,null,null,null,{"$f":"IF(Магазин!$G$12:$G$3000>0,ROW(),\"\")","v":""}]
[null,null,null,null,null,null,null,null,{"$f":"IF(Магазин!$G$12:$G$3000>0,ROW(),\"\")","v":""}]
[null,null,null,null,null,null,null,null,{"$f":"IF(Магазин!$G$12:$G$3000>0,ROW(),\"\")","v":""}]
[null,null,null,null,null,null,null,null,{"$f":"IF(Магазин!$G$12:$G$3000>0,ROW(),\"\")","v":""}]
[null,null,null,null,null,null,null,null,{"$f":"IF(Магазин!$G$12:$G$3000>0,ROW(),\"\")","v":""}]
[null,null,null,null,null,null,null,null,{"$f":"IF(Магазин!$G$12:$G$3000>0,ROW(),\"\")","v":""}]
[null,null,null,null,null,null,null,null,{"$f":"IF(Магазин!$G$12:$G$3000>0,ROW(),\"\")","v":""}]
[null,null,null,null,null,null,null,null,{"$f":"IF(Магазин!$G$12:$G$3000>0,ROW(),\"\")","v":""}]
[null,null,null,null,null,null,null,null,{"$f":"IF(Магазин!$G$12:$G$3000>0,ROW(),\"\")","v":""}]
[null,null,null,null,null,null,null,null,{"$f":"IF(Магазин!$G$12:$G$3000>0,ROW(),\"\")","v":""}]
[null,null,null,null,null,null,null,null,{"$f":"IF(Магазин!$G$12:$G$3000>0,ROW(),\"\")","v":""}]
[null,null,null,null,null,null,null,null,{"$f":"IF(Магазин!$G$12:$G$3000>0,ROW(),\"\")","v":""}]
[null,null,null,null,null,null,null,null,{"$f":"IF(Магазин!$G$12:$G$3000>0,ROW(),\"\")","v":""}]
[null,null,null,null,null,null,null,null,{"$f":"IF(Магазин!$G$12:$G$3000>0,ROW(),\"\")","v":""}]
[null,null,null,null,null,null,null,null,{"$f":"IF(Магазин!$G$12:$G$3000>0,ROW(),\"\")","v":""}]
[null,null,null,null,null,null,null,null,{"$f":"IF(Магазин!$G$12:$G$3000>0,ROW(),\"\")","v":""}]
[null,null,null,null,null,null,null,null,{"$f":"IF(Магазин!$G$12:$G$3000>0,ROW(),\"\")","v":""}]
[null,null,null,null,null,null,null,null,{"$f":"IF(Магазин!$G$12:$G$3000>0,ROW(),\"\")","v":""}]
[null,null,null,null,null,null,null,null,{"$f":"IF(Магазин!$G$12:$G$3000>0,ROW(),\"\")","v":""}]
[null,null,null,null,null,null,null,null,{"$f":"IF(Магазин!$G$12:$G$3000>0,ROW(),\"\")","v":""}]
[null,null,null,null,null,null,null,null,{"$f":"IF(Магазин!$G$12:$G$3000>0,ROW(),\"\")","v":""}]
[null,null,null,null,null,null,null,null,{"$f":"IF(Магазин!$G$12:$G$3000>0,ROW(),\"\")","v":""}]
[null,null,null,null,null,null,null,null,{"$f":"IF(Магазин!$G$12:$G$3000>0,ROW(),\"\")","v":""}]
[null,null,null,null,null,null,null,null,{"$f":"IF(Магазин!$G$12:$G$3000>0,ROW(),\"\")","v":""}]
[null,null,null,null,null,null,null,null,{"$f":"IF(Магазин!$G$12:$G$3000>0,ROW(),\"\")","v":""}]
[null,null,null,null,null,null,null,null,{"$f":"IF(Магазин!$G$12:$G$3000>0,ROW(),\"\")","v":""}]
[null,null,null,null,null,null,null,null,{"$f":"IF(Магазин!$G$12:$G$3000>0,ROW(),\"\")","v":""}]
[null,null,null,null,null,null,null,null,{"$f":"IF(Магазин!$G$12:$G$3000>0,ROW(),\"\")","v":""}]
[null,null,null,null,null,null,null,null,{"$f":"IF(Магазин!$G$12:$G$3000>0,ROW(),\"\")","v":""}]
[null,null,null,null,null,null,null,null,{"$f":"IF(Магазин!$G$12:$G$3000>0,ROW(),\"\")","v":""}]
[null,null,null,null,null,null,null,null,{"$f":"IF(Магазин!$G$12:$G$3000>0,ROW(),\"\")","v":""}]
[null,null,null,null,null,null,null,null,{"$f":"IF(Магазин!$G$12:$G$3000>0,ROW(),\"\")","v":""}]
[null,null,null,null,null,null,null,null,{"$f":"IF(Магазин!$G$12:$G$3000>0,ROW(),\"\")","v":""}]
[null,null,null,null,null,null,null,null,{"$f":"IF(Магазин!$G$12:$G$3000>0,ROW(),\"\")","v":""}]
[null,null,null,null,null,null,null,null,{"$f":"IF(Магазин!$G$12:$G$3000>0,ROW(),\"\")","v":""}]
[null,null,null,null,null,null,null,null,{"$f":"IF(Магазин!$G$12:$G$3000>0,ROW(),\"\")","v":""}]
[null,null,null,null,null,null,null,null,{"$f":"IF(Магазин!$G$12:$G$3000>0,ROW(),\"\")","v":""}]
[null,null,null,null,null,null,null,null,{"$f":"IF(Магазин!$G$12:$G$3000>0,ROW(),\"\")","v":""}]
[null,null,null,null,null,null,null,null,{"$f":"IF(Магазин!$G$12:$G$3000>0,ROW(),\"\")","v":""}]
[null,null,null,null,null,null,null,null,{"$f":"IF(Магазин!$G$12:$G$3000>0,ROW(),\"\")","v":""}]
[null,null,null,null,null,null,null,null,{"$f":"IF(Магазин!$G$12:$G$3000>0,ROW(),\"\")","v":""}]
[null,null,null,null,null,null,null,null,{"$f":"IF(Магазин!$G$12:$G$3000>0,ROW(),\"\")","v":""}]
[null,null,null,null,null,null,null,null,{"$f":"IF(Магазин!$G$12:$G$3000>0,ROW(),\"\")","v":""}]
[null,null,null,null,null,null,null,null,{"$f":"IF(Магазин!$G$12:$G$3000>0,ROW(),\"\")","v":""}]
[null,null,null,null,null,null,null,null,{"$f":"IF(Магазин!$G$12:$G$3000>0,ROW(),\"\")","v":""}]
[null,null,null,null,null,null,null,null,{"$f":"IF(Магазин!$G$12:$G$3000>0,ROW(),\"\")","v":""}]
[null,null,null,null,null,null,null,null,{"$f":"IF(Магазин!$G$12:$G$3000>0,ROW(),\"\")","v":""}]
[null,null,null,null,null,null,null,null,{"$f":"IF(Магазин!$G$12:$G$3000>0,ROW(),\"\")","v":""}]
[null,null,null,null,null,null,null,null,{"$f":"IF(Магазин!$G$12:$G$3000>0,ROW(),\"\")","v":""}]
[null,null,null,null,null,null,null,null,{"$f":"IF(Магазин!$G$12:$G$3000>0,ROW(),\"\")","v":""}]
[null,null,null,null,null,null,null,null,{"$f":"IF(Магазин!$G$12:$G$3000>0,ROW(),\"\")","v":""}]
[null,null,null,null,null,null,null,null,{"$f":"IF(Магазин!$G$12:$G$3000>0,ROW(),\"\")","v":""}]
[null,null,null,null,null,null,null,null,{"$f":"IF(Магазин!$G$12:$G$3000>0,ROW(),\"\")","v":""}]
[null,null,null,null,null,null,null,null,{"$f":"IF(Магазин!$G$12:$G$3000>0,ROW(),\"\")","v":""}]
[null,null,null,null,null,null,null,null,{"$f":"IF(Магазин!$G$12:$G$3000>0,ROW(),\"\")","v":""}]
[null,null,null,null,null,null,null,null,{"$f":"IF(Магазин!$G$12:$G$3000>0,ROW(),\"\")","v":""}]
[null,null,null,null,null,null,null,null,{"$f":"IF(Магазин!$G$12:$G$3000>0,ROW(),\"\")","v":""}]
[null,null,null,null,null,null,null,null,{"$f":"IF(Магазин!$G$12:$G$3000>0,ROW(),\"\")","v":""}]
[null,null,null,null,null,null,null,null,{"$f":"IF(Магазин!$G$12:$G$3000>0,ROW(),\"\")","v":""}]
[null,null,null,null,null,null,null,null,{"$f":"IF(Магазин!$G$12:$G$3000>0,ROW(),\"\")","v":""}]
[null,null,null,null,null,null,null,null,{"$f":"IF(Магазин!$G$12:$G$3000>0,ROW(),\"\")","v":""}]
[null,null,null,null,null,null,null,null,{"$f":"IF(Магазин!$G$12:$G$3000>0,ROW(),\"\")","v":""}]
[null,null,null,null,null,null,null,null,{"$f":"IF(Магазин!$G$12:$G$3000>0,ROW(),\"\")","v":""}]
[null,null,null,null,null,null,null,null,{"$f":"IF(Магазин!$G$12:$G$3000>0,ROW(),\"\")","v":""}]
[null,null,null,null,null,null,null,null,{"$f":"IF(Магазин!$G$12:$G$3000>0,ROW(),\"\")","v":""}]
[null,null,null,null,null,null,null,null,{"$f":"IF(Магазин!$G$12:$G$3000>0,ROW(),\"\")","v":""}]
[null,null,null,null,null,null,null,null,{"$f":"IF(Магазин!$G$12:$G$3000>0,ROW(),\"\")","v":""}]
[null,null,null,null,null,null,null,null,{"$f":"IF(Магазин!$G$12:$G$3000>0,ROW(),\"\")","v":""}]
[null,null,null,null,null,null,null,null,{"$f":"IF(Магазин!$G$12:$G$3000>0,ROW(),\"\")","v":""}]
[null,null,null,null,null,null,null,null,{"$f":"IF(Магазин!$G$12:$G$3000>0,ROW(),\"\")","v":""}]
[null,null,null,null,null,null,null,null,{"$f":"IF(Магазин!$G$12:$G$3000>0,ROW(),\"\")","v":""}]
[null,null,null,null,null,null,null,null,{"$f":"IF(Магазин!$G$12:$G$3000>0,ROW(),\"\")","v":""}]
[null,null,null,null,null,null,null,null,{"$f":"IF(Магазин!$G$12:$G$3000>0,ROW(),\"\")","v":""}]
[null,null,null,null,null,null,null,null,{"$f":"IF(Магазин!$G$12:$G$3000>0,ROW(),\"\")","v":""}]
[null,null,null,null,null,null,null,null,{"$f":"IF(Магазин!$G$12:$G$3000>0,ROW(),\"\")","v":""}]
[null,null,null,null,null,null,null,null,{"$f":"IF(Магазин!$G$12:$G$3000>0,ROW(),\"\")","v":""}]
[null,null,null,null,null,null,null,null,{"$f":"IF(Магазин!$G$12:$G$3000>0,ROW(),\"\")","v":""}]
[null,null,null,null,null,null,null,null,{"$f":"IF(Магазин!$G$12:$G$3000>0,ROW(),\"\")","v":""}]
[null,null,null,null,null,null,null,null,{"$f":"IF(Магазин!$G$12:$G$3000>0,ROW(),\"\")","v":""}]
[null,null,null,null,null,null,null,null,{"$f":"IF(Магазин!$G$12:$G$3000>0,ROW(),\"\")","v":""}]
[null,null,null,null,null,null,null,null,{"$f":"IF(Магазин!$G$12:$G$3000>0,ROW(),\"\")","v":""}]
[null,null,null,null,null,null,null,null,{"$f":"IF(Магазин!$G$12:$G$3000>0,ROW(),\"\")","v":""}]
[null,null,null,null,null,null,null,null,{"$f":"IF(Магазин!$G$12:$G$3000>0,ROW(),\"\")","v":""}]
[null,null,null,null,null,null,null,null,{"$f":"IF(Магазин!$G$12:$G$3000>0,ROW(),\"\")","v":""}]
[null,null,null,null,null,null,null,null,{"$f":"IF(Магазин!$G$12:$G$3000>0,ROW(),\"\")","v":""}]
[null,null,null,null,null,null,null,null,{"$f":"IF(Магазин!$G$12:$G$3000>0,ROW(),\"\")","v":""}]
[null,null,null,null,null,null,null,null,{"$f":"IF(Магазин!$G$12:$G$3000>0,ROW(),\"\")","v":""}]
[null,null,null,null,null,null,null,null,{"$f":"IF(Магазин!$G$12:$G$3000>0,ROW(),\"\")","v":""}]
[null,null,null,null,null,null,null,null,{"$f":"IF(Магазин!$G$12:$G$3000>0,ROW(),\"\")","v":""}]
[null,null,null,null,null,null,null,null,{"$f":"IF(Магазин!$G$12:$G$3000>0,ROW(),\"\")","v":""}]
[null,null,null,null,null,null,null,null,{"$f":"IF(Магазин!$G$12:$G$3000>0,ROW(),\"\")","v":""}]
[null,null,null,null,null,null,null,null,{"$f":"IF(Магазин!$G$12:$G$3000>0,ROW(),\"\")","v":""}]
[null,null,null,null,null,null,null,null,{"$f":"IF(Магазин!$G$12:$G$3000>0,ROW(),\"\")","v":""}]
[null,null,null,null,null,null,null,null,{"$f":"IF(Магазин!$G$12:$G$3000>0,ROW(),\"\")","v":""}]
[null,null,null,null,null,null,null,null,{"$f":"IF(Магазин!$G$12:$G$3000>0,ROW(),\"\")","v":""}]
[null,null,null,null,null,null,null,null,{"$f":"IF(Магазин!$G$12:$G$3000>0,ROW(),\"\")","v":""}]
[null,null,null,null,null,null,null,null,{"$f":"IF(Магазин!$G$12:$G$3000>0,ROW(),\"\")","v":""}]
[null,null,null,null,null,null,null,null,{"$f":"IF(Магазин!$G$12:$G$3000>0,ROW(),\"\")","v":""}]
[null,null,null,null,null,null,null,null,{"$f":"IF(Магазин!$G$12:$G$3000>0,ROW(),\"\")","v":""}]
[null,null,null,null,null,null,null,null,{"$f":"IF(Магазин!$G$12:$G$3000>0,ROW(),\"\")","v":""}]
[null,null,null,null,null,null,null,null,{"$f":"IF(Магазин!$G$12:$G$3000>0,ROW(),\"\")","v":""}]
[null,null,null,null,null,null,null,null,{"$f":"IF(Магазин!$G$12:$G$3000>0,ROW(),\"\")","v":""}]
[null,null,null,null,null,null,null,null,{"$f":"IF(Магазин!$G$12:$G$3000>0,ROW(),\"\")","v":""}]
[null,null,null,null,null,null,null,null,{"$f":"IF(Магазин!$G$12:$G$3000>0,ROW(),\"\")","v":""}]
[null,null,null,null,null,null,null,null,{"$f":"IF(Магазин!$G$12:$G$3000>0,ROW(),\"\")","v":""}]
[null,null,null,null,null,null,null,null,{"$f":"IF(Магазин!$G$12:$G$3000>0,ROW(),\"\")","v":""}]
[null,null,null,null,null,null,null,null,{"$f":"IF(Магазин!$G$12:$G$3000>0,ROW(),\"\")","v":""}]
[null,null,null,null,null,null,null,null,{"$f":"IF(Магазин!$G$12:$G$3000>0,ROW(),\"\")","v":""}]
[null,null,null,null,null,null,null,null,{"$f":"IF(Магазин!$G$12:$G$3000>0,ROW(),\"\")","v":""}]
[null,null,null,null,null,null,null,null,{"$f":"IF(Магазин!$G$12:$G$3000>0,ROW(),\"\")","v":""}]
[null,null,null,null,null,null,null,null,{"$f":"IF(Магазин!$G$12:$G$3000>0,ROW(),\"\")","v":""}]
[null,null,null,null,null,null,null,null,{"$f":"IF(Магазин!$G$12:$G$3000>0,ROW(),\"\")","v":""}]
[null,null,null,null,null,null,null,null,{"$f":"IF(Магазин!$G$12:$G$3000>0,ROW(),\"\")","v":""}]
[null,null,null,null,null,null,null,null,{"$f":"IF(Магазин!$G$12:$G$3000>0,ROW(),\"\")","v":""}]
[null,null,null,null,null,null,null,null,{"$f":"IF(Магазин!$G$12:$G$3000>0,ROW(),\"\")","v":""}]
[null,null,null,null,null,null,null,null,{"$f":"IF(Магазин!$G$12:$G$3000>0,ROW(),\"\")","v":""}]
[null,null,null,null,null,null,null,null,{"$f":"IF(Магазин!$G$12:$G$3000>0,ROW(),\"\")","v":""}]
[null,null,null,null,null,null,null,null,{"$f":"IF(Магазин!$G$12:$G$3000>0,ROW(),\"\")","v":""}]
[null,null,null,null,null,null,null,null,{"$f":"IF(Магазин!$G$12:$G$3000>0,ROW(),\"\")","v":""}]
[null,null,null,null,null,null,null,null,{"$f":"IF(Магазин!$G$12:$G$3000>0,ROW(),\"\")","v":""}]
[null,null,null,null,null,null,null,null,{"$f":"IF(Магазин!$G$12:$G$3000>0,ROW(),\"\")","v":""}]
[null,null,null,null,null,null,null,null,{"$f":"IF(Магазин!$G$12:$G$3000>0,ROW(),\"\")","v":""}]
[null,null,null,null,null,null,null,null,{"$f":"IF(Магазин!$G$12:$G$3000>0,ROW(),\"\")","v":""}]
[null,null,null,null,null,null,null,null,{"$f":"IF(Магазин!$G$12:$G$3000>0,ROW(),\"\")","v":""}]
[null,null,null,null,null,null,null,null,{"$f":"IF(Магазин!$G$12:$G$3000>0,ROW(),\"\")","v":""}]
[null,null,null,null,null,null,null,null,{"$f":"IF(Магазин!$G$12:$G$3000>0,ROW(),\"\")","v":""}]
[null,null,null,null,null,null,null,null,{"$f":"IF(Магазин!$G$12:$G$3000>0,ROW(),\"\")","v":""}]
[null,null,null,null,null,null,null,null,{"$f":"IF(Магазин!$G$12:$G$3000>0,ROW(),\"\")","v":""}]
[null,null,null,null,null,null,null,null,{"$f":"IF(Магазин!$G$12:$G$3000>0,ROW(),\"\")","v":""}]
[null,null,null,null,null,null,null,null,{"$f":"IF(Магазин!$G$12:$G$3000>0,ROW(),\"\")","v":""}]
[null,null,null,null,null,null,null,null,{"$f":"IF(Магазин!$G$12:$G$3000>0,ROW(),\"\")","v":""}]
[null,null,null,null,null,null,null,null,{"$f":"IF(Магазин!$G$12:$G$3000>0,ROW(),\"\")","v":""}]
[null,null,null,null,null,null,null,null,{"$f":"IF(Магазин!$G$12:$G$3000>0,ROW(),\"\")","v":""}]
[null,null,null,null,null,null,null,null,{"$f":"IF(Магазин!$G$12:$G$3000>0,ROW(),\"\")","v":""}]
[null,null,null,null,null,null,null,null,{"$f":"IF(Магазин!$G$12:$G$3000>0,ROW(),\"\")","v":""}]
[null,null,null,null,null,null,null,null,{"$f":"IF(Магазин!$G$12:$G$3000>0,ROW(),\"\")","v":""}]
[null,null,null,null,null,null,null,null,{"$f":"IF(Магазин!$G$12:$G$3000>0,ROW(),\"\")","v":""}]
[null,null,null,null,null,null,null,null,{"$f":"IF(Магазин!$G$12:$G$3000>0,ROW(),\"\")","v":""}]
[null,null,null,null,null,null,null,null,{"$f":"IF(Магазин!$G$12:$G$3000>0,ROW(),\"\")","v":""}]
[null,null,null,null,null,null,null,null,{"$f":"IF(Магазин!$G$12:$G$3000>0,ROW(),\"\")","v":""}]
[null,null,null,null,null,null,null,null,{"$f":"IF(Магазин!$G$12:$G$3000>0,ROW(),\"\")","v":""}]
[null,null,null,null,null,null,null,null,{"$f":"IF(Магазин!$G$12:$G$3000>0,ROW(),\"\")","v":""}]
[null,null,null,null,null,null,null,null,{"$f":"IF(Магазин!$G$12:$G$3000>0,ROW(),\"\")","v":""}]
[null,null,null,null,null,null,null,null,{"$f":"IF(Магазин!$G$12:$G$3000>0,ROW(),\"\")","v":""}]
[null,null,null,null,null,null,null,null,{"$f":"IF(Магазин!$G$12:$G$3000>0,ROW(),\"\")","v":""}]
[null,null,null,null,null,null,null,null,{"$f":"IF(Магазин!$G$12:$G$3000>0,ROW(),\"\")","v":""}]
[null,null,null,null,null,null,null,null,{"$f":"IF(Магазин!$G$12:$G$3000>0,ROW(),\"\")","v":""}]
[null,null,null,null,null,null,null,null,{"$f":"IF(Магазин!$G$12:$G$3000>0,ROW(),\"\")","v":""}]
[null,null,null,null,null,null,null,null,{"$f":"IF(Магазин!$G$12:$G$3000>0,ROW(),\"\")","v":""}]
[null,null,null,null,null,null,null,null,{"$f":"IF(Магазин!$G$12:$G$3000>0,ROW(),\"\")","v":""}]
[null,null,null,null,null,null,null,null,{"$f":"IF(Магазин!$G$12:$G$3000>0,ROW(),\"\")","v":""}]
[null,null,null,null,null,null,null,null,{"$f":"IF(Магазин!$G$12:$G$3000>0,ROW(),\"\")","v":""}]
[null,null,null,null,null,null,null,null,{"$f":"IF(Магазин!$G$12:$G$3000>0,ROW(),\"\")","v":""}]
[null,null,null,null,null,null,null,null,{"$f":"IF(Магазин!$G$12:$G$3000>0,ROW(),\"\")","v":""}]
[null,null,null,null,null,null,null,null,{"$f":"IF(Магазин!$G$12:$G$3000>0,ROW(),\"\")","v":""}]
[null,null,null,null,null,null,null,null,{"$f":"IF(Магазин!$G$12:$G$3000>0,ROW(),\"\")","v":""}]
[null,null,null,null,null,null,null,null,{"$f":"IF(Магазин!$G$12:$G$3000>0,ROW(),\"\")","v":""}]
[null,null,null,null,null,null,null,null,{"$f":"IF(Магазин!$G$12:$G$3000>0,ROW(),\"\")","v":""}]
[null,null,null,null,null,null,null,null,{"$f":"IF(Магазин!$G$12:$G$3000>0,ROW(),\"\")","v":""}]
[null,null,null,null,null,null,null,null,{"$f":"IF(Магазин!$G$12:$G$3000>0,ROW(),\"\")","v":""}]
[null,null,null,null,null,null,null,null,{"$f":"IF(Магазин!$G$12:$G$3000>0,ROW(),\"\")","v":""}]
[null,null,null,null,null,null,null,null,{"$f":"IF(Магазин!$G$12:$G$3000>0,ROW(),\"\")","v":""}]
[null,null,null,null,null,null,null,null,{"$f":"IF(Магазин!$G$12:$G$3000>0,ROW(),\"\")","v":""}]
[null,null,null,null,null,null,null,null,{"$f":"IF(Магазин!$G$12:$G$3000>0,ROW(),\"\")","v":""}]
[null,null,null,null,null,null,null,null,{"$f":"IF(Магазин!$G$12:$G$3000>0,ROW(),\"\")","v":""}]
[null,null,null,null,null,null,null,null,{"$f":"IF(Магазин!$G$12:$G$3000>0,ROW(),\"\")","v":""}]
[null,null,null,null,null,null,null,null,{"$f":"IF(Магазин!$G$12:$G$3000>0,ROW(),\"\")","v":""}]
[null,null,null,null,null,null,null,null,{"$f":"IF(Магазин!$G$12:$G$3000>0,ROW(),\"\")","v":""}]
[null,null,null,null,null,null,null,null,{"$f":"IF(Магазин!$G$12:$G$3000>0,ROW(),\"\")","v":""}]
[null,null,null,null,null,null,null,null,{"$f":"IF(Магазин!$G$12:$G$3000>0,ROW(),\"\")","v":""}]
[null,null,null,null,null,null,null,null,{"$f":"IF(Магазин!$G$12:$G$3000>0,ROW(),\"\")","v":""}]
[null,null,null,null,null,null,null,null,{"$f":"IF(Магазин!$G$12:$G$3000>0,ROW(),\"\")","v":""}]
[null,null,null,null,null,null,null,null,{"$f":"IF(Магазин!$G$12:$G$3000>0,ROW(),\"\")","v":""}]
[null,null,null,null,null,null,null,null,{"$f":"IF(Магазин!$G$12:$G$3000>0,ROW(),\"\")","v":""}]
[null,null,null,null,null,null,null,null,{"$f":"IF(Магазин!$G$12:$G$3000>0,ROW(),\"\")","v":""}]
[null,null,null,null,null,null,null,null,{"$f":"IF(Магазин!$G$12:$G$3000>0,ROW(),\"\")","v":""}]
[null,null,null,null,null,null,null,null,{"$f":"IF(Магазин!$G$12:$G$3000>0,ROW(),\"\")","v":""}]
[null,null,null,null,null,null,null,null,{"$f":"IF(Магазин!$G$12:$G$3000>0,ROW(),\"\")","v":""}]
[null,null,null,null,null,null,null,null,{"$f":"IF(Магазин!$G$12:$G$3000>0,ROW(),\"\")","v":""}]
[null,null,null,null,null,null,null,null,{"$f":"IF(Магазин!$G$12:$G$3000>0,ROW(),\"\")","v":""}]
[null,null,null,null,null,null,null,null,{"$f":"IF(Магазин!$G$12:$G$3000>0,ROW(),\"\")","v":""}]
[null,null,null,null,null,null,null,null,{"$f":"IF(Магазин!$G$12:$G$3000>0,ROW(),\"\")","v":""}]
[null,null,null,null,null,null,null,null,{"$f":"IF(Магазин!$G$12:$G$3000>0,ROW(),\"\")","v":""}]
[null,null,null,null,null,null,null,null,{"$f":"IF(Магазин!$G$12:$G$3000>0,ROW(),\"\")","v":""}]
[null,null,null,null,null,null,null,null,{"$f":"IF(Магазин!$G$12:$G$3000>0,ROW(),\"\")","v":""}]
[null,null,null,null,null,null,null,null,{"$f":"IF(Магазин!$G$12:$G$3000>0,ROW(),\"\")","v":""}]
[null,null,null,null,null,null,null,null,{"$f":"IF(Магазин!$G$12:$G$3000>0,ROW(),\"\")","v":""}]
[null,null,null,null,null,null,null,null,{"$f":"IF(Магазин!$G$12:$G$3000>0,ROW(),\"\")","v":""}]
[null,null,null,null,null,null,null,null,{"$f":"IF(Магазин!$G$12:$G$3000>0,ROW(),\"\")","v":""}]
[null,null,null,null,null,null,null,null,{"$f":"IF(Магазин!$G$12:$G$3000>0,ROW(),\"\")","v":""}]
[null,null,null,null,null,null,null,null,{"$f":"IF(Магазин!$G$12:$G$3000>0,ROW(),\"\")","v":""}]
[null,null,null,null,null,null,null,null,{"$f":"IF(Магазин!$G$12:$G$3000>0,ROW(),\"\")","v":""}]
[null,null,null,null,null,null,null,null,{"$f":"IF(Магазин!$G$12:$G$3000>0,ROW(),\"\")","v":""}]
[null,null,null,null,null,null,null,null,{"$f":"IF(Магазин!$G$12:$G$3000>0,ROW(),\"\")","v":""}]
[null,null,null,null,null,null,null,null,{"$f":"IF(Магазин!$G$12:$G$3000>0,ROW(),\"\")","v":""}]
[null,null,null,null,null,null,null,null,{"$f":"IF(Магазин!$G$12:$G$3000>0,ROW(),\"\")","v":""}]
[null,null,null,null,null,null,null,null,{"$f":"IF(Магазин!$G$12:$G$3000>0,ROW(),\"\")","v":""}]
[null,null,null,null,null,null,null,null,{"$f":"IF(Магазин!$G$12:$G$3000>0,ROW(),\"\")","v":""}]
[null,null,null,null,null,null,null,null,{"$f":"IF(Магазин!$G$12:$G$3000>0,ROW(),\"\")","v":""}]
[null,null,null,null,null,null,null,null,{"$f":"IF(Магазин!$G$12:$G$3000>0,ROW(),\"\")","v":""}]
[null,null,null,null,null,null,null,null,{"$f":"IF(Магазин!$G$12:$G$3000>0,ROW(),\"\")","v":""}]
[null,null,null,null,null,null,null,null,{"$f":"IF(Магазин!$G$12:$G$3000>0,ROW(),\"\")","v":""}]
[null,null,null,null,null,null,null,null,{"$f":"IF(Магазин!$G$12:$G$3000>0,ROW(),\"\")","v":""}]
[null,null,null,null,null,null,null,null,{"$f":"IF(Магазин!$G$12:$G$3000>0,ROW(),\"\")","v":""}]
[null,null,null,null,null,null,null,null,{"$f":"IF(Магазин!$G$12:$G$3000>0,ROW(),\"\")","v":""}]
[null,null,null,null,null,null,null,null,{"$f":"IF(Магазин!$G$12:$G$3000>0,ROW(),\"\")","v":""}]
[null,null,null,null,null,null,null,null,{"$f":"IF(Магазин!$G$12:$G$3000>0,ROW(),\"\")","v":""}]
[null,null,null,null,null,null,null,null,{"$f":"IF(Магазин!$G$12:$G$3000>0,ROW(),\"\")","v":""}]
[null,null,null,null,null,null,null,null,{"$f":"IF(Магазин!$G$12:$G$3000>0,ROW(),\"\")","v":""}]
[null,null,null,null,null,null,null,null,{"$f":"IF(Магазин!$G$12:$G$3000>0,ROW(),\"\")","v":""}]
[null,null,null,null,null,null,null,null,{"$f":"IF(Магазин!$G$12:$G$3000>0,ROW(),\"\")","v":""}]
[null,null,null,null,null,null,null,null,{"$f":"IF(Магазин!$G$12:$G$3000>0,ROW(),\"\")","v":""}]
[null,null,null,null,null,null,null,null,{"$f":"IF(Магазин!$G$12:$G$3000>0,ROW(),\"\")","v":""}]
[null,null,null,null,null,null,null,null,{"$f":"IF(Магазин!$G$12:$G$3000>0,ROW(),\"\")","v":""}]
[null,null,null,null,null,null,null,null,{"$f":"IF(Магазин!$G$12:$G$3000>0,ROW(),\"\")","v":""}]
[null,null,null,null,null,null,null,null,{"$f":"IF(Магазин!$G$12:$G$3000>0,ROW(),\"\")","v":""}]
[null,null,null,null,null,null,null,null,{"$f":"IF(Магазин!$G$12:$G$3000>0,ROW(),\"\")","v":""}]
[null,null,null,null,null,null,null,null,{"$f":"IF(Магазин!$G$12:$G$3000>0,ROW(),\"\")","v":""}]
[null,null,null,null,null,null,null,null,{"$f":"IF(Магазин!$G$12:$G$3000>0,ROW(),\"\")","v":""}]
[null,null,null,null,null,null,null,null,{"$f":"IF(Магазин!$G$12:$G$3000>0,ROW(),\"\")","v":""}]
[null,null,null,null,null,null,null,null,{"$f":"IF(Магазин!$G$12:$G$3000>0,ROW(),\"\")","v":""}]
[null,null,null,null,null,null,null,null,{"$f":"IF(Магазин!$G$12:$G$3000>0,ROW(),\"\")","v":""}]
[null,null,null,null,null,null,null,null,{"$f":"IF(Магазин!$G$12:$G$3000>0,ROW(),\"\")","v":""}]
[null,null,null,null,null,null,null,null,{"$f":"IF(Магазин!$G$12:$G$3000>0,ROW(),\"\")","v":""}]
[null,null,null,null,null,null,null,null,{"$f":"IF(Магазин!$G$12:$G$3000>0,ROW(),\"\")","v":""}]
[null,null,null,null,null,null,null,null,{"$f":"IF(Магазин!$G$12:$G$3000>0,ROW(),\"\")","v":""}]
[null,null,null,null,null,null,null,null,{"$f":"IF(Магазин!$G$12:$G$3000>0,ROW(),\"\")","v":""}]
[null,null,null,null,null,null,null,null,{"$f":"IF(Магазин!$G$12:$G$3000>0,ROW(),\"\")","v":""}]
[null,null,null,null,null,null,null,null,{"$f":"IF(Магазин!$G$12:$G$3000>0,ROW(),\"\")","v":""}]
[null,null,null,null,null,null,null,null,{"$f":"IF(Магазин!$G$12:$G$3000>0,ROW(),\"\")","v":""}]
[null,null,null,null,null,null,null,null,{"$f":"IF(Магазин!$G$12:$G$3000>0,ROW(),\"\")","v":""}]
[null,null,null,null,null,null,null,null,{"$f":"IF(Магазин!$G$12:$G$3000>0,ROW(),\"\")","v":""}]
[null,null,null,null,null,null,null,null,{"$f":"IF(Магазин!$G$12:$G$3000>0,ROW(),\"\")","v":""}]
[null,null,null,null,null,null,null,null,{"$f":"IF(Магазин!$G$12:$G$3000>0,ROW(),\"\")","v":""}]
[null,null,null,null,null,null,null,null,{"$f":"IF(Магазин!$G$12:$G$3000>0,ROW(),\"\")","v":""}]
[null,null,null,null,null,null,null,null,{"$f":"IF(Магазин!$G$12:$G$3000>0,ROW(),\"\")","v":""}]
[null,null,null,null,null,null,null,null,{"$f":"IF(Магазин!$G$12:$G$3000>0,ROW(),\"\")","v":""}]
[null,null,null,null,null,null,null,null,{"$f":"IF(Магазин!$G$12:$G$3000>0,ROW(),\"\")","v":""}]
[null,null,null,null,null,null,null,null,{"$f":"IF(Магазин!$G$12:$G$3000>0,ROW(),\"\")","v":""}]
[null,null,null,null,null,null,null,null,{"$f":"IF(Магазин!$G$12:$G$3000>0,ROW(),\"\")","v":""}]
[null,null,null,null,null,null,null,null,{"$f":"IF(Магазин!$G$12:$G$3000>0,ROW(),\"\")","v":""}]
[null,null,null,null,null,null,null,null,{"$f":"IF(Магазин!$G$12:$G$3000>0,ROW(),\"\")","v":""}]
[null,null,null,null,null,null,null,null,{"$f":"IF(Магазин!$G$12:$G$3000>0,ROW(),\"\")","v":""}]
[null,null,null,null,null,null,null,null,{"$f":"IF(Магазин!$G$12:$G$3000>0,ROW(),\"\")","v":""}]
[null,null,null,null,null,null,null,null,{"$f":"IF(Магазин!$G$12:$G$3000>0,ROW(),\"\")","v":""}]
[null,null,null,null,null,null,null,null,{"$f":"IF(Магазин!$G$12:$G$3000>0,ROW(),\"\")","v":""}]
[null,null,null,null,null,null,null,null,{"$f":"IF(Магазин!$G$12:$G$3000>0,ROW(),\"\")","v":""}]
[null,null,null,null,null,null,null,null,{"$f":"IF(Магазин!$G$12:$G$3000>0,ROW(),\"\")","v":""}]
[null,null,null,null,null,null,null,null,{"$f":"IF(Магазин!$G$12:$G$3000>0,ROW(),\"\")","v":""}]
[null,null,null,null,null,null,null,null,{"$f":"IF(Магазин!$G$12:$G$3000>0,ROW(),\"\")","v":""}]
[null,null,null,null,null,null,null,null,{"$f":"IF(Магазин!$G$12:$G$3000>0,ROW(),\"\")","v":""}]
[null,null,null,null,null,null,null,null,{"$f":"IF(Магазин!$G$12:$G$3000>0,ROW(),\"\")","v":""}]
[null,null,null,null,null,null,null,null,{"$f":"IF(Магазин!$G$12:$G$3000>0,ROW(),\"\")","v":""}]
[null,null,null,null,null,null,null,null,{"$f":"IF(Магазин!$G$12:$G$3000>0,ROW(),\"\")","v":""}]
[null,null,null,null,null,null,null,null,{"$f":"IF(Магазин!$G$12:$G$3000>0,ROW(),\"\")","v":""}]
[null,null,null,null,null,null,null,null,{"$f":"IF(Магазин!$G$12:$G$3000>0,ROW(),\"\")","v":""}]
[null,null,null,null,null,null,null,null,{"$f":"IF(Магазин!$G$12:$G$3000>0,ROW(),\"\")","v":""}]
[null,null,null,null,null,null,null,null,{"$f":"IF(Магазин!$G$12:$G$3000>0,ROW(),\"\")","v":""}]
[null,null,null,null,null,null,null,null,{"$f":"IF(Магазин!$G$12:$G$3000>0,ROW(),\"\")","v":""}]
[null,null,null,null,null,null,null,null,{"$f":"IF(Магазин!$G$12:$G$3000>0,ROW(),\"\")","v":""}]
[null,null,null,null,null,null,null,null,{"$f":"IF(Магазин!$G$12:$G$3000>0,ROW(),\"\")","v":""}]
[null,null,null,null,null,null,null,null,{"$f":"IF(Магазин!$G$12:$G$3000>0,ROW(),\"\")","v":""}]
[null,null,null,null,null,null,null,null,{"$f":"IF(Магазин!$G$12:$G$3000>0,ROW(),\"\")","v":""}]
[null,null,null,null,null,null,null,null,{"$f":"IF(Магазин!$G$12:$G$3000>0,ROW(),\"\")","v":""}]
[null,null,null,null,null,null,null,null,{"$f":"IF(Магазин!$G$12:$G$3000>0,ROW(),\"\")","v":""}]
[null,null,null,null,null,null,null,null,{"$f":"IF(Магазин!$G$12:$G$3000>0,ROW(),\"\")","v":""}]
[null,null,null,null,null,null,null,null,{"$f":"IF(Магазин!$G$12:$G$3000>0,ROW(),\"\")","v":""}]
[null,null,null,null,null,null,null,null,{"$f":"IF(Магазин!$G$12:$G$3000>0,ROW(),\"\")","v":""}]
[null,null,null,null,null,null,null,null,{"$f":"IF(Магазин!$G$12:$G$3000>0,ROW(),\"\")","v":""}]
[null,null,null,null,null,null,null,null,{"$f":"IF(Магазин!$G$12:$G$3000>0,ROW(),\"\")","v":""}]
[null,null,null,null,null,null,null,null,{"$f":"IF(Магазин!$G$12:$G$3000>0,ROW(),\"\")","v":""}]
[null,null,null,null,null,null,null,null,{"$f":"IF(Магазин!$G$12:$G$3000>0,ROW(),\"\")","v":""}]
[null,null,null,null,null,null,null,null,{"$f":"IF(Магазин!$G$12:$G$3000>0,ROW(),\"\")","v":""}]
[null,null,null,null,null,null,null,null,{"$f":"IF(Магазин!$G$12:$G$3000>0,ROW(),\"\")","v":""}]
[null,null,null,null,null,null,null,null,{"$f":"IF(Магазин!$G$12:$G$3000>0,ROW(),\"\")","v":""}]
[null,null,null,null,null,null,null,null,{"$f":"IF(Магазин!$G$12:$G$3000>0,ROW(),\"\")","v":""}]
[null,null,null,null,null,null,null,null,{"$f":"IF(Магазин!$G$12:$G$3000>0,ROW(),\"\")","v":""}]
[null,null,null,null,null,null,null,null,{"$f":"IF(Магазин!$G$12:$G$3000>0,ROW(),\"\")","v":""}]
[null,null,null,null,null,null,null,null,{"$f":"IF(Магазин!$G$12:$G$3000>0,ROW(),\"\")","v":""}]
[null,null,null,null,null,null,null,null,{"$f":"IF(Магазин!$G$12:$G$3000>0,ROW(),\"\")","v":""}]
[null,null,null,null,null,null,null,null,{"$f":"IF(Магазин!$G$12:$G$3000>0,ROW(),\"\")","v":""}]
[null,null,null,null,null,null,null,null,{"$f":"IF(Магазин!$G$12:$G$3000>0,ROW(),\"\")","v":""}]
[null,null,null,null,null,null,null,null,{"$f":"IF(Магазин!$G$12:$G$3000>0,ROW(),\"\")","v":""}]
[null,null,null,null,null,null,null,null,{"$f":"IF(Магазин!$G$12:$G$3000>0,ROW(),\"\")","v":""}]
[null,null,null,null,null,null,null,null,{"$f":"IF(Магазин!$G$12:$G$3000>0,ROW(),\"\")","v":""}]
[null,null,null,null,null,null,null,null,{"$f":"IF(Магазин!$G$12:$G$3000>0,ROW(),\"\")","v":""}]
[null,null,null,null,null,null,null,null,{"$f":"IF(Магазин!$G$12:$G$3000>0,ROW(),\"\")","v":""}]
[null,null,null,null,null,null,null,null,{"$f":"IF(Магазин!$G$12:$G$3000>0,ROW(),\"\")","v":""}]
[null,null,null,null,null,null,null,null,{"$f":"IF(Магазин!$G$12:$G$3000>0,ROW(),\"\")","v":""}]
[null,null,null,null,null,null,null,null,{"$f":"IF(Магазин!$G$12:$G$3000>0,ROW(),\"\")","v":""}]
[null,null,null,null,null,null,null,null,{"$f":"IF(Магазин!$G$12:$G$3000>0,ROW(),\"\")","v":""}]
[null,null,null,null,null,null,null,null,{"$f":"IF(Магазин!$G$12:$G$3000>0,ROW(),\"\")","v":""}]
[null,null,null,null,null,null,null,null,{"$f":"IF(Магазин!$G$12:$G$3000>0,ROW(),\"\")","v":""}]
[null,null,null,null,null,null,null,null,{"$f":"IF(Магазин!$G$12:$G$3000>0,ROW(),\"\")","v":""}]
[null,null,null,null,null,null,null,null,{"$f":"IF(Магазин!$G$12:$G$3000>0,ROW(),\"\")","v":""}]
[null,null,null,null,null,null,null,null,{"$f":"IF(Магазин!$G$12:$G$3000>0,ROW(),\"\")","v":""}]
[null,null,null,null,null,null,null,null,{"$f":"IF(Магазин!$G$12:$G$3000>0,ROW(),\"\")","v":""}]
[null,null,null,null,null,null,null,null,{"$f":"IF(Магазин!$G$12:$G$3000>0,ROW(),\"\")","v":""}]
[null,null,null,null,null,null,null,null,{"$f":"IF(Магазин!$G$12:$G$3000>0,ROW(),\"\")","v":""}]
[null,null,null,null,null,null,null,null,{"$f":"IF(Магазин!$G$12:$G$3000>0,ROW(),\"\")","v":""}]
[null,null,null,null,null,null,null,null,{"$f":"IF(Магазин!$G$12:$G$3000>0,ROW(),\"\")","v":""}]
[null,null,null,null,null,null,null,null,{"$f":"IF(Магазин!$G$12:$G$3000>0,ROW(),\"\")","v":""}]
[null,null,null,null,null,null,null,null,{"$f":"IF(Магазин!$G$12:$G$3000>0,ROW(),\"\")","v":""}]
[null,null,null,null,null,null,null,null,{"$f":"IF(Магазин!$G$12:$G$3000>0,ROW(),\"\")","v":""}]
[null,null,null,null,null,null,null,null,{"$f":"IF(Магазин!$G$12:$G$3000>0,ROW(),\"\")","v":""}]
[null,null,null,null,null,null,null,null,{"$f":"IF(Магазин!$G$12:$G$3000>0,ROW(),\"\")","v":""}]
[null,null,null,null,null,null,null,null,{"$f":"IF(Магазин!$G$12:$G$3000>0,ROW(),\"\")","v":""}]
[null,null,null,null,null,null,null,null,{"$f":"IF(Магазин!$G$12:$G$3000>0,ROW(),\"\")","v":""}]
[null,null,null,null,null,null,null,null,{"$f":"IF(Магазин!$G$12:$G$3000>0,ROW(),\"\")","v":""}]
[null,null,null,null,null,null,null,null,{"$f":"IF(Магазин!$G$12:$G$3000>0,ROW(),\"\")","v":""}]
[null,null,null,null,null,null,null,null,{"$f":"IF(Магазин!$G$12:$G$3000>0,ROW(),\"\")","v":""}]
[null,null,null,null,null,null,null,null,{"$f":"IF(Магазин!$G$12:$G$3000>0,ROW(),\"\")","v":""}]
[null,null,null,null,null,null,null,null,{"$f":"IF(Магазин!$G$12:$G$3000>0,ROW(),\"\")","v":""}]
[null,null,null,null,null,null,null,null,{"$f":"IF(Магазин!$G$12:$G$3000>0,ROW(),\"\")","v":""}]
[null,null,null,null,null,null,null,null,{"$f":"IF(Магазин!$G$12:$G$3000>0,ROW(),\"\")","v":""}]
[null,null,null,null,null,null,null,null,{"$f":"IF(Магазин!$G$12:$G$3000>0,ROW(),\"\")","v":""}]
[null,null,null,null,null,null,null,null,{"$f":"IF(Магазин!$G$12:$G$3000>0,ROW(),\"\")","v":""}]
[null,null,null,null,null,null,null,null,{"$f":"IF(Магазин!$G$12:$G$3000>0,ROW(),\"\")","v":""}]
[null,null,null,null,null,null,null,null,{"$f":"IF(Магазин!$G$12:$G$3000>0,ROW(),\"\")","v":""}]
[null,null,null,null,null,null,null,null,{"$f":"IF(Магазин!$G$12:$G$3000>0,ROW(),\"\")","v":""}]
[null,null,null,null,null,null,null,null,{"$f":"IF(Магазин!$G$12:$G$3000>0,ROW(),\"\")","v":""}]
[null,null,null,null,null,null,null,null,{"$f":"IF(Магазин!$G$12:$G$3000>0,ROW(),\"\")","v":""}]
[null,null,null,null,null,null,null,null,{"$f":"IF(Магазин!$G$12:$G$3000>0,ROW(),\"\")","v":""}]
[null,null,null,null,null,null,null,null,{"$f":"IF(Магазин!$G$12:$G$3000>0,ROW(),\"\")","v":""}]
[null,null,null,null,null,null,null,null,{"$f":"IF(Магазин!$G$12:$G$3000>0,ROW(),\"\")","v":""}]
[null,null,null,null,null,null,null,null,{"$f":"IF(Магазин!$G$12:$G$3000>0,ROW(),\"\")","v":""}]
[null,null,null,null,null,null,null,null,{"$f":"IF(Магазин!$G$12:$G$3000>0,ROW(),\"\")","v":""}]
[null,null,null,null,null,null,null,null,{"$f":"IF(Магазин!$G$12:$G$3000>0,ROW(),\"\")","v":""}]
[null,null,null,null,null,null,null,null,{"$f":"IF(Магазин!$G$12:$G$3000>0,ROW(),\"\")","v":""}]
[null,null,null,null,null,null,null,null,{"$f":"IF(Магазин!$G$12:$G$3000>0,ROW(),\"\")","v":""}]
[null,null,null,null,null,null,null,null,{"$f":"IF(Магазин!$G$12:$G$3000>0,ROW(),\"\")","v":""}]
[null,null,null,null,null,null,null,null,{"$f":"IF(Магазин!$G$12:$G$3000>0,ROW(),\"\")","v":""}]
[null,null,null,null,null,null,null,null,{"$f":"IF(Магазин!$G$12:$G$3000>0,ROW(),\"\")","v":""}]
[null,null,null,null,null,null,null,null,{"$f":"IF(Магазин!$G$12:$G$3000>0,ROW(),\"\")","v":""}]
[null,null,null,null,null,null,null,null,{"$f":"IF(Магазин!$G$12:$G$3000>0,ROW(),\"\")","v":""}]
[null,null,null,null,null,null,null,null,{"$f":"IF(Магазин!$G$12:$G$3000>0,ROW(),\"\")","v":""}]
[null,null,null,null,null,null,null,null,{"$f":"IF(Магазин!$G$12:$G$3000>0,ROW(),\"\")","v":""}]
[null,null,null,null,null,null,null,null,{"$f":"IF(Магазин!$G$12:$G$3000>0,ROW(),\"\")","v":""}]
[null,null,null,null,null,null,null,null,{"$f":"IF(Магазин!$G$12:$G$3000>0,ROW(),\"\")","v":""}]
[null,null,null,null,null,null,null,null,{"$f":"IF(Магазин!$G$12:$G$3000>0,ROW(),\"\")","v":""}]
[null,null,null,null,null,null,null,null,{"$f":"IF(Магазин!$G$12:$G$3000>0,ROW(),\"\")","v":""}]
[null,null,null,null,null,null,null,null,{"$f":"IF(Магазин!$G$12:$G$3000>0,ROW(),\"\")","v":""}]
[null,null,null,null,null,null,null,null,{"$f":"IF(Магазин!$G$12:$G$3000>0,ROW(),\"\")","v":""}]
[null,null,null,null,null,null,null,null,{"$f":"IF(Магазин!$G$12:$G$3000>0,ROW(),\"\")","v":""}]
[null,null,null,null,null,null,null,null,{"$f":"IF(Магазин!$G$12:$G$3000>0,ROW(),\"\")","v":""}]
[null,null,null,null,null,null,null,null,{"$f":"IF(Магазин!$G$12:$G$3000>0,ROW(),\"\")","v":""}]
[null,null,null,null,null,null,null,null,{"$f":"IF(Магазин!$G$12:$G$3000>0,ROW(),\"\")","v":""}]
[null,null,null,null,null,null,null,null,{"$f":"IF(Магазин!$G$12:$G$3000>0,ROW(),\"\")","v":""}]
[null,null,null,null,null,null,null,null,{"$f":"IF(Магазин!$G$12:$G$3000>0,ROW(),\"\")","v":""}]
[null,null,null,null,null,null,null,null,{"$f":"IF(Магазин!$G$12:$G$3000>0,ROW(),\"\")","v":""}]
[null,null,null,null,null,null,null,null,{"$f":"IF(Магазин!$G$12:$G$3000>0,ROW(),\"\")","v":""}]
[null,null,null,null,null,null,null,null,{"$f":"IF(Магазин!$G$12:$G$3000>0,ROW(),\"\")","v":""}]
[null,null,null,null,null,null,null,null,{"$f":"IF(Магазин!$G$12:$G$3000>0,ROW(),\"\")","v":""}]
[null,null,null,null,null,null,null,null,{"$f":"IF(Магазин!$G$12:$G$3000>0,ROW(),\"\")","v":""}]
[null,null,null,null,null,null,null,null,{"$f":"IF(Магазин!$G$12:$G$3000>0,ROW(),\"\")","v":""}]
[null,null,null,null,null,null,null,null,{"$f":"IF(Магазин!$G$12:$G$3000>0,ROW(),\"\")","v":""}]
[null,null,null,null,null,null,null,null,{"$f":"IF(Магазин!$G$12:$G$3000>0,ROW(),\"\")","v":""}]
[null,null,null,null,null,null,null,null,{"$f":"IF(Магазин!$G$12:$G$3000>0,ROW(),\"\")","v":""}]
[null,null,null,null,null,null,null,null,{"$f":"IF(Магазин!$G$12:$G$3000>0,ROW(),\"\")","v":""}]
[null,null,null,null,null,null,null,null,{"$f":"IF(Магазин!$G$12:$G$3000>0,ROW(),\"\")","v":""}]
[null,null,null,null,null,null,null,null,{"$f":"IF(Магазин!$G$12:$G$3000>0,ROW(),\"\")","v":""}]
[null,null,null,null,null,null,null,null,{"$f":"IF(Магазин!$G$12:$G$3000>0,ROW(),\"\")","v":""}]
[null,null,null,null,null,null,null,null,{"$f":"IF(Магазин!$G$12:$G$3000>0,ROW(),\"\")","v":""}]
[null,null,null,null,null,null,null,null,{"$f":"IF(Магазин!$G$12:$G$3000>0,ROW(),\"\")","v":""}]
[null,null,null,null,null,null,null,null,{"$f":"IF(Магазин!$G$12:$G$3000>0,ROW(),\"\")","v":""}]
[null,null,null,null,null,null,null,null,{"$f":"IF(Магазин!$G$12:$G$3000>0,ROW(),\"\")","v":""}]
[null,null,null,null,null,null,null,null,{"$f":"IF(Магазин!$G$12:$G$3000>0,ROW(),\"\")","v":""}]
[null,null,null,null,null,null,null,null,{"$f":"IF(Магазин!$G$12:$G$3000>0,ROW(),\"\")","v":""}]
[null,null,null,null,null,null,null,null,{"$f":"IF(Магазин!$G$12:$G$3000>0,ROW(),\"\")","v":""}]
[null,null,null,null,null,null,null,null,{"$f":"IF(Магазин!$G$12:$G$3000>0,ROW(),\"\")","v":""}]
[null,null,null,null,null,null,null,null,{"$f":"IF(Магазин!$G$12:$G$3000>0,ROW(),\"\")","v":""}]
[null,null,null,null,null,null,null,null,{"$f":"IF(Магазин!$G$12:$G$3000>0,ROW(),\"\")","v":""}]
[null,null,null,null,null,null,null,null,{"$f":"IF(Магазин!$G$12:$G$3000>0,ROW(),\"\")","v":""}]
[null,null,null,null,null,null,null,null,{"$f":"IF(Магазин!$G$12:$G$3000>0,ROW(),\"\")","v":""}]
[null,null,null,null,null,null,null,null,{"$f":"IF(Магазин!$G$12:$G$3000>0,ROW(),\"\")","v":""}]
[null,null,null,null,null,null,null,null,{"$f":"IF(Магазин!$G$12:$G$3000>0,ROW(),\"\")","v":""}]
[null,null,null,null,null,null,null,null,{"$f":"IF(Магазин!$G$12:$G$3000>0,ROW(),\"\")","v":""}]
[null,null,null,null,null,null,null,null,{"$f":"IF(Магазин!$G$12:$G$3000>0,ROW(),\"\")","v":""}]
[null,null,null,null,null,null,null,null,{"$f":"IF(Магазин!$G$12:$G$3000>0,ROW(),\"\")","v":""}]
[null,null,null,null,null,null,null,null,{"$f":"IF(Магазин!$G$12:$G$3000>0,ROW(),\"\")","v":""}]
[null,null,null,null,null,null,null,null,{"$f":"IF(Магазин!$G$12:$G$3000>0,ROW(),\"\")","v":""}]
[null,null,null,null,null,null,null,null,{"$f":"IF(Магазин!$G$12:$G$3000>0,ROW(),\"\")","v":""}]
[null,null,null,null,null,null,null,null,{"$f":"IF(Магазин!$G$12:$G$3000>0,ROW(),\"\")","v":""}]
[null,null,null,null,null,null,null,null,{"$f":"IF(Магазин!$G$12:$G$3000>0,ROW(),\"\")","v":""}]
[null,null,null,null,null,null,null,null,{"$f":"IF(Магазин!$G$12:$G$3000>0,ROW(),\"\")","v":""}]
[null,null,null,null,null,null,null,null,{"$f":"IF(Магазин!$G$12:$G$3000>0,ROW(),\"\")","v":""}]
[null,null,null,null,null,null,null,null,{"$f":"IF(Магазин!$G$12:$G$3000>0,ROW(),\"\")","v":""}]
[null,null,null,null,null,null,null,null,{"$f":"IF(Магазин!$G$12:$G$3000>0,ROW(),\"\")","v":""}]
[null,null,null,null,null,null,null,null,{"$f":"IF(Магазин!$G$12:$G$3000>0,ROW(),\"\")","v":""}]
[null,null,null,null,null,null,null,null,{"$f":"IF(Магазин!$G$12:$G$3000>0,ROW(),\"\")","v":""}]
[null,null,null,null,null,null,null,null,{"$f":"IF(Магазин!$G$12:$G$3000>0,ROW(),\"\")","v":""}]
[null,null,null,null,null,null,null,null,{"$f":"IF(Магазин!$G$12:$G$3000>0,ROW(),\"\")","v":""}]
[null,null,null,null,null,null,null,null,{"$f":"IF(Магазин!$G$12:$G$3000>0,ROW(),\"\")","v":""}]
[null,null,null,null,null,null,null,null,{"$f":"IF(Магазин!$G$12:$G$3000>0,ROW(),\"\")","v":""}]
[null,null,null,null,null,null,null,null,{"$f":"IF(Магазин!$G$12:$G$3000>0,ROW(),\"\")","v":""}]
[null,null,null,null,null,null,null,null,{"$f":"IF(Магазин!$G$12:$G$3000>0,ROW(),\"\")","v":""}]
[null,null,null,null,null,null,null,null,{"$f":"IF(Магазин!$G$12:$G$3000>0,ROW(),\"\")","v":""}]
[null,null,null,null,null,null,null,null,{"$f":"IF(Магазин!$G$12:$G$3000>0,ROW(),\"\")","v":""}]
[null,null,null,null,null,null,null,null,{"$f":"IF(Магазин!$G$12:$G$3000>0,ROW(),\"\")","v":""}]
[null,null,null,null,null,null,null,null,{"$f":"IF(Магазин!$G$12:$G$3000>0,ROW(),\"\")","v":""}]
[null,null,null,null,null,null,null,null,{"$f":"IF(Магазин!$G$12:$G$3000>0,ROW(),\"\")","v":""}]
[null,null,null,null,null,null,null,null,{"$f":"IF(Магазин!$G$12:$G$3000>0,ROW(),\"\")","v":""}]
[null,null,null,null,null,null,null,null,{"$f":"IF(Магазин!$G$12:$G$3000>0,ROW(),\"\")","v":""}]
[null,null,null,null,null,null,null,null,{"$f":"IF(Магазин!$G$12:$G$3000>0,ROW(),\"\")","v":""}]
[null,null,null,null,null,null,null,null,{"$f":"IF(Магазин!$G$12:$G$3000>0,ROW(),\"\")","v":""}]
[null,null,null,null,null,null,null,null,{"$f":"IF(Магазин!$G$12:$G$3000>0,ROW(),\"\")","v":""}]
[null,null,null,null,null,null,null,null,{"$f":"IF(Магазин!$G$12:$G$3000>0,ROW(),\"\")","v":""}]
[null,null,null,null,null,null,null,null,{"$f":"IF(Магазин!$G$12:$G$3000>0,ROW(),\"\")","v":""}]
[null,null,null,null,null,null,null,null,{"$f":"IF(Магазин!$G$12:$G$3000>0,ROW(),\"\")","v":""}]
[null,null,null,null,null,null,null,null,{"$f":"IF(Магазин!$G$12:$G$3000>0,ROW(),\"\")","v":""}]
[null,null,null,null,null,null,null,null,{"$f":"IF(Магазин!$G$12:$G$3000>0,ROW(),\"\")","v":""}]
[null,null,null,null,null,null,null,null,{"$f":"IF(Магазин!$G$12:$G$3000>0,ROW(),\"\")","v":""}]
[null,null,null,null,null,null,null,null,{"$f":"IF(Магазин!$G$12:$G$3000>0,ROW(),\"\")","v":""}]
[null,null,null,null,null,null,null,null,{"$f":"IF(Магазин!$G$12:$G$3000>0,ROW(),\"\")","v":""}]
[null,null,null,null,null,null,null,null,{"$f":"IF(Магазин!$G$12:$G$3000>0,ROW(),\"\")","v":""}]
[null,null,null,null,null,null,null,null,{"$f":"IF(Магазин!$G$12:$G$3000>0,ROW(),\"\")","v":""}]
[null,null,null,null,null,null,null,null,{"$f":"IF(Магазин!$G$12:$G$3000>0,ROW(),\"\")","v":""}]
[null,null,null,null,null,null,null,null,{"$f":"IF(Магазин!$G$12:$G$3000>0,ROW(),\"\")","v":""}]
[null,null,null,null,null,null,null,null,{"$f":"IF(Магазин!$G$12:$G$3000>0,ROW(),\"\")","v":""}]
[null,null,null,null,null,null,null,null,{"$f":"IF(Магазин!$G$12:$G$3000>0,ROW(),\"\")","v":""}]
[null,null,null,null,null,null,null,null,{"$f":"IF(Магазин!$G$12:$G$3000>0,ROW(),\"\")","v":""}]
[null,null,null,null,null,null,null,null,{"$f":"IF(Магазин!$G$12:$G$3000>0,ROW(),\"\")","v":""}]
[null,null,null,null,null,null,null,null,{"$f":"IF(Магазин!$G$12:$G$3000>0,ROW(),\"\")","v":""}]
[null,null,null,null,null,null,null,null,{"$f":"IF(Магазин!$G$12:$G$3000>0,ROW(),\"\")","v":""}]
[null,null,null,null,null,null,null,null,{"$f":"IF(Магазин!$G$12:$G$3000>0,ROW(),\"\")","v":""}]
[null,null,null,null,null,null,null,null,{"$f":"IF(Магазин!$G$12:$G$3000>0,ROW(),\"\")","v":""}]
[null,null,null,null,null,null,null,null,{"$f":"IF(Магазин!$G$12:$G$3000>0,ROW(),\"\")","v":""}]
[null,null,null,null,null,null,null,null,{"$f":"IF(Магазин!$G$12:$G$3000>0,ROW(),\"\")","v":""}]
[null,null,null,null,null,null,null,null,{"$f":"IF(Магазин!$G$12:$G$3000>0,ROW(),\"\")","v":""}]
[null,null,null,null,null,null,null,null,{"$f":"IF(Магазин!$G$12:$G$3000>0,ROW(),\"\")","v":""}]
[null,null,null,null,null,null,null,null,{"$f":"IF(Магазин!$G$12:$G$3000>0,ROW(),\"\")","v":""}]
[null,null,null,null,null,null,null,null,{"$f":"IF(Магазин!$G$12:$G$3000>0,ROW(),\"\")","v":""}]
[null,null,null,null,null,null,null,null,{"$f":"IF(Магазин!$G$12:$G$3000>0,ROW(),\"\")","v":""}]
[null,null,null,null,null,null,null,null,{"$f":"IF(Магазин!$G$12:$G$3000>0,ROW(),\"\")","v":""}]
[null,null,null,null,null,null,null,null,{"$f":"IF(Магазин!$G$12:$G$3000>0,ROW(),\"\")","v":""}]
[null,null,null,null,null,null,null,null,{"$f":"IF(Магазин!$G$12:$G$3000>0,ROW(),\"\")","v":""}]
[null,null,null,null,null,null,null,null,{"$f":"IF(Магазин!$G$12:$G$3000>0,ROW(),\"\")","v":""}]
[null,null,null,null,null,null,null,null,{"$f":"IF(Магазин!$G$12:$G$3000>0,ROW(),\"\")","v":""}]
[null,null,null,null,null,null,null,null,{"$f":"IF(Магазин!$G$12:$G$3000>0,ROW(),\"\")","v":""}]
[null,null,null,null,null,null,null,null,{"$f":"IF(Магазин!$G$12:$G$3000>0,ROW(),\"\")","v":""}]
[null,null,null,null,null,null,null,null,{"$f":"IF(Магазин!$G$12:$G$3000>0,ROW(),\"\")","v":""}]
[null,null,null,null,null,null,null,null,{"$f":"IF(Магазин!$G$12:$G$3000>0,ROW(),\"\")","v":""}]
[null,null,null,null,null,null,null,null,{"$f":"IF(Магазин!$G$12:$G$3000>0,ROW(),\"\")","v":""}]
[null,null,null,null,null,null,null,null,{"$f":"IF(Магазин!$G$12:$G$3000>0,ROW(),\"\")","v":""}]
[null,null,null,null,null,null,null,null,{"$f":"IF(Магазин!$G$12:$G$3000>0,ROW(),\"\")","v":""}]
[null,null,null,null,null,null,null,null,{"$f":"IF(Магазин!$G$12:$G$3000>0,ROW(),\"\")","v":""}]
[null,null,null,null,null,null,null,null,{"$f":"IF(Магазин!$G$12:$G$3000>0,ROW(),\"\")","v":""}]
[null,null,null,null,null,null,null,null,{"$f":"IF(Магазин!$G$12:$G$3000>0,ROW(),\"\")","v":""}]
[null,null,null,null,null,null,null,null,{"$f":"IF(Магазин!$G$12:$G$3000>0,ROW(),\"\")","v":""}]
[null,null,null,null,null,null,null,null,{"$f":"IF(Магазин!$G$12:$G$3000>0,ROW(),\"\")","v":""}]
[null,null,null,null,null,null,null,null,{"$f":"IF(Магазин!$G$12:$G$3000>0,ROW(),\"\")","v":""}]
[null,null,null,null,null,null,null,null,{"$f":"IF(Магазин!$G$12:$G$3000>0,ROW(),\"\")","v":""}]
[null,null,null,null,null,null,null,null,{"$f":"IF(Магазин!$G$12:$G$3000>0,ROW(),\"\")","v":""}]
[null,null,null,null,null,null,null,null,{"$f":"IF(Магазин!$G$12:$G$3000>0,ROW(),\"\")","v":""}]
[null,null,null,null,null,null,null,null,{"$f":"IF(Магазин!$G$12:$G$3000>0,ROW(),\"\")","v":""}]
[null,null,null,null,null,null,null,null,{"$f":"IF(Магазин!$G$12:$G$3000>0,ROW(),\"\")","v":""}]
[null,null,null,null,null,null,null,null,{"$f":"IF(Магазин!$G$12:$G$3000>0,ROW(),\"\")","v":""}]
[null,null,null,null,null,null,null,null,{"$f":"IF(Магазин!$G$12:$G$3000>0,ROW(),\"\")","v":""}]
[null,null,null,null,null,null,null,null,{"$f":"IF(Магазин!$G$12:$G$3000>0,ROW(),\"\")","v":""}]
[null,null,null,null,null,null,null,null,{"$f":"IF(Магазин!$G$12:$G$3000>0,ROW(),\"\")","v":""}]
[null,null,null,null,null,null,null,null,{"$f":"IF(Магазин!$G$12:$G$3000>0,ROW(),\"\")","v":""}]
[null,null,null,null,null,null,null,null,{"$f":"IF(Магазин!$G$12:$G$3000>0,ROW(),\"\")","v":""}]
[null,null,null,null,null,null,null,null,{"$f":"IF(Магазин!$G$12:$G$3000>0,ROW(),\"\")","v":""}]
[null,null,null,null,null,null,null,null,{"$f":"IF(Магазин!$G$12:$G$3000>0,ROW(),\"\")","v":""}]
[null,null,null,null,null,null,null,null,{"$f":"IF(Магазин!$G$12:$G$3000>0,ROW(),\"\")","v":""}]
[null,null,null,null,null,null,null,null,{"$f":"IF(Магазин!$G$12:$G$3000>0,ROW(),\"\")","v":""}]
[null,null,null,null,null,null,null,null,{"$f":"IF(Магазин!$G$12:$G$3000>0,ROW(),\"\")","v":""}]
[null,null,null,null,null,null,null,null,{"$f":"IF(Магазин!$G$12:$G$3000>0,ROW(),\"\")","v":""}]
[null,null,null,null,null,null,null,null,{"$f":"IF(Магазин!$G$12:$G$3000>0,ROW(),\"\")","v":""}]
[null,null,null,null,null,null,null,null,{"$f":"IF(Магазин!$G$12:$G$3000>0,ROW(),\"\")","v":""}]
[null,null,null,null,null,null,null,null,{"$f":"IF(Магазин!$G$12:$G$3000>0,ROW(),\"\")","v":""}]
[null,null,null,null,null,null,null,null,{"$f":"IF(Магазин!$G$12:$G$3000>0,ROW(),\"\")","v":""}]
[null,null,null,null,null,null,null,null,{"$f":"IF(Магазин!$G$12:$G$3000>0,ROW(),\"\")","v":""}]
[null,null,null,null,null,null,null,null,{"$f":"IF(Магазин!$G$12:$G$3000>0,ROW(),\"\")","v":""}]
[null,null,null,null,null,null,null,null,{"$f":"IF(Магазин!$G$12:$G$3000>0,ROW(),\"\")","v":""}]
[null,null,null,null,null,null,null,null,{"$f":"IF(Магазин!$G$12:$G$3000>0,ROW(),\"\")","v":""}]
[null,null,null,null,null,null,null,null,{"$f":"IF(Магазин!$G$12:$G$3000>0,ROW(),\"\")","v":""}]
[null,null,null,null,null,null,null,null,{"$f":"IF(Магазин!$G$12:$G$3000>0,ROW(),\"\")","v":""}]
[null,null,null,null,null,null,null,null,{"$f":"IF(Магазин!$G$12:$G$3000>0,ROW(),\"\")","v":""}]
[null,null,null,null,null,null,null,null,{"$f":"IF(Магазин!$G$12:$G$3000>0,ROW(),\"\")","v":""}]
[null,null,null,null,null,null,null,null,{"$f":"IF(Магазин!$G$12:$G$3000>0,ROW(),\"\")","v":""}]
[null,null,null,null,null,null,null,null,{"$f":"IF(Магазин!$G$12:$G$3000>0,ROW(),\"\")","v":""}]
[null,null,null,null,null,null,null,null,{"$f":"IF(Магазин!$G$12:$G$3000>0,ROW(),\"\")","v":""}]
[null,null,null,null,null,null,null,null,{"$f":"IF(Магазин!$G$12:$G$3000>0,ROW(),\"\")","v":""}]
[null,null,null,null,null,null,null,null,{"$f":"IF(Магазин!$G$12:$G$3000>0,ROW(),\"\")","v":""}]
[null,null,null,null,null,null,null,null,{"$f":"IF(Магазин!$G$12:$G$3000>0,ROW(),\"\")","v":""}]
[null,null,null,null,null,null,null,null,{"$f":"IF(Магазин!$G$12:$G$3000>0,ROW(),\"\")","v":""}]
[null,null,null,null,null,null,null,null,{"$f":"IF(Магазин!$G$12:$G$3000>0,ROW(),\"\")","v":""}]
[null,null,null,null,null,null,null,null,{"$f":"IF(Магазин!$G$12:$G$3000>0,ROW(),\"\")","v":""}]
[null,null,null,null,null,null,null,null,{"$f":"IF(Магазин!$G$12:$G$3000>0,ROW(),\"\")","v":""}]
[null,null,null,null,null,null,null,null,{"$f":"IF(Магазин!$G$12:$G$3000>0,ROW(),\"\")","v":""}]
[null,null,null,null,null,null,null,null,{"$f":"IF(Магазин!$G$12:$G$3000>0,ROW(),\"\")","v":""}]
[null,null,null,null,null,null,null,null,{"$f":"IF(Магазин!$G$12:$G$3000>0,ROW(),\"\")","v":""}]
[null,null,null,null,null,null,null,null,{"$f":"IF(Магазин!$G$12:$G$3000>0,ROW(),\"\")","v":""}]
[null,null,null,null,null,null,null,null,{"$f":"IF(Магазин!$G$12:$G$3000>0,ROW(),\"\")","v":""}]
[null,null,null,null,null,null,null,null,{"$f":"IF(Магазин!$G$12:$G$3000>0,ROW(),\"\")","v":""}]
[null,null,null,null,null,null,null,null,{"$f":"IF(Магазин!$G$12:$G$3000>0,ROW(),\"\")","v":""}]
[null,null,null,null,null,null,null,null,{"$f":"IF(Магазин!$G$12:$G$3000>0,ROW(),\"\")","v":""}]
[null,null,null,null,null,null,null,null,{"$f":"IF(Магазин!$G$12:$G$3000>0,ROW(),\"\")","v":""}]
[null,null,null,null,null,null,null,null,{"$f":"IF(Магазин!$G$12:$G$3000>0,ROW(),\"\")","v":""}]
[null,null,null,null,null,null,null,null,{"$f":"IF(Магазин!$G$12:$G$3000>0,ROW(),\"\")","v":""}]
[null,null,null,null,null,null,null,null,{"$f":"IF(Магазин!$G$12:$G$3000>0,ROW(),\"\")","v":""}]
[null,null,null,null,null,null,null,null,{"$f":"IF(Магазин!$G$12:$G$3000>0,ROW(),\"\")","v":""}]
[null,null,null,null,null,null,null,null,{"$f":"IF(Магазин!$G$12:$G$3000>0,ROW(),\"\")","v":""}]
[null,null,null,null,null,null,null,null,{"$f":"IF(Магазин!$G$12:$G$3000>0,ROW(),\"\")","v":""}]
[null,null,null,null,null,null,null,null,{"$f":"IF(Магазин!$G$12:$G$3000>0,ROW(),\"\")","v":""}]
[null,null,null,null,null,null,null,null,{"$f":"IF(Магазин!$G$12:$G$3000>0,ROW(),\"\")","v":""}]
[null,null,null,null,null,null,null,null,{"$f":"IF(Магазин!$G$12:$G$3000>0,ROW(),\"\")","v":""}]
[null,null,null,null,null,null,null,null,{"$f":"IF(Магазин!$G$12:$G$3000>0,ROW(),\"\")","v":""}]
[null,null,null,null,null,null,null,null,{"$f":"IF(Магазин!$G$12:$G$3000>0,ROW(),\"\")","v":""}]
[null,null,null,null,null,null,null,null,{"$f":"IF(Магазин!$G$12:$G$3000>0,ROW(),\"\")","v":""}]
[null,null,null,null,null,null,null,null,{"$f":"IF(Магазин!$G$12:$G$3000>0,ROW(),\"\")","v":""}]
[null,null,null,null,null,null,null,null,{"$f":"IF(Магазин!$G$12:$G$3000>0,ROW(),\"\")","v":""}]
[null,null,null,null,null,null,null,null,{"$f":"IF(Магазин!$G$12:$G$3000>0,ROW(),\"\")","v":""}]
[null,null,null,null,null,null,null,null,{"$f":"IF(Магазин!$G$12:$G$3000>0,ROW(),\"\")","v":""}]
[null,null,null,null,null,null,null,null,{"$f":"IF(Магазин!$G$12:$G$3000>0,ROW(),\"\")","v":""}]
[null,null,null,null,null,null,null,null,{"$f":"IF(Магазин!$G$12:$G$3000>0,ROW(),\"\")","v":""}]
[null,null,null,null,null,null,null,null,{"$f":"IF(Магазин!$G$12:$G$3000>0,ROW(),\"\")","v":""}]
[null,null,null,null,null,null,null,null,{"$f":"IF(Магазин!$G$12:$G$3000>0,ROW(),\"\")","v":""}]
[null,null,null,null,null,null,null,null,{"$f":"IF(Магазин!$G$12:$G$3000>0,ROW(),\"\")","v":""}]
[null,null,null,null,null,null,null,null,{"$f":"IF(Магазин!$G$12:$G$3000>0,ROW(),\"\")","v":""}]
[null,null,null,null,null,null,null,null,{"$f":"IF(Магазин!$G$12:$G$3000>0,ROW(),\"\")","v":""}]
[null,null,null,null,null,null,null,null,{"$f":"IF(Магазин!$G$12:$G$3000>0,ROW(),\"\")","v":""}]
[null,null,null,null,null,null,null,null,{"$f":"IF(Магазин!$G$12:$G$3000>0,ROW(),\"\")","v":""}]
[null,null,null,null,null,null,null,null,{"$f":"IF(Магазин!$G$12:$G$3000>0,ROW(),\"\")","v":""}]
[null,null,null,null,null,null,null,null,{"$f":"IF(Магазин!$G$12:$G$3000>0,ROW(),\"\")","v":""}]
[null,null,null,null,null,null,null,null,{"$f":"IF(Магазин!$G$12:$G$3000>0,ROW(),\"\")","v":""}]
[null,null,null,null,null,null,null,null,{"$f":"IF(Магазин!$G$12:$G$3000>0,ROW(),\"\")","v":""}]
[null,null,null,null,null,null,null,null,{"$f":"IF(Магазин!$G$12:$G$3000>0,ROW(),\"\")","v":""}]
[null,null,null,null,null,null,null,null,{"$f":"IF(Магазин!$G$12:$G$3000>0,ROW(),\"\")","v":""}]
[null,null,null,null,null,null,null,null,{"$f":"IF(Магазин!$G$12:$G$3000>0,ROW(),\"\")","v":""}]
[null,null,null,null,null,null,null,null,{"$f":"IF(Магазин!$G$12:$G$3000>0,ROW(),\"\")","v":""}]
[null,null,null,null,null,null,null,null,{"$f":"IF(Магазин!$G$12:$G$3000>0,ROW(),\"\")","v":""}]
[null,null,null,null,null,null,null,null,{"$f":"IF(Магазин!$G$12:$G$3000>0,ROW(),\"\")","v":""}]
[null,null,null,null,null,null,null,null,{"$f":"IF(Магазин!$G$12:$G$3000>0,ROW(),\"\")","v":""}]
[null,null,null,null,null,null,null,null,{"$f":"IF(Магазин!$G$12:$G$3000>0,ROW(),\"\")","v":""}]
[null,null,null,null,null,null,null,null,{"$f":"IF(Магазин!$G$12:$G$3000>0,ROW(),\"\")","v":""}]
[null,null,null,null,null,null,null,null,{"$f":"IF(Магазин!$G$12:$G$3000>0,ROW(),\"\")","v":""}]
[null,null,null,null,null,null,null,null,{"$f":"IF(Магазин!$G$12:$G$3000>0,ROW(),\"\")","v":""}]
[null,null,null,null,null,null,null,null,{"$f":"IF(Магазин!$G$12:$G$3000>0,ROW(),\"\")","v":""}]
[null,null,null,null,null,null,null,null,{"$f":"IF(Магазин!$G$12:$G$3000>0,ROW(),\"\")","v":""}]
[null,null,null,null,null,null,null,null,{"$f":"IF(Магазин!$G$12:$G$3000>0,ROW(),\"\")","v":""}]
[null,null,null,null,null,null,null,null,{"$f":"IF(Магазин!$G$12:$G$3000>0,ROW(),\"\")","v":""}]
[null,null,null,null,null,null,null,null,{"$f":"IF(Магазин!$G$12:$G$3000>0,ROW(),\"\")","v":""}]
[null,null,null,null,null,null,null,null,{"$f":"IF(Магазин!$G$12:$G$3000>0,ROW(),\"\")","v":""}]
[null,null,null,null,null,null,null,null,{"$f":"IF(Магазин!$G$12:$G$3000>0,ROW(),\"\")","v":""}]
[null,null,null,null,null,null,null,null,{"$f":"IF(Магазин!$G$12:$G$3000>0,ROW(),\"\")","v":""}]
[null,null,null,null,null,null,null,null,{"$f":"IF(Магазин!$G$12:$G$3000>0,ROW(),\"\")","v":""}]
[null,null,null,null,null,null,null,null,{"$f":"IF(Магазин!$G$12:$G$3000>0,ROW(),\"\")","v":""}]
[null,null,null,null,null,null,null,null,{"$f":"IF(Магазин!$G$12:$G$3000>0,ROW(),\"\")","v":""}]
[null,null,null,null,null,null,null,null,{"$f":"IF(Магазин!$G$12:$G$3000>0,ROW(),\"\")","v":""}]
[null,null,null,null,null,null,null,null,{"$f":"IF(Магазин!$G$12:$G$3000>0,ROW(),\"\")","v":""}]
[null,null,null,null,null,null,null,null,{"$f":"IF(Магазин!$G$12:$G$3000>0,ROW(),\"\")","v":""}]
[null,null,null,null,null,null,null,null,{"$f":"IF(Магазин!$G$12:$G$3000>0,ROW(),\"\")","v":""}]
[null,null,null,null,null,null,null,null,{"$f":"IF(Магазин!$G$12:$G$3000>0,ROW(),\"\")","v":""}]
[null,null,null,null,null,null,null,null,{"$f":"IF(Магазин!$G$12:$G$3000>0,ROW(),\"\")","v":""}]
[null,null,null,null,null,null,null,null,{"$f":"IF(Магазин!$G$12:$G$3000>0,ROW(),\"\")","v":""}]
[null,null,null,null,null,null,null,null,{"$f":"IF(Магазин!$G$12:$G$3000>0,ROW(),\"\")","v":""}]
[null,null,null,null,null,null,null,null,{"$f":"IF(Магазин!$G$12:$G$3000>0,ROW(),\"\")","v":""}]
[null,null,null,null,null,null,null,null,{"$f":"IF(Магазин!$G$12:$G$3000>0,ROW(),\"\")","v":""}]
[null,null,null,null,null,null,null,null,{"$f":"IF(Магазин!$G$12:$G$3000>0,ROW(),\"\")","v":""}]
[null,null,null,null,null,null,null,null,{"$f":"IF(Магазин!$G$12:$G$3000>0,ROW(),\"\")","v":""}]
[null,null,null,null,null,null,null,null,{"$f":"IF(Магазин!$G$12:$G$3000>0,ROW(),\"\")","v":""}]
[null,null,null,null,null,null,null,null,{"$f":"IF(Магазин!$G$12:$G$3000>0,ROW(),\"\")","v":""}]
[null,null,null,null,null,null,null,null,{"$f":"IF(Магазин!$G$12:$G$3000>0,ROW(),\"\")","v":""}]
[null,null,null,null,null,null,null,null,{"$f":"IF(Магазин!$G$12:$G$3000>0,ROW(),\"\")","v":""}]
[null,null,null,null,null,null,null,null,{"$f":"IF(Магазин!$G$12:$G$3000>0,ROW(),\"\")","v":""}]
[null,null,null,null,null,null,null,null,{"$f":"IF(Магазин!$G$12:$G$3000>0,ROW(),\"\")","v":""}]
[null,null,null,null,null,null,null,null,{"$f":"IF(Магазин!$G$12:$G$3000>0,ROW(),\"\")","v":""}]
[null,null,null,null,null,null,null,null,{"$f":"IF(Магазин!$G$12:$G$3000>0,ROW(),\"\")","v":""}]
[null,null,null,null,null,null,null,null,{"$f":"IF(Магазин!$G$12:$G$3000>0,ROW(),\"\")","v":""}]
[null,null,null,null,null,null,null,null,{"$f":"IF(Магазин!$G$12:$G$3000>0,ROW(),\"\")","v":""}]
[null,null,null,null,null,null,null,null,{"$f":"IF(Магазин!$G$12:$G$3000>0,ROW(),\"\")","v":""}]
[null,null,null,null,null,null,null,null,{"$f":"IF(Магазин!$G$12:$G$3000>0,ROW(),\"\")","v":""}]
[null,null,null,null,null,null,null,null,{"$f":"IF(Магазин!$G$12:$G$3000>0,ROW(),\"\")","v":""}]
[null,null,null,null,null,null,null,null,{"$f":"IF(Магазин!$G$12:$G$3000>0,ROW(),\"\")","v":""}]
[null,null,null,null,null,null,null,null,{"$f":"IF(Магазин!$G$12:$G$3000>0,ROW(),\"\")","v":""}]
[null,null,null,null,null,null,null,null,{"$f":"IF(Магазин!$G$12:$G$3000>0,ROW(),\"\")","v":""}]
[null,null,null,null,null,null,null,null,{"$f":"IF(Магазин!$G$12:$G$3000>0,ROW(),\"\")","v":""}]
[null,null,null,null,null,null,null,null,{"$f":"IF(Магазин!$G$12:$G$3000>0,ROW(),\"\")","v":""}]
[null,null,null,null,null,null,null,null,{"$f":"IF(Магазин!$G$12:$G$3000>0,ROW(),\"\")","v":""}]
[null,null,null,null,null,null,null,null,{"$f":"IF(Магазин!$G$12:$G$3000>0,ROW(),\"\")","v":""}]
[null,null,null,null,null,null,null,null,{"$f":"IF(Магазин!$G$12:$G$3000>0,ROW(),\"\")","v":""}]
[null,null,null,null,null,null,null,null,{"$f":"IF(Магазин!$G$12:$G$3000>0,ROW(),\"\")","v":""}]
[null,null,null,null,null,null,null,null,{"$f":"IF(Магазин!$G$12:$G$3000>0,ROW(),\"\")","v":""}]
[null,null,null,null,null,null,null,null,{"$f":"IF(Магазин!$G$12:$G$3000>0,ROW(),\"\")","v":""}]
[null,null,null,null,null,null,null,null,{"$f":"IF(Магазин!$G$12:$G$3000>0,ROW(),\"\")","v":""}]
[null,null,null,null,null,null,null,null,{"$f":"IF(Магазин!$G$12:$G$3000>0,ROW(),\"\")","v":""}]
[null,null,null,null,null,null,null,null,{"$f":"IF(Магазин!$G$12:$G$3000>0,ROW(),\"\")","v":""}]
[null,null,null,null,null,null,null,null,{"$f":"IF(Магазин!$G$12:$G$3000>0,ROW(),\"\")","v":""}]
[null,null,null,null,null,null,null,null,{"$f":"IF(Магазин!$G$12:$G$3000>0,ROW(),\"\")","v":""}]
[null,null,null,null,null,null,null,null,{"$f":"IF(Магазин!$G$12:$G$3000>0,ROW(),\"\")","v":""}]
[null,null,null,null,null,null,null,null,{"$f":"IF(Магазин!$G$12:$G$3000>0,ROW(),\"\")","v":""}]
[null,null,null,null,null,null,null,null,{"$f":"IF(Магазин!$G$12:$G$3000>0,ROW(),\"\")","v":""}]
[null,null,null,null,null,null,null,null,{"$f":"IF(Магазин!$G$12:$G$3000>0,ROW(),\"\")","v":""}]
[null,null,null,null,null,null,null,null,{"$f":"IF(Магазин!$G$12:$G$3000>0,ROW(),\"\")","v":""}]
[null,null,null,null,null,null,null,null,{"$f":"IF(Магазин!$G$12:$G$3000>0,ROW(),\"\")","v":""}]
[null,null,null,null,null,null,null,null,{"$f":"IF(Магазин!$G$12:$G$3000>0,ROW(),\"\")","v":""}]
[null,null,null,null,null,null,null,null,{"$f":"IF(Магазин!$G$12:$G$3000>0,ROW(),\"\")","v":""}]
[null,null,null,null,null,null,null,null,{"$f":"IF(Магазин!$G$12:$G$3000>0,ROW(),\"\")","v":""}]
[null,null,null,null,null,null,null,null,{"$f":"IF(Магазин!$G$12:$G$3000>0,ROW(),\"\")","v":""}]
[null,null,null,null,null,null,null,null,{"$f":"IF(Магазин!$G$12:$G$3000>0,ROW(),\"\")","v":""}]
[null,null,null,null,null,null,null,null,{"$f":"IF(Магазин!$G$12:$G$3000>0,ROW(),\"\")","v":""}]
[null,null,null,null,null,null,null,null,{"$f":"IF(Магазин!$G$12:$G$3000>0,ROW(),\"\")","v":""}]
[null,null,null,null,null,null,null,null,{"$f":"IF(Магазин!$G$12:$G$3000>0,ROW(),\"\")","v":""}]
[null,null,null,null,null,null,null,null,{"$f":"IF(Магазин!$G$12:$G$3000>0,ROW(),\"\")","v":""}]
[null,null,null,null,null,null,null,null,{"$f":"IF(Магазин!$G$12:$G$3000>0,ROW(),\"\")","v":""}]
[null,null,null,null,null,null,null,null,{"$f":"IF(Магазин!$G$12:$G$3000>0,ROW(),\"\")","v":""}]
[null,null,null,null,null,null,null,null,{"$f":"IF(Магазин!$G$12:$G$3000>0,ROW(),\"\")","v":""}]
[null,null,null,null,null,null,null,null,{"$f":"IF(Магазин!$G$12:$G$3000>0,ROW(),\"\")","v":""}]
[null,null,null,null,null,null,null,null,{"$f":"IF(Магазин!$G$12:$G$3000>0,ROW(),\"\")","v":""}]
[null,null,null,null,null,null,null,null,{"$f":"IF(Магазин!$G$12:$G$3000>0,ROW(),\"\")","v":""}]
[null,null,null,null,null,null,null,null,{"$f":"IF(Магазин!$G$12:$G$3000>0,ROW(),\"\")","v":""}]
[null,null,null,null,null,null,null,null,{"$f":"IF(Магазин!$G$12:$G$3000>0,ROW(),\"\")","v":""}]
[null,null,null,null,null,null,null,null,{"$f":"IF(Магазин!$G$12:$G$3000>0,ROW(),\"\")","v":""}]
[null,null,null,null,null,null,null,null,{"$f":"IF(Магазин!$G$12:$G$3000>0,ROW(),\"\")","v":""}]
[null,null,null,null,null,null,null,null,{"$f":"IF(Магазин!$G$12:$G$3000>0,ROW(),\"\")","v":""}]
[null,null,null,null,null,null,null,null,{"$f":"IF(Магазин!$G$12:$G$3000>0,ROW(),\"\")","v":""}]
[null,null,null,null,null,null,null,null,{"$f":"IF(Магазин!$G$12:$G$3000>0,ROW(),\"\")","v":""}]
[null,null,null,null,null,null,null,null,{"$f":"IF(Магазин!$G$12:$G$3000>0,ROW(),\"\")","v":""}]
[null,null,null,null,null,null,null,null,{"$f":"IF(Магазин!$G$12:$G$3000>0,ROW(),\"\")","v":""}]
[null,null,null,null,null,null,null,null,{"$f":"IF(Магазин!$G$12:$G$3000>0,ROW(),\"\")","v":""}]
[null,null,null,null,null,null,null,null,{"$f":"IF(Магазин!$G$12:$G$3000>0,ROW(),\"\")","v":""}]
[null,null,null,null,null,null,null,null,{"$f":"IF(Магазин!$G$12:$G$3000>0,ROW(),\"\")","v":""}]
[null,null,null,null,null,null,null,null,{"$f":"IF(Магазин!$G$12:$G$3000>0,ROW(),\"\")","v":""}]
[null,null,null,null,null,null,null,null,{"$f":"IF(Магазин!$G$12:$G$3000>0,ROW(),\"\")","v":""}]
[null,null,null,null,null,null,null,null,{"$f":"IF(Магазин!$G$12:$G$3000>0,ROW(),\"\")","v":""}]
[null,null,null,null,null,null,null,null,{"$f":"IF(Магазин!$G$12:$G$3000>0,ROW(),\"\")","v":""}]
[null,null,null,null,null,null,null,null,{"$f":"IF(Магазин!$G$12:$G$3000>0,ROW(),\"\")","v":""}]
[null,null,null,null,null,null,null,null,{"$f":"IF(Магазин!$G$12:$G$3000>0,ROW(),\"\")","v":""}]
[null,null,null,null,null,null,null,null,{"$f":"IF(Магазин!$G$12:$G$3000>0,ROW(),\"\")","v":""}]
[null,null,null,null,null,null,null,null,{"$f":"IF(Магазин!$G$12:$G$3000>0,ROW(),\"\")","v":""}]
[null,null,null,null,null,null,null,null,{"$f":"IF(Магазин!$G$12:$G$3000>0,ROW(),\"\")","v":""}]
[null,null,null,null,null,null,null,null,{"$f":"IF(Магазин!$G$12:$G$3000>0,ROW(),\"\")","v":""}]
[null,null,null,null,null,null,null,null,{"$f":"IF(Магазин!$G$12:$G$3000>0,ROW(),\"\")","v":""}]
[null,null,null,null,null,null,null,null,{"$f":"IF(Магазин!$G$12:$G$3000>0,ROW(),\"\")","v":""}]
[null,null,null,null,null,null,null,null,{"$f":"IF(Магазин!$G$12:$G$3000>0,ROW(),\"\")","v":""}]
[null,null,null,null,null,null,null,null,{"$f":"IF(Магазин!$G$12:$G$3000>0,ROW(),\"\")","v":""}]
[null,null,null,null,null,null,null,null,{"$f":"IF(Магазин!$G$12:$G$3000>0,ROW(),\"\")","v":""}]
[null,null,null,null,null,null,null,null,{"$f":"IF(Магазин!$G$12:$G$3000>0,ROW(),\"\")","v":""}]
[null,null,null,null,null,null,null,null,{"$f":"IF(Магазин!$G$12:$G$3000>0,ROW(),\"\")","v":""}]
[null,null,null,null,null,null,null,null,{"$f":"IF(Магазин!$G$12:$G$3000>0,ROW(),\"\")","v":""}]
[null,null,null,null,null,null,null,null,{"$f":"IF(Магазин!$G$12:$G$3000>0,ROW(),\"\")","v":""}]
[null,null,null,null,null,null,null,null,{"$f":"IF(Магазин!$G$12:$G$3000>0,ROW(),\"\")","v":""}]
[null,null,null,null,null,null,null,null,{"$f":"IF(Магазин!$G$12:$G$3000>0,ROW(),\"\")","v":""}]
[null,null,null,null,null,null,null,null,{"$f":"IF(Магазин!$G$12:$G$3000>0,ROW(),\"\")","v":""}]
[null,null,null,null,null,null,null,null,{"$f":"IF(Магазин!$G$12:$G$3000>0,ROW(),\"\")","v":""}]
[null,null,null,null,null,null,null,null,{"$f":"IF(Магазин!$G$12:$G$3000>0,ROW(),\"\")","v":""}]
[null,null,null,null,null,null,null,null,{"$f":"IF(Магазин!$G$12:$G$3000>0,ROW(),\"\")","v":""}]
[null,null,null,null,null,null,null,null,{"$f":"IF(Магазин!$G$12:$G$3000>0,ROW(),\"\")","v":""}]
[null,null,null,null,null,null,null,null,{"$f":"IF(Магазин!$G$12:$G$3000>0,ROW(),\"\")","v":""}]
[null,null,null,null,null,null,null,null,{"$f":"IF(Магазин!$G$12:$G$3000>0,ROW(),\"\")","v":""}]
[null,null,null,null,null,null,null,null,{"$f":"IF(Магазин!$G$12:$G$3000>0,ROW(),\"\")","v":""}]
[null,null,null,null,null,null,null,null,{"$f":"IF(Магазин!$G$12:$G$3000>0,ROW(),\"\")","v":""}]
[null,null,null,null,null,null,null,null,{"$f":"IF(Магазин!$G$12:$G$3000>0,ROW(),\"\")","v":""}]
[null,null,null,null,null,null,null,null,{"$f":"IF(Магазин!$G$12:$G$3000>0,ROW(),\"\")","v":""}]
[null,null,null,null,null,null,null,null,{"$f":"IF(Магазин!$G$12:$G$3000>0,ROW(),\"\")","v":""}]
[null,null,null,null,null,null,null,null,{"$f":"IF(Магазин!$G$12:$G$3000>0,ROW(),\"\")","v":""}]
[null,null,null,null,null,null,null,null,{"$f":"IF(Магазин!$G$12:$G$3000>0,ROW(),\"\")","v":""}]
[null,null,null,null,null,null,null,null,{"$f":"IF(Магазин!$G$12:$G$3000>0,ROW(),\"\")","v":""}]
[null,null,null,null,null,null,null,null,{"$f":"IF(Магазин!$G$12:$G$3000>0,ROW(),\"\")","v":""}]
[null,null,null,null,null,null,null,null,{"$f":"IF(Магазин!$G$12:$G$3000>0,ROW(),\"\")","v":""}]
[null,null,null,null,null,null,null,null,{"$f":"IF(Магазин!$G$12:$G$3000>0,ROW(),\"\")","v":""}]
[null,null,null,null,null,null,null,null,{"$f":"IF(Магазин!$G$12:$G$3000>0,ROW(),\"\")","v":""}]
[null,null,null,null,null,null,null,null,{"$f":"IF(Магазин!$G$12:$G$3000>0,ROW(),\"\")","v":""}]
[null,null,null,null,null,null,null,null,{"$f":"IF(Магазин!$G$12:$G$3000>0,ROW(),\"\")","v":""}]
[null,null,null,null,null,null,null,null,{"$f":"IF(Магазин!$G$12:$G$3000>0,ROW(),\"\")","v":""}]
[null,null,null,null,null,null,null,null,{"$f":"IF(Магазин!$G$12:$G$3000>0,ROW(),\"\")","v":""}]
[null,null,null,null,null,null,null,null,{"$f":"IF(Магазин!$G$12:$G$3000>0,ROW(),\"\")","v":""}]
[null,null,null,null,null,null,null,null,{"$f":"IF(Магазин!$G$12:$G$3000>0,ROW(),\"\")","v":""}]
[null,null,null,null,null,null,null,null,{"$f":"IF(Магазин!$G$12:$G$3000>0,ROW(),\"\")","v":""}]
[null,null,null,null,null,null,null,null,{"$f":"IF(Магазин!$G$12:$G$3000>0,ROW(),\"\")","v":""}]
[null,null,null,null,null,null,null,null,{"$f":"IF(Магазин!$G$12:$G$3000>0,ROW(),\"\")","v":""}]
[null,null,null,null,null,null,null,null,{"$f":"IF(Магазин!$G$12:$G$3000>0,ROW(),\"\")","v":""}]
[null,null,null,null,null,null,null,null,{"$f":"IF(Магазин!$G$12:$G$3000>0,ROW(),\"\")","v":""}]
[null,null,null,null,null,null,null,null,{"$f":"IF(Магазин!$G$12:$G$3000>0,ROW(),\"\")","v":""}]
[null,null,null,null,null,null,null,null,{"$f":"IF(Магазин!$G$12:$G$3000>0,ROW(),\"\")","v":""}]
[null,null,null,null,null,null,null,null,{"$f":"IF(Магазин!$G$12:$G$3000>0,ROW(),\"\")","v":""}]
[null,null,null,null,null,null,null,null,{"$f":"IF(Магазин!$G$12:$G$3000>0,ROW(),\"\")","v":""}]
[null,null,null,null,null,null,null,null,{"$f":"IF(Магазин!$G$12:$G$3000>0,ROW(),\"\")","v":""}]
[null,null,null,null,null,null,null,null,{"$f":"IF(Магазин!$G$12:$G$3000>0,ROW(),\"\")","v":""}]
[null,null,null,null,null,null,null,null,{"$f":"IF(Магазин!$G$12:$G$3000>0,ROW(),\"\")","v":""}]
[null,null,null,null,null,null,null,null,{"$f":"IF(Магазин!$G$12:$G$3000>0,ROW(),\"\")","v":""}]
[null,null,null,null,null,null,null,null,{"$f":"IF(Магазин!$G$12:$G$3000>0,ROW(),\"\")","v":""}]
[null,null,null,null,null,null,null,null,{"$f":"IF(Магазин!$G$12:$G$3000>0,ROW(),\"\")","v":""}]
[null,null,null,null,null,null,null,null,{"$f":"IF(Магазин!$G$12:$G$3000>0,ROW(),\"\")","v":""}]
[null,null,null,null,null,null,null,null,{"$f":"IF(Магазин!$G$12:$G$3000>0,ROW(),\"\")","v":""}]
[null,null,null,null,null,null,null,null,{"$f":"IF(Магазин!$G$12:$G$3000>0,ROW(),\"\")","v":""}]
[null,null,null,null,null,null,null,null,{"$f":"IF(Магазин!$G$12:$G$3000>0,ROW(),\"\")","v":""}]
[null,null,null,null,null,null,null,null,{"$f":"IF(Магазин!$G$12:$G$3000>0,ROW(),\"\")","v":""}]
[null,null,null,null,null,null,null,null,{"$f":"IF(Магазин!$G$12:$G$3000>0,ROW(),\"\")","v":""}]
[null,null,null,null,null,null,null,null,{"$f":"IF(Магазин!$G$12:$G$3000>0,ROW(),\"\")","v":""}]
[null,null,null,null,null,null,null,null,{"$f":"IF(Магазин!$G$12:$G$3000>0,ROW(),\"\")","v":""}]
[null,null,null,null,null,null,null,null,{"$f":"IF(Магазин!$G$12:$G$3000>0,ROW(),\"\")","v":""}]
[null,null,null,null,null,null,null,null,{"$f":"IF(Магазин!$G$12:$G$3000>0,ROW(),\"\")","v":""}]
[null,null,null,null,null,null,null,null,{"$f":"IF(Магазин!$G$12:$G$3000>0,ROW(),\"\")","v":""}]
[null,null,null,null,null,null,null,null,{"$f":"IF(Магазин!$G$12:$G$3000>0,ROW(),\"\")","v":""}]
[null,null,null,null,null,null,null,null,{"$f":"IF(Магазин!$G$12:$G$3000>0,ROW(),\"\")","v":""}]
[null,null,null,null,null,null,null,null,{"$f":"IF(Магазин!$G$12:$G$3000>0,ROW(),\"\")","v":""}]
[null,null,null,null,null,null,null,null,{"$f":"IF(Магазин!$G$12:$G$3000>0,ROW(),\"\")","v":""}]
[null,null,null,null,null,null,null,null,{"$f":"IF(Магазин!$G$12:$G$3000>0,ROW(),\"\")","v":""}]
[null,null,null,null,null,null,null,null,{"$f":"IF(Магазин!$G$12:$G$3000>0,ROW(),\"\")","v":""}]
[null,null,null,null,null,null,null,null,{"$f":"IF(Магазин!$G$12:$G$3000>0,ROW(),\"\")","v":""}]
[null,null,null,null,null,null,null,null,{"$f":"IF(Магазин!$G$12:$G$3000>0,ROW(),\"\")","v":""}]
[null,null,null,null,null,null,null,null,{"$f":"IF(Магазин!$G$12:$G$3000>0,ROW(),\"\")","v":""}]
[null,null,null,null,null,null,null,null,{"$f":"IF(Магазин!$G$12:$G$3000>0,ROW(),\"\")","v":""}]
[null,null,null,null,null,null,null,null,{"$f":"IF(Магазин!$G$12:$G$3000>0,ROW(),\"\")","v":""}]
[null,null,null,null,null,null,null,null,{"$f":"IF(Магазин!$G$12:$G$3000>0,ROW(),\"\")","v":""}]
[null,null,null,null,null,null,null,null,{"$f":"IF(Магазин!$G$12:$G$3000>0,ROW(),\"\")","v":""}]
[null,null,null,null,null,null,null,null,{"$f":"IF(Магазин!$G$12:$G$3000>0,ROW(),\"\")","v":""}]
[null,null,null,null,null,null,null,null,{"$f":"IF(Магазин!$G$12:$G$3000>0,ROW(),\"\")","v":""}]
[null,null,null,null,null,null,null,null,{"$f":"IF(Магазин!$G$12:$G$3000>0,ROW(),\"\")","v":""}]
[null,null,null,null,null,null,null,null,{"$f":"IF(Магазин!$G$12:$G$3000>0,ROW(),\"\")","v":""}]
[null,null,null,null,null,null,null,null,{"$f":"IF(Магазин!$G$12:$G$3000>0,ROW(),\"\")","v":""}]
[null,null,null,null,null,null,null,null,{"$f":"IF(Магазин!$G$12:$G$3000>0,ROW(),\"\")","v":""}]
[null,null,null,null,null,null,null,null,{"$f":"IF(Магазин!$G$12:$G$3000>0,ROW(),\"\")","v":""}]
[null,null,null,null,null,null,null,null,{"$f":"IF(Магазин!$G$12:$G$3000>0,ROW(),\"\")","v":""}]
[null,null,null,null,null,null,null,null,{"$f":"IF(Магазин!$G$12:$G$3000>0,ROW(),\"\")","v":""}]
[null,null,null,null,null,null,null,null,{"$f":"IF(Магазин!$G$12:$G$3000>0,ROW(),\"\")","v":""}]
[null,null,null,null,null,null,null,null,{"$f":"IF(Магазин!$G$12:$G$3000>0,ROW(),\"\")","v":""}]
[null,null,null,null,null,null,null,null,{"$f":"IF(Магазин!$G$12:$G$3000>0,ROW(),\"\")","v":""}]
[null,null,null,null,null,null,null,null,{"$f":"IF(Магазин!$G$12:$G$3000>0,ROW(),\"\")","v":""}]
[null,null,null,null,null,null,null,null,{"$f":"IF(Магазин!$G$12:$G$3000>0,ROW(),\"\")","v":""}]
[null,null,null,null,null,null,null,null,{"$f":"IF(Магазин!$G$12:$G$3000>0,ROW(),\"\")","v":""}]
[null,null,null,null,null,null,null,null,{"$f":"IF(Магазин!$G$12:$G$3000>0,ROW(),\"\")","v":""}]
[null,null,null,null,null,null,null,null,{"$f":"IF(Магазин!$G$12:$G$3000>0,ROW(),\"\")","v":""}]
[null,null,null,null,null,null,null,null,{"$f":"IF(Магазин!$G$12:$G$3000>0,ROW(),\"\")","v":""}]
[null,null,null,null,null,null,null,null,{"$f":"IF(Магазин!$G$12:$G$3000>0,ROW(),\"\")","v":""}]
[null,null,null,null,null,null,null,null,{"$f":"IF(Магазин!$G$12:$G$3000>0,ROW(),\"\")","v":""}]
[null,null,null,null,null,null,null,null,{"$f":"IF(Магазин!$G$12:$G$3000>0,ROW(),\"\")","v":""}]
[null,null,null,null,null,null,null,null,{"$f":"IF(Магазин!$G$12:$G$3000>0,ROW(),\"\")","v":""}]
[null,null,null,null,null,null,null,null,{"$f":"IF(Магазин!$G$12:$G$3000>0,ROW(),\"\")","v":""}]
[null,null,null,null,null,null,null,null,{"$f":"IF(Магазин!$G$12:$G$3000>0,ROW(),\"\")","v":""}]
[null,null,null,null,null,null,null,null,{"$f":"IF(Магазин!$G$12:$G$3000>0,ROW(),\"\")","v":""}]
[null,null,null,null,null,null,null,null,{"$f":"IF(Магазин!$G$12:$G$3000>0,ROW(),\"\")","v":""}]
[null,null,null,null,null,null,null,null,{"$f":"IF(Магазин!$G$12:$G$3000>0,ROW(),\"\")","v":""}]
[null,null,null,null,null,null,null,null,{"$f":"IF(Магазин!$G$12:$G$3000>0,ROW(),\"\")","v":""}]
[null,null,null,null,null,null,null,null,{"$f":"IF(Магазин!$G$12:$G$3000>0,ROW(),\"\")","v":""}]
[null,null,null,null,null,null,null,null,{"$f":"IF(Магазин!$G$12:$G$3000>0,ROW(),\"\")","v":""}]
[null,null,null,null,null,null,null,null,{"$f":"IF(Магазин!$G$12:$G$3000>0,ROW(),\"\")","v":""}]
[null,null,null,null,null,null,null,null,{"$f":"IF(Магазин!$G$12:$G$3000>0,ROW(),\"\")","v":""}]
[null,null,null,null,null,null,null,null,{"$f":"IF(Магазин!$G$12:$G$3000>0,ROW(),\"\")","v":""}]
[null,null,null,null,null,null,null,null,{"$f":"IF(Магазин!$G$12:$G$3000>0,ROW(),\"\")","v":""}]
[null,null,null,null,null,null,null,null,{"$f":"IF(Магазин!$G$12:$G$3000>0,ROW(),\"\")","v":""}]
[null,null,null,null,null,null,null,null,{"$f":"IF(Магазин!$G$12:$G$3000>0,ROW(),\"\")","v":""}]
[null,null,null,null,null,null,null,null,{"$f":"IF(Магазин!$G$12:$G$3000>0,ROW(),\"\")","v":""}]
[null,null,null,null,null,null,null,null,{"$f":"IF(Магазин!$G$12:$G$3000>0,ROW(),\"\")","v":""}]
[null,null,null,null,null,null,null,null,{"$f":"IF(Магазин!$G$12:$G$3000>0,ROW(),\"\")","v":""}]
[null,null,null,null,null,null,null,null,{"$f":"IF(Магазин!$G$12:$G$3000>0,ROW(),\"\")","v":""}]
[null,null,null,null,null,null,null,null,{"$f":"IF(Магазин!$G$12:$G$3000>0,ROW(),\"\")","v":""}]
[null,null,null,null,null,null,null,null,{"$f":"IF(Магазин!$G$12:$G$3000>0,ROW(),\"\")","v":""}]
[null,null,null,null,null,null,null,null,{"$f":"IF(Магазин!$G$12:$G$3000>0,ROW(),\"\")","v":""}]
[null,null,null,null,null,null,null,null,{"$f":"IF(Магазин!$G$12:$G$3000>0,ROW(),\"\")","v":""}]
[null,null,null,null,null,null,null,null,{"$f":"IF(Магазин!$G$12:$G$3000>0,ROW(),\"\")","v":""}]
[null,null,null,null,null,null,null,null,{"$f":"IF(Магазин!$G$12:$G$3000>0,ROW(),\"\")","v":""}]
[null,null,null,null,null,null,null,null,{"$f":"IF(Магазин!$G$12:$G$3000>0,ROW(),\"\")","v":""}]
[null,null,null,null,null,null,null,null,{"$f":"IF(Магазин!$G$12:$G$3000>0,ROW(),\"\")","v":""}]
[null,null,null,null,null,null,null,null,{"$f":"IF(Магазин!$G$12:$G$3000>0,ROW(),\"\")","v":""}]
[null,null,null,null,null,null,null,null,{"$f":"IF(Магазин!$G$12:$G$3000>0,ROW(),\"\")","v":""}]
[null,null,null,null,null,null,null,null,{"$f":"IF(Магазин!$G$12:$G$3000>0,ROW(),\"\")","v":""}]
[null,null,null,null,null,null,null,null,{"$f":"IF(Магазин!$G$12:$G$3000>0,ROW(),\"\")","v":""}]
[null,null,null,null,null,null,null,null,{"$f":"IF(Магазин!$G$12:$G$3000>0,ROW(),\"\")","v":""}]
[null,null,null,null,null,null,null,null,{"$f":"IF(Магазин!$G$12:$G$3000>0,ROW(),\"\")","v":""}]
[null,null,null,null,null,null,null,null,{"$f":"IF(Магазин!$G$12:$G$3000>0,ROW(),\"\")","v":""}]
[null,null,null,null,null,null,null,null,{"$f":"IF(Магазин!$G$12:$G$3000>0,ROW(),\"\")","v":""}]
[null,null,null,null,null,null,null,null,{"$f":"IF(Магазин!$G$12:$G$3000>0,ROW(),\"\")","v":""}]
[null,null,null,null,null,null,null,null,{"$f":"IF(Магазин!$G$12:$G$3000>0,ROW(),\"\")","v":""}]
[null,null,null,null,null,null,null,null,{"$f":"IF(Магазин!$G$12:$G$3000>0,ROW(),\"\")","v":""}]
[null,null,null,null,null,null,null,null,{"$f":"IF(Магазин!$G$12:$G$3000>0,ROW(),\"\")","v":""}]
[null,null,null,null,null,null,null,null,{"$f":"IF(Магазин!$G$12:$G$3000>0,ROW(),\"\")","v":""}]
[null,null,null,null,null,null,null,null,{"$f":"IF(Магазин!$G$12:$G$3000>0,ROW(),\"\")","v":""}]
[null,null,null,null,null,null,null,null,{"$f":"IF(Магазин!$G$12:$G$3000>0,ROW(),\"\")","v":""}]
[null,null,null,null,null,null,null,null,{"$f":"IF(Магазин!$G$12:$G$3000>0,ROW(),\"\")","v":""}]
[null,null,null,null,null,null,null,null,{"$f":"IF(Магазин!$G$12:$G$3000>0,ROW(),\"\")","v":""}]
[null,null,null,null,null,null,null,null,{"$f":"IF(Магазин!$G$12:$G$3000>0,ROW(),\"\")","v":""}]
[null,null,null,null,null,null,null,null,{"$f":"IF(Магазин!$G$12:$G$3000>0,ROW(),\"\")","v":""}]
[null,null,null,null,null,null,null,null,{"$f":"IF(Магазин!$G$12:$G$3000>0,ROW(),\"\")","v":""}]
[null,null,null,null,null,null,null,null,{"$f":"IF(Магазин!$G$12:$G$3000>0,ROW(),\"\")","v":""}]
[null,null,null,null,null,null,null,null,{"$f":"IF(Магазин!$G$12:$G$3000>0,ROW(),\"\")","v":""}]
[null,null,null,null,null,null,null,null,{"$f":"IF(Магазин!$G$12:$G$3000>0,ROW(),\"\")","v":""}]
[null,null,null,null,null,null,null,null,{"$f":"IF(Магазин!$G$12:$G$3000>0,ROW(),\"\")","v":""}]
[null,null,null,null,null,null,null,null,{"$f":"IF(Магазин!$G$12:$G$3000>0,ROW(),\"\")","v":""}]
[null,null,null,null,null,null,null,null,{"$f":"IF(Магазин!$G$12:$G$3000>0,ROW(),\"\")","v":""}]
[null,null,null,null,null,null,null,null,{"$f":"IF(Магазин!$G$12:$G$3000>0,ROW(),\"\")","v":""}]
[null,null,null,null,null,null,null,null,{"$f":"IF(Магазин!$G$12:$G$3000>0,ROW(),\"\")","v":""}]
[null,null,null,null,null,null,null,null,{"$f":"IF(Магазин!$G$12:$G$3000>0,ROW(),\"\")","v":""}]
[null,null,null,null,null,null,null,null,{"$f":"IF(Магазин!$G$12:$G$3000>0,ROW(),\"\")","v":""}]
[null,null,null,null,null,null,null,null,{"$f":"IF(Магазин!$G$12:$G$3000>0,ROW(),\"\")","v":""}]
[null,null,null,null,null,null,null,null,{"$f":"IF(Магазин!$G$12:$G$3000>0,ROW(),\"\")","v":""}]
[null,null,null,null,null,null,null,null,{"$f":"IF(Магазин!$G$12:$G$3000>0,ROW(),\"\")","v":""}]
[null,null,null,null,null,null,null,null,{"$f":"IF(Магазин!$G$12:$G$3000>0,ROW(),\"\")","v":""}]
[null,null,null,null,null,null,null,null,{"$f":"IF(Магазин!$G$12:$G$3000>0,ROW(),\"\")","v":""}]
[null,null,null,null,null,null,null,null,{"$f":"IF(Магазин!$G$12:$G$3000>0,ROW(),\"\")","v":""}]
[null,null,null,null,null,null,null,null,{"$f":"IF(Магазин!$G$12:$G$3000>0,ROW(),\"\")","v":""}]
[null,null,null,null,null,null,null,null,{"$f":"IF(Магазин!$G$12:$G$3000>0,ROW(),\"\")","v":""}]
[null,null,null,null,null,null,null,null,{"$f":"IF(Магазин!$G$12:$G$3000>0,ROW(),\"\")","v":""}]
[null,null,null,null,null,null,null,null,{"$f":"IF(Магазин!$G$12:$G$3000>0,ROW(),\"\")","v":""}]
[null,null,null,null,null,null,null,null,{"$f":"IF(Магазин!$G$12:$G$3000>0,ROW(),\"\")","v":""}]
[null,null,null,null,null,null,null,null,{"$f":"IF(Магазин!$G$12:$G$3000>0,ROW(),\"\")","v":""}]
[null,null,null,null,null,null,null,null,{"$f":"IF(Магазин!$G$12:$G$3000>0,ROW(),\"\")","v":""}]
[null,null,null,null,null,null,null,null,{"$f":"IF(Магазин!$G$12:$G$3000>0,ROW(),\"\")","v":""}]
[null,null,null,null,null,null,null,null,{"$f":"IF(Магазин!$G$12:$G$3000>0,ROW(),\"\")","v":""}]
[null,null,null,null,null,null,null,null,{"$f":"IF(Магазин!$G$12:$G$3000>0,ROW(),\"\")","v":""}]
[null,null,null,null,null,null,null,null,{"$f":"IF(Магазин!$G$12:$G$3000>0,ROW(),\"\")","v":""}]
[null,null,null,null,null,null,null,null,{"$f":"IF(Магазин!$G$12:$G$3000>0,ROW(),\"\")","v":""}]
[null,null,null,null,null,null,null,null,{"$f":"IF(Магазин!$G$12:$G$3000>0,ROW(),\"\")","v":""}]
[null,null,null,null,null,null,null,null,{"$f":"IF(Магазин!$G$12:$G$3000>0,ROW(),\"\")","v":""}]
[null,null,null,null,null,null,null,null,{"$f":"IF(Магазин!$G$12:$G$3000>0,ROW(),\"\")","v":""}]
[null,null,null,null,null,null,null,null,{"$f":"IF(Магазин!$G$12:$G$3000>0,ROW(),\"\")","v":""}]
[null,null,null,null,null,null,null,null,{"$f":"IF(Магазин!$G$12:$G$3000>0,ROW(),\"\")","v":""}]
[null,null,null,null,null,null,null,null,{"$f":"IF(Магазин!$G$12:$G$3000>0,ROW(),\"\")","v":""}]
[null,null,null,null,null,null,null,null,{"$f":"IF(Магазин!$G$12:$G$3000>0,ROW(),\"\")","v":""}]
[null,null,null,null,null,null,null,null,{"$f":"IF(Магазин!$G$12:$G$3000>0,ROW(),\"\")","v":""}]
[null,null,null,null,null,null,null,null,{"$f":"IF(Магазин!$G$12:$G$3000>0,ROW(),\"\")","v":""}]
[null,null,null,null,null,null,null,null,{"$f":"IF(Магазин!$G$12:$G$3000>0,ROW(),\"\")","v":""}]
[null,null,null,null,null,null,null,null,{"$f":"IF(Магазин!$G$12:$G$3000>0,ROW(),\"\")","v":""}]
[null,null,null,null,null,null,null,null,{"$f":"IF(Магазин!$G$12:$G$3000>0,ROW(),\"\")","v":""}]
[null,null,null,null,null,null,null,null,{"$f":"IF(Магазин!$G$12:$G$3000>0,ROW(),\"\")","v":""}]
[null,null,null,null,null,null,null,null,{"$f":"IF(Магазин!$G$12:$G$3000>0,ROW(),\"\")","v":""}]
[null,null,null,null,null,null,null,null,{"$f":"IF(Магазин!$G$12:$G$3000>0,ROW(),\"\")","v":""}]
[null,null,null,null,null,null,null,null,{"$f":"IF(Магазин!$G$12:$G$3000>0,ROW(),\"\")","v":""}]
[null,null,null,null,null,null,null,null,{"$f":"IF(Магазин!$G$12:$G$3000>0,ROW(),\"\")","v":""}]
[null,null,null,null,null,null,null,null,{"$f":"IF(Магазин!$G$12:$G$3000>0,ROW(),\"\")","v":""}]
[null,null,null,null,null,null,null,null,{"$f":"IF(Магазин!$G$12:$G$3000>0,ROW(),\"\")","v":""}]
[null,null,null,null,null,null,null,null,{"$f":"IF(Магазин!$G$12:$G$3000>0,ROW(),\"\")","v":""}]
[null,null,null,null,null,null,null,null,{"$f":"IF(Магазин!$G$12:$G$3000>0,ROW(),\"\")","v":""}]
[null,null,null,null,null,null,null,null,{"$f":"IF(Магазин!$G$12:$G$3000>0,ROW(),\"\")","v":""}]
[null,null,null,null,null,null,null,null,{"$f":"IF(Магазин!$G$12:$G$3000>0,ROW(),\"\")","v":""}]
[null,null,null,null,null,null,null,null,{"$f":"IF(Магазин!$G$12:$G$3000>0,ROW(),\"\")","v":""}]
[null,null,null,null,null,null,null,null,{"$f":"IF(Магазин!$G$12:$G$3000>0,ROW(),\"\")","v":""}]
[null,null,null,null,null,null,null,null,{"$f":"IF(Магазин!$G$12:$G$3000>0,ROW(),\"\")","v":""}]
[null,null,null,null,null,null,null,null,{"$f":"IF(Магазин!$G$12:$G$3000>0,ROW(),\"\")","v":""}]
[null,null,null,null,null,null,null,null,{"$f":"IF(Магазин!$G$12:$G$3000>0,ROW(),\"\")","v":""}]
[null,null,null,null,null,null,null,null,{"$f":"IF(Магазин!$G$12:$G$3000>0,ROW(),\"\")","v":""}]
[null,null,null,null,null,null,null,null,{"$f":"IF(Магазин!$G$12:$G$3000>0,ROW(),\"\")","v":""}]
[null,null,null,null,null,null,null,null,{"$f":"IF(Магазин!$G$12:$G$3000>0,ROW(),\"\")","v":""}]
[null,null,null,null,null,null,null,null,{"$f":"IF(Магазин!$G$12:$G$3000>0,ROW(),\"\")","v":""}]
[null,null,null,null,null,null,null,null,{"$f":"IF(Магазин!$G$12:$G$3000>0,ROW(),\"\")","v":""}]
[null,null,null,null,null,null,null,null,{"$f":"IF(Магазин!$G$12:$G$3000>0,ROW(),\"\")","v":""}]
[null,null,null,null,null,null,null,null,{"$f":"IF(Магазин!$G$12:$G$3000>0,ROW(),\"\")","v":""}]
[null,null,null,null,null,null,null,null,{"$f":"IF(Магазин!$G$12:$G$3000>0,ROW(),\"\")","v":""}]
[null,null,null,null,null,null,null,null,{"$f":"IF(Магазин!$G$12:$G$3000>0,ROW(),\"\")","v":""}]
[null,null,null,null,null,null,null,null,{"$f":"IF(Магазин!$G$12:$G$3000>0,ROW(),\"\")","v":""}]
[null,null,null,null,null,null,null,null,{"$f":"IF(Магазин!$G$12:$G$3000>0,ROW(),\"\")","v":""}]
[null,null,null,null,null,null,null,null,{"$f":"IF(Магазин!$G$12:$G$3000>0,ROW(),\"\")","v":""}]
[null,null,null,null,null,null,null,null,{"$f":"IF(Магазин!$G$12:$G$3000>0,ROW(),\"\")","v":""}]
[null,null,null,null,null,null,null,null,{"$f":"IF(Магазин!$G$12:$G$3000>0,ROW(),\"\")","v":""}]
[null,null,null,null,null,null,null,null,{"$f":"IF(Магазин!$G$12:$G$3000>0,ROW(),\"\")","v":""}]
[null,null,null,null,null,null,null,null,{"$f":"IF(Магазин!$G$12:$G$3000>0,ROW(),\"\")","v":""}]
[null,null,null,null,null,null,null,null,{"$f":"IF(Магазин!$G$12:$G$3000>0,ROW(),\"\")","v":""}]
[null,null,null,null,null,null,null,null,{"$f":"IF(Магазин!$G$12:$G$3000>0,ROW(),\"\")","v":""}]
[null,null,null,null,null,null,null,null,{"$f":"IF(Магазин!$G$12:$G$3000>0,ROW(),\"\")","v":""}]
[null,null,null,null,null,null,null,null,{"$f":"IF(Магазин!$G$12:$G$3000>0,ROW(),\"\")","v":""}]
[null,null,null,null,null,null,null,null,{"$f":"IF(Магазин!$G$12:$G$3000>0,ROW(),\"\")","v":""}]
[null,null,null,null,null,null,null,null,{"$f":"IF(Магазин!$G$12:$G$3000>0,ROW(),\"\")","v":""}]
[null,null,null,null,null,null,null,null,{"$f":"IF(Магазин!$G$12:$G$3000>0,ROW(),\"\")","v":""}]
[null,null,null,null,null,null,null,null,{"$f":"IF(Магазин!$G$12:$G$3000>0,ROW(),\"\")","v":""}]
[null,null,null,null,null,null,null,null,{"$f":"IF(Магазин!$G$12:$G$3000>0,ROW(),\"\")","v":""}]
[null,null,null,null,null,null,null,null,{"$f":"IF(Магазин!$G$12:$G$3000>0,ROW(),\"\")","v":""}]
[null,null,null,null,null,null,null,null,{"$f":"IF(Магазин!$G$12:$G$3000>0,ROW(),\"\")","v":""}]
[null,null,null,null,null,null,null,null,{"$f":"IF(Магазин!$G$12:$G$3000>0,ROW(),\"\")","v":""}]
[null,null,null,null,null,null,null,null,{"$f":"IF(Магазин!$G$12:$G$3000>0,ROW(),\"\")","v":""}]
[null,null,null,null,null,null,null,null,{"$f":"IF(Магазин!$G$12:$G$3000>0,ROW(),\"\")","v":""}]
[null,null,null,null,null,null,null,null,{"$f":"IF(Магазин!$G$12:$G$3000>0,ROW(),\"\")","v":""}]
[null,null,null,null,null,null,null,null,{"$f":"IF(Магазин!$G$12:$G$3000>0,ROW(),\"\")","v":""}]
[null,null,null,null,null,null,null,null,{"$f":"IF(Магазин!$G$12:$G$3000>0,ROW(),\"\")","v":""}]
[null,null,null,null,null,null,null,null,{"$f":"IF(Магазин!$G$12:$G$3000>0,ROW(),\"\")","v":""}]
[null,null,null,null,null,null,null,null,{"$f":"IF(Магазин!$G$12:$G$3000>0,ROW(),\"\")","v":""}]
[null,null,null,null,null,null,null,null,{"$f":"IF(Магазин!$G$12:$G$3000>0,ROW(),\"\")","v":""}]
[null,null,null,null,null,null,null,null,{"$f":"IF(Магазин!$G$12:$G$3000>0,ROW(),\"\")","v":""}]
[null,null,null,null,null,null,null,null,{"$f":"IF(Магазин!$G$12:$G$3000>0,ROW(),\"\")","v":""}]
[null,null,null,null,null,null,null,null,{"$f":"IF(Магазин!$G$12:$G$3000>0,ROW(),\"\")","v":""}]
[null,null,null,null,null,null,null,null,{"$f":"IF(Магазин!$G$12:$G$3000>0,ROW(),\"\")","v":""}]
[null,null,null,null,null,null,null,null,{"$f":"IF(Магазин!$G$12:$G$3000>0,ROW(),\"\")","v":""}]
[null,null,null,null,null,null,null,null,{"$f":"IF(Магазин!$G$12:$G$3000>0,ROW(),\"\")","v":""}]
[null,null,null,null,null,null,null,null,{"$f":"IF(Магазин!$G$12:$G$3000>0,ROW(),\"\")","v":""}]
[null,null,null,null,null,null,null,null,{"$f":"IF(Магазин!$G$12:$G$3000>0,ROW(),\"\")","v":""}]
[null,null,null,null,null,null,null,null,{"$f":"IF(Магазин!$G$12:$G$3000>0,ROW(),\"\")","v":""}]
[null,null,null,null,null,null,null,null,{"$f":"IF(Магазин!$G$12:$G$3000>0,ROW(),\"\")","v":""}]
[null,null,null,null,null,null,null,null,{"$f":"IF(Магазин!$G$12:$G$3000>0,ROW(),\"\")","v":""}]
[null,null,null,null,null,null,null,null,{"$f":"IF(Магазин!$G$12:$G$3000>0,ROW(),\"\")","v":""}]
[null,null,null,null,null,null,null,null,{"$f":"IF(Магазин!$G$12:$G$3000>0,ROW(),\"\")","v":""}]
[null,null,null,null,null,null,null,null,{"$f":"IF(Магазин!$G$12:$G$3000>0,ROW(),\"\")","v":""}]
[null,null,null,null,null,null,null,null,{"$f":"IF(Магазин!$G$12:$G$3000>0,ROW(),\"\")","v":""}]
[null,null,null,null,null,null,null,null,{"$f":"IF(Магазин!$G$12:$G$3000>0,ROW(),\"\")","v":""}]
[null,null,null,null,null,null,null,null,{"$f":"IF(Магазин!$G$12:$G$3000>0,ROW(),\"\")","v":""}]
[null,null,null,null,null,null,null,null,{"$f":"IF(Магазин!$G$12:$G$3000>0,ROW(),\"\")","v":""}]
[null,null,null,null,null,null,null,null,{"$f":"IF(Магазин!$G$12:$G$3000>0,ROW(),\"\")","v":""}]
[null,null,null,null,null,null,null,null,{"$f":"IF(Магазин!$G$12:$G$3000>0,ROW(),\"\")","v":""}]
[null,null,null,null,null,null,null,null,{"$f":"IF(Магазин!$G$12:$G$3000>0,ROW(),\"\")","v":""}]
[null,null,null,null,null,null,null,null,{"$f":"IF(Магазин!$G$12:$G$3000>0,ROW(),\"\")","v":""}]
[null,null,null,null,null,null,null,null,{"$f":"IF(Магазин!$G$12:$G$3000>0,ROW(),\"\")","v":""}]
[null,null,null,null,null,null,null,null,{"$f":"IF(Магазин!$G$12:$G$3000>0,ROW(),\"\")","v":""}]
[null,null,null,null,null,null,null,null,{"$f":"IF(Магазин!$G$12:$G$3000>0,ROW(),\"\")","v":""}]
[null,null,null,null,null,null,null,null,{"$f":"IF(Магазин!$G$12:$G$3000>0,ROW(),\"\")","v":""}]
[null,null,null,null,null,null,null,null,{"$f":"IF(Магазин!$G$12:$G$3000>0,ROW(),\"\")","v":""}]
[null,null,null,null,null,null,null,null,{"$f":"IF(Магазин!$G$12:$G$3000>0,ROW(),\"\")","v":""}]
[null,null,null,null,null,null,null,null,{"$f":"IF(Магазин!$G$12:$G$3000>0,ROW(),\"\")","v":""}]
[null,null,null,null,null,null,null,null,{"$f":"IF(Магазин!$G$12:$G$3000>0,ROW(),\"\")","v":""}]
[null,null,null,null,null,null,null,null,{"$f":"IF(Магазин!$G$12:$G$3000>0,ROW(),\"\")","v":""}]
[null,null,null,null,null,null,null,null,{"$f":"IF(Магазин!$G$12:$G$3000>0,ROW(),\"\")","v":""}]
[null,null,null,null,null,null,null,null,{"$f":"IF(Магазин!$G$12:$G$3000>0,ROW(),\"\")","v":""}]
[null,null,null,null,null,null,null,null,{"$f":"IF(Магазин!$G$12:$G$3000>0,ROW(),\"\")","v":""}]
[null,null,null,null,null,null,null,null,{"$f":"IF(Магазин!$G$12:$G$3000>0,ROW(),\"\")","v":""}]
[null,null,null,null,null,null,null,null,{"$f":"IF(Магазин!$G$12:$G$3000>0,ROW(),\"\")","v":""}]
[null,null,null,null,null,null,null,null,{"$f":"IF(Магазин!$G$12:$G$3000>0,ROW(),\"\")","v":""}]
[null,null,null,null,null,null,null,null,{"$f":"IF(Магазин!$G$12:$G$3000>0,ROW(),\"\")","v":""}]
[null,null,null,null,null,null,null,null,{"$f":"IF(Магазин!$G$12:$G$3000>0,ROW(),\"\")","v":""}]
[null,null,null,null,null,null,null,null,{"$f":"IF(Магазин!$G$12:$G$3000>0,ROW(),\"\")","v":""}]
[null,null,null,null,null,null,null,null,{"$f":"IF(Магазин!$G$12:$G$3000>0,ROW(),\"\")","v":""}]
[null,null,null,null,null,null,null,null,{"$f":"IF(Магазин!$G$12:$G$3000>0,ROW(),\"\")","v":""}]
[null,null,null,null,null,null,null,null,{"$f":"IF(Магазин!$G$12:$G$3000>0,ROW(),\"\")","v":""}]
[null,null,null,null,null,null,null,null,{"$f":"IF(Магазин!$G$12:$G$3000>0,ROW(),\"\")","v":""}]
[null,null,null,null,null,null,null,null,{"$f":"IF(Магазин!$G$12:$G$3000>0,ROW(),\"\")","v":""}]
[null,null,null,null,null,null,null,null,{"$f":"IF(Магазин!$G$12:$G$3000>0,ROW(),\"\")","v":""}]
[null,null,null,null,null,null,null,null,{"$f":"IF(Магазин!$G$12:$G$3000>0,ROW(),\"\")","v":""}]
[null,null,null,null,null,null,null,null,{"$f":"IF(Магазин!$G$12:$G$3000>0,ROW(),\"\")","v":""}]
[null,null,null,null,null,null,null,null,{"$f":"IF(Магазин!$G$12:$G$3000>0,ROW(),\"\")","v":""}]
[null,null,null,null,null,null,null,null,{"$f":"IF(Магазин!$G$12:$G$3000>0,ROW(),\"\")","v":""}]
[null,null,null,null,null,null,null,null,{"$f":"IF(Магазин!$G$12:$G$3000>0,ROW(),\"\")","v":""}]
[null,null,null,null,null,null,null,null,{"$f":"IF(Магазин!$G$12:$G$3000>0,ROW(),\"\")","v":""}]
[null,null,null,null,null,null,null,null,{"$f":"IF(Магазин!$G$12:$G$3000>0,ROW(),\"\")","v":""}]
[null,null,null,null,null,null,null,null,{"$f":"IF(Магазин!$G$12:$G$3000>0,ROW(),\"\")","v":""}]
[null,null,null,null,null,null,null,null,{"$f":"IF(Магазин!$G$12:$G$3000>0,ROW(),\"\")","v":""}]
[null,null,null,null,null,null,null,null,{"$f":"IF(Магазин!$G$12:$G$3000>0,ROW(),\"\")","v":""}]
[null,null,null,null,null,null,null,null,{"$f":"IF(Магазин!$G$12:$G$3000>0,ROW(),\"\")","v":""}]
[null,null,null,null,null,null,null,null,{"$f":"IF(Магазин!$G$12:$G$3000>0,ROW(),\"\")","v":""}]
[null,null,null,null,null,null,null,null,{"$f":"IF(Магазин!$G$12:$G$3000>0,ROW(),\"\")","v":""}]
[null,null,null,null,null,null,null,null,{"$f":"IF(Магазин!$G$12:$G$3000>0,ROW(),\"\")","v":""}]
[null,null,null,null,null,null,null,null,{"$f":"IF(Магазин!$G$12:$G$3000>0,ROW(),\"\")","v":""}]
[null,null,null,null,null,null,null,null,{"$f":"IF(Магазин!$G$12:$G$3000>0,ROW(),\"\")","v":""}]
[null,null,null,null,null,null,null,null,{"$f":"IF(Магазин!$G$12:$G$3000>0,ROW(),\"\")","v":""}]
[null,null,null,null,null,null,null,null,{"$f":"IF(Магазин!$G$12:$G$3000>0,ROW(),\"\")","v":""}]
[null,null,null,null,null,null,null,null,{"$f":"IF(Магазин!$G$12:$G$3000>0,ROW(),\"\")","v":""}]
[null,null,null,null,null,null,null,null,{"$f":"IF(Магазин!$G$12:$G$3000>0,ROW(),\"\")","v":""}]
[null,null,null,null,null,null,null,null,{"$f":"IF(Магазин!$G$12:$G$3000>0,ROW(),\"\")","v":""}]
[null,null,null,null,null,null,null,null,{"$f":"IF(Магазин!$G$12:$G$3000>0,ROW(),\"\")","v":""}]
[null,null,null,null,null,null,null,null,{"$f":"IF(Магазин!$G$12:$G$3000>0,ROW(),\"\")","v":""}]
[null,null,null,null,null,null,null,null,{"$f":"IF(Магазин!$G$12:$G$3000>0,ROW(),\"\")","v":""}]
[null,null,null,null,null,null,null,null,{"$f":"IF(Магазин!$G$12:$G$3000>0,ROW(),\"\")","v":""}]
[null,null,null,null,null,null,null,null,{"$f":"IF(Магазин!$G$12:$G$3000>0,ROW(),\"\")","v":""}]
[null,null,null,null,null,null,null,null,{"$f":"IF(Магазин!$G$12:$G$3000>0,ROW(),\"\")","v":""}]
[null,null,null,null,null,null,null,null,{"$f":"IF(Магазин!$G$12:$G$3000>0,ROW(),\"\")","v":""}]
[null,null,null,null,null,null,null,null,{"$f":"IF(Магазин!$G$12:$G$3000>0,ROW(),\"\")","v":""}]
[null,null,null,null,null,null,null,null,{"$f":"IF(Магазин!$G$12:$G$3000>0,ROW(),\"\")","v":""}]
[null,null,null,null,null,null,null,null,{"$f":"IF(Магазин!$G$12:$G$3000>0,ROW(),\"\")","v":""}]
[null,null,null,null,null,null,null,null,{"$f":"IF(Магазин!$G$12:$G$3000>0,ROW(),\"\")","v":""}]
[null,null,null,null,null,null,null,null,{"$f":"IF(Магазин!$G$12:$G$3000>0,ROW(),\"\")","v":""}]
[null,null,null,null,null,null,null,null,{"$f":"IF(Магазин!$G$12:$G$3000>0,ROW(),\"\")","v":""}]
[null,null,null,null,null,null,null,null,{"$f":"IF(Магазин!$G$12:$G$3000>0,ROW(),\"\")","v":""}]
[null,null,null,null,null,null,null,null,{"$f":"IF(Магазин!$G$12:$G$3000>0,ROW(),\"\")","v":""}]
[null,null,null,null,null,null,null,null,{"$f":"IF(Магазин!$G$12:$G$3000>0,ROW(),\"\")","v":""}]
[null,null,null,null,null,null,null,null,{"$f":"IF(Магазин!$G$12:$G$3000>0,ROW(),\"\")","v":""}]
[null,null,null,null,null,null,null,null,{"$f":"IF(Магазин!$G$12:$G$3000>0,ROW(),\"\")","v":""}]
[null,null,null,null,null,null,null,null,{"$f":"IF(Магазин!$G$12:$G$3000>0,ROW(),\"\")","v":""}]
[null,null,null,null,null,null,null,null,{"$f":"IF(Магазин!$G$12:$G$3000>0,ROW(),\"\")","v":""}]
[null,null,null,null,null,null,null,null,{"$f":"IF(Магазин!$G$12:$G$3000>0,ROW(),\"\")","v":""}]
[null,null,null,null,null,null,null,null,{"$f":"IF(Магазин!$G$12:$G$3000>0,ROW(),\"\")","v":""}]
[null,null,null,null,null,null,null,null,{"$f":"IF(Магазин!$G$12:$G$3000>0,ROW(),\"\")","v":""}]
[null,null,null,null,null,null,null,null,{"$f":"IF(Магазин!$G$12:$G$3000>0,ROW(),\"\")","v":""}]
[null,null,null,null,null,null,null,null,{"$f":"IF(Магазин!$G$12:$G$3000>0,ROW(),\"\")","v":""}]
[null,null,null,null,null,null,null,null,{"$f":"IF(Магазин!$G$12:$G$3000>0,ROW(),\"\")","v":""}]
[null,null,null,null,null,null,null,null,{"$f":"IF(Магазин!$G$12:$G$3000>0,ROW(),\"\")","v":""}]
[null,null,null,null,null,null,null,null,{"$f":"IF(Магазин!$G$12:$G$3000>0,ROW(),\"\")","v":""}]
[null,null,null,null,null,null,null,null,{"$f":"IF(Магазин!$G$12:$G$3000>0,ROW(),\"\")","v":""}]
[null,null,null,null,null,null,null,null,{"$f":"IF(Магазин!$G$12:$G$3000>0,ROW(),\"\")","v":""}]
[null,null,null,null,null,null,null,null,{"$f":"IF(Магазин!$G$12:$G$3000>0,ROW(),\"\")","v":""}]
[null,null,null,null,null,null,null,null,{"$f":"IF(Магазин!$G$12:$G$3000>0,ROW(),\"\")","v":""}]
[null,null,null,null,null,null,null,null,{"$f":"IF(Магазин!$G$12:$G$3000>0,ROW(),\"\")","v":""}]
[null,null,null,null,null,null,null,null,{"$f":"IF(Магазин!$G$12:$G$3000>0,ROW(),\"\")","v":""}]
[null,null,null,null,null,null,null,null,{"$f":"IF(Магазин!$G$12:$G$3000>0,ROW(),\"\")","v":""}]
[null,null,null,null,null,null,null,null,{"$f":"IF(Магазин!$G$12:$G$3000>0,ROW(),\"\")","v":""}]
[null,null,null,null,null,null,null,null,{"$f":"IF(Магазин!$G$12:$G$3000>0,ROW(),\"\")","v":""}]
[null,null,null,null,null,null,null,null,{"$f":"IF(Магазин!$G$12:$G$3000>0,ROW(),\"\")","v":""}]
[null,null,null,null,null,null,null,null,{"$f":"IF(Магазин!$G$12:$G$3000>0,ROW(),\"\")","v":""}]
[null,null,null,null,null,null,null,null,{"$f":"IF(Магазин!$G$12:$G$3000>0,ROW(),\"\")","v":""}]
[null,null,null,null,null,null,null,null,{"$f":"IF(Магазин!$G$12:$G$3000>0,ROW(),\"\")","v":""}]
[null,null,null,null,null,null,null,null,{"$f":"IF(Магазин!$G$12:$G$3000>0,ROW(),\"\")","v":""}]
[null,null,null,null,null,null,null,null,{"$f":"IF(Магазин!$G$12:$G$3000>0,ROW(),\"\")","v":""}]
[null,null,null,null,null,null,null,null,{"$f":"IF(Магазин!$G$12:$G$3000>0,ROW(),\"\")","v":""}]
[null,null,null,null,null,null,null,null,{"$f":"IF(Магазин!$G$12:$G$3000>0,ROW(),\"\")","v":""}]
[null,null,null,null,null,null,null,null,{"$f":"IF(Магазин!$G$12:$G$3000>0,ROW(),\"\")","v":""}]
[null,null,null,null,null,null,null,null,{"$f":"IF(Магазин!$G$12:$G$3000>0,ROW(),\"\")","v":""}]
[null,null,null,null,null,null,null,null,{"$f":"IF(Магазин!$G$12:$G$3000>0,ROW(),\"\")","v":""}]
[null,null,null,null,null,null,null,null,{"$f":"IF(Магазин!$G$12:$G$3000>0,ROW(),\"\")","v":""}]
[null,null,null,null,null,null,null,null,{"$f":"IF(Магазин!$G$12:$G$3000>0,ROW(),\"\")","v":""}]
[null,null,null,null,null,null,null,null,{"$f":"IF(Магазин!$G$12:$G$3000>0,ROW(),\"\")","v":""}]
[null,null,null,null,null,null,null,null,{"$f":"IF(Магазин!$G$12:$G$3000>0,ROW(),\"\")","v":""}]
[null,null,null,null,null,null,null,null,{"$f":"IF(Магазин!$G$12:$G$3000>0,ROW(),\"\")","v":""}]
[null,null,null,null,null,null,null,null,{"$f":"IF(Магазин!$G$12:$G$3000>0,ROW(),\"\")","v":""}]
[null,null,null,null,null,null,null,null,{"$f":"IF(Магазин!$G$12:$G$3000>0,ROW(),\"\")","v":""}]
[null,null,null,null,null,null,null,null,{"$f":"IF(Магазин!$G$12:$G$3000>0,ROW(),\"\")","v":""}]
[null,null,null,null,null,null,null,null,{"$f":"IF(Магазин!$G$12:$G$3000>0,ROW(),\"\")","v":""}]
[null,null,null,null,null,null,null,null,{"$f":"IF(Магазин!$G$12:$G$3000>0,ROW(),\"\")","v":""}]
[null,null,null,null,null,null,null,null,{"$f":"IF(Магазин!$G$12:$G$3000>0,ROW(),\"\")","v":""}]
[null,null,null,null,null,null,null,null,{"$f":"IF(Магазин!$G$12:$G$3000>0,ROW(),\"\")","v":""}]
[null,null,null,null,null,null,null,null,{"$f":"IF(Магазин!$G$12:$G$3000>0,ROW(),\"\")","v":""}]
[null,null,null,null,null,null,null,null,{"$f":"IF(Магазин!$G$12:$G$3000>0,ROW(),\"\")","v":""}]
[null,null,null,null,null,null,null,null,{"$f":"IF(Магазин!$G$12:$G$3000>0,ROW(),\"\")","v":""}]
[null,null,null,null,null,null,null,null,{"$f":"IF(Магазин!$G$12:$G$3000>0,ROW(),\"\")","v":""}]
[null,null,null,null,null,null,null,null,{"$f":"IF(Магазин!$G$12:$G$3000>0,ROW(),\"\")","v":""}]
[null,null,null,null,null,null,null,null,{"$f":"IF(Магазин!$G$12:$G$3000>0,ROW(),\"\")","v":""}]
[null,null,null,null,null,null,null,null,{"$f":"IF(Магазин!$G$12:$G$3000>0,ROW(),\"\")","v":""}]
[null,null,null,null,null,null,null,null,{"$f":"IF(Магазин!$G$12:$G$3000>0,ROW(),\"\")","v":""}]
[null,null,null,null,null,null,null,null,{"$f":"IF(Магазин!$G$12:$G$3000>0,ROW(),\"\")","v":""}]
[null,null,null,null,null,null,null,null,{"$f":"IF(Магазин!$G$12:$G$3000>0,ROW(),\"\")","v":""}]
[null,null,null,null,null,null,null,null,{"$f":"IF(Магазин!$G$12:$G$3000>0,ROW(),\"\")","v":""}]
[null,null,null,null,null,null,null,null,{"$f":"IF(Магазин!$G$12:$G$3000>0,ROW(),\"\")","v":""}]
[null,null,null,null,null,null,null,null,{"$f":"IF(Магазин!$G$12:$G$3000>0,ROW(),\"\")","v":""}]
[null,null,null,null,null,null,null,null,{"$f":"IF(Магазин!$G$12:$G$3000>0,ROW(),\"\")","v":""}]
[null,null,null,null,null,null,null,null,{"$f":"IF(Магазин!$G$12:$G$3000>0,ROW(),\"\")","v":""}]
[null,null,null,null,null,null,null,null,{"$f":"IF(Магазин!$G$12:$G$3000>0,ROW(),\"\")","v":""}]
[null,null,null,null,null,null,null,null,{"$f":"IF(Магазин!$G$12:$G$3000>0,ROW(),\"\")","v":""}]
[null,null,null,null,null,null,null,null,{"$f":"IF(Магазин!$G$12:$G$3000>0,ROW(),\"\")","v":""}]
[null,null,null,null,null,null,null,null,{"$f":"IF(Магазин!$G$12:$G$3000>0,ROW(),\"\")","v":""}]
[null,null,null,null,null,null,null,null,{"$f":"IF(Магазин!$G$12:$G$3000>0,ROW(),\"\")","v":""}]
[null,null,null,null,null,null,null,null,{"$f":"IF(Магазин!$G$12:$G$3000>0,ROW(),\"\")","v":""}]
[null,null,null,null,null,null,null,null,{"$f":"IF(Магазин!$G$12:$G$3000>0,ROW(),\"\")","v":""}]
[null,null,null,null,null,null,null,null,{"$f":"IF(Магазин!$G$12:$G$3000>0,ROW(),\"\")","v":""}]
[null,null,null,null,null,null,null,null,{"$f":"IF(Магазин!$G$12:$G$3000>0,ROW(),\"\")","v":""}]
[null,null,null,null,null,null,null,null,{"$f":"IF(Магазин!$G$12:$G$3000>0,ROW(),\"\")","v":""}]
[null,null,null,null,null,null,null,null,{"$f":"IF(Магазин!$G$12:$G$3000>0,ROW(),\"\")","v":""}]
[null,null,null,null,null,null,null,null,{"$f":"IF(Магазин!$G$12:$G$3000>0,ROW(),\"\")","v":""}]
[null,null,null,null,null,null,null,null,{"$f":"IF(Магазин!$G$12:$G$3000>0,ROW(),\"\")","v":""}]
[null,null,null,null,null,null,null,null,{"$f":"IF(Магазин!$G$12:$G$3000>0,ROW(),\"\")","v":""}]
[null,null,null,null,null,null,null,null,{"$f":"IF(Магазин!$G$12:$G$3000>0,ROW(),\"\")","v":""}]
[null,null,null,null,null,null,null,null,{"$f":"IF(Магазин!$G$12:$G$3000>0,ROW(),\"\")","v":""}]
[null,null,null,null,null,null,null,null,{"$f":"IF(Магазин!$G$12:$G$3000>0,ROW(),\"\")","v":""}]
[null,null,null,null,null,null,null,null,{"$f":"IF(Магазин!$G$12:$G$3000>0,ROW(),\"\")","v":""}]
[null,null,null,null,null,null,null,null,{"$f":"IF(Магазин!$G$12:$G$3000>0,ROW(),\"\")","v":""}]
[null,null,null,null,null,null,null,null,{"$f":"IF(Магазин!$G$12:$G$3000>0,ROW(),\"\")","v":""}]
[null,null,null,null,null,null,null,null,{"$f":"IF(Магазин!$G$12:$G$3000>0,ROW(),\"\")","v":""}]
[null,null,null,null,null,null,null,null,{"$f":"IF(Магазин!$G$12:$G$3000>0,ROW(),\"\")","v":""}]
[null,null,null,null,null,null,null,null,{"$f":"IF(Магазин!$G$12:$G$3000>0,ROW(),\"\")","v":""}]
[null,null,null,null,null,null,null,null,{"$f":"IF(Магазин!$G$12:$G$3000>0,ROW(),\"\")","v":""}]
[null,null,null,null,null,null,null,null,{"$f":"IF(Магазин!$G$12:$G$3000>0,ROW(),\"\")","v":""}]
[null,null,null,null,null,null,null,null,{"$f":"IF(Магазин!$G$12:$G$3000>0,ROW(),\"\")","v":""}]
[null,null,null,null,null,null,null,null,{"$f":"IF(Магазин!$G$12:$G$3000>0,ROW(),\"\")","v":""}]
[null,null,null,null,null,null,null,null,{"$f":"IF(Магазин!$G$12:$G$3000>0,ROW(),\"\")","v":""}]
[null,null,null,null,null,null,null,null,{"$f":"IF(Магазин!$G$12:$G$3000>0,ROW(),\"\")","v":""}]
[null,null,null,null,null,null,null,null,{"$f":"IF(Магазин!$G$12:$G$3000>0,ROW(),\"\")","v":""}]
[null,null,null,null,null,null,null,null,{"$f":"IF(Магазин!$G$12:$G$3000>0,ROW(),\"\")","v":""}]
[null,null,null,null,null,null,null,null,{"$f":"IF(Магазин!$G$12:$G$3000>0,ROW(),\"\")","v":""}]
[null,null,null,null,null,null,null,null,{"$f":"IF(Магазин!$G$12:$G$3000>0,ROW(),\"\")","v":""}]
[null,null,null,null,null,null,null,null,{"$f":"IF(Магазин!$G$12:$G$3000>0,ROW(),\"\")","v":""}]
[null,null,null,null,null,null,null,null,{"$f":"IF(Магазин!$G$12:$G$3000>0,ROW(),\"\")","v":""}]
[null,null,null,null,null,null,null,null,{"$f":"IF(Магазин!$G$12:$G$3000>0,ROW(),\"\")","v":""}]
[null,null,null,null,null,null,null,null,{"$f":"IF(Магазин!$G$12:$G$3000>0,ROW(),\"\")","v":""}]
[null,null,null,null,null,null,null,null,{"$f":"IF(Магазин!$G$12:$G$3000>0,ROW(),\"\")","v":""}]
[null,null,null,null,null,null,null,null,{"$f":"IF(Магазин!$G$12:$G$3000>0,ROW(),\"\")","v":""}]
[null,null,null,null,null,null,null,null,{"$f":"IF(Магазин!$G$12:$G$3000>0,ROW(),\"\")","v":""}]
[null,null,null,null,null,null,null,null,{"$f":"IF(Магазин!$G$12:$G$3000>0,ROW(),\"\")","v":""}]
[null,null,null,null,null,null,null,null,{"$f":"IF(Магазин!$G$12:$G$3000>0,ROW(),\"\")","v":""}]
[null,null,null,null,null,null,null,null,{"$f":"IF(Магазин!$G$12:$G$3000>0,ROW(),\"\")","v":""}]
[null,null,null,null,null,null,null,null,{"$f":"IF(Магазин!$G$12:$G$3000>0,ROW(),\"\")","v":""}]
[null,null,null,null,null,null,null,null,{"$f":"IF(Магазин!$G$12:$G$3000>0,ROW(),\"\")","v":""}]
[null,null,null,null,null,null,null,null,{"$f":"IF(Магазин!$G$12:$G$3000>0,ROW(),\"\")","v":""}]
[null,null,null,null,null,null,null,null,{"$f":"IF(Магазин!$G$12:$G$3000>0,ROW(),\"\")","v":""}]
[null,null,null,null,null,null,null,null,{"$f":"IF(Магазин!$G$12:$G$3000>0,ROW(),\"\")","v":""}]
[null,null,null,null,null,null,null,null,{"$f":"IF(Магазин!$G$12:$G$3000>0,ROW(),\"\")","v":""}]
[null,null,null,null,null,null,null,null,{"$f":"IF(Магазин!$G$12:$G$3000>0,ROW(),\"\")","v":""}]
[null,null,null,null,null,null,null,null,{"$f":"IF(Магазин!$G$12:$G$3000>0,ROW(),\"\")","v":""}]
[null,null,null,null,null,null,null,null,{"$f":"IF(Магазин!$G$12:$G$3000>0,ROW(),\"\")","v":""}]
[null,null,null,null,null,null,null,null,{"$f":"IF(Магазин!$G$12:$G$3000>0,ROW(),\"\")","v":""}]
[null,null,null,null,null,null,null,null,{"$f":"IF(Магазин!$G$12:$G$3000>0,ROW(),\"\")","v":""}]
[null,null,null,null,null,null,null,null,{"$f":"IF(Магазин!$G$12:$G$3000>0,ROW(),\"\")","v":""}]
[null,null,null,null,null,null,null,null,{"$f":"IF(Магазин!$G$12:$G$3000>0,ROW(),\"\")","v":""}]
[null,null,null,null,null,null,null,null,{"$f":"IF(Магазин!$G$12:$G$3000>0,ROW(),\"\")","v":""}]
[null,null,null,null,null,null,null,null,{"$f":"IF(Магазин!$G$12:$G$3000>0,ROW(),\"\")","v":""}]
[null,null,null,null,null,null,null,null,{"$f":"IF(Магазин!$G$12:$G$3000>0,ROW(),\"\")","v":""}]
[null,null,null,null,null,null,null,null,{"$f":"IF(Магазин!$G$12:$G$3000>0,ROW(),\"\")","v":""}]
[null,null,null,null,null,null,null,null,{"$f":"IF(Магазин!$G$12:$G$3000>0,ROW(),\"\")","v":""}]
[null,null,null,null,null,null,null,null,{"$f":"IF(Магазин!$G$12:$G$3000>0,ROW(),\"\")","v":""}]
[null,null,null,null,null,null,null,null,{"$f":"IF(Магазин!$G$12:$G$3000>0,ROW(),\"\")","v":""}]
[null,null,null,null,null,null,null,null,{"$f":"IF(Магазин!$G$12:$G$3000>0,ROW(),\"\")","v":""}]
[null,null,null,null,null,null,null,null,{"$f":"IF(Магазин!$G$12:$G$3000>0,ROW(),\"\")","v":""}]
[null,null,null,null,null,null,null,null,{"$f":"IF(Магазин!$G$12:$G$3000>0,ROW(),\"\")","v":""}]
[null,null,null,null,null,null,null,null,{"$f":"IF(Магазин!$G$12:$G$3000>0,ROW(),\"\")","v":""}]
[null,null,null,null,null,null,null,null,{"$f":"IF(Магазин!$G$12:$G$3000>0,ROW(),\"\")","v":""}]
[null,null,null,null,null,null,null,null,{"$f":"IF(Магазин!$G$12:$G$3000>0,ROW(),\"\")","v":""}]
[null,null,null,null,null,null,null,null,{"$f":"IF(Магазин!$G$12:$G$3000>0,ROW(),\"\")","v":""}]
[null,null,null,null,null,null,null,null,{"$f":"IF(Магазин!$G$12:$G$3000>0,ROW(),\"\")","v":""}]
[null,null,null,null,null,null,null,null,{"$f":"IF(Магазин!$G$12:$G$3000>0,ROW(),\"\")","v":""}]
[null,null,null,null,null,null,null,null,{"$f":"IF(Магазин!$G$12:$G$3000>0,ROW(),\"\")","v":""}]
[null,null,null,null,null,null,null,null,{"$f":"IF(Магазин!$G$12:$G$3000>0,ROW(),\"\")","v":""}]
[null,null,null,null,null,null,null,null,{"$f":"IF(Магазин!$G$12:$G$3000>0,ROW(),\"\")","v":""}]
[null,null,null,null,null,null,null,null,{"$f":"IF(Магазин!$G$12:$G$3000>0,ROW(),\"\")","v":""}]
[null,null,null,null,null,null,null,null,{"$f":"IF(Магазин!$G$12:$G$3000>0,ROW(),\"\")","v":""}]
[null,null,null,null,null,null,null,null,{"$f":"IF(Магазин!$G$12:$G$3000>0,ROW(),\"\")","v":""}]
[null,null,null,null,null,null,null,null,{"$f":"IF(Магазин!$G$12:$G$3000>0,ROW(),\"\")","v":""}]
[null,null,null,null,null,null,null,null,{"$f":"IF(Магазин!$G$12:$G$3000>0,ROW(),\"\")","v":""}]
[null,null,null,null,null,null,null,null,{"$f":"IF(Магазин!$G$12:$G$3000>0,ROW(),\"\")","v":""}]
[null,null,null,null,null,null,null,null,{"$f":"IF(Магазин!$G$12:$G$3000>0,ROW(),\"\")","v":""}]
[null,null,null,null,null,null,null,null,{"$f":"IF(Магазин!$G$12:$G$3000>0,ROW(),\"\")","v":""}]
[null,null,null,null,null,null,null,null,{"$f":"IF(Магазин!$G$12:$G$3000>0,ROW(),\"\")","v":""}]
[null,null,null,null,null,null,null,null,{"$f":"IF(Магазин!$G$12:$G$3000>0,ROW(),\"\")","v":""}]
[null,null,null,null,null,null,null,null,{"$f":"IF(Магазин!$G$12:$G$3000>0,ROW(),\"\")","v":""}]
[null,null,null,null,null,null,null,null,{"$f":"IF(Магазин!$G$12:$G$3000>0,ROW(),\"\")","v":""}]
[null,null,null,null,null,null,null,null,{"$f":"IF(Магазин!$G$12:$G$3000>0,ROW(),\"\")","v":""}]
[null,null,null,null,null,null,null,null,{"$f":"IF(Магазин!$G$12:$G$3000>0,ROW(),\"\")","v":""}]
[null,null,null,null,null,null,null,null,{"$f":"IF(Магазин!$G$12:$G$3000>0,ROW(),\"\")","v":""}]
[null,null,null,null,null,null,null,null,{"$f":"IF(Магазин!$G$12:$G$3000>0,ROW(),\"\")","v":""}]
[null,null,null,null,null,null,null,null,{"$f":"IF(Магазин!$G$12:$G$3000>0,ROW(),\"\")","v":""}]
[null,null,null,null,null,null,null,null,{"$f":"IF(Магазин!$G$12:$G$3000>0,ROW(),\"\")","v":""}]
[null,null,null,null,null,null,null,null,{"$f":"IF(Магазин!$G$12:$G$3000>0,ROW(),\"\")","v":""}]
[null,null,null,null,null,null,null,null,{"$f":"IF(Магазин!$G$12:$G$3000>0,ROW(),\"\")","v":""}]
[null,null,null,null,null,null,null,null,{"$f":"IF(Магазин!$G$12:$G$3000>0,ROW(),\"\")","v":""}]
[null,null,null,null,null,null,null,null,{"$f":"IF(Магазин!$G$12:$G$3000>0,ROW(),\"\")","v":""}]
[null,null,null,null,null,null,null,null,{"$f":"IF(Магазин!$G$12:$G$3000>0,ROW(),\"\")","v":""}]
[null,null,null,null,null,null,null,null,{"$f":"IF(Магазин!$G$12:$G$3000>0,ROW(),\"\")","v":""}]
[null,null,null,null,null,null,null,null,{"$f":"IF(Магазин!$G$12:$G$3000>0,ROW(),\"\")","v":""}]
[null,null,null,null,null,null,null,null,{"$f":"IF(Магазин!$G$12:$G$3000>0,ROW(),\"\")","v":""}]
[null,null,null,null,null,null,null,null,{"$f":"IF(Магазин!$G$12:$G$3000>0,ROW(),\"\")","v":""}]
[null,null,null,null,null,null,null,null,{"$f":"IF(Магазин!$G$12:$G$3000>0,ROW(),\"\")","v":""}]
[null,null,null,null,null,null,null,null,{"$f":"IF(Магазин!$G$12:$G$3000>0,ROW(),\"\")","v":""}]
[null,null,null,null,null,null,null,null,{"$f":"IF(Магазин!$G$12:$G$3000>0,ROW(),\"\")","v":""}]
[null,null,null,null,null,null,null,null,{"$f":"IF(Магазин!$G$12:$G$3000>0,ROW(),\"\")","v":""}]
[null,null,null,null,null,null,null,null,{"$f":"IF(Магазин!$G$12:$G$3000>0,ROW(),\"\")","v":""}]
[null,null,null,null,null,null,null,null,{"$f":"IF(Магазин!$G$12:$G$3000>0,ROW(),\"\")","v":""}]
[null,null,null,null,null,null,null,null,{"$f":"IF(Магазин!$G$12:$G$3000>0,ROW(),\"\")","v":""}]
[null,null,null,null,null,null,null,null,{"$f":"IF(Магазин!$G$12:$G$3000>0,ROW(),\"\")","v":""}]
[null,null,null,null,null,null,null,null,{"$f":"IF(Магазин!$G$12:$G$3000>0,ROW(),\"\")","v":""}]
[null,null,null,null,null,null,null,null,{"$f":"IF(Магазин!$G$12:$G$3000>0,ROW(),\"\")","v":""}]
[null,null,null,null,null,null,null,null,{"$f":"IF(Магазин!$G$12:$G$3000>0,ROW(),\"\")","v":""}]
[null,null,null,null,null,null,null,null,{"$f":"IF(Магазин!$G$12:$G$3000>0,ROW(),\"\")","v":""}]
[null,null,null,null,null,null,null,null,{"$f":"IF(Магазин!$G$12:$G$3000>0,ROW(),\"\")","v":""}]
[null,null,null,null,null,null,null,null,{"$f":"IF(Магазин!$G$12:$G$3000>0,ROW(),\"\")","v":""}]
[null,null,null,null,null,null,null,null,{"$f":"IF(Магазин!$G$12:$G$3000>0,ROW(),\"\")","v":""}]
[null,null,null,null,null,null,null,null,{"$f":"IF(Магазин!$G$12:$G$3000>0,ROW(),\"\")","v":""}]
[null,null,null,null,null,null,null,null,{"$f":"IF(Магазин!$G$12:$G$3000>0,ROW(),\"\")","v":""}]
[null,null,null,null,null,null,null,null,{"$f":"IF(Магазин!$G$12:$G$3000>0,ROW(),\"\")","v":""}]
[null,null,null,null,null,null,null,null,{"$f":"IF(Магазин!$G$12:$G$3000>0,ROW(),\"\")","v":""}]
[null,null,null,null,null,null,null,null,{"$f":"IF(Магазин!$G$12:$G$3000>0,ROW(),\"\")","v":""}]
[null,null,null,null,null,null,null,null,{"$f":"IF(Магазин!$G$12:$G$3000>0,ROW(),\"\")","v":""}]
[null,null,null,null,null,null,null,null,{"$f":"IF(Магазин!$G$12:$G$3000>0,ROW(),\"\")","v":""}]
[null,null,null,null,null,null,null,null,{"$f":"IF(Магазин!$G$12:$G$3000>0,ROW(),\"\")","v":""}]
[null,null,null,null,null,null,null,null,{"$f":"IF(Магазин!$G$12:$G$3000>0,ROW(),\"\")","v":""}]
[null,null,null,null,null,null,null,null,{"$f":"IF(Магазин!$G$12:$G$3000>0,ROW(),\"\")","v":""}]
[null,null,null,null,null,null,null,null,{"$f":"IF(Магазин!$G$12:$G$3000>0,ROW(),\"\")","v":""}]
[null,null,null,null,null,null,null,null,{"$f":"IF(Магазин!$G$12:$G$3000>0,ROW(),\"\")","v":""}]
[null,null,null,null,null,null,null,null,{"$f":"IF(Магазин!$G$12:$G$3000>0,ROW(),\"\")","v":""}]
[null,null,null,null,null,null,null,null,{"$f":"IF(Магазин!$G$12:$G$3000>0,ROW(),\"\")","v":""}]
[null,null,null,null,null,null,null,null,{"$f":"IF(Магазин!$G$12:$G$3000>0,ROW(),\"\")","v":""}]
[null,null,null,null,null,null,null,null,{"$f":"IF(Магазин!$G$12:$G$3000>0,ROW(),\"\")","v":""}]
[null,null,null,null,null,null,null,null,{"$f":"IF(Магазин!$G$12:$G$3000>0,ROW(),\"\")","v":""}]
[null,null,null,null,null,null,null,null,{"$f":"IF(Магазин!$G$12:$G$3000>0,ROW(),\"\")","v":""}]
[null,null,null,null,null,null,null,null,{"$f":"IF(Магазин!$G$12:$G$3000>0,ROW(),\"\")","v":""}]
[null,null,null,null,null,null,null,null,{"$f":"IF(Магазин!$G$12:$G$3000>0,ROW(),\"\")","v":""}]
[null,null,null,null,null,null,null,null,{"$f":"IF(Магазин!$G$12:$G$3000>0,ROW(),\"\")","v":""}]
[null,null,null,null,null,null,null,null,{"$f":"IF(Магазин!$G$12:$G$3000>0,ROW(),\"\")","v":""}]
[null,null,null,null,null,null,null,null,{"$f":"IF(Магазин!$G$12:$G$3000>0,ROW(),\"\")","v":""}]
[null,null,null,null,null,null,null,null,{"$f":"IF(Магазин!$G$12:$G$3000>0,ROW(),\"\")","v":""}]
[null,null,null,null,null,null,null,null,{"$f":"IF(Магазин!$G$12:$G$3000>0,ROW(),\"\")","v":""}]
[null,null,null,null,null,null,null,null,{"$f":"IF(Магазин!$G$12:$G$3000>0,ROW(),\"\")","v":""}]
[null,null,null,null,null,null,null,null,{"$f":"IF(Магазин!$G$12:$G$3000>0,ROW(),\"\")","v":""}]
[null,null,null,null,null,null,null,null,{"$f":"IF(Магазин!$G$12:$G$3000>0,ROW(),\"\")","v":""}]
[null,null,null,null,null,null,null,null,{"$f":"IF(Магазин!$G$12:$G$3000>0,ROW(),\"\")","v":""}]
[null,null,null,null,null,null,null,null,{"$f":"IF(Магазин!$G$12:$G$3000>0,ROW(),\"\")","v":""}]
[null,null,null,null,null,null,null,null,{"$f":"IF(Магазин!$G$12:$G$3000>0,ROW(),\"\")","v":""}]
[null,null,null,null,null,null,null,null,{"$f":"IF(Магазин!$G$12:$G$3000>0,ROW(),\"\")","v":""}]
[null,null,null,null,null,null,null,null,{"$f":"IF(Магазин!$G$12:$G$3000>0,ROW(),\"\")","v":""}]
[null,null,null,null,null,null,null,null,{"$f":"IF(Магазин!$G$12:$G$3000>0,ROW(),\"\")","v":""}]
[null,null,null,null,null,null,null,null,{"$f":"IF(Магазин!$G$12:$G$3000>0,ROW(),\"\")","v":""}]
[null,null,null,null,null,null,null,null,{"$f":"IF(Магазин!$G$12:$G$3000>0,ROW(),\"\")","v":""}]
[null,null,null,null,null,null,null,null,{"$f":"IF(Магазин!$G$12:$G$3000>0,ROW(),\"\")","v":""}]
[null,null,null,null,null,null,null,null,{"$f":"IF(Магазин!$G$12:$G$3000>0,ROW(),\"\")","v":""}]
[null,null,null,null,null,null,null,null,{"$f":"IF(Магазин!$G$12:$G$3000>0,ROW(),\"\")","v":""}]
[null,null,null,null,null,null,null,null,{"$f":"IF(Магазин!$G$12:$G$3000>0,ROW(),\"\")","v":""}]
[null,null,null,null,null,null,null,null,{"$f":"IF(Магазин!$G$12:$G$3000>0,ROW(),\"\")","v":""}]
[null,null,null,null,null,null,null,null,{"$f":"IF(Магазин!$G$12:$G$3000>0,ROW(),\"\")","v":""}]
[null,null,null,null,null,null,null,null,{"$f":"IF(Магазин!$G$12:$G$3000>0,ROW(),\"\")","v":""}]
[null,null,null,null,null,null,null,null,{"$f":"IF(Магазин!$G$12:$G$3000>0,ROW(),\"\")","v":""}]
[null,null,null,null,null,null,null,null,{"$f":"IF(Магазин!$G$12:$G$3000>0,ROW(),\"\")","v":""}]
[null,null,null,null,null,null,null,null,{"$f":"IF(Магазин!$G$12:$G$3000>0,ROW(),\"\")","v":""}]
[null,null,null,null,null,null,null,null,{"$f":"IF(Магазин!$G$12:$G$3000>0,ROW(),\"\")","v":""}]
[null,null,null,null,null,null,null,null,{"$f":"IF(Магазин!$G$12:$G$3000>0,ROW(),\"\")","v":""}]
[null,null,null,null,null,null,null,null,{"$f":"IF(Магазин!$G$12:$G$3000>0,ROW(),\"\")","v":""}]
[null,null,null,null,null,null,null,null,{"$f":"IF(Магазин!$G$12:$G$3000>0,ROW(),\"\")","v":""}]
[null,null,null,null,null,null,null,null,{"$f":"IF(Магазин!$G$12:$G$3000>0,ROW(),\"\")","v":""}]
[null,null,null,null,null,null,null,null,{"$f":"IF(Магазин!$G$12:$G$3000>0,ROW(),\"\")","v":""}]
[null,null,null,null,null,null,null,null,{"$f":"IF(Магазин!$G$12:$G$3000>0,ROW(),\"\")","v":""}]
[null,null,null,null,null,null,null,null,{"$f":"IF(Магазин!$G$12:$G$3000>0,ROW(),\"\")","v":""}]
[null,null,null,null,null,null,null,null,{"$f":"IF(Магазин!$G$12:$G$3000>0,ROW(),\"\")","v":""}]
[null,null,null,null,null,null,null,null,{"$f":"IF(Магазин!$G$12:$G$3000>0,ROW(),\"\")","v":""}]
[null,null,null,null,null,null,null,null,{"$f":"IF(Магазин!$G$12:$G$3000>0,ROW(),\"\")","v":""}]
[null,null,null,null,null,null,null,null,{"$f":"IF(Магазин!$G$12:$G$3000>0,ROW(),\"\")","v":""}]
[null,null,null,null,null,null,null,null,{"$f":"IF(Магазин!$G$12:$G$3000>0,ROW(),\"\")","v":""}]
[null,null,null,null,null,null,null,null,{"$f":"IF(Магазин!$G$12:$G$3000>0,ROW(),\"\")","v":""}]
[null,null,null,null,null,null,null,null,{"$f":"IF(Магазин!$G$12:$G$3000>0,ROW(),\"\")","v":""}]
[null,null,null,null,null,null,null,null,{"$f":"IF(Магазин!$G$12:$G$3000>0,ROW(),\"\")","v":""}]
[null,null,null,null,null,null,null,null,{"$f":"IF(Магазин!$G$12:$G$3000>0,ROW(),\"\")","v":""}]
[null,null,null,null,null,null,null,null,{"$f":"IF(Магазин!$G$12:$G$3000>0,ROW(),\"\")","v":""}]
[null,null,null,null,null,null,null,null,{"$f":"IF(Магазин!$G$12:$G$3000>0,ROW(),\"\")","v":""}]
[null,null,null,null,null,null,null,null,{"$f":"IF(Магазин!$G$12:$G$3000>0,ROW(),\"\")","v":""}]
[null,null,null,null,null,null,null,null,{"$f":"IF(Магазин!$G$12:$G$3000>0,ROW(),\"\")","v":""}]
[null,null,null,null,null,null,null,null,{"$f":"IF(Магазин!$G$12:$G$3000>0,ROW(),\"\")","v":""}]
[null,null,null,null,null,null,null,null,{"$f":"IF(Магазин!$G$12:$G$3000>0,ROW(),\"\")","v":""}]
[null,null,null,null,null,null,null,null,{"$f":"IF(Магазин!$G$12:$G$3000>0,ROW(),\"\")","v":""}]
[null,null,null,null,null,null,null,null,{"$f":"IF(Магазин!$G$12:$G$3000>0,ROW(),\"\")","v":""}]
[null,null,null,null,null,null,null,null,{"$f":"IF(Магазин!$G$12:$G$3000>0,ROW(),\"\")","v":""}]
[null,null,null,null,null,null,null,null,{"$f":"IF(Магазин!$G$12:$G$3000>0,ROW(),\"\")","v":""}]
[null,null,null,null,null,null,null,null,{"$f":"IF(Магазин!$G$12:$G$3000>0,ROW(),\"\")","v":""}]
[null,null,null,null,null,null,null,null,{"$f":"IF(Магазин!$G$12:$G$3000>0,ROW(),\"\")","v":""}]
[null,null,null,null,null,null,null,null,{"$f":"IF(Магазин!$G$12:$G$3000>0,ROW(),\"\")","v":""}]
[null,null,null,null,null,null,null,null,{"$f":"IF(Магазин!$G$12:$G$3000>0,ROW(),\"\")","v":""}]
[null,null,null,null,null,null,null,null,{"$f":"IF(Магазин!$G$12:$G$3000>0,ROW(),\"\")","v":""}]
[null,null,null,null,null,null,null,null,{"$f":"IF(Магазин!$G$12:$G$3000>0,ROW(),\"\")","v":""}]
[null,null,null,null,null,null,null,null,{"$f":"IF(Магазин!$G$12:$G$3000>0,ROW(),\"\")","v":""}]
[null,null,null,null,null,null,null,null,{"$f":"IF(Магазин!$G$12:$G$3000>0,ROW(),\"\")","v":""}]
[null,null,null,null,null,null,null,null,{"$f":"IF(Магазин!$G$12:$G$3000>0,ROW(),\"\")","v":""}]
[null,null,null,null,null,null,null,null,{"$f":"IF(Магазин!$G$12:$G$3000>0,ROW(),\"\")","v":""}]
[null,null,null,null,null,null,null,null,{"$f":"IF(Магазин!$G$12:$G$3000>0,ROW(),\"\")","v":""}]
[null,null,null,null,null,null,null,null,{"$f":"IF(Магазин!$G$12:$G$3000>0,ROW(),\"\")","v":""}]
[null,null,null,null,null,null,null,null,{"$f":"IF(Магазин!$G$12:$G$3000>0,ROW(),\"\")","v":""}]
[null,null,null,null,null,null,null,null,{"$f":"IF(Магазин!$G$12:$G$3000>0,ROW(),\"\")","v":""}]
[null,null,null,null,null,null,null,null,{"$f":"IF(Магазин!$G$12:$G$3000>0,ROW(),\"\")","v":""}]
[null,null,null,null,null,null,null,null,{"$f":"IF(Магазин!$G$12:$G$3000>0,ROW(),\"\")","v":""}]
[null,null,null,null,null,null,null,null,{"$f":"IF(Магазин!$G$12:$G$3000>0,ROW(),\"\")","v":""}]
[null,null,null,null,null,null,null,null,{"$f":"IF(Магазин!$G$12:$G$3000>0,ROW(),\"\")","v":""}]
[null,null,null,null,null,null,null,null,{"$f":"IF(Магазин!$G$12:$G$3000>0,ROW(),\"\")","v":""}]
[null,null,null,null,null,null,null,null,{"$f":"IF(Магазин!$G$12:$G$3000>0,ROW(),\"\")","v":""}]
[null,null,null,null,null,null,null,null,{"$f":"IF(Магазин!$G$12:$G$3000>0,ROW(),\"\")","v":""}]
[null,null,null,null,null,null,null,null,{"$f":"IF(Магазин!$G$12:$G$3000>0,ROW(),\"\")","v":""}]
[null,null,null,null,null,null,null,null,{"$f":"IF(Магазин!$G$12:$G$3000>0,ROW(),\"\")","v":""}]
[null,null,null,null,null,null,null,null,{"$f":"IF(Магазин!$G$12:$G$3000>0,ROW(),\"\")","v":""}]
[null,null,null,null,null,null,null,null,{"$f":"IF(Магазин!$G$12:$G$3000>0,ROW(),\"\")","v":""}]
[null,null,null,null,null,null,null,null,{"$f":"IF(Магазин!$G$12:$G$3000>0,ROW(),\"\")","v":""}]
[null,null,null,null,null,null,null,null,{"$f":"IF(Магазин!$G$12:$G$3000>0,ROW(),\"\")","v":""}]
[null,null,null,null,null,null,null,null,{"$f":"IF(Магазин!$G$12:$G$3000>0,ROW(),\"\")","v":""}]
[null,null,null,null,null,null,null,null,{"$f":"IF(Магазин!$G$12:$G$3000>0,ROW(),\"\")","v":""}]
[null,null,null,null,null,null,null,null,{"$f":"IF(Магазин!$G$12:$G$3000>0,ROW(),\"\")","v":""}]
[null,null,null,null,null,null,null,null,{"$f":"IF(Магазин!$G$12:$G$3000>0,ROW(),\"\")","v":""}]
[null,null,null,null,null,null,null,null,{"$f":"IF(Магазин!$G$12:$G$3000>0,ROW(),\"\")","v":""}]
[null,null,null,null,null,null,null,null,{"$f":"IF(Магазин!$G$12:$G$3000>0,ROW(),\"\")","v":""}]
[null,null,null,null,null,null,null,null,{"$f":"IF(Магазин!$G$12:$G$3000>0,ROW(),\"\")","v":""}]
[null,null,null,null,null,null,null,null,{"$f":"IF(Магазин!$G$12:$G$3000>0,ROW(),\"\")","v":""}]
[null,null,null,null,null,null,null,null,{"$f":"IF(Магазин!$G$12:$G$3000>0,ROW(),\"\")","v":""}]
[null,null,null,null,null,null,null,null,{"$f":"IF(Магазин!$G$12:$G$3000>0,ROW(),\"\")","v":""}]
[null,null,null,null,null,null,null,null,{"$f":"IF(Магазин!$G$12:$G$3000>0,ROW(),\"\")","v":""}]
[null,null,null,null,null,null,null,null,{"$f":"IF(Магазин!$G$12:$G$3000>0,ROW(),\"\")","v":""}]
[null,null,null,null,null,null,null,null,{"$f":"IF(Магазин!$G$12:$G$3000>0,ROW(),\"\")","v":""}]
[null,null,null,null,null,null,null,null,{"$f":"IF(Магазин!$G$12:$G$3000>0,ROW(),\"\")","v":""}]
[null,null,null,null,null,null,null,null,{"$f":"IF(Магазин!$G$12:$G$3000>0,ROW(),\"\")","v":""}]
[null,null,null,null,null,null,null,null,{"$f":"IF(Магазин!$G$12:$G$3000>0,ROW(),\"\")","v":""}]
[null,null,null,null,null,null,null,null,{"$f":"IF(Магазин!$G$12:$G$3000>0,ROW(),\"\")","v":""}]
[null,null,null,null,null,null,null,null,{"$f":"IF(Магазин!$G$12:$G$3000>0,ROW(),\"\")","v":""}]
[null,null,null,null,null,null,null,null,{"$f":"IF(Магазин!$G$12:$G$3000>0,ROW(),\"\")","v":""}]
[null,null,null,null,null,null,null,null,{"$f":"IF(Магазин!$G$12:$G$3000>0,ROW(),\"\")","v":""}]
[null,null,null,null,null,null,null,null,{"$f":"IF(Магазин!$G$12:$G$3000>0,ROW(),\"\")","v":""}]
[null,null,null,null,null,null,null,null,{"$f":"IF(Магазин!$G$12:$G$3000>0,ROW(),\"\")","v":""}]
[null,null,null,null,null,null,null,null,{"$f":"IF(Магазин!$G$12:$G$3000>0,ROW(),\"\")","v":""}]
[null,null,null,null,null,null,null,null,{"$f":"IF(Магазин!$G$12:$G$3000>0,ROW(),\"\")","v":""}]
[null,null,null,null,null,null,null,null,{"$f":"IF(Магазин!$G$12:$G$3000>0,ROW(),\"\")","v":""}]
[null,null,null,null,null,null,null,null,{"$f":"IF(Магазин!$G$12:$G$3000>0,ROW(),\"\")","v":""}]
[null,null,null,null,null,null,null,null,{"$f":"IF(Магазин!$G$12:$G$3000>0,ROW(),\"\")","v":""}]
[null,null,null,null,null,null,null,null,{"$f":"IF(Магазин!$G$12:$G$3000>0,ROW(),\"\")","v":""}]
[null,null,null,null,null,null,null,null,{"$f":"IF(Магазин!$G$12:$G$3000>0,ROW(),\"\")","v":""}]
[null,null,null,null,null,null,null,null,{"$f":"IF(Магазин!$G$12:$G$3000>0,ROW(),\"\")","v":""}]
[null,null,null,null,null,null,null,null,{"$f":"IF(Магазин!$G$12:$G$3000>0,ROW(),\"\")","v":""}]
[null,null,null,null,null,null,null,null,{"$f":"IF(Магазин!$G$12:$G$3000>0,ROW(),\"\")","v":""}]
[null,null,null,null,null,null,null,null,{"$f":"IF(Магазин!$G$12:$G$3000>0,ROW(),\"\")","v":""}]
[null,null,null,null,null,null,null,null,{"$f":"IF(Магазин!$G$12:$G$3000>0,ROW(),\"\")","v":""}]
[null,null,null,null,null,null,null,null,{"$f":"IF(Магазин!$G$12:$G$3000>0,ROW(),\"\")","v":""}]
[null,null,null,null,null,null,null,null,{"$f":"IF(Магазин!$G$12:$G$3000>0,ROW(),\"\")","v":""}]
[null,null,null,null,null,null,null,null,{"$f":"IF(Магазин!$G$12:$G$3000>0,ROW(),\"\")","v":""}]
[null,null,null,null,null,null,null,null,{"$f":"IF(Магазин!$G$12:$G$3000>0,ROW(),\"\")","v":""}]
[null,null,null,null,null,null,null,null,{"$f":"IF(Магазин!$G$12:$G$3000>0,ROW(),\"\")","v":""}]
[null,null,null,null,null,null,null,null,{"$f":"IF(Магазин!$G$12:$G$3000>0,ROW(),\"\")","v":""}]
[null,null,null,null,null,null,null,null,{"$f":"IF(Магазин!$G$12:$G$3000>0,ROW(),\"\")","v":""}]
[null,null,null,null,null,null,null,null,{"$f":"IF(Магазин!$G$12:$G$3000>0,ROW(),\"\")","v":""}]
[null,null,null,null,null,null,null,null,{"$f":"IF(Магазин!$G$12:$G$3000>0,ROW(),\"\")","v":""}]
[null,null,null,null,null,null,null,null,{"$f":"IF(Магазин!$G$12:$G$3000>0,ROW(),\"\")","v":""}]
[null,null,null,null,null,null,null,null,{"$f":"IF(Магазин!$G$12:$G$3000>0,ROW(),\"\")","v":""}]
[null,null,null,null,null,null,null,null,{"$f":"IF(Магазин!$G$12:$G$3000>0,ROW(),\"\")","v":""}]
[null,null,null,null,null,null,null,null,{"$f":"IF(Магазин!$G$12:$G$3000>0,ROW(),\"\")","v":""}]
[null,null,null,null,null,null,null,null,{"$f":"IF(Магазин!$G$12:$G$3000>0,ROW(),\"\")","v":""}]
[null,null,null,null,null,null,null,null,{"$f":"IF(Магазин!$G$12:$G$3000>0,ROW(),\"\")","v":""}]
[null,null,null,null,null,null,null,null,{"$f":"IF(Магазин!$G$12:$G$3000>0,ROW(),\"\")","v":""}]
[null,null,null,null,null,null,null,null,{"$f":"IF(Магазин!$G$12:$G$3000>0,ROW(),\"\")","v":""}]
[null,null,null,null,null,null,null,null,{"$f":"IF(Магазин!$G$12:$G$3000>0,ROW(),\"\")","v":""}]
[null,null,null,null,null,null,null,null,{"$f":"IF(Магазин!$G$12:$G$3000>0,ROW(),\"\")","v":""}]
[null,null,null,null,null,null,null,null,{"$f":"IF(Магазин!$G$12:$G$3000>0,ROW(),\"\")","v":""}]
[null,null,null,null,null,null,null,null,{"$f":"IF(Магазин!$G$12:$G$3000>0,ROW(),\"\")","v":""}]
[null,null,null,null,null,null,null,null,{"$f":"IF(Магазин!$G$12:$G$3000>0,ROW(),\"\")","v":""}]
[null,null,null,null,null,null,null,null,{"$f":"IF(Магазин!$G$12:$G$3000>0,ROW(),\"\")","v":""}]
[null,null,null,null,null,null,null,null,{"$f":"IF(Магазин!$G$12:$G$3000>0,ROW(),\"\")","v":""}]
[null,null,null,null,null,null,null,null,{"$f":"IF(Магазин!$G$12:$G$3000>0,ROW(),\"\")","v":""}]
[null,null,null,null,null,null,null,null,{"$f":"IF(Магазин!$G$12:$G$3000>0,ROW(),\"\")","v":""}]
[null,null,null,null,null,null,null,null,{"$f":"IF(Магазин!$G$12:$G$3000>0,ROW(),\"\")","v":""}]
[null,null,null,null,null,null,null,null,{"$f":"IF(Магазин!$G$12:$G$3000>0,ROW(),\"\")","v":""}]
[null,null,null,null,null,null,null,null,{"$f":"IF(Магазин!$G$12:$G$3000>0,ROW(),\"\")","v":""}]
[null,null,null,null,null,null,null,null,{"$f":"IF(Магазин!$G$12:$G$3000>0,ROW(),\"\")","v":""}]
[null,null,null,null,null,null,null,null,{"$f":"IF(Магазин!$G$12:$G$3000>0,ROW(),\"\")","v":""}]
[null,null,null,null,null,null,null,null,{"$f":"IF(Магазин!$G$12:$G$3000>0,ROW(),\"\")","v":""}]
[null,null,null,null,null,null,null,null,{"$f":"IF(Магазин!$G$12:$G$3000>0,ROW(),\"\")","v":""}]
[null,null,null,null,null,null,null,null,{"$f":"IF(Магазин!$G$12:$G$3000>0,ROW(),\"\")","v":""}]
[null,null,null,null,null,null,null,null,{"$f":"IF(Магазин!$G$12:$G$3000>0,ROW(),\"\")","v":""}]
[null,null,null,null,null,null,null,null,{"$f":"IF(Магазин!$G$12:$G$3000>0,ROW(),\"\")","v":""}]
[null,null,null,null,null,null,null,null,{"$f":"IF(Магазин!$G$12:$G$3000>0,ROW(),\"\")","v":""}]
[null,null,null,null,null,null,null,null,{"$f":"IF(Магазин!$G$12:$G$3000>0,ROW(),\"\")","v":""}]
[null,null,null,null,null,null,null,null,{"$f":"IF(Магазин!$G$12:$G$3000>0,ROW(),\"\")","v":""}]
[null,null,null,null,null,null,null,null,{"$f":"IF(Магазин!$G$12:$G$3000>0,ROW(),\"\")","v":""}]
[null,null,null,null,null,null,null,null,{"$f":"IF(Магазин!$G$12:$G$3000>0,ROW(),\"\")","v":""}]
[null,null,null,null,null,null,null,null,{"$f":"IF(Магазин!$G$12:$G$3000>0,ROW(),\"\")","v":""}]
[null,null,null,null,null,null,null,null,{"$f":"IF(Магазин!$G$12:$G$3000>0,ROW(),\"\")","v":""}]
[null,null,null,null,null,null,null,null,{"$f":"IF(Магазин!$G$12:$G$3000>0,ROW(),\"\")","v":""}]
[null,null,null,null,null,null,null,null,{"$f":"IF(Магазин!$G$12:$G$3000>0,ROW(),\"\")","v":""}]
[null,null,null,null,null,null,null,null,{"$f":"IF(Магазин!$G$12:$G$3000>0,ROW(),\"\")","v":""}]
[null,null,null,null,null,null,null,null,{"$f":"IF(Магазин!$G$12:$G$3000>0,ROW(),\"\")","v":""}]
[null,null,null,null,null,null,null,null,{"$f":"IF(Магазин!$G$12:$G$3000>0,ROW(),\"\")","v":""}]
[null,null,null,null,null,null,null,null,{"$f":"IF(Магазин!$G$12:$G$3000>0,ROW(),\"\")","v":""}]
[null,null,null,null,null,null,null,null,{"$f":"IF(Магазин!$G$12:$G$3000>0,ROW(),\"\")","v":""}]
[null,null,null,null,null,null,null,null,{"$f":"IF(Магазин!$G$12:$G$3000>0,ROW(),\"\")","v":""}]
[null,null,null,null,null,null,null,null,{"$f":"IF(Магазин!$G$12:$G$3000>0,ROW(),\"\")","v":""}]
[null,null,null,null,null,null,null,null,{"$f":"IF(Магазин!$G$12:$G$3000>0,ROW(),\"\")","v":""}]
[null,null,null,null,null,null,null,null,{"$f":"IF(Магазин!$G$12:$G$3000>0,ROW(),\"\")","v":""}]
[null,null,null,null,null,null,null,null,{"$f":"IF(Магазин!$G$12:$G$3000>0,ROW(),\"\")","v":""}]
[null,null,null,null,null,null,null,null,{"$f":"IF(Магазин!$G$12:$G$3000>0,ROW(),\"\")","v":""}]
[null,null,null,null,null,null,null,null,{"$f":"IF(Магазин!$G$12:$G$3000>0,ROW(),\"\")","v":""}]
[null,null,null,null,null,null,null,null,{"$f":"IF(Магазин!$G$12:$G$3000>0,ROW(),\"\")","v":""}]
[null,null,null,null,null,null,null,null,{"$f":"IF(Магазин!$G$12:$G$3000>0,ROW(),\"\")","v":""}]
[null,null,null,null,null,null,null,null,{"$f":"IF(Магазин!$G$12:$G$3000>0,ROW(),\"\")","v":""}]
[null,null,null,null,null,null,null,null,{"$f":"IF(Магазин!$G$12:$G$3000>0,ROW(),\"\")","v":""}]
[null,null,null,null,null,null,null,null,{"$f":"IF(Магазин!$G$12:$G$3000>0,ROW(),\"\")","v":""}]
[null,null,null,null,null,null,null,null,{"$f":"IF(Магазин!$G$12:$G$3000>0,ROW(),\"\")","v":""}]
[null,null,null,null,null,null,null,null,{"$f":"IF(Магазин!$G$12:$G$3000>0,ROW(),\"\")","v":""}]
[null,null,null,null,null,null,null,null,{"$f":"IF(Магазин!$G$12:$G$3000>0,ROW(),\"\")","v":""}]
[null,null,null,null,null,null,null,null,{"$f":"IF(Магазин!$G$12:$G$3000>0,ROW(),\"\")","v":""}]
[null,null,null,null,null,null,null,null,{"$f":"IF(Магазин!$G$12:$G$3000>0,ROW(),\"\")","v":""}]
[null,null,null,null,null,null,null,null,{"$f":"IF(Магазин!$G$12:$G$3000>0,ROW(),\"\")","v":""}]
[null,null,null,null,null,null,null,null,{"$f":"IF(Магазин!$G$12:$G$3000>0,ROW(),\"\")","v":""}]
[null,null,null,null,null,null,null,null,{"$f":"IF(Магазин!$G$12:$G$3000>0,ROW(),\"\")","v":""}]
[null,null,null,null,null,null,null,null,{"$f":"IF(Магазин!$G$12:$G$3000>0,ROW(),\"\")","v":""}]
[null,null,null,null,null,null,null,null,{"$f":"IF(Магазин!$G$12:$G$3000>0,ROW(),\"\")","v":""}]
[null,null,null,null,null,null,null,null,{"$f":"IF(Магазин!$G$12:$G$3000>0,ROW(),\"\")","v":""}]
[null,null,null,null,null,null,null,null,{"$f":"IF(Магазин!$G$12:$G$3000>0,ROW(),\"\")","v":""}]
[null,null,null,null,null,null,null,null,{"$f":"IF(Магазин!$G$12:$G$3000>0,ROW(),\"\")","v":""}]
[null,null,null,null,null,null,null,null,{"$f":"IF(Магазин!$G$12:$G$3000>0,ROW(),\"\")","v":""}]
[null,null,null,null,null,null,null,null,{"$f":"IF(Магазин!$G$12:$G$3000>0,ROW(),\"\")","v":""}]
[null,null,null,null,null,null,null,null,{"$f":"IF(Магазин!$G$12:$G$3000>0,ROW(),\"\")","v":""}]
[null,null,null,null,null,null,null,null,{"$f":"IF(Магазин!$G$12:$G$3000>0,ROW(),\"\")","v":""}]
[null,null,null,null,null,null,null,null,{"$f":"IF(Магазин!$G$12:$G$3000>0,ROW(),\"\")","v":""}]
[null,null,null,null,null,null,null,null,{"$f":"IF(Магазин!$G$12:$G$3000>0,ROW(),\"\")","v":""}]
[null,null,null,null,null,null,null,null,{"$f":"IF(Магазин!$G$12:$G$3000>0,ROW(),\"\")","v":""}]
[null,null,null,null,null,null,null,null,{"$f":"IF(Магазин!$G$12:$G$3000>0,ROW(),\"\")","v":""}]
[null,null,null,null,null,null,null,null,{"$f":"IF(Магазин!$G$12:$G$3000>0,ROW(),\"\")","v":""}]
[null,null,null,null,null,null,null,null,{"$f":"IF(Магазин!$G$12:$G$3000>0,ROW(),\"\")","v":""}]
[null,null,null,null,null,null,null,null,{"$f":"IF(Магазин!$G$12:$G$3000>0,ROW(),\"\")","v":""}]
[null,null,null,null,null,null,null,null,{"$f":"IF(Магазин!$G$12:$G$3000>0,ROW(),\"\")","v":""}]
[null,null,null,null,null,null,null,null,{"$f":"IF(Магазин!$G$12:$G$3000>0,ROW(),\"\")","v":""}]
[null,null,null,null,null,null,null,null,{"$f":"IF(Магазин!$G$12:$G$3000>0,ROW(),\"\")","v":""}]
[null,null,null,null,null,null,null,null,{"$f":"IF(Магазин!$G$12:$G$3000>0,ROW(),\"\")","v":""}]
[null,null,null,null,null,null,null,null,{"$f":"IF(Магазин!$G$12:$G$3000>0,ROW(),\"\")","v":""}]
[null,null,null,null,null,null,null,null,{"$f":"IF(Магазин!$G$12:$G$3000>0,ROW(),\"\")","v":""}]
[null,null,null,null,null,null,null,null,{"$f":"IF(Магазин!$G$12:$G$3000>0,ROW(),\"\")","v":""}]
[null,null,null,null,null,null,null,null,{"$f":"IF(Магазин!$G$12:$G$3000>0,ROW(),\"\")","v":""}]
[null,null,null,null,null,null,null,null,{"$f":"IF(Магазин!$G$12:$G$3000>0,ROW(),\"\")","v":""}]
[null,null,null,null,null,null,null,null,{"$f":"IF(Магазин!$G$12:$G$3000>0,ROW(),\"\")","v":""}]
[null,null,null,null,null,null,null,null,{"$f":"IF(Магазин!$G$12:$G$3000>0,ROW(),\"\")","v":""}]
[null,null,null,null,null,null,null,null,{"$f":"IF(Магазин!$G$12:$G$3000>0,ROW(),\"\")","v":""}]
[null,null,null,null,null,null,null,null,{"$f":"IF(Магазин!$G$12:$G$3000>0,ROW(),\"\")","v":""}]
[null,null,null,null,null,null,null,null,{"$f":"IF(Магазин!$G$12:$G$3000>0,ROW(),\"\")","v":""}]
[null,null,null,null,null,null,null,null,{"$f":"IF(Магазин!$G$12:$G$3000>0,ROW(),\"\")","v":""}]
[null,null,null,null,null,null,null,null,{"$f":"IF(Магазин!$G$12:$G$3000>0,ROW(),\"\")","v":""}]
[null,null,null,null,null,null,null,null,{"$f":"IF(Магазин!$G$12:$G$3000>0,ROW(),\"\")","v":""}]
[null,null,null,null,null,null,null,null,{"$f":"IF(Магазин!$G$12:$G$3000>0,ROW(),\"\")","v":""}]
[null,null,null,null,null,null,null,null,{"$f":"IF(Магазин!$G$12:$G$3000>0,ROW(),\"\")","v":""}]
[null,null,null,null,null,null,null,null,{"$f":"IF(Магазин!$G$12:$G$3000>0,ROW(),\"\")","v":""}]
[null,null,null,null,null,null,null,null,{"$f":"IF(Магазин!$G$12:$G$3000>0,ROW(),\"\")","v":""}]
[null,null,null,null,null,null,null,null,{"$f":"IF(Магазин!$G$12:$G$3000>0,ROW(),\"\")","v":""}]
[null,null,null,null,null,null,null,null,{"$f":"IF(Магазин!$G$12:$G$3000>0,ROW(),\"\")","v":""}]
[null,null,null,null,null,null,null,null,{"$f":"IF(Магазин!$G$12:$G$3000>0,ROW(),\"\")","v":""}]
[null,null,null,null,null,null,null,null,{"$f":"IF(Магазин!$G$12:$G$3000>0,ROW(),\"\")","v":""}]
[null,null,null,null,null,null,null,null,{"$f":"IF(Магазин!$G$12:$G$3000>0,ROW(),\"\")","v":""}]
[null,null,null,null,null,null,null,null,{"$f":"IF(Магазин!$G$12:$G$3000>0,ROW(),\"\")","v":""}]
[null,null,null,null,null,null,null,null,{"$f":"IF(Магазин!$G$12:$G$3000>0,ROW(),\"\")","v":""}]
[null,null,null,null,null,null,null,null,{"$f":"IF(Магазин!$G$12:$G$3000>0,ROW(),\"\")","v":""}]
[null,null,null,null,null,null,null,null,{"$f":"IF(Магазин!$G$12:$G$3000>0,ROW(),\"\")","v":""}]
[null,null,null,null,null,null,null,null,{"$f":"IF(Магазин!$G$12:$G$3000>0,ROW(),\"\")","v":""}]
[null,null,null,null,null,null,null,null,{"$f":"IF(Магазин!$G$12:$G$3000>0,ROW(),\"\")","v":""}]
[null,null,null,null,null,null,null,null,{"$f":"IF(Магазин!$G$12:$G$3000>0,ROW(),\"\")","v":""}]
[null,null,null,null,null,null,null,null,{"$f":"IF(Магазин!$G$12:$G$3000>0,ROW(),\"\")","v":""}]
[null,null,null,null,null,null,null,null,{"$f":"IF(Магазин!$G$12:$G$3000>0,ROW(),\"\")","v":""}]
[null,null,null,null,null,null,null,null,{"$f":"IF(Магазин!$G$12:$G$3000>0,ROW(),\"\")","v":""}]
[null,null,null,null,null,null,null,null,{"$f":"IF(Магазин!$G$12:$G$3000>0,ROW(),\"\")","v":""}]
[null,null,null,null,null,null,null,null,{"$f":"IF(Магазин!$G$12:$G$3000>0,ROW(),\"\")","v":""}]
[null,null,null,null,null,null,null,null,{"$f":"IF(Магазин!$G$12:$G$3000>0,ROW(),\"\")","v":""}]
[null,null,null,null,null,null,null,null,{"$f":"IF(Магазин!$G$12:$G$3000>0,ROW(),\"\")","v":""}]
[null,null,null,null,null,null,null,null,{"$f":"IF(Магазин!$G$12:$G$3000>0,ROW(),\"\")","v":""}]
[null,null,null,null,null,null,null,null,{"$f":"IF(Магазин!$G$12:$G$3000>0,ROW(),\"\")","v":""}]
[null,null,null,null,null,null,null,null,{"$f":"IF(Магазин!$G$12:$G$3000>0,ROW(),\"\")","v":""}]
[null,null,null,null,null,null,null,null,{"$f":"IF(Магазин!$G$12:$G$3000>0,ROW(),\"\")","v":""}]
[null,null,null,null,null,null,null,null,{"$f":"IF(Магазин!$G$12:$G$3000>0,ROW(),\"\")","v":""}]
[null,null,null,null,null,null,null,null,{"$f":"IF(Магазин!$G$12:$G$3000>0,ROW(),\"\")","v":""}]
[null,null,null,null,null,null,null,null,{"$f":"IF(Магазин!$G$12:$G$3000>0,ROW(),\"\")","v":""}]
[null,null,null,null,null,null,null,null,{"$f":"IF(Магазин!$G$12:$G$3000>0,ROW(),\"\")","v":""}]
[null,null,null,null,null,null,null,null,{"$f":"IF(Магазин!$G$12:$G$3000>0,ROW(),\"\")","v":""}]
[null,null,null,null,null,null,null,null,{"$f":"IF(Магазин!$G$12:$G$3000>0,ROW(),\"\")","v":""}]
[null,null,null,null,null,null,null,null,{"$f":"IF(Магазин!$G$12:$G$3000>0,ROW(),\"\")","v":""}]
[null,null,null,null,null,null,null,null,{"$f":"IF(Магазин!$G$12:$G$3000>0,ROW(),\"\")","v":""}]
[null,null,null,null,null,null,null,null,{"$f":"IF(Магазин!$G$12:$G$3000>0,ROW(),\"\")","v":""}]
[null,null,null,null,null,null,null,null,{"$f":"IF(Магазин!$G$12:$G$3000>0,ROW(),\"\")","v":""}]
[null,null,null,null,null,null,null,null,{"$f":"IF(Магазин!$G$12:$G$3000>0,ROW(),\"\")","v":""}]
[null,null,null,null,null,null,null,null,{"$f":"IF(Магазин!$G$12:$G$3000>0,ROW(),\"\")","v":""}]
[null,null,null,null,null,null,null,null,{"$f":"IF(Магазин!$G$12:$G$3000>0,ROW(),\"\")","v":""}]
[null,null,null,null,null,null,null,null,{"$f":"IF(Магазин!$G$12:$G$3000>0,ROW(),\"\")","v":""}]
[null,null,null,null,null,null,null,null,{"$f":"IF(Магазин!$G$12:$G$3000>0,ROW(),\"\")","v":""}]
[null,null,null,null,null,null,null,null,{"$f":"IF(Магазин!$G$12:$G$3000>0,ROW(),\"\")","v":""}]
[null,null,null,null,null,null,null,null,{"$f":"IF(Магазин!$G$12:$G$3000>0,ROW(),\"\")","v":""}]
[null,null,null,null,null,null,null,null,{"$f":"IF(Магазин!$G$12:$G$3000>0,ROW(),\"\")","v":""}]
[null,null,null,null,null,null,null,null,{"$f":"IF(Магазин!$G$12:$G$3000>0,ROW(),\"\")","v":""}]
[null,null,null,null,null,null,null,null,{"$f":"IF(Магазин!$G$12:$G$3000>0,ROW(),\"\")","v":""}]
[null,null,null,null,null,null,null,null,{"$f":"IF(Магазин!$G$12:$G$3000>0,ROW(),\"\")","v":""}]
[null,null,null,null,null,null,null,null,{"$f":"IF(Магазин!$G$12:$G$3000>0,ROW(),\"\")","v":""}]
[null,null,null,null,null,null,null,null,{"$f":"IF(Магазин!$G$12:$G$3000>0,ROW(),\"\")","v":""}]
[null,null,null,null,null,null,null,null,{"$f":"IF(Магазин!$G$12:$G$3000>0,ROW(),\"\")","v":""}]
[null,null,null,null,null,null,null,null,{"$f":"IF(Магазин!$G$12:$G$3000>0,ROW(),\"\")","v":""}]
[null,null,null,null,null,null,null,null,{"$f":"IF(Магазин!$G$12:$G$3000>0,ROW(),\"\")","v":""}]
[null,null,null,null,null,null,null,null,{"$f":"IF(Магазин!$G$12:$G$3000>0,ROW(),\"\")","v":""}]
[null,null,null,null,null,null,null,null,{"$f":"IF(Магазин!$G$12:$G$3000>0,ROW(),\"\")","v":""}]
[null,null,null,null,null,null,null,null,{"$f":"IF(Магазин!$G$12:$G$3000>0,ROW(),\"\")","v":""}]
[null,null,null,null,null,null,null,null,{"$f":"IF(Магазин!$G$12:$G$3000>0,ROW(),\"\")","v":""}]
[null,null,null,null,null,null,null,null,{"$f":"IF(Магазин!$G$12:$G$3000>0,ROW(),\"\")","v":""}]
[null,null,null,null,null,null,null,null,{"$f":"IF(Магазин!$G$12:$G$3000>0,ROW(),\"\")","v":""}]
[null,null,null,null,null,null,null,null,{"$f":"IF(Магазин!$G$12:$G$3000>0,ROW(),\"\")","v":""}]
[null,null,null,null,null,null,null,null,{"$f":"IF(Магазин!$G$12:$G$3000>0,ROW(),\"\")","v":""}]
[null,null,null,null,null,null,null,null,{"$f":"IF(Магазин!$G$12:$G$3000>0,ROW(),\"\")","v":""}]
[null,null,null,null,null,null,null,null,{"$f":"IF(Магазин!$G$12:$G$3000>0,ROW(),\"\")","v":""}]
[null,null,null,null,null,null,null,null,{"$f":"IF(Магазин!$G$12:$G$3000>0,ROW(),\"\")","v":""}]
[null,null,null,null,null,null,null,null,{"$f":"IF(Магазин!$G$12:$G$3000>0,ROW(),\"\")","v":""}]
[null,null,null,null,null,null,null,null,{"$f":"IF(Магазин!$G$12:$G$3000>0,ROW(),\"\")","v":""}]
[null,null,null,null,null,null,null,null,{"$f":"IF(Магазин!$G$12:$G$3000>0,ROW(),\"\")","v":""}]
[null,null,null,null,null,null,null,null,{"$f":"IF(Магазин!$G$12:$G$3000>0,ROW(),\"\")","v":""}]
[null,null,null,null,null,null,null,null,{"$f":"IF(Магазин!$G$12:$G$3000>0,ROW(),\"\")","v":""}]
[null,null,null,null,null,null,null,null,{"$f":"IF(Магазин!$G$12:$G$3000>0,ROW(),\"\")","v":""}]
[null,null,null,null,null,null,null,null,{"$f":"IF(Магазин!$G$12:$G$3000>0,ROW(),\"\")","v":""}]
[null,null,null,null,null,null,null,null,{"$f":"IF(Магазин!$G$12:$G$3000>0,ROW(),\"\")","v":""}]
[null,null,null,null,null,null,null,null,{"$f":"IF(Магазин!$G$12:$G$3000>0,ROW(),\"\")","v":""}]
[null,null,null,null,null,null,null,null,{"$f":"IF(Магазин!$G$12:$G$3000>0,ROW(),\"\")","v":""}]
[null,null,null,null,null,null,null,null,{"$f":"IF(Магазин!$G$12:$G$3000>0,ROW(),\"\")","v":""}]
[null,null,null,null,null,null,null,null,{"$f":"IF(Магазин!$G$12:$G$3000>0,ROW(),\"\")","v":""}]
[null,null,null,null,null,null,null,null,{"$f":"IF(Магазин!$G$12:$G$3000>0,ROW(),\"\")","v":""}]
[null,null,null,null,null,null,null,null,{"$f":"IF(Магазин!$G$12:$G$3000>0,ROW(),\"\")","v":""}]
[null,null,null,null,null,null,null,null,{"$f":"IF(Магазин!$G$12:$G$3000>0,ROW(),\"\")","v":""}]
[null,null,null,null,null,null,null,null,{"$f":"IF(Магазин!$G$12:$G$3000>0,ROW(),\"\")","v":""}]
[null,null,null,null,null,null,null,null,{"$f":"IF(Магазин!$G$12:$G$3000>0,ROW(),\"\")","v":""}]
[null,null,null,null,null,null,null,null,{"$f":"IF(Магазин!$G$12:$G$3000>0,ROW(),\"\")","v":""}]
[null,null,null,null,null,null,null,null,{"$f":"IF(Магазин!$G$12:$G$3000>0,ROW(),\"\")","v":""}]
[null,null,null,null,null,null,null,null,{"$f":"IF(Магазин!$G$12:$G$3000>0,ROW(),\"\")","v":""}]
[null,null,null,null,null,null,null,null,{"$f":"IF(Магазин!$G$12:$G$3000>0,ROW(),\"\")","v":""}]
[null,null,null,null,null,null,null,null,{"$f":"IF(Магазин!$G$12:$G$3000>0,ROW(),\"\")","v":""}]
[null,null,null,null,null,null,null,null,{"$f":"IF(Магазин!$G$12:$G$3000>0,ROW(),\"\")","v":""}]
[null,null,null,null,null,null,null,null,{"$f":"IF(Магазин!$G$12:$G$3000>0,ROW(),\"\")","v":""}]
[null,null,null,null,null,null,null,null,{"$f":"IF(Магазин!$G$12:$G$3000>0,ROW(),\"\")","v":""}]
[null,null,null,null,null,null,null,null,{"$f":"IF(Магазин!$G$12:$G$3000>0,ROW(),\"\")","v":""}]
[null,null,null,null,null,null,null,null,{"$f":"IF(Магазин!$G$12:$G$3000>0,ROW(),\"\")","v":""}]
[null,null,null,null,null,null,null,null,{"$f":"IF(Магазин!$G$12:$G$3000>0,ROW(),\"\")","v":""}]
[null,null,null,null,null,null,null,null,{"$f":"IF(Магазин!$G$12:$G$3000>0,ROW(),\"\")","v":""}]
[null,null,null,null,null,null,null,null,{"$f":"IF(Магазин!$G$12:$G$3000>0,ROW(),\"\")","v":""}]
[null,null,null,null,null,null,null,null,{"$f":"IF(Магазин!$G$12:$G$3000>0,ROW(),\"\")","v":""}]
[null,null,null,null,null,null,null,null,{"$f":"IF(Магазин!$G$12:$G$3000>0,ROW(),\"\")","v":""}]
[null,null,null,null,null,null,null,null,{"$f":"IF(Магазин!$G$12:$G$3000>0,ROW(),\"\")","v":""}]
[null,null,null,null,null,null,null,null,{"$f":"IF(Магазин!$G$12:$G$3000>0,ROW(),\"\")","v":""}]
[null,null,null,null,null,null,null,null,{"$f":"IF(Магазин!$G$12:$G$3000>0,ROW(),\"\")","v":""}]
[null,null,null,null,null,null,null,null,{"$f":"IF(Магазин!$G$12:$G$3000>0,ROW(),\"\")","v":""}]
[null,null,null,null,null,null,null,null,{"$f":"IF(Магазин!$G$12:$G$3000>0,ROW(),\"\")","v":""}]
[null,null,null,null,null,null,null,null,{"$f":"IF(Магазин!$G$12:$G$3000>0,ROW(),\"\")","v":""}]
[null,null,null,null,null,null,null,null,{"$f":"IF(Магазин!$G$12:$G$3000>0,ROW(),\"\")","v":""}]
[null,null,null,null,null,null,null,null,{"$f":"IF(Магазин!$G$12:$G$3000>0,ROW(),\"\")","v":""}]
[null,null,null,null,null,null,null,null,{"$f":"IF(Магазин!$G$12:$G$3000>0,ROW(),\"\")","v":""}]
[null,null,null,null,null,null,null,null,{"$f":"IF(Магазин!$G$12:$G$3000>0,ROW(),\"\")","v":""}]
[null,null,null,null,null,null,null,null,{"$f":"IF(Магазин!$G$12:$G$3000>0,ROW(),\"\")","v":""}]
[null,null,null,null,null,null,null,null,{"$f":"IF(Магазин!$G$12:$G$3000>0,ROW(),\"\")","v":""}]
[null,null,null,null,null,null,null,null,{"$f":"IF(Магазин!$G$12:$G$3000>0,ROW(),\"\")","v":""}]
[null,null,null,null,null,null,null,null,{"$f":"IF(Магазин!$G$12:$G$3000>0,ROW(),\"\")","v":""}]
[null,null,null,null,null,null,null,null,{"$f":"IF(Магазин!$G$12:$G$3000>0,ROW(),\"\")","v":""}]
[null,null,null,null,null,null,null,null,{"$f":"IF(Магазин!$G$12:$G$3000>0,ROW(),\"\")","v":""}]
[null,null,null,null,null,null,null,null,{"$f":"IF(Магазин!$G$12:$G$3000>0,ROW(),\"\")","v":""}]
[null,null,null,null,null,null,null,null,{"$f":"IF(Магазин!$G$12:$G$3000>0,ROW(),\"\")","v":""}]
[null,null,null,null,null,null,null,null,{"$f":"IF(Магазин!$G$12:$G$3000>0,ROW(),\"\")","v":""}]
[null,null,null,null,null,null,null,null,{"$f":"IF(Магазин!$G$12:$G$3000>0,ROW(),\"\")","v":""}]
[null,null,null,null,null,null,null,null,{"$f":"IF(Магазин!$G$12:$G$3000>0,ROW(),\"\")","v":""}]
[null,null,null,null,null,null,null,null,{"$f":"IF(Магазин!$G$12:$G$3000>0,ROW(),\"\")","v":""}]
[null,null,null,null,null,null,null,null,{"$f":"IF(Магазин!$G$12:$G$3000>0,ROW(),\"\")","v":""}]
[null,null,null,null,null,null,null,null,{"$f":"IF(Магазин!$G$12:$G$3000>0,ROW(),\"\")","v":""}]
[null,null,null,null,null,null,null,null,{"$f":"IF(Магазин!$G$12:$G$3000>0,ROW(),\"\")","v":""}]
[null,null,null,null,null,null,null,null,{"$f":"IF(Магазин!$G$12:$G$3000>0,ROW(),\"\")","v":""}]
[null,null,null,null,null,null,null,null,{"$f":"IF(Магазин!$G$12:$G$3000>0,ROW(),\"\")","v":""}]
[null,null,null,null,null,null,null,null,{"$f":"IF(Магазин!$G$12:$G$3000>0,ROW(),\"\")","v":""}]
[null,null,null,null,null,null,null,null,{"$f":"IF(Магазин!$G$12:$G$3000>0,ROW(),\"\")","v":""}]
[null,null,null,null,null,null,null,null,{"$f":"IF(Магазин!$G$12:$G$3000>0,ROW(),\"\")","v":""}]
[null,null,null,null,null,null,null,null,{"$f":"IF(Магазин!$G$12:$G$3000>0,ROW(),\"\")","v":""}]
[null,null,null,null,null,null,null,null,{"$f":"IF(Магазин!$G$12:$G$3000>0,ROW(),\"\")","v":""}]
[null,null,null,null,null,null,null,null,{"$f":"IF(Магазин!$G$12:$G$3000>0,ROW(),\"\")","v":""}]
[null,null,null,null,null,null,null,null,{"$f":"IF(Магазин!$G$12:$G$3000>0,ROW(),\"\")","v":""}]
[null,null,null,null,null,null,null,null,{"$f":"IF(Магазин!$G$12:$G$3000>0,ROW(),\"\")","v":""}]
[null,null,null,null,null,null,null,null,{"$f":"IF(Магазин!$G$12:$G$3000>0,ROW(),\"\")","v":""}]
[null,null,null,null,null,null,null,null,{"$f":"IF(Магазин!$G$12:$G$3000>0,ROW(),\"\")","v":""}]
[null,null,null,null,null,null,null,null,{"$f":"IF(Магазин!$G$12:$G$3000>0,ROW(),\"\")","v":""}]
[null,null,null,null,null,null,null,null,{"$f":"IF(Магазин!$G$12:$G$3000>0,ROW(),\"\")","v":""}]
[null,null,null,null,null,null,null,null,{"$f":"IF(Магазин!$G$12:$G$3000>0,ROW(),\"\")","v":""}]
[null,null,null,null,null,null,null,null,{"$f":"IF(Магазин!$G$12:$G$3000>0,ROW(),\"\")","v":""}]
[null,null,null,null,null,null,null,null,{"$f":"IF(Магазин!$G$12:$G$3000>0,ROW(),\"\")","v":""}]
[null,null,null,null,null,null,null,null,{"$f":"IF(Магазин!$G$12:$G$3000>0,ROW(),\"\")","v":""}]
[null,null,null,null,null,null,null,null,{"$f":"IF(Магазин!$G$12:$G$3000>0,ROW(),\"\")","v":""}]
[null,null,null,null,null,null,null,null,{"$f":"IF(Магазин!$G$12:$G$3000>0,ROW(),\"\")","v":""}]
[null,null,null,null,null,null,null,null,{"$f":"IF(Магазин!$G$12:$G$3000>0,ROW(),\"\")","v":""}]
[null,null,null,null,null,null,null,null,{"$f":"IF(Магазин!$G$12:$G$3000>0,ROW(),\"\")","v":""}]
[null,null,null,null,null,null,null,null,{"$f":"IF(Магазин!$G$12:$G$3000>0,ROW(),\"\")","v":""}]
[null,null,null,null,null,null,null,null,{"$f":"IF(Магазин!$G$12:$G$3000>0,ROW(),\"\")","v":""}]
[null,null,null,null,null,null,null,null,{"$f":"IF(Магазин!$G$12:$G$3000>0,ROW(),\"\")","v":""}]
[null,null,null,null,null,null,null,null,{"$f":"IF(Магазин!$G$12:$G$3000>0,ROW(),\"\")","v":""}]
[null,null,null,null,null,null,null,null,{"$f":"IF(Магазин!$G$12:$G$3000>0,ROW(),\"\")","v":""}]
[null,null,null,null,null,null,null,null,{"$f":"IF(Магазин!$G$12:$G$3000>0,ROW(),\"\")","v":""}]
[null,null,null,null,null,null,null,null,{"$f":"IF(Магазин!$G$12:$G$3000>0,ROW(),\"\")","v":""}]
[null,null,null,null,null,null,null,null,{"$f":"IF(Магазин!$G$12:$G$3000>0,ROW(),\"\")","v":""}]
[null,null,null,null,null,null,null,null,{"$f":"IF(Магазин!$G$12:$G$3000>0,ROW(),\"\")","v":""}]
[null,null,null,null,null,null,null,null,{"$f":"IF(Магазин!$G$12:$G$3000>0,ROW(),\"\")","v":""}]
[null,null,null,null,null,null,null,null,{"$f":"IF(Магазин!$G$12:$G$3000>0,ROW(),\"\")","v":""}]
[null,null,null,null,null,null,null,null,{"$f":"IF(Магазин!$G$12:$G$3000>0,ROW(),\"\")","v":""}]
[null,null,null,null,null,null,null,null,{"$f":"IF(Магазин!$G$12:$G$3000>0,ROW(),\"\")","v":""}]
[null,null,null,null,null,null,null,null,{"$f":"IF(Магазин!$G$12:$G$3000>0,ROW(),\"\")","v":""}]
[null,null,null,null,null,null,null,null,{"$f":"IF(Магазин!$G$12:$G$3000>0,ROW(),\"\")","v":""}]
[null,null,null,null,null,null,null,null,{"$f":"IF(Магазин!$G$12:$G$3000>0,ROW(),\"\")","v":""}]
[null,null,null,null,null,null,null,null,{"$f":"IF(Магазин!$G$12:$G$3000>0,ROW(),\"\")","v":""}]
[null,null,null,null,null,null,null,null,{"$f":"IF(Магазин!$G$12:$G$3000>0,ROW(),\"\")","v":""}]
[null,null,null,null,null,null,null,null,{"$f":"IF(Магазин!$G$12:$G$3000>0,ROW(),\"\")","v":""}]
[null,null,null,null,null,null,null,null,{"$f":"IF(Магазин!$G$12:$G$3000>0,ROW(),\"\")","v":""}]
[null,null,null,null,null,null,null,null,{"$f":"IF(Магазин!$G$12:$G$3000>0,ROW(),\"\")","v":""}]
[null,null,null,null,null,null,null,null,{"$f":"IF(Магазин!$G$12:$G$3000>0,ROW(),\"\")","v":""}]
[null,null,null,null,null,null,null,null,{"$f":"IF(Магазин!$G$12:$G$3000>0,ROW(),\"\")","v":""}]
[null,null,null,null,null,null,null,null,{"$f":"IF(Магазин!$G$12:$G$3000>0,ROW(),\"\")","v":""}]
[null,null,null,null,null,null,null,null,{"$f":"IF(Магазин!$G$12:$G$3000>0,ROW(),\"\")","v":""}]
[null,null,null,null,null,null,null,null,{"$f":"IF(Магазин!$G$12:$G$3000>0,ROW(),\"\")","v":""}]
[null,null,null,null,null,null,null,null,{"$f":"IF(Магазин!$G$12:$G$3000>0,ROW(),\"\")","v":""}]
[null,null,null,null,null,null,null,null,{"$f":"IF(Магазин!$G$12:$G$3000>0,ROW(),\"\")","v":""}]
[null,null,null,null,null,null,null,null,{"$f":"IF(Магазин!$G$12:$G$3000>0,ROW(),\"\")","v":""}]
[null,null,null,null,null,null,null,null,{"$f":"IF(Магазин!$G$12:$G$3000>0,ROW(),\"\")","v":""}]
[null,null,null,null,null,null,null,null,{"$f":"IF(Магазин!$G$12:$G$3000>0,ROW(),\"\")","v":""}]
[null,null,null,null,null,null,null,null,{"$f":"IF(Магазин!$G$12:$G$3000>0,ROW(),\"\")","v":""}]
[null,null,null,null,null,null,null,null,{"$f":"IF(Магазин!$G$12:$G$3000>0,ROW(),\"\")","v":""}]
[null,null,null,null,null,null,null,null,{"$f":"IF(Магазин!$G$12:$G$3000>0,ROW(),\"\")","v":""}]
[null,null,null,null,null,null,null,null,{"$f":"IF(Магазин!$G$12:$G$3000>0,ROW(),\"\")","v":""}]
[null,null,null,null,null,null,null,null,{"$f":"IF(Магазин!$G$12:$G$3000>0,ROW(),\"\")","v":""}]
[null,null,null,null,null,null,null,null,{"$f":"IF(Магазин!$G$12:$G$3000>0,ROW(),\"\")","v":""}]
[null,null,null,null,null,null,null,null,{"$f":"IF(Магазин!$G$12:$G$3000>0,ROW(),\"\")","v":""}]
[null,null,null,null,null,null,null,null,{"$f":"IF(Магазин!$G$12:$G$3000>0,ROW(),\"\")","v":""}]
[null,null,null,null,null,null,null,null,{"$f":"IF(Магазин!$G$12:$G$3000>0,ROW(),\"\")","v":""}]
[null,null,null,null,null,null,null,null,{"$f":"IF(Магазин!$G$12:$G$3000>0,ROW(),\"\")","v":""}]
[null,null,null,null,null,null,null,null,{"$f":"IF(Магазин!$G$12:$G$3000>0,ROW(),\"\")","v":""}]
[null,null,null,null,null,null,null,null,{"$f":"IF(Магазин!$G$12:$G$3000>0,ROW(),\"\")","v":""}]
[null,null,null,null,null,null,null,null,{"$f":"IF(Магазин!$G$12:$G$3000>0,ROW(),\"\")","v":""}]
[null,null,null,null,null,null,null,null,{"$f":"IF(Магазин!$G$12:$G$3000>0,ROW(),\"\")","v":""}]
[null,null,null,null,null,null,null,null,{"$f":"IF(Магазин!$G$12:$G$3000>0,ROW(),\"\")","v":""}]
[null,null,null,null,null,null,null,null,{"$f":"IF(Магазин!$G$12:$G$3000>0,ROW(),\"\")","v":""}]
[null,null,null,null,null,null,null,null,{"$f":"IF(Магазин!$G$12:$G$3000>0,ROW(),\"\")","v":""}]
[null,null,null,null,null,null,null,null,{"$f":"IF(Магазин!$G$12:$G$3000>0,ROW(),\"\")","v":""}]
[null,null,null,null,null,null,null,null,{"$f":"IF(Магазин!$G$12:$G$3000>0,ROW(),\"\")","v":""}]
[null,null,null,null,null,null,null,null,{"$f":"IF(Магазин!$G$12:$G$3000>0,ROW(),\"\")","v":""}]
[null,null,null,null,null,null,null,null,{"$f":"IF(Магазин!$G$12:$G$3000>0,ROW(),\"\")","v":""}]
[null,null,null,null,null,null,null,null,{"$f":"IF(Магазин!$G$12:$G$3000>0,ROW(),\"\")","v":""}]
[null,null,null,null,null,null,null,null,{"$f":"IF(Магазин!$G$12:$G$3000>0,ROW(),\"\")","v":""}]
[null,null,null,null,null,null,null,null,{"$f":"IF(Магазин!$G$12:$G$3000>0,ROW(),\"\")","v":""}]
[null,null,null,null,null,null,null,null,{"$f":"IF(Магазин!$G$12:$G$3000>0,ROW(),\"\")","v":""}]
[null,null,null,null,null,null,null,null,{"$f":"IF(Магазин!$G$12:$G$3000>0,ROW(),\"\")","v":""}]
[null,null,null,null,null,null,null,null,{"$f":"IF(Магазин!$G$12:$G$3000>0,ROW(),\"\")","v":""}]
[null,null,null,null,null,null,null,null,{"$f":"IF(Магазин!$G$12:$G$3000>0,ROW(),\"\")","v":""}]
[null,null,null,null,null,null,null,null,{"$f":"IF(Магазин!$G$12:$G$3000>0,ROW(),\"\")","v":""}]
[null,null,null,null,null,null,null,null,{"$f":"IF(Магазин!$G$12:$G$3000>0,ROW(),\"\")","v":""}]
[null,null,null,null,null,null,null,null,{"$f":"IF(Магазин!$G$12:$G$3000>0,ROW(),\"\")","v":""}]
[null,null,null,null,null,null,null,null,{"$f":"IF(Магазин!$G$12:$G$3000>0,ROW(),\"\")","v":""}]
[null,null,null,null,null,null,null,null,{"$f":"IF(Магазин!$G$12:$G$3000>0,ROW(),\"\")","v":""}]
[null,null,null,null,null,null,null,null,{"$f":"IF(Магазин!$G$12:$G$3000>0,ROW(),\"\")","v":""}]
[null,null,null,null,null,null,null,null,{"$f":"IF(Магазин!$G$12:$G$3000>0,ROW(),\"\")","v":""}]
[null,null,null,null,null,null,null,null,{"$f":"IF(Магазин!$G$12:$G$3000>0,ROW(),\"\")","v":""}]
[null,null,null,null,null,null,null,null,{"$f":"IF(Магазин!$G$12:$G$3000>0,ROW(),\"\")","v":""}]
[null,null,null,null,null,null,null,null,{"$f":"IF(Магазин!$G$12:$G$3000>0,ROW(),\"\")","v":""}]
[null,null,null,null,null,null,null,null,{"$f":"IF(Магазин!$G$12:$G$3000>0,ROW(),\"\")","v":""}]
[null,null,null,null,null,null,null,null,{"$f":"IF(Магазин!$G$12:$G$3000>0,ROW(),\"\")","v":""}]
[null,null,null,null,null,null,null,null,{"$f":"IF(Магазин!$G$12:$G$3000>0,ROW(),\"\")","v":""}]
[null,null,null,null,null,null,null,null,{"$f":"IF(Магазин!$G$12:$G$3000>0,ROW(),\"\")","v":""}]
[null,null,null,null,null,null,null,null,{"$f":"IF(Магазин!$G$12:$G$3000>0,ROW(),\"\")","v":""}]
[null,null,null,null,null,null,null,null,{"$f":"IF(Магазин!$G$12:$G$3000>0,ROW(),\"\")","v":""}]
[null,null,null,null,null,null,null,null,{"$f":"IF(Магазин!$G$12:$G$3000>0,ROW(),\"\")","v":""}]
[null,null,null,null,null,null,null,null,{"$f":"IF(Магазин!$G$12:$G$3000>0,ROW(),\"\")","v":""}]
[null,null,null,null,null,null,null,null,{"$f":"IF(Магазин!$G$12:$G$3000>0,ROW(),\"\")","v":""}]
[null,null,null,null,null,null,null,null,{"$f":"IF(Магазин!$G$12:$G$3000>0,ROW(),\"\")","v":""}]
[null,null,null,null,null,null,null,null,{"$f":"IF(Магазин!$G$12:$G$3000>0,ROW(),\"\")","v":""}]
[null,null,null,null,null,null,null,null,{"$f":"IF(Магазин!$G$12:$G$3000>0,ROW(),\"\")","v":""}]
[null,null,null,null,null,null,null,null,{"$f":"IF(Магазин!$G$12:$G$3000>0,ROW(),\"\")","v":""}]
[null,null,null,null,null,null,null,null,{"$f":"IF(Магазин!$G$12:$G$3000>0,ROW(),\"\")","v":""}]
[null,null,null,null,null,null,null,null,{"$f":"IF(Магазин!$G$12:$G$3000>0,ROW(),\"\")","v":""}]
[null,null,null,null,null,null,null,null,{"$f":"IF(Магазин!$G$12:$G$3000>0,ROW(),\"\")","v":""}]
[null,null,null,null,null,null,null,null,{"$f":"IF(Магазин!$G$12:$G$3000>0,ROW(),\"\")","v":""}]
[null,null,null,null,null,null,null,null,{"$f":"IF(Магазин!$G$12:$G$3000>0,ROW(),\"\")","v":""}]
[null,null,null,null,null,null,null,null,{"$f":"IF(Магазин!$G$12:$G$3000>0,ROW(),\"\")","v":""}]
[null,null,null,null,null,null,null,null,{"$f":"IF(Магазин!$G$12:$G$3000>0,ROW(),\"\")","v":""}]
[null,null,null,null,null,null,null,null,{"$f":"IF(Магазин!$G$12:$G$3000>0,ROW(),\"\")","v":""}]
[null,null,null,null,null,null,null,null,{"$f":"IF(Магазин!$G$12:$G$3000>0,ROW(),\"\")","v":""}]
[null,null,null,null,null,null,null,null,{"$f":"IF(Магазин!$G$12:$G$3000>0,ROW(),\"\")","v":""}]
[null,null,null,null,null,null,null,null,{"$f":"IF(Магазин!$G$12:$G$3000>0,ROW(),\"\")","v":""}]
[null,null,null,null,null,null,null,null,{"$f":"IF(Магазин!$G$12:$G$3000>0,ROW(),\"\")","v":""}]
[null,null,null,null,null,null,null,null,{"$f":"IF(Магазин!$G$12:$G$3000>0,ROW(),\"\")","v":""}]
[null,null,null,null,null,null,null,null,{"$f":"IF(Магазин!$G$12:$G$3000>0,ROW(),\"\")","v":""}]
[null,null,null,null,null,null,null,null,{"$f":"IF(Магазин!$G$12:$G$3000>0,ROW(),\"\")","v":""}]
[null,null,null,null,null,null,null,null,{"$f":"IF(Магазин!$G$12:$G$3000>0,ROW(),\"\")","v":""}]
[null,null,null,null,null,null,null,null,{"$f":"IF(Магазин!$G$12:$G$3000>0,ROW(),\"\")","v":""}]
[null,null,null,null,null,null,null,null,{"$f":"IF(Магазин!$G$12:$G$3000>0,ROW(),\"\")","v":""}]
[null,null,null,null,null,null,null,null,{"$f":"IF(Магазин!$G$12:$G$3000>0,ROW(),\"\")","v":""}]
[null,null,null,null,null,null,null,null,{"$f":"IF(Магазин!$G$12:$G$3000>0,ROW(),\"\")","v":""}]
[null,null,null,null,null,null,null,null,{"$f":"IF(Магазин!$G$12:$G$3000>0,ROW(),\"\")","v":""}]
[null,null,null,null,null,null,null,null,{"$f":"IF(Магазин!$G$12:$G$3000>0,ROW(),\"\")","v":""}]
[null,null,null,null,null,null,null,null,{"$f":"IF(Магазин!$G$12:$G$3000>0,ROW(),\"\")","v":""}]
[null,null,null,null,null,null,null,null,{"$f":"IF(Магазин!$G$12:$G$3000>0,ROW(),\"\")","v":""}]
[null,null,null,null,null,null,null,null,{"$f":"IF(Магазин!$G$12:$G$3000>0,ROW(),\"\")","v":""}]
[null,null,null,null,null,null,null,null,{"$f":"IF(Магазин!$G$12:$G$3000>0,ROW(),\"\")","v":""}]
[null,null,null,null,null,null,null,null,{"$f":"IF(Магазин!$G$12:$G$3000>0,ROW(),\"\")","v":""}]
[null,null,null,null,null,null,null,null,{"$f":"IF(Магазин!$G$12:$G$3000>0,ROW(),\"\")","v":""}]
[null,null,null,null,null,null,null,null,{"$f":"IF(Магазин!$G$12:$G$3000>0,ROW(),\"\")","v":""}]
[null,null,null,null,null,null,null,null,{"$f":"IF(Магазин!$G$12:$G$3000>0,ROW(),\"\")","v":""}]
[null,null,null,null,null,null,null,null,{"$f":"IF(Магазин!$G$12:$G$3000>0,ROW(),\"\")","v":""}]
[null,null,null,null,null,null,null,null,{"$f":"IF(Магазин!$G$12:$G$3000>0,ROW(),\"\")","v":""}]
[null,null,null,null,null,null,null,null,{"$f":"IF(Магазин!$G$12:$G$3000>0,ROW(),\"\")","v":""}]
[null,null,null,null,null,null,null,null,{"$f":"IF(Магазин!$G$12:$G$3000>0,ROW(),\"\")","v":""}]
[null,null,null,null,null,null,null,null,{"$f":"IF(Магазин!$G$12:$G$3000>0,ROW(),\"\")","v":""}]
[null,null,null,null,null,null,null,null,{"$f":"IF(Магазин!$G$12:$G$3000>0,ROW(),\"\")","v":""}]
[null,null,null,null,null,null,null,null,{"$f":"IF(Магазин!$G$12:$G$3000>0,ROW(),\"\")","v":""}]
[null,null,null,null,null,null,null,null,{"$f":"IF(Магазин!$G$12:$G$3000>0,ROW(),\"\")","v":""}]
[null,null,null,null,null,null,null,null,{"$f":"IF(Магазин!$G$12:$G$3000>0,ROW(),\"\")","v":""}]
[null,null,null,null,null,null,null,null,{"$f":"IF(Магазин!$G$12:$G$3000>0,ROW(),\"\")","v":""}]
[null,null,null,null,null,null,null,null,{"$f":"IF(Магазин!$G$12:$G$3000>0,ROW(),\"\")","v":""}]
[null,null,null,null,null,null,null,null,{"$f":"IF(Магазин!$G$12:$G$3000>0,ROW(),\"\")","v":""}]
[null,null,null,null,null,null,null,null,{"$f":"IF(Магазин!$G$12:$G$3000>0,ROW(),\"\")","v":""}]
[null,null,null,null,null,null,null,null,{"$f":"IF(Магазин!$G$12:$G$3000>0,ROW(),\"\")","v":""}]
[null,null,null,null,null,null,null,null,{"$f":"IF(Магазин!$G$12:$G$3000>0,ROW(),\"\")","v":""}]
[null,null,null,null,null,null,null,null,{"$f":"IF(Магазин!$G$12:$G$3000>0,ROW(),\"\")","v":""}]
[null,null,null,null,null,null,null,null,{"$f":"IF(Магазин!$G$12:$G$3000>0,ROW(),\"\")","v":""}]
[null,null,null,null,null,null,null,null,{"$f":"IF(Магазин!$G$12:$G$3000>0,ROW(),\"\")","v":""}]
[null,null,null,null,null,null,null,null,{"$f":"IF(Магазин!$G$12:$G$3000>0,ROW(),\"\")","v":""}]
[null,null,null,null,null,null,null,null,{"$f":"IF(Магазин!$G$12:$G$3000>0,ROW(),\"\")","v":""}]
[null,null,null,null,null,null,null,null,{"$f":"IF(Магазин!$G$12:$G$3000>0,ROW(),\"\")","v":""}]
[null,null,null,null,null,null,null,null,{"$f":"IF(Магазин!$G$12:$G$3000>0,ROW(),\"\")","v":""}]
[null,null,null,null,null,null,null,null,{"$f":"IF(Магазин!$G$12:$G$3000>0,ROW(),\"\")","v":""}]
[null,null,null,null,null,null,null,null,{"$f":"IF(Магазин!$G$12:$G$3000>0,ROW(),\"\")","v":""}]
[null,null,null,null,null,null,null,null,{"$f":"IF(Магазин!$G$12:$G$3000>0,ROW(),\"\")","v":""}]
[null,null,null,null,null,null,null,null,{"$f":"IF(Магазин!$G$12:$G$3000>0,ROW(),\"\")","v":""}]
[null,null,null,null,null,null,null,null,{"$f":"IF(Магазин!$G$12:$G$3000>0,ROW(),\"\")","v":""}]
[null,null,null,null,null,null,null,null,{"$f":"IF(Магазин!$G$12:$G$3000>0,ROW(),\"\")","v":""}]
[null,null,null,null,null,null,null,null,{"$f":"IF(Магазин!$G$12:$G$3000>0,ROW(),\"\")","v":""}]
[null,null,null,null,null,null,null,null,{"$f":"IF(Магазин!$G$12:$G$3000>0,ROW(),\"\")","v":""}]
[null,null,null,null,null,null,null,null,{"$f":"IF(Магазин!$G$12:$G$3000>0,ROW(),\"\")","v":""}]
[null,null,null,null,null,null,null,null,{"$f":"IF(Магазин!$G$12:$G$3000>0,ROW(),\"\")","v":""}]
[null,null,null,null,null,null,null,null,{"$f":"IF(Магазин!$G$12:$G$3000>0,ROW(),\"\")","v":""}]
[null,null,null,null,null,null,null,null,{"$f":"IF(Магазин!$G$12:$G$3000>0,ROW(),\"\")","v":""}]
[null,null,null,null,null,null,null,null,{"$f":"IF(Магазин!$G$12:$G$3000>0,ROW(),\"\")","v":""}]
[null,null,null,null,null,null,null,null,{"$f":"IF(Магазин!$G$12:$G$3000>0,ROW(),\"\")","v":""}]
[null,null,null,null,null,null,null,null,{"$f":"IF(Магазин!$G$12:$G$3000>0,ROW(),\"\")","v":""}]
[null,null,null,null,null,null,null,null,{"$f":"IF(Магазин!$G$12:$G$3000>0,ROW(),\"\")","v":""}]
[null,null,null,null,null,null,null,null,{"$f":"IF(Магазин!$G$12:$G$3000>0,ROW(),\"\")","v":""}]
[null,null,null,null,null,null,null,null,{"$f":"IF(Магазин!$G$12:$G$3000>0,ROW(),\"\")","v":""}]
[null,null,null,null,null,null,null,null,{"$f":"IF(Магазин!$G$12:$G$3000>0,ROW(),\"\")","v":""}]
[null,null,null,null,null,null,null,null,{"$f":"IF(Магазин!$G$12:$G$3000>0,ROW(),\"\")","v":""}]
[null,null,null,null,null,null,null,null,{"$f":"IF(Магазин!$G$12:$G$3000>0,ROW(),\"\")","v":""}]
[null,null,null,null,null,null,null,null,{"$f":"IF(Магазин!$G$12:$G$3000>0,ROW(),\"\")","v":""}]
[null,null,null,null,null,null,null,null,{"$f":"IF(Магазин!$G$12:$G$3000>0,ROW(),\"\")","v":""}]
[null,null,null,null,null,null,null,null,{"$f":"IF(Магазин!$G$12:$G$3000>0,ROW(),\"\")","v":""}]
[null,null,null,null,null,null,null,null,{"$f":"IF(Магазин!$G$12:$G$3000>0,ROW(),\"\")","v":""}]
[null,null,null,null,null,null,null,null,{"$f":"IF(Магазин!$G$12:$G$3000>0,ROW(),\"\")","v":""}]
[null,null,null,null,null,null,null,null,{"$f":"IF(Магазин!$G$12:$G$3000>0,ROW(),\"\")","v":""}]
[null,null,null,null,null,null,null,null,{"$f":"IF(Магазин!$G$12:$G$3000>0,ROW(),\"\")","v":""}]
[null,null,null,null,null,null,null,null,{"$f":"IF(Магазин!$G$12:$G$3000>0,ROW(),\"\")","v":""}]
[null,null,null,null,null,null,null,null,{"$f":"IF(Магазин!$G$12:$G$3000>0,ROW(),\"\")","v":""}]
[null,null,null,null,null,null,null,null,{"$f":"IF(Магазин!$G$12:$G$3000>0,ROW(),\"\")","v":""}]
[null,null,null,null,null,null,null,null,{"$f":"IF(Магазин!$G$12:$G$3000>0,ROW(),\"\")","v":""}]
[null,null,null,null,null,null,null,null,{"$f":"IF(Магазин!$G$12:$G$3000>0,ROW(),\"\")","v":""}]
[null,null,null,null,null,null,null,null,{"$f":"IF(Магазин!$G$12:$G$3000>0,ROW(),\"\")","v":""}]
[null,null,null,null,null,null,null,null,{"$f":"IF(Магазин!$G$12:$G$3000>0,ROW(),\"\")","v":""}]
[null,null,null,null,null,null,null,null,{"$f":"IF(Магазин!$G$12:$G$3000>0,ROW(),\"\")","v":""}]
[null,null,null,null,null,null,null,null,{"$f":"IF(Магазин!$G$12:$G$3000>0,ROW(),\"\")","v":""}]
[null,null,null,null,null,null,null,null,{"$f":"IF(Магазин!$G$12:$G$3000>0,ROW(),\"\")","v":""}]
[null,null,null,null,null,null,null,null,{"$f":"IF(Магазин!$G$12:$G$3000>0,ROW(),\"\")","v":""}]
[null,null,null,null,null,null,null,null,{"$f":"IF(Магазин!$G$12:$G$3000>0,ROW(),\"\")","v":""}]
[null,null,null,null,null,null,null,null,{"$f":"IF(Магазин!$G$12:$G$3000>0,ROW(),\"\")","v":""}]
[null,null,null,null,null,null,null,null,{"$f":"IF(Магазин!$G$12:$G$3000>0,ROW(),\"\")","v":""}]
[null,null,null,null,null,null,null,null,{"$f":"IF(Магазин!$G$12:$G$3000>0,ROW(),\"\")","v":""}]
[null,null,null,null,null,null,null,null,{"$f":"IF(Магазин!$G$12:$G$3000>0,ROW(),\"\")","v":""}]
[null,null,null,null,null,null,null,null,{"$f":"IF(Магазин!$G$12:$G$3000>0,ROW(),\"\")","v":""}]
[null,null,null,null,null,null,null,null,{"$f":"IF(Магазин!$G$12:$G$3000>0,ROW(),\"\")","v":""}]
[null,null,null,null,null,null,null,null,{"$f":"IF(Магазин!$G$12:$G$3000>0,ROW(),\"\")","v":""}]
[null,null,null,null,null,null,null,null,{"$f":"IF(Магазин!$G$12:$G$3000>0,ROW(),\"\")","v":""}]
[null,null,null,null,null,null,null,null,{"$f":"IF(Магазин!$G$12:$G$3000>0,ROW(),\"\")","v":""}]
[null,null,null,null,null,null,null,null,{"$f":"IF(Магазин!$G$12:$G$3000>0,ROW(),\"\")","v":""}]
[null,null,null,null,null,null,null,null,{"$f":"IF(Магазин!$G$12:$G$3000>0,ROW(),\"\")","v":""}]
[null,null,null,null,null,null,null,null,{"$f":"IF(Магазин!$G$12:$G$3000>0,ROW(),\"\")","v":""}]
[null,null,null,null,null,null,null,null,{"$f":"IF(Магазин!$G$12:$G$3000>0,ROW(),\"\")","v":""}]
[null,null,null,null,null,null,null,null,{"$f":"IF(Магазин!$G$12:$G$3000>0,ROW(),\"\")","v":""}]
[null,null,null,null,null,null,null,null,{"$f":"IF(Магазин!$G$12:$G$3000>0,ROW(),\"\")","v":""}]
[null,null,null,null,null,null,null,null,{"$f":"IF(Магазин!$G$12:$G$3000>0,ROW(),\"\")","v":""}]
[null,null,null,null,null,null,null,null,{"$f":"IF(Магазин!$G$12:$G$3000>0,ROW(),\"\")","v":""}]
[null,null,null,null,null,null,null,null,{"$f":"IF(Магазин!$G$12:$G$3000>0,ROW(),\"\")","v":""}]
[null,null,null,null,null,null,null,null,{"$f":"IF(Магазин!$G$12:$G$3000>0,ROW(),\"\")","v":""}]
[null,null,null,null,null,null,null,null,{"$f":"IF(Магазин!$G$12:$G$3000>0,ROW(),\"\")","v":""}]
[null,null,null,null,null,null,null,null,{"$f":"IF(Магазин!$G$12:$G$3000>0,ROW(),\"\")","v":""}]
[null,null,null,null,null,null,null,null,{"$f":"IF(Магазин!$G$12:$G$3000>0,ROW(),\"\")","v":""}]
[null,null,null,null,null,null,null,null,{"$f":"IF(Магазин!$G$12:$G$3000>0,ROW(),\"\")","v":""}]
[null,null,null,null,null,null,null,null,{"$f":"IF(Магазин!$G$12:$G$3000>0,ROW(),\"\")","v":""}]
[null,null,null,null,null,null,null,null,{"$f":"IF(Магазин!$G$12:$G$3000>0,ROW(),\"\")","v":""}]
[null,null,null,null,null,null,null,null,{"$f":"IF(Магазин!$G$12:$G$3000>0,ROW(),\"\")","v":""}]
[null,null,null,null,null,null,null,null,{"$f":"IF(Магазин!$G$12:$G$3000>0,ROW(),\"\")","v":""}]
[null,null,null,null,null,null,null,null,{"$f":"IF(Магазин!$G$12:$G$3000>0,ROW(),\"\")","v":""}]
[null,null,null,null,null,null,null,null,{"$f":"IF(Магазин!$G$12:$G$3000>0,ROW(),\"\")","v":""}]
[null,null,null,null,null,null,null,null,{"$f":"IF(Магазин!$G$12:$G$3000>0,ROW(),\"\")","v":""}]
[null,null,null,null,null,null,null,null,{"$f":"IF(Магазин!$G$12:$G$3000>0,ROW(),\"\")","v":""}]
[null,null,null,null,null,null,null,null,{"$f":"IF(Магазин!$G$12:$G$3000>0,ROW(),\"\")","v":""}]
[null,null,null,null,null,null,null,null,{"$f":"IF(Магазин!$G$12:$G$3000>0,ROW(),\"\")","v":""}]
[null,null,null,null,null,null,null,null,{"$f":"IF(Магазин!$G$12:$G$3000>0,ROW(),\"\")","v":""}]
[null,null,null,null,null,null,null,null,{"$f":"IF(Магазин!$G$12:$G$3000>0,ROW(),\"\")","v":""}]
[null,null,null,null,null,null,null,null,{"$f":"IF(Магазин!$G$12:$G$3000>0,ROW(),\"\")","v":""}]
[null,null,null,null,null,null,null,null,{"$f":"IF(Магазин!$G$12:$G$3000>0,ROW(),\"\")","v":""}]
[null,null,null,null,null,null,null,null,{"$f":"IF(Магазин!$G$12:$G$3000>0,ROW(),\"\")","v":""}]
[null,null,null,null,null,null,null,null,{"$f":"IF(Магазин!$G$12:$G$3000>0,ROW(),\"\")","v":""}]
[null,null,null,null,null,null,null,null,{"$f":"IF(Магазин!$G$12:$G$3000>0,ROW(),\"\")","v":""}]
[null,null,null,null,null,null,null,null,{"$f":"IF(Магазин!$G$12:$G$3000>0,ROW(),\"\")","v":""}]
[null,null,null,null,null,null,null,null,{"$f":"IF(Магазин!$G$12:$G$3000>0,ROW(),\"\")","v":""}]
[null,null,null,null,null,null,null,null,{"$f":"IF(Магазин!$G$12:$G$3000>0,ROW(),\"\")","v":""}]
[null,null,null,null,null,null,null,null,{"$f":"IF(Магазин!$G$12:$G$3000>0,ROW(),\"\")","v":""}]
[null,null,null,null,null,null,null,null,{"$f":"IF(Магазин!$G$12:$G$3000>0,ROW(),\"\")","v":""}]
[null,null,null,null,null,null,null,null,{"$f":"IF(Магазин!$G$12:$G$3000>0,ROW(),\"\")","v":""}]
[null,null,null,null,null,null,null,null,{"$f":"IF(Магазин!$G$12:$G$3000>0,ROW(),\"\")","v":""}]
[null,null,null,null,null,null,null,null,{"$f":"IF(Магазин!$G$12:$G$3000>0,ROW(),\"\")","v":""}]
[null,null,null,null,null,null,null,null,{"$f":"IF(Магазин!$G$12:$G$3000>0,ROW(),\"\")","v":""}]
[null,null,null,null,null,null,null,null,{"$f":"IF(Магазин!$G$12:$G$3000>0,ROW(),\"\")","v":""}]
[null,null,null,null,null,null,null,null,{"$f":"IF(Магазин!$G$12:$G$3000>0,ROW(),\"\")","v":""}]
[null,null,null,null,null,null,null,null,{"$f":"IF(Магазин!$G$12:$G$3000>0,ROW(),\"\")","v":""}]
[null,null,null,null,null,null,null,null,{"$f":"IF(Магазин!$G$12:$G$3000>0,ROW(),\"\")","v":""}]
[null,null,null,null,null,null,null,null,{"$f":"IF(Магазин!$G$12:$G$3000>0,ROW(),\"\")","v":""}]
[null,null,null,null,null,null,null,null,{"$f":"IF(Магазин!$G$12:$G$3000>0,ROW(),\"\")","v":""}]
[null,null,null,null,null,null,null,null,{"$f":"IF(Магазин!$G$12:$G$3000>0,ROW(),\"\")","v":""}]
[null,null,null,null,null,null,null,null,{"$f":"IF(Магазин!$G$12:$G$3000>0,ROW(),\"\")","v":""}]
[null,null,null,null,null,null,null,null,{"$f":"IF(Магазин!$G$12:$G$3000>0,ROW(),\"\")","v":""}]
[null,null,null,null,null,null,null,null,{"$f":"IF(Магазин!$G$12:$G$3000>0,ROW(),\"\")","v":""}]
[null,null,null,null,null,null,null,null,{"$f":"IF(Магазин!$G$12:$G$3000>0,ROW(),\"\")","v":""}]
[null,null,null,null,null,null,null,null,{"$f":"IF(Магазин!$G$12:$G$3000>0,ROW(),\"\")","v":""}]
[null,null,null,null,null,null,null,null,{"$f":"IF(Магазин!$G$12:$G$3000>0,ROW(),\"\")","v":""}]
[null,null,null,null,null,null,null,null,{"$f":"IF(Магазин!$G$12:$G$3000>0,ROW(),\"\")","v":""}]
[null,null,null,null,null,null,null,null,{"$f":"IF(Магазин!$G$12:$G$3000>0,ROW(),\"\")","v":""}]
[null,null,null,null,null,null,null,null,{"$f":"IF(Магазин!$G$12:$G$3000>0,ROW(),\"\")","v":""}]
[null,null,null,null,null,null,null,null,{"$f":"IF(Магазин!$G$12:$G$3000>0,ROW(),\"\")","v":""}]
[null,null,null,null,null,null,null,null,{"$f":"IF(Магазин!$G$12:$G$3000>0,ROW(),\"\")","v":""}]
[null,null,null,null,null,null,null,null,{"$f":"IF(Магазин!$G$12:$G$3000>0,ROW(),\"\")","v":""}]
[null,null,null,null,null,null,null,null,{"$f":"IF(Магазин!$G$12:$G$3000>0,ROW(),\"\")","v":""}]
[null,null,null,null,null,null,null,null,{"$f":"IF(Магазин!$G$12:$G$3000>0,ROW(),\"\")","v":""}]
[null,null,null,null,null,null,null,null,{"$f":"IF(Магазин!$G$12:$G$3000>0,ROW(),\"\")","v":""}]
[null,null,null,null,null,null,null,null,{"$f":"IF(Магазин!$G$12:$G$3000>0,ROW(),\"\")","v":""}]
[null,null,null,null,null,null,null,null,{"$f":"IF(Магазин!$G$12:$G$3000>0,ROW(),\"\")","v":""}]
[null,null,null,null,null,null,null,null,{"$f":"IF(Магазин!$G$12:$G$3000>0,ROW(),\"\")","v":""}]
[null,null,null,null,null,null,null,null,{"$f":"IF(Магазин!$G$12:$G$3000>0,ROW(),\"\")","v":""}]
[null,null,null,null,null,null,null,null,{"$f":"IF(Магазин!$G$12:$G$3000>0,ROW(),\"\")","v":""}]
[null,null,null,null,null,null,null,null,{"$f":"IF(Магазин!$G$12:$G$3000>0,ROW(),\"\")","v":""}]
[null,null,null,null,null,null,null,null,{"$f":"IF(Магазин!$G$12:$G$3000>0,ROW(),\"\")","v":""}]
[null,null,null,null,null,null,null,null,{"$f":"IF(Магазин!$G$12:$G$3000>0,ROW(),\"\")","v":""}]
[null,null,null,null,null,null,null,null,{"$f":"IF(Магазин!$G$12:$G$3000>0,ROW(),\"\")","v":""}]
[null,null,null,null,null,null,null,null,{"$f":"IF(Магазин!$G$12:$G$3000>0,ROW(),\"\")","v":""}]
[null,null,null,null,null,null,null,null,{"$f":"IF(Магазин!$G$12:$G$3000>0,ROW(),\"\")","v":""}]
[null,null,null,null,null,null,null,null,{"$f":"IF(Магазин!$G$12:$G$3000>0,ROW(),\"\")","v":""}]
[null,null,null,null,null,null,null,null,{"$f":"IF(Магазин!$G$12:$G$3000>0,ROW(),\"\")","v":""}]
[null,null,null,null,null,null,null,null,{"$f":"IF(Магазин!$G$12:$G$3000>0,ROW(),\"\")","v":""}]
[null,null,null,null,null,null,null,null,{"$f":"IF(Магазин!$G$12:$G$3000>0,ROW(),\"\")","v":""}]
[null,null,null,null,null,null,null,null,{"$f":"IF(Магазин!$G$12:$G$3000>0,ROW(),\"\")","v":""}]
[null,null,null,null,null,null,null,null,{"$f":"IF(Магазин!$G$12:$G$3000>0,ROW(),\"\")","v":""}]
[null,null,null,null,null,null,null,null,{"$f":"IF(Магазин!$G$12:$G$3000>0,ROW(),\"\")","v":""}]
[null,null,null,null,null,null,null,null,{"$f":"IF(Магазин!$G$12:$G$3000>0,ROW(),\"\")","v":""}]
[null,null,null,null,null,null,null,null,{"$f":"IF(Магазин!$G$12:$G$3000>0,ROW(),\"\")","v":""}]
[null,null,null,null,null,null,null,null,{"$f":"IF(Магазин!$G$12:$G$3000>0,ROW(),\"\")","v":""}]
[null,null,null,null,null,null,null,null,{"$f":"IF(Магазин!$G$12:$G$3000>0,ROW(),\"\")","v":""}]
[null,null,null,null,null,null,null,null,{"$f":"IF(Магазин!$G$12:$G$3000>0,ROW(),\"\")","v":""}]
[null,null,null,null,null,null,null,null,{"$f":"IF(Магазин!$G$12:$G$3000>0,ROW(),\"\")","v":""}]
[null,null,null,null,null,null,null,null,{"$f":"IF(Магазин!$G$12:$G$3000>0,ROW(),\"\")","v":""}]
[null,null,null,null,null,null,null,null,{"$f":"IF(Магазин!$G$12:$G$3000>0,ROW(),\"\")","v":""}]
[null,null,null,null,null,null,null,null,{"$f":"IF(Магазин!$G$12:$G$3000>0,ROW(),\"\")","v":""}]
[null,null,null,null,null,null,null,null,{"$f":"IF(Магазин!$G$12:$G$3000>0,ROW(),\"\")","v":""}]
[null,null,null,null,null,null,null,null,{"$f":"IF(Магазин!$G$12:$G$3000>0,ROW(),\"\")","v":""}]
[null,null,null,null,null,null,null,null,{"$f":"IF(Магазин!$G$12:$G$3000>0,ROW(),\"\")","v":""}]
[null,null,null,null,null,null,null,null,{"$f":"IF(Магазин!$G$12:$G$3000>0,ROW(),\"\")","v":""}]
[null,null,null,null,null,null,null,null,{"$f":"IF(Магазин!$G$12:$G$3000>0,ROW(),\"\")","v":""}]
[null,null,null,null,null,null,null,null,{"$f":"IF(Магазин!$G$12:$G$3000>0,ROW(),\"\")","v":""}]
[null,null,null,null,null,null,null,null,{"$f":"IF(Магазин!$G$12:$G$3000>0,ROW(),\"\")","v":""}]
[null,null,null,null,null,null,null,null,{"$f":"IF(Магазин!$G$12:$G$3000>0,ROW(),\"\")","v":""}]
[null,null,null,null,null,null,null,null,{"$f":"IF(Магазин!$G$12:$G$3000>0,ROW(),\"\")","v":""}]
[null,null,null,null,null,null,null,null,{"$f":"IF(Магазин!$G$12:$G$3000>0,ROW(),\"\")","v":""}]
[null,null,null,null,null,null,null,null,{"$f":"IF(Магазин!$G$12:$G$3000>0,ROW(),\"\")","v":""}]
[null,null,null,null,null,null,null,null,{"$f":"IF(Магазин!$G$12:$G$3000>0,ROW(),\"\")","v":""}]
[null,null,null,null,null,null,null,null,{"$f":"IF(Магазин!$G$12:$G$3000>0,ROW(),\"\")","v":""}]
[null,null,null,null,null,null,null,null,{"$f":"IF(Магазин!$G$12:$G$3000>0,ROW(),\"\")","v":""}]
[null,null,null,null,null,null,null,null,{"$f":"IF(Магазин!$G$12:$G$3000>0,ROW(),\"\")","v":""}]
[null,null,null,null,null,null,null,null,{"$f":"IF(Магазин!$G$12:$G$3000>0,ROW(),\"\")","v":""}]
[null,null,null,null,null,null,null,null,{"$f":"IF(Магазин!$G$12:$G$3000>0,ROW(),\"\")","v":""}]
[null,null,null,null,null,null,null,null,{"$f":"IF(Магазин!$G$12:$G$3000>0,ROW(),\"\")","v":""}]
[null,null,null,null,null,null,null,null,{"$f":"IF(Магазин!$G$12:$G$3000>0,ROW(),\"\")","v":""}]
[null,null,null,null,null,null,null,null,{"$f":"IF(Магазин!$G$12:$G$3000>0,ROW(),\"\")","v":""}]
[null,null,null,null,null,null,null,null,{"$f":"IF(Магазин!$G$12:$G$3000>0,ROW(),\"\")","v":""}]
[null,null,null,null,null,null,null,null,{"$f":"IF(Магазин!$G$12:$G$3000>0,ROW(),\"\")","v":""}]
[null,null,null,null,null,null,null,null,{"$f":"IF(Магазин!$G$12:$G$3000>0,ROW(),\"\")","v":""}]
[null,null,null,null,null,null,null,null,{"$f":"IF(Магазин!$G$12:$G$3000>0,ROW(),\"\")","v":""}]
[null,null,null,null,null,null,null,null,{"$f":"IF(Магазин!$G$12:$G$3000>0,ROW(),\"\")","v":""}]
[null,null,null,null,null,null,null,null,{"$f":"IF(Магазин!$G$12:$G$3000>0,ROW(),\"\")","v":""}]
[null,null,null,null,null,null,null,null,{"$f":"IF(Магазин!$G$12:$G$3000>0,ROW(),\"\")","v":""}]
[null,null,null,null,null,null,null,null,{"$f":"IF(Магазин!$G$12:$G$3000>0,ROW(),\"\")","v":""}]
[null,null,null,null,null,null,null,null,{"$f":"IF(Магазин!$G$12:$G$3000>0,ROW(),\"\")","v":""}]
[null,null,null,null,null,null,null,null,{"$f":"IF(Магазин!$G$12:$G$3000>0,ROW(),\"\")","v":""}]
[null,null,null,null,null,null,null,null,{"$f":"IF(Магазин!$G$12:$G$3000>0,ROW(),\"\")","v":""}]
[null,null,null,null,null,null,null,null,{"$f":"IF(Магазин!$G$12:$G$3000>0,ROW(),\"\")","v":""}]
[null,null,null,null,null,null,null,null,{"$f":"IF(Магазин!$G$12:$G$3000>0,ROW(),\"\")","v":""}]
[null,null,null,null,null,null,null,null,{"$f":"IF(Магазин!$G$12:$G$3000>0,ROW(),\"\")","v":""}]
[null,null,null,null,null,null,null,null,{"$f":"IF(Магазин!$G$12:$G$3000>0,ROW(),\"\")","v":""}]
[null,null,null,null,null,null,null,null,{"$f":"IF(Магазин!$G$12:$G$3000>0,ROW(),\"\")","v":""}]
[null,null,null,null,null,null,null,null,{"$f":"IF(Магазин!$G$12:$G$3000>0,ROW(),\"\")","v":""}]
[null,null,null,null,null,null,null,null,{"$f":"IF(Магазин!$G$12:$G$3000>0,ROW(),\"\")","v":""}]
[null,null,null,null,null,null,null,null,{"$f":"IF(Магазин!$G$12:$G$3000>0,ROW(),\"\")","v":""}]
[null,null,null,null,null,null,null,null,{"$f":"IF(Магазин!$G$12:$G$3000>0,ROW(),\"\")","v":""}]
[null,null,null,null,null,null,null,null,{"$f":"IF(Магазин!$G$12:$G$3000>0,ROW(),\"\")","v":""}]
[null,null,null,null,null,null,null,null,{"$f":"IF(Магазин!$G$12:$G$3000>0,ROW(),\"\")","v":""}]
[null,null,null,null,null,null,null,null,{"$f":"IF(Магазин!$G$12:$G$3000>0,ROW(),\"\")","v":""}]
[null,null,null,null,null,null,null,null,{"$f":"IF(Магазин!$G$12:$G$3000>0,ROW(),\"\")","v":""}]
[null,null,null,null,null,null,null,null,{"$f":"IF(Магазин!$G$12:$G$3000>0,ROW(),\"\")","v":""}]
[null,null,null,null,null,null,null,null,{"$f":"IF(Магазин!$G$12:$G$3000>0,ROW(),\"\")","v":""}]
[null,null,null,null,null,null,null,null,{"$f":"IF(Магазин!$G$12:$G$3000>0,ROW(),\"\")","v":""}]
[null,null,null,null,null,null,null,null,{"$f":"IF(Магазин!$G$12:$G$3000>0,ROW(),\"\")","v":""}]
[null,null,null,null,null,null,null,null,{"$f":"IF(Магазин!$G$12:$G$3000>0,ROW(),\"\")","v":""}]
[null,null,null,null,null,null,null,null,{"$f":"IF(Магазин!$G$12:$G$3000>0,ROW(),\"\")","v":""}]
[null,null,null,null,null,null,null,null,{"$f":"IF(Магазин!$G$12:$G$3000>0,ROW(),\"\")","v":""}]
[null,null,null,null,null,null,null,null,{"$f":"IF(Магазин!$G$12:$G$3000>0,ROW(),\"\")","v":""}]
[null,null,null,null,null,null,null,null,{"$f":"IF(Магазин!$G$12:$G$3000>0,ROW(),\"\")","v":""}]
[null,null,null,null,null,null,null,null,{"$f":"IF(Магазин!$G$12:$G$3000>0,ROW(),\"\")","v":""}]
[null,null,null,null,null,null,null,null,{"$f":"IF(Магазин!$G$12:$G$3000>0,ROW(),\"\")","v":""}]
[null,null,null,null,null,null,null,null,{"$f":"IF(Магазин!$G$12:$G$3000>0,ROW(),\"\")","v":""}]
[null,null,null,null,null,null,null,null,{"$f":"IF(Магазин!$G$12:$G$3000>0,ROW(),\"\")","v":""}]
[null,null,null,null,null,null,null,null,{"$f":"IF(Магазин!$G$12:$G$3000>0,ROW(),\"\")","v":""}]
[null,null,null,null,null,null,null,null,{"$f":"IF(Магазин!$G$12:$G$3000>0,ROW(),\"\")","v":""}]
[null,null,null,null,null,null,null,null,{"$f":"IF(Магазин!$G$12:$G$3000>0,ROW(),\"\")","v":""}]
[null,null,null,null,null,null,null,null,{"$f":"IF(Магазин!$G$12:$G$3000>0,ROW(),\"\")","v":""}]
[null,null,null,null,null,null,null,null,{"$f":"IF(Магазин!$G$12:$G$3000>0,ROW(),\"\")","v":""}]
[null,null,null,null,null,null,null,null,{"$f":"IF(Магазин!$G$12:$G$3000>0,ROW(),\"\")","v":""}]
[null,null,null,null,null,null,null,null,{"$f":"IF(Магазин!$G$12:$G$3000>0,ROW(),\"\")","v":""}]
[null,null,null,null,null,null,null,null,{"$f":"IF(Магазин!$G$12:$G$3000>0,ROW(),\"\")","v":""}]
[null,null,null,null,null,null,null,null,{"$f":"IF(Магазин!$G$12:$G$3000>0,ROW(),\"\")","v":""}]
[null,null,null,null,null,null,null,null,{"$f":"IF(Магазин!$G$12:$G$3000>0,ROW(),\"\")","v":""}]
[null,null,null,null,null,null,null,null,{"$f":"IF(Магазин!$G$12:$G$3000>0,ROW(),\"\")","v":""}]
[null,null,null,null,null,null,null,null,{"$f":"IF(Магазин!$G$12:$G$3000>0,ROW(),\"\")","v":""}]
[null,null,null,null,null,null,null,null,{"$f":"IF(Магазин!$G$12:$G$3000>0,ROW(),\"\")","v":""}]
[null,null,null,null,null,null,null,null,{"$f":"IF(Магазин!$G$12:$G$3000>0,ROW(),\"\")","v":""}]
[null,null,null,null,null,null,null,null,{"$f":"IF(Магазин!$G$12:$G$3000>0,ROW(),\"\")","v":""}]
[null,null,null,null,null,null,null,null,{"$f":"IF(Магазин!$G$12:$G$3000>0,ROW(),\"\")","v":""}]
[null,null,null,null,null,null,null,null,{"$f":"IF(Магазин!$G$12:$G$3000>0,ROW(),\"\")","v":""}]
[null,null,null,null,null,null,null,null,{"$f":"IF(Магазин!$G$12:$G$3000>0,ROW(),\"\")","v":""}]
[null,null,null,null,null,null,null,null,{"$f":"IF(Магазин!$G$12:$G$3000>0,ROW(),\"\")","v":""}]
[null,null,null,null,null,null,null,null,{"$f":"IF(Магазин!$G$12:$G$3000>0,ROW(),\"\")","v":""}]
[null,null,null,null,null,null,null,null,{"$f":"IF(Магазин!$G$12:$G$3000>0,ROW(),\"\")","v":""}]
[null,null,null,null,null,null,null,null,{"$f":"IF(Магазин!$G$12:$G$3000>0,ROW(),\"\")","v":""}]
[null,null,null,null,null,null,null,null,{"$f":"IF(Магазин!$G$12:$G$3000>0,ROW(),\"\")","v":""}]
[null,null,null,null,null,null,null,null,{"$f":"IF(Магазин!$G$12:$G$3000>0,ROW(),\"\")","v":""}]
[null,null,null,null,null,null,null,null,{"$f":"IF(Магазин!$G$12:$G$3000>0,ROW(),\"\")","v":""}]
[null,null,null,null,null,null,null,null,{"$f":"IF(Магазин!$G$12:$G$3000>0,ROW(),\"\")","v":""}]
[null,null,null,null,null,null,null,null,{"$f":"IF(Магазин!$G$12:$G$3000>0,ROW(),\"\")","v":""}]
[null,null,null,null,null,null,null,null,{"$f":"IF(Магазин!$G$12:$G$3000>0,ROW(),\"\")","v":""}]
[null,null,null,null,null,null,null,null,{"$f":"IF(Магазин!$G$12:$G$3000>0,ROW(),\"\")","v":""}]
[null,null,null,null,null,null,null,null,{"$f":"IF(Магазин!$G$12:$G$3000>0,ROW(),\"\")","v":""}]
[null,null,null,null,null,null,null,null,{"$f":"IF(Магазин!$G$12:$G$3000>0,ROW(),\"\")","v":""}]
[null,null,null,null,null,null,null,null,{"$f":"IF(Магазин!$G$12:$G$3000>0,ROW(),\"\")","v":""}]
[null,null,null,null,null,null,null,null,{"$f":"IF(Магазин!$G$12:$G$3000>0,ROW(),\"\")","v":""}]
[null,null,null,null,null,null,null,null,{"$f":"IF(Магазин!$G$12:$G$3000>0,ROW(),\"\")","v":""}]
[null,null,null,null,null,null,null,null,{"$f":"IF(Магазин!$G$12:$G$3000>0,ROW(),\"\")","v":""}]
[null,null,null,null,null,null,null,null,{"$f":"IF(Магазин!$G$12:$G$3000>0,ROW(),\"\")","v":""}]
[null,null,null,null,null,null,null,null,{"$f":"IF(Магазин!$G$12:$G$3000>0,ROW(),\"\")","v":""}]
[null,null,null,null,null,null,null,null,{"$f":"IF(Магазин!$G$12:$G$3000>0,ROW(),\"\")","v":""}]
[null,null,null,null,null,null,null,null,{"$f":"IF(Магазин!$G$12:$G$3000>0,ROW(),\"\")","v":""}]
[null,null,null,null,null,null,null,null,{"$f":"IF(Магазин!$G$12:$G$3000>0,ROW(),\"\")","v":""}]
[null,null,null,null,null,null,null,null,{"$f":"IF(Магазин!$G$12:$G$3000>0,ROW(),\"\")","v":""}]
[null,null,null,null,null,null,null,null,{"$f":"IF(Магазин!$G$12:$G$3000>0,ROW(),\"\")","v":""}]
[null,null,null,null,null,null,null,null,{"$f":"IF(Магазин!$G$12:$G$3000>0,ROW(),\"\")","v":""}]
[null,null,null,null,null,null,null,null,{"$f":"IF(Магазин!$G$12:$G$3000>0,ROW(),\"\")","v":""}]
[null,null,null,null,null,null,null,null,{"$f":"IF(Магазин!$G$12:$G$3000>0,ROW(),\"\")","v":""}]
[null,null,null,null,null,null,null,null,{"$f":"IF(Магазин!$G$12:$G$3000>0,ROW(),\"\")","v":""}]
[null,null,null,null,null,null,null,null,{"$f":"IF(Магазин!$G$12:$G$3000>0,ROW(),\"\")","v":""}]
[null,null,null,null,null,null,null,null,{"$f":"IF(Магазин!$G$12:$G$3000>0,ROW(),\"\")","v":""}]
[null,null,null,null,null,null,null,null,{"$f":"IF(Магазин!$G$12:$G$3000>0,ROW(),\"\")","v":""}]
[null,null,null,null,null,null,null,null,{"$f":"IF(Магазин!$G$12:$G$3000>0,ROW(),\"\")","v":""}]
[null,null,null,null,null,null,null,null,{"$f":"IF(Магазин!$G$12:$G$3000>0,ROW(),\"\")","v":""}]
[null,null,null,null,null,null,null,null,{"$f":"IF(Магазин!$G$12:$G$3000>0,ROW(),\"\")","v":""}]
[null,null,null,null,null,null,null,null,{"$f":"IF(Магазин!$G$12:$G$3000>0,ROW(),\"\")","v":""}]
[null,null,null,null,null,null,null,null,{"$f":"IF(Магазин!$G$12:$G$3000>0,ROW(),\"\")","v":""}]
[null,null,null,null,null,null,null,null,{"$f":"IF(Магазин!$G$12:$G$3000>0,ROW(),\"\")","v":""}]
[null,null,null,null,null,null,null,null,{"$f":"IF(Магазин!$G$12:$G$3000>0,ROW(),\"\")","v":""}]
[null,null,null,null,null,null,null,null,{"$f":"IF(Магазин!$G$12:$G$3000>0,ROW(),\"\")","v":""}]
[null,null,null,null,null,null,null,null,{"$f":"IF(Магазин!$G$12:$G$3000>0,ROW(),\"\")","v":""}]
[null,null,null,null,null,null,null,null,{"$f":"IF(Магазин!$G$12:$G$3000>0,ROW(),\"\")","v":""}]
[null,null,null,null,null,null,null,null,{"$f":"IF(Магазин!$G$12:$G$3000>0,ROW(),\"\")","v":""}]
[null,null,null,null,null,null,null,null,{"$f":"IF(Магазин!$G$12:$G$3000>0,ROW(),\"\")","v":""}]
[null,null,null,null,null,null,null,null,{"$f":"IF(Магазин!$G$12:$G$3000>0,ROW(),\"\")","v":""}]
[null,null,null,null,null,null,null,null,{"$f":"IF(Магазин!$G$12:$G$3000>0,ROW(),\"\")","v":""}]
[null,null,null,null,null,null,null,null,{"$f":"IF(Магазин!$G$12:$G$3000>0,ROW(),\"\")","v":""}]
[null,null,null,null,null,null,null,null,{"$f":"IF(Магазин!$G$12:$G$3000>0,ROW(),\"\")","v":""}]
[null,null,null,null,null,null,null,null,{"$f":"IF(Магазин!$G$12:$G$3000>0,ROW(),\"\")","v":""}]
[null,null,null,null,null,null,null,null,{"$f":"IF(Магазин!$G$12:$G$3000>0,ROW(),\"\")","v":""}]
[null,null,null,null,null,null,null,null,{"$f":"IF(Магазин!$G$12:$G$3000>0,ROW(),\"\")","v":""}]
[null,null,null,null,null,null,null,null,{"$f":"IF(Магазин!$G$12:$G$3000>0,ROW(),\"\")","v":""}]
[null,null,null,null,null,null,null,null,{"$f":"IF(Магазин!$G$12:$G$3000>0,ROW(),\"\")","v":""}]
[null,null,null,null,null,null,null,null,{"$f":"IF(Магазин!$G$12:$G$3000>0,ROW(),\"\")","v":""}]
[null,null,null,null,null,null,null,null,{"$f":"IF(Магазин!$G$12:$G$3000>0,ROW(),\"\")","v":""}]
[null,null,null,null,null,null,null,null,{"$f":"IF(Магазин!$G$12:$G$3000>0,ROW(),\"\")","v":""}]
[null,null,null,null,null,null,null,null,{"$f":"IF(Магазин!$G$12:$G$3000>0,ROW(),\"\")","v":""}]
[null,null,null,null,null,null,null,null,{"$f":"IF(Магазин!$G$12:$G$3000>0,ROW(),\"\")","v":""}]
[null,null,null,null,null,null,null,null,{"$f":"IF(Магазин!$G$12:$G$3000>0,ROW(),\"\")","v":""}]
[null,null,null,null,null,null,null,null,{"$f":"IF(Магазин!$G$12:$G$3000>0,ROW(),\"\")","v":""}]
[null,null,null,null,null,null,null,null,{"$f":"IF(Магазин!$G$12:$G$3000>0,ROW(),\"\")","v":""}]
[null,null,null,null,null,null,null,null,{"$f":"IF(Магазин!$G$12:$G$3000>0,ROW(),\"\")","v":""}]
[null,null,null,null,null,null,null,null,{"$f":"IF(Магазин!$G$12:$G$3000>0,ROW(),\"\")","v":""}]
[null,null,null,null,null,null,null,null,{"$f":"IF(Магазин!$G$12:$G$3000>0,ROW(),\"\")","v":""}]
[null,null,null,null,null,null,null,null,{"$f":"IF(Магазин!$G$12:$G$3000>0,ROW(),\"\")","v":""}]
[null,null,null,null,null,null,null,null,{"$f":"IF(Магазин!$G$12:$G$3000>0,ROW(),\"\")","v":""}]
[null,null,null,null,null,null,null,null,{"$f":"IF(Магазин!$G$12:$G$3000>0,ROW(),\"\")","v":""}]
[null,null,null,null,null,null,null,null,{"$f":"IF(Магазин!$G$12:$G$3000>0,ROW(),\"\")","v":""}]
[null,null,null,null,null,null,null,null,{"$f":"IF(Магазин!$G$12:$G$3000>0,ROW(),\"\")","v":""}]
[null,null,null,null,null,null,null,null,{"$f":"IF(Магазин!$G$12:$G$3000>0,ROW(),\"\")","v":""}]
[null,null,null,null,null,null,null,null,{"$f":"IF(Магазин!$G$12:$G$3000>0,ROW(),\"\")","v":""}]
[null,null,null,null,null,null,null,null,{"$f":"IF(Магазин!$G$12:$G$3000>0,ROW(),\"\")","v":""}]
[null,null,null,null,null,null,null,null,{"$f":"IF(Магазин!$G$12:$G$3000>0,ROW(),\"\")","v":""}]
[null,null,null,null,null,null,null,null,{"$f":"IF(Магазин!$G$12:$G$3000>0,ROW(),\"\")","v":""}]
[null,null,null,null,null,null,null,null,{"$f":"IF(Магазин!$G$12:$G$3000>0,ROW(),\"\")","v":""}]
[null,null,null,null,null,null,null,null,{"$f":"IF(Магазин!$G$12:$G$3000>0,ROW(),\"\")","v":""}]
[null,null,null,null,null,null,null,null,{"$f":"IF(Магазин!$G$12:$G$3000>0,ROW(),\"\")","v":""}]
[null,null,null,null,null,null,null,null,{"$f":"IF(Магазин!$G$12:$G$3000>0,ROW(),\"\")","v":""}]
[null,null,null,null,null,null,null,null,{"$f":"IF(Магазин!$G$12:$G$3000>0,ROW(),\"\")","v":""}]
[null,null,null,null,null,null,null,null,{"$f":"IF(Магазин!$G$12:$G$3000>0,ROW(),\"\")","v":""}]
[null,null,null,null,null,null,null,null,{"$f":"IF(Магазин!$G$12:$G$3000>0,ROW(),\"\")","v":""}]
[null,null,null,null,null,null,null,null,{"$f":"IF(Магазин!$G$12:$G$3000>0,ROW(),\"\")","v":""}]
[null,null,null,null,null,null,null,null,{"$f":"IF(Магазин!$G$12:$G$3000>0,ROW(),\"\")","v":""}]
[null,null,null,null,null,null,null,null,{"$f":"IF(Магазин!$G$12:$G$3000>0,ROW(),\"\")","v":""}]
[null,null,null,null,null,null,null,null,{"$f":"IF(Магазин!$G$12:$G$3000>0,ROW(),\"\")","v":""}]
[null,null,null,null,null,null,null,null,{"$f":"IF(Магазин!$G$12:$G$3000>0,ROW(),\"\")","v":""}]
[null,null,null,null,null,null,null,null,{"$f":"IF(Магазин!$G$12:$G$3000>0,ROW(),\"\")","v":""}]
[null,null,null,null,null,null,null,null,{"$f":"IF(Магазин!$G$12:$G$3000>0,ROW(),\"\")","v":""}]
[null,null,null,null,null,null,null,null,{"$f":"IF(Магазин!$G$12:$G$3000>0,ROW(),\"\")","v":""}]
[null,null,null,null,null,null,null,null,{"$f":"IF(Магазин!$G$12:$G$3000>0,ROW(),\"\")","v":""}]
[null,null,null,null,null,null,null,null,{"$f":"IF(Магазин!$G$12:$G$3000>0,ROW(),\"\")","v":""}]
[null,null,null,null,null,null,null,null,{"$f":"IF(Магазин!$G$12:$G$3000>0,ROW(),\"\")","v":""}]
[null,null,null,null,null,null,null,null,{"$f":"IF(Магазин!$G$12:$G$3000>0,ROW(),\"\")","v":""}]
[null,null,null,null,null,null,null,null,{"$f":"IF(Магазин!$G$12:$G$3000>0,ROW(),\"\")","v":""}]
[null,null,null,null,null,null,null,null,{"$f":"IF(Магазин!$G$12:$G$3000>0,ROW(),\"\")","v":""}]
[null,null,null,null,null,null,null,null,{"$f":"IF(Магазин!$G$12:$G$3000>0,ROW(),\"\")","v":""}]
[null,null,null,null,null,null,null,null,{"$f":"IF(Магазин!$G$12:$G$3000>0,ROW(),\"\")","v":""}]
[null,null,null,null,null,null,null,null,{"$f":"IF(Магазин!$G$12:$G$3000>0,ROW(),\"\")","v":""}]
[null,null,null,null,null,null,null,null,{"$f":"IF(Магазин!$G$12:$G$3000>0,ROW(),\"\")","v":""}]
[null,null,null,null,null,null,null,null,{"$f":"IF(Магазин!$G$12:$G$3000>0,ROW(),\"\")","v":""}]
[null,null,null,null,null,null,null,null,{"$f":"IF(Магазин!$G$12:$G$3000>0,ROW(),\"\")","v":""}]
[null,null,null,null,null,null,null,null,{"$f":"IF(Магазин!$G$12:$G$3000>0,ROW(),\"\")","v":""}]
[null,null,null,null,null,null,null,null,{"$f":"IF(Магазин!$G$12:$G$3000>0,ROW(),\"\")","v":""}]
[null,null,null,null,null,null,null,null,{"$f":"IF(Магазин!$G$12:$G$3000>0,ROW(),\"\")","v":""}]
[null,null,null,null,null,null,null,null,{"$f":"IF(Магазин!$G$12:$G$3000>0,ROW(),\"\")","v":""}]
[null,null,null,null,null,null,null,null,{"$f":"IF(Магазин!$G$12:$G$3000>0,ROW(),\"\")","v":""}]
[null,null,null,null,null,null,null,null,{"$f":"IF(Магазин!$G$12:$G$3000>0,ROW(),\"\")","v":""}]
[null,null,null,null,null,null,null,null,{"$f":"IF(Магазин!$G$12:$G$3000>0,ROW(),\"\")","v":""}]
[null,null,null,null,null,null,null,null,{"$f":"IF(Магазин!$G$12:$G$3000>0,ROW(),\"\")","v":""}]
[null,null,null,null,null,null,null,null,{"$f":"IF(Магазин!$G$12:$G$3000>0,ROW(),\"\")","v":""}]
[null,null,null,null,null,null,null,null,{"$f":"IF(Магазин!$G$12:$G$3000>0,ROW(),\"\")","v":""}]
[null,null,null,null,null,null,null,null,{"$f":"IF(Магазин!$G$12:$G$3000>0,ROW(),\"\")","v":""}]
[null,null,null,null,null,null,null,null,{"$f":"IF(Магазин!$G$12:$G$3000>0,ROW(),\"\")","v":""}]
[null,null,null,null,null,null,null,null,{"$f":"IF(Магазин!$G$12:$G$3000>0,ROW(),\"\")","v":""}]
[null,null,null,null,null,null,null,null,{"$f":"IF(Магазин!$G$12:$G$3000>0,ROW(),\"\")","v":""}]
[null,null,null,null,null,null,null,null,{"$f":"IF(Магазин!$G$12:$G$3000>0,ROW(),\"\")","v":""}]
[null,null,null,null,null,null,null,null,{"$f":"IF(Магазин!$G$12:$G$3000>0,ROW(),\"\")","v":""}]
[null,null,null,null,null,null,null,null,{"$f":"IF(Магазин!$G$12:$G$3000>0,ROW(),\"\")","v":""}]
[null,null,null,null,null,null,null,null,{"$f":"IF(Магазин!$G$12:$G$3000>0,ROW(),\"\")","v":""}]
[null,null,null,null,null,null,null,null,{"$f":"IF(Магазин!$G$12:$G$3000>0,ROW(),\"\")","v":""}]
[null,null,null,null,null,null,null,null,{"$f":"IF(Магазин!$G$12:$G$3000>0,ROW(),\"\")","v":""}]
[null,null,null,null,null,null,null,null,{"$f":"IF(Магазин!$G$12:$G$3000>0,ROW(),\"\")","v":""}]
[null,null,null,null,null,null,null,null,{"$f":"IF(Магазин!$G$12:$G$3000>0,ROW(),\"\")","v":""}]
[null,null,null,null,null,null,null,null,{"$f":"IF(Магазин!$G$12:$G$3000>0,ROW(),\"\")","v":""}]
[null,null,null,null,null,null,null,null,{"$f":"IF(Магазин!$G$12:$G$3000>0,ROW(),\"\")","v":""}]
[null,null,null,null,null,null,null,null,{"$f":"IF(Магазин!$G$12:$G$3000>0,ROW(),\"\")","v":""}]
[null,null,null,null,null,null,null,null,{"$f":"IF(Магазин!$G$12:$G$3000>0,ROW(),\"\")","v":""}]
[null,null,null,null,null,null,null,null,{"$f":"IF(Магазин!$G$12:$G$3000>0,ROW(),\"\")","v":""}]
[null,null,null,null,null,null,null,null,{"$f":"IF(Магазин!$G$12:$G$3000>0,ROW(),\"\")","v":""}]
[null,null,null,null,null,null,null,null,{"$f":"IF(Магазин!$G$12:$G$3000>0,ROW(),\"\")","v":""}]
[null,null,null,null,null,null,null,null,{"$f":"IF(Магазин!$G$12:$G$3000>0,ROW(),\"\")","v":""}]
[null,null,null,null,null,null,null,null,{"$f":"IF(Магазин!$G$12:$G$3000>0,ROW(),\"\")","v":""}]
[null,null,null,null,null,null,null,null,{"$f":"IF(Магазин!$G$12:$G$3000>0,ROW(),\"\")","v":""}]
[null,null,null,null,null,null,null,null,{"$f":"IF(Магазин!$G$12:$G$3000>0,ROW(),\"\")","v":""}]
[null,null,null,null,null,null,null,null,{"$f":"IF(Магазин!$G$12:$G$3000>0,ROW(),\"\")","v":""}]
[null,null,null,null,null,null,null,null,{"$f":"IF(Магазин!$G$12:$G$3000>0,ROW(),\"\")","v":""}]
[null,null,null,null,null,null,null,null,{"$f":"IF(Магазин!$G$12:$G$3000>0,ROW(),\"\")","v":""}]
[null,null,null,null,null,null,null,null,{"$f":"IF(Магазин!$G$12:$G$3000>0,ROW(),\"\")","v":""}]
[null,null,null,null,null,null,null,null,{"$f":"IF(Магазин!$G$12:$G$3000>0,ROW(),\"\")","v":""}]
[null,null,null,null,null,null,null,null,{"$f":"IF(Магазин!$G$12:$G$3000>0,ROW(),\"\")","v":""}]
[null,null,null,null,null,null,null,null,{"$f":"IF(Магазин!$G$12:$G$3000>0,ROW(),\"\")","v":""}]
[null,null,null,null,null,null,null,null,{"$f":"IF(Магазин!$G$12:$G$3000>0,ROW(),\"\")","v":""}]
[null,null,null,null,null,null,null,null,{"$f":"IF(Магазин!$G$12:$G$3000>0,ROW(),\"\")","v":""}]
[null,null,null,null,null,null,null,null,{"$f":"IF(Магазин!$G$12:$G$3000>0,ROW(),\"\")","v":""}]
[null,null,null,null,null,null,null,null,{"$f":"IF(Магазин!$G$12:$G$3000>0,ROW(),\"\")","v":""}]
[null,null,null,null,null,null,null,null,{"$f":"IF(Магазин!$G$12:$G$3000>0,ROW(),\"\")","v":""}]
[null,null,null,null,null,null,null,null,{"$f":"IF(Магазин!$G$12:$G$3000>0,ROW(),\"\")","v":""}]
[null,null,null,null,null,null,null,null,{"$f":"IF(Магазин!$G$12:$G$3000>0,ROW(),\"\")","v":""}]
[null,null,null,null,null,null,null,null,{"$f":"IF(Магазин!$G$12:$G$3000>0,ROW(),\"\")","v":""}]
[null,null,null,null,null,null,null,null,{"$f":"IF(Магазин!$G$12:$G$3000>0,ROW(),\"\")","v":""}]
[null,null,null,null,null,null,null,null,{"$f":"IF(Магазин!$G$12:$G$3000>0,ROW(),\"\")","v":""}]
[null,null,null,null,null,null,null,null,{"$f":"IF(Магазин!$G$12:$G$3000>0,ROW(),\"\")","v":""}]
[null,null,null,null,null,null,null,null,{"$f":"IF(Магазин!$G$12:$G$3000>0,ROW(),\"\")","v":""}]
[null,null,null,null,null,null,null,null,{"$f":"IF(Магазин!$G$12:$G$3000>0,ROW(),\"\")","v":""}]
[null,null,null,null,null,null,null,null,{"$f":"IF(Магазин!$G$12:$G$3000>0,ROW(),\"\")","v":""}]
[null,null,null,null,null,null,null,null,{"$f":"IF(Магазин!$G$12:$G$3000>0,ROW(),\"\")","v":""}]
[null,null,null,null,null,null,null,null,{"$f":"IF(Магазин!$G$12:$G$3000>0,ROW(),\"\")","v":""}]
[null,null,null,null,null,null,null,null,{"$f":"IF(Магазин!$G$12:$G$3000>0,ROW(),\"\")","v":""}]
[null,null,null,null,null,null,null,null,{"$f":"IF(Магазин!$G$12:$G$3000>0,ROW(),\"\")","v":""}]
[null,null,null,null,null,null,null,null,{"$f":"IF(Магазин!$G$12:$G$3000>0,ROW(),\"\")","v":""}]
[null,null,null,null,null,null,null,null,{"$f":"IF(Магазин!$G$12:$G$3000>0,ROW(),\"\")","v":""}]
[null,null,null,null,null,null,null,null,{"$f":"IF(Магазин!$G$12:$G$3000>0,ROW(),\"\")","v":""}]
[null,null,null,null,null,null,null,null,{"$f":"IF(Магазин!$G$12:$G$3000>0,ROW(),\"\")","v":""}]
[null,null,null,null,null,null,null,null,{"$f":"IF(Магазин!$G$12:$G$3000>0,ROW(),\"\")","v":""}]
[null,null,null,null,null,null,null,null,{"$f":"IF(Магазин!$G$12:$G$3000>0,ROW(),\"\")","v":""}]
[null,null,null,null,null,null,null,null,{"$f":"IF(Магазин!$G$12:$G$3000>0,ROW(),\"\")","v":""}]
[null,null,null,null,null,null,null,null,{"$f":"IF(Магазин!$G$12:$G$3000>0,ROW(),\"\")","v":""}]
[null,null,null,null,null,null,null,null,{"$f":"IF(Магазин!$G$12:$G$3000>0,ROW(),\"\")","v":""}]
[null,null,null,null,null,null,null,null,{"$f":"IF(Магазин!$G$12:$G$3000>0,ROW(),\"\")","v":""}]
[null,null,null,null,null,null,null,null,{"$f":"IF(Магазин!$G$12:$G$3000>0,ROW(),\"\")","v":""}]
[null,null,null,null,null,null,null,null,{"$f":"IF(Магазин!$G$12:$G$3000>0,ROW(),\"\")","v":""}]
[null,null,null,null,null,null,null,null,{"$f":"IF(Магазин!$G$12:$G$3000>0,ROW(),\"\")","v":""}]
[null,null,null,null,null,null,null,null,{"$f":"IF(Магазин!$G$12:$G$3000>0,ROW(),\"\")","v":""}]
[null,null,null,null,null,null,null,null,{"$f":"IF(Магазин!$G$12:$G$3000>0,ROW(),\"\")","v":""}]
[null,null,null,null,null,null,null,null,{"$f":"IF(Магазин!$G$12:$G$3000>0,ROW(),\"\")","v":""}]
[null,null,null,null,null,null,null,null,{"$f":"IF(Магазин!$G$12:$G$3000>0,ROW(),\"\")","v":""}]
[null,null,null,null,null,null,null,null,{"$f":"IF(Магазин!$G$12:$G$3000>0,ROW(),\"\")","v":""}]
[null,null,null,null,null,null,null,null,{"$f":"IF(Магазин!$G$12:$G$3000>0,ROW(),\"\")","v":""}]
[null,null,null,null,null,null,null,null,{"$f":"IF(Магазин!$G$12:$G$3000>0,ROW(),\"\")","v":""}]
[null,null,null,null,null,null,null,null,{"$f":"IF(Магазин!$G$12:$G$3000>0,ROW(),\"\")","v":""}]
[null,null,null,null,null,null,null,null,{"$f":"IF(Магазин!$G$12:$G$3000>0,ROW(),\"\")","v":""}]
[null,null,null,null,null,null,null,null,{"$f":"IF(Магазин!$G$12:$G$3000>0,ROW(),\"\")","v":""}]
[null,null,null,null,null,null,null,null,{"$f":"IF(Магазин!$G$12:$G$3000>0,ROW(),\"\")","v":""}]
[null,null,null,null,null,null,null,null,{"$f":"IF(Магазин!$G$12:$G$3000>0,ROW(),\"\")","v":""}]
[null,null,null,null,null,null,null,null,{"$f":"IF(Магазин!$G$12:$G$3000>0,ROW(),\"\")","v":""}]
[null,null,null,null,null,null,null,null,{"$f":"IF(Магазин!$G$12:$G$3000>0,ROW(),\"\")","v":""}]
[null,null,null,null,null,null,null,null,{"$f":"IF(Магазин!$G$12:$G$3000>0,ROW(),\"\")","v":""}]
[null,null,null,null,null,null,null,null,{"$f":"IF(Магазин!$G$12:$G$3000>0,ROW(),\"\")","v":""}]
[null,null,null,null,null,null,null,null,{"$f":"IF(Магазин!$G$12:$G$3000>0,ROW(),\"\")","v":""}]
[null,null,null,null,null,null,null,null,{"$f":"IF(Магазин!$G$12:$G$3000>0,ROW(),\"\")","v":""}]
[null,null,null,null,null,null,null,null,{"$f":"IF(Магазин!$G$12:$G$3000>0,ROW(),\"\")","v":""}]
[null,null,null,null,null,null,null,null,{"$f":"IF(Магазин!$G$12:$G$3000>0,ROW(),\"\")","v":""}]

{"sheet":"Кошик","index":5,"n_rows":122,"n_cols":6,"rows_kept":122,"cut":false,"hidden":false,"merged":[[18,1,18,5],[7,0,7,1],[9,0,9,1],[14,3,14,4],[11,0,11,1],[9,2,9,4],[15,2,15,3],[11,4,11,5]]}
["Постачальник :"]
["ВКП у формі ТОВ \"ОБРІЙ\""]
["м.Київ, вул.Деревообробна, 5-А,   "]
["сайт:   metiz.obriy.biz               тел.  (044) 545-74-72,  545-74-73"]
["тел.моб.:   (098) 799-80-88,   (093) 132-04-34,   (099) 207-33-56"]
[]
[null,null,null,null,"дата ","час"]
["Дані покупця",null,"Замовлення №   ",null,{"$f":"NOW()","v":"2024-05-01T11:08:33.660"},{"$f":"HOUR(NOW())&\":\"&MINUTE(NOW())","v":"11:8"}]
[]
["Назва :",null,null,null,null,"( крім символів  / \\ : * ? < > | )"]
[]
["телефон :",null,null,"конт.особа"]
[]
["якщо потрібно, вкажіть дані для відправки \"Новою Поштою\", \"САТ\", \"Делівері\" :"]
[]
["населений пункт:",null,null,null,"відділення №"]
[]
["додаткова інформація :"]
[]
[]
[null,"№ п.п","Товар","Кількість ","Одиниці виміру","примітка"]
[{"$f":"IF(Вибірка!K12=\"\",\"\",\"ліміт\")","v":""},{"$f":"IF(Вибірка!L12=\"\",\"\",1)","v":""},{"$f":"\" \"&TRIM(Вибірка!M12)","v":" "},{"$f":"Вибірка!N12","v":""},{"$f":"Вибірка!O12","v":""}]
[{"$f":"IF(Вибірка!K13=\"\",\"\",\"ліміт\")","v":""},{"$f":"IF(Вибірка!L13=\"\",\"\",B22+1)","v":""},{"$f":"\" \"&TRIM(IF(AND(Вибірка!L12<>\"\",Вибірка!L13=\"\"),\"кінець замовлення\", Вибірка!M13))","v":" "},{"$f":"Вибірка!N13","v":""},{"$f":"Вибірка!O13","v":""}]
[{"$f":"IF(Вибірка!K14=\"\",\"\",\"ліміт\")","v":""},{"$f":"IF(Вибірка!L14=\"\",\"\",B23+1)","v":""},{"$f":"\" \"&TRIM(IF(AND(Вибірка!L13<>\"\",Вибірка!L14=\"\"),\"кінець замовлення\", Вибірка!M14))","v":" "},{"$f":"Вибірка!N14","v":""},{"$f":"Вибірка!O14","v":""}]
[{"$f":"IF(Вибірка!K15=\"\",\"\",\"ліміт\")","v":""},{"$f":"IF(Вибірка!L15=\"\",\"\",B24+1)","v":""},{"$f":"\" \"&TRIM(IF(AND(Вибірка!L14<>\"\",Вибірка!L15=\"\"),\"кінець замовлення\", Вибірка!M15))","v":" "},{"$f":"Вибірка!N15","v":""},{"$f":"Вибірка!O15","v":""}]
[{"$f":"IF(Вибірка!K16=\"\",\"\",\"ліміт\")","v":""},{"$f":"IF(Вибірка!L16=\"\",\"\",B25+1)","v":""},{"$f":"\" \"&TRIM(IF(AND(Вибірка!L15<>\"\",Вибірка!L16=\"\"),\"кінець замовлення\", Вибірка!M16))","v":" "},{"$f":"Вибірка!N16","v":""},{"$f":"Вибірка!O16","v":""}]
[{"$f":"IF(Вибірка!K17=\"\",\"\",\"ліміт\")","v":""},{"$f":"IF(Вибірка!L17=\"\",\"\",B26+1)","v":""},{"$f":"\" \"&TRIM(IF(AND(Вибірка!L16<>\"\",Вибірка!L17=\"\"),\"кінець замовлення\", Вибірка!M17))","v":" "},{"$f":"Вибірка!N17","v":""},{"$f":"Вибірка!O17","v":""}]
[{"$f":"IF(Вибірка!K18=\"\",\"\",\"ліміт\")","v":""},{"$f":"IF(Вибірка!L18=\"\",\"\",B27+1)","v":""},{"$f":"\" \"&TRIM(IF(AND(Вибірка!L17<>\"\",Вибірка!L18=\"\"),\"кінець замовлення\", Вибірка!M18))","v":" "},{"$f":"Вибірка!N18","v":""},{"$f":"Вибірка!O18","v":""}]
[{"$f":"IF(Вибірка!K19=\"\",\"\",\"ліміт\")","v":""},{"$f":"IF(Вибірка!L19=\"\",\"\",B28+1)","v":""},{"$f":"\" \"&TRIM(IF(AND(Вибірка!L18<>\"\",Вибірка!L19=\"\"),\"кінець замовлення\", Вибірка!M19))","v":" "},{"$f":"Вибірка!N19","v":""},{"$f":"Вибірка!O19","v":""}]
[{"$f":"IF(Вибірка!K20=\"\",\"\",\"ліміт\")","v":""},{"$f":"IF(Вибірка!L20=\"\",\"\",B29+1)","v":""},{"$f":"\" \"&TRIM(IF(AND(Вибірка!L19<>\"\",Вибірка!L20=\"\"),\"кінець замовлення\", Вибірка!M20))","v":" "},{"$f":"Вибірка!N20","v":""},{"$f":"Вибірка!O20","v":""}]
[{"$f":"IF(Вибірка!K21=\"\",\"\",\"ліміт\")","v":""},{"$f":"IF(Вибірка!L21=\"\",\"\",B30+1)","v":""},{"$f":"\" \"&TRIM(IF(AND(Вибірка!L20<>\"\",Вибірка!L21=\"\"),\"кінець замовлення\", Вибірка!M21))","v":" "},{"$f":"Вибірка!N21","v":""},{"$f":"Вибірка!O21","v":""}]
[{"$f":"IF(Вибірка!K22=\"\",\"\",\"ліміт\")","v":""},{"$f":"IF(Вибірка!L22=\"\",\"\",B31+1)","v":""},{"$f":"\" \"&TRIM(IF(AND(Вибірка!L21<>\"\",Вибірка!L22=\"\"),\"кінець замовлення\", Вибірка!M22))","v":" "},{"$f":"Вибірка!N22","v":""},{"$f":"Вибірка!O22","v":""}]
[{"$f":"IF(Вибірка!K23=\"\",\"\",\"ліміт\")","v":""},{"$f":"IF(Вибірка!L23=\"\",\"\",B32+1)","v":""},{"$f":"\" \"&TRIM(IF(AND(Вибірка!L22<>\"\",Вибірка!L23=\"\"),\"кінець замовлення\", Вибірка!M23))","v":" "},{"$f":"Вибірка!N23","v":""},{"$f":"Вибірка!O23","v":""}]
[{"$f":"IF(Вибірка!K24=\"\",\"\",\"ліміт\")","v":""},{"$f":"IF(Вибірка!L24=\"\",\"\",B33+1)","v":""},{"$f":"\" \"&TRIM(IF(AND(Вибірка!L23<>\"\",Вибірка!L24=\"\"),\"кінець замовлення\", Вибірка!M24))","v":" "},{"$f":"Вибірка!N24","v":""},{"$f":"Вибірка!O24","v":""}]
[{"$f":"IF(Вибірка!K25=\"\",\"\",\"ліміт\")","v":""},{"$f":"IF(Вибірка!L25=\"\",\"\",B34+1)","v":""},{"$f":"\" \"&TRIM(IF(AND(Вибірка!L24<>\"\",Вибірка!L25=\"\"),\"кінець замовлення\", Вибірка!M25))","v":" "},{"$f":"Вибірка!N25","v":""},{"$f":"Вибірка!O25","v":""}]
[{"$f":"IF(Вибірка!K26=\"\",\"\",\"ліміт\")","v":""},{"$f":"IF(Вибірка!L26=\"\",\"\",B35+1)","v":""},{"$f":"\" \"&TRIM(IF(AND(Вибірка!L25<>\"\",Вибірка!L26=\"\"),\"кінець замовлення\", Вибірка!M26))","v":" "},{"$f":"Вибірка!N26","v":""},{"$f":"Вибірка!O26","v":""}]
[{"$f":"IF(Вибірка!K27=\"\",\"\",\"ліміт\")","v":""},{"$f":"IF(Вибірка!L27=\"\",\"\",B36+1)","v":""},{"$f":"\" \"&TRIM(IF(AND(Вибірка!L26<>\"\",Вибірка!L27=\"\"),\"кінець замовлення\", Вибірка!M27))","v":" "},{"$f":"Вибірка!N27","v":""},{"$f":"Вибірка!O27","v":""}]
[{"$f":"IF(Вибірка!K28=\"\",\"\",\"ліміт\")","v":""},{"$f":"IF(Вибірка!L28=\"\",\"\",B37+1)","v":""},{"$f":"\" \"&TRIM(IF(AND(Вибірка!L27<>\"\",Вибірка!L28=\"\"),\"кінець замовлення\", Вибірка!M28))","v":" "},{"$f":"Вибірка!N28","v":""},{"$f":"Вибірка!O28","v":""}]
[{"$f":"IF(Вибірка!K29=\"\",\"\",\"ліміт\")","v":""},{"$f":"IF(Вибірка!L29=\"\",\"\",B38+1)","v":""},{"$f":"\" \"&TRIM(IF(AND(Вибірка!L28<>\"\",Вибірка!L29=\"\"),\"кінець замовлення\", Вибірка!M29))","v":" "},{"$f":"Вибірка!N29","v":""},{"$f":"Вибірка!O29","v":""}]
[{"$f":"IF(Вибірка!K30=\"\",\"\",\"ліміт\")","v":""},{"$f":"IF(Вибірка!L30=\"\",\"\",B39+1)","v":""},{"$f":"\" \"&TRIM(IF(AND(Вибірка!L29<>\"\",Вибірка!L30=\"\"),\"кінець замовлення\", Вибірка!M30))","v":" "},{"$f":"Вибірка!N30","v":""},{"$f":"Вибірка!O30","v":""}]
[{"$f":"IF(Вибірка!K31=\"\",\"\",\"ліміт\")","v":""},{"$f":"IF(Вибірка!L31=\"\",\"\",B40+1)","v":""},{"$f":"\" \"&TRIM(IF(AND(Вибірка!L30<>\"\",Вибірка!L31=\"\"),\"кінець замовлення\", Вибірка!M31))","v":" "},{"$f":"Вибірка!N31","v":""},{"$f":"Вибірка!O31","v":""}]
[{"$f":"IF(Вибірка!K32=\"\",\"\",\"ліміт\")","v":""},{"$f":"IF(Вибірка!L32=\"\",\"\",B41+1)","v":""},{"$f":"\" \"&TRIM(IF(AND(Вибірка!L31<>\"\",Вибірка!L32=\"\"),\"кінець замовлення\", Вибірка!M32))","v":" "},{"$f":"Вибірка!N32","v":""},{"$f":"Вибірка!O32","v":""}]
[{"$f":"IF(Вибірка!K33=\"\",\"\",\"ліміт\")","v":""},{"$f":"IF(Вибірка!L33=\"\",\"\",B42+1)","v":""},{"$f":"\" \"&TRIM(IF(AND(Вибірка!L32<>\"\",Вибірка!L33=\"\"),\"кінець замовлення\", Вибірка!M33))","v":" "},{"$f":"Вибірка!N33","v":""},{"$f":"Вибірка!O33","v":""}]
[{"$f":"IF(Вибірка!K34=\"\",\"\",\"ліміт\")","v":""},{"$f":"IF(Вибірка!L34=\"\",\"\",B43+1)","v":""},{"$f":"\" \"&TRIM(IF(AND(Вибірка!L33<>\"\",Вибірка!L34=\"\"),\"кінець замовлення\", Вибірка!M34))","v":" "},{"$f":"Вибірка!N34","v":""},{"$f":"Вибірка!O34","v":""}]
[{"$f":"IF(Вибірка!K35=\"\",\"\",\"ліміт\")","v":""},{"$f":"IF(Вибірка!L35=\"\",\"\",B44+1)","v":""},{"$f":"\" \"&TRIM(IF(AND(Вибірка!L34<>\"\",Вибірка!L35=\"\"),\"кінець замовлення\", Вибірка!M35))","v":" "},{"$f":"Вибірка!N35","v":""},{"$f":"Вибірка!O35","v":""}]
[{"$f":"IF(Вибірка!K36=\"\",\"\",\"ліміт\")","v":""},{"$f":"IF(Вибірка!L36=\"\",\"\",B45+1)","v":""},{"$f":"\" \"&TRIM(IF(AND(Вибірка!L35<>\"\",Вибірка!L36=\"\"),\"кінець замовлення\", Вибірка!M36))","v":" "},{"$f":"Вибірка!N36","v":""},{"$f":"Вибірка!O36","v":""}]
[{"$f":"IF(Вибірка!K37=\"\",\"\",\"ліміт\")","v":""},{"$f":"IF(Вибірка!L37=\"\",\"\",B46+1)","v":""},{"$f":"\" \"&TRIM(IF(AND(Вибірка!L36<>\"\",Вибірка!L37=\"\"),\"кінець замовлення\", Вибірка!M37))","v":" "},{"$f":"Вибірка!N37","v":""},{"$f":"Вибірка!O37","v":""}]
[{"$f":"IF(Вибірка!K38=\"\",\"\",\"ліміт\")","v":""},{"$f":"IF(Вибірка!L38=\"\",\"\",B47+1)","v":""},{"$f":"\" \"&TRIM(IF(AND(Вибірка!L37<>\"\",Вибірка!L38=\"\"),\"кінець замовлення\", Вибірка!M38))","v":" "},{"$f":"Вибірка!N38","v":""},{"$f":"Вибірка!O38","v":""}]
[{"$f":"IF(Вибірка!K39=\"\",\"\",\"ліміт\")","v":""},{"$f":"IF(Вибірка!L39=\"\",\"\",B48+1)","v":""},{"$f":"\" \"&TRIM(IF(AND(Вибірка!L38<>\"\",Вибірка!L39=\"\"),\"кінець замовлення\", Вибірка!M39))","v":" "},{"$f":"Вибірка!N39","v":""},{"$f":"Вибірка!O39","v":""}]
[{"$f":"IF(Вибірка!K40=\"\",\"\",\"ліміт\")","v":""},{"$f":"IF(Вибірка!L40=\"\",\"\",B49+1)","v":""},{"$f":"\" \"&TRIM(IF(AND(Вибірка!L39<>\"\",Вибірка!L40=\"\"),\"кінець замовлення\", Вибірка!M40))","v":" "},{"$f":"Вибірка!N40","v":""},{"$f":"Вибірка!O40","v":""}]
[{"$f":"IF(Вибірка!K41=\"\",\"\",\"ліміт\")","v":""},{"$f":"IF(Вибірка!L41=\"\",\"\",B50+1)","v":""},{"$f":"\" \"&TRIM(IF(AND(Вибірка!L40<>\"\",Вибірка!L41=\"\"),\"кінець замовлення\", Вибірка!M41))","v":" "},{"$f":"Вибірка!N41","v":""},{"$f":"Вибірка!O41","v":""}]
[{"$f":"IF(Вибірка!K42=\"\",\"\",\"ліміт\")","v":""},{"$f":"IF(Вибірка!L42=\"\",\"\",B51+1)","v":""},{"$f":"\" \"&TRIM(IF(AND(Вибірка!L41<>\"\",Вибірка!L42=\"\"),\"кінець замовлення\", Вибірка!M42))","v":" "},{"$f":"Вибірка!N42","v":""},{"$f":"Вибірка!O42","v":""}]
[{"$f":"IF(Вибірка!K43=\"\",\"\",\"ліміт\")","v":""},{"$f":"IF(Вибірка!L43=\"\",\"\",B52+1)","v":""},{"$f":"\" \"&TRIM(IF(AND(Вибірка!L42<>\"\",Вибірка!L43=\"\"),\"кінець замовлення\", Вибірка!M43))","v":" "},{"$f":"Вибірка!N43","v":""},{"$f":"Вибірка!O43","v":""}]
[{"$f":"IF(Вибірка!K44=\"\",\"\",\"ліміт\")","v":""},{"$f":"IF(Вибірка!L44=\"\",\"\",B53+1)","v":""},{"$f":"\" \"&TRIM(IF(AND(Вибірка!L43<>\"\",Вибірка!L44=\"\"),\"кінець замовлення\", Вибірка!M44))","v":" "},{"$f":"Вибірка!N44","v":""},{"$f":"Вибірка!O44","v":""}]
[{"$f":"IF(Вибірка!K45=\"\",\"\",\"ліміт\")","v":""},{"$f":"IF(Вибірка!L45=\"\",\"\",B54+1)","v":""},{"$f":"\" \"&TRIM(IF(AND(Вибірка!L44<>\"\",Вибірка!L45=\"\"),\"кінець замовлення\", Вибірка!M45))","v":" "},{"$f":"Вибірка!N45","v":""},{"$f":"Вибірка!O45","v":""}]
[{"$f":"IF(Вибірка!K46=\"\",\"\",\"ліміт\")","v":""},{"$f":"IF(Вибірка!L46=\"\",\"\",B55+1)","v":""},{"$f":"\" \"&TRIM(IF(AND(Вибірка!L45<>\"\",Вибірка!L46=\"\"),\"кінець замовлення\", Вибірка!M46))","v":" "},{"$f":"Вибірка!N46","v":""},{"$f":"Вибірка!O46","v":""}]
[{"$f":"IF(Вибірка!K47=\"\",\"\",\"ліміт\")","v":""},{"$f":"IF(Вибірка!L47=\"\",\"\",B56+1)","v":""},{"$f":"\" \"&TRIM(IF(AND(Вибірка!L46<>\"\",Вибірка!L47=\"\"),\"кінець замовлення\", Вибірка!M47))","v":" "},{"$f":"Вибірка!N47","v":""},{"$f":"Вибірка!O47","v":""}]
[{"$f":"IF(Вибірка!K48=\"\",\"\",\"ліміт\")","v":""},{"$f":"IF(Вибірка!L48=\"\",\"\",B57+1)","v":""},{"$f":"\" \"&TRIM(IF(AND(Вибірка!L47<>\"\",Вибірка!L48=\"\"),\"кінець замовлення\", Вибірка!M48))","v":" "},{"$f":"Вибірка!N48","v":""},{"$f":"Вибірка!O48","v":""}]
[{"$f":"IF(Вибірка!K49=\"\",\"\",\"ліміт\")","v":""},{"$f":"IF(Вибірка!L49=\"\",\"\",B58+1)","v":""},{"$f":"\" \"&TRIM(IF(AND(Вибірка!L48<>\"\",Вибірка!L49=\"\"),\"кінець замовлення\", Вибірка!M49))","v":" "},{"$f":"Вибірка!N49","v":""},{"$f":"Вибірка!O49","v":""}]
[{"$f":"IF(Вибірка!K50=\"\",\"\",\"ліміт\")","v":""},{"$f":"IF(Вибірка!L50=\"\",\"\",B59+1)","v":""},{"$f":"\" \"&TRIM(IF(AND(Вибірка!L49<>\"\",Вибірка!L50=\"\"),\"кінець замовлення\", Вибірка!M50))","v":" "},{"$f":"Вибірка!N50","v":""},{"$f":"Вибірка!O50","v":""}]
[{"$f":"IF(Вибірка!K51=\"\",\"\",\"ліміт\")","v":""},{"$f":"IF(Вибірка!L51=\"\",\"\",B60+1)","v":""},{"$f":"\" \"&TRIM(IF(AND(Вибірка!L50<>\"\",Вибірка!L51=\"\"),\"кінець замовлення\", Вибірка!M51))","v":" "},{"$f":"Вибірка!N51","v":""},{"$f":"Вибірка!O51","v":""}]
[{"$f":"IF(Вибірка!K52=\"\",\"\",\"ліміт\")","v":""},{"$f":"IF(Вибірка!L52=\"\",\"\",B61+1)","v":""},{"$f":"\" \"&TRIM(IF(AND(Вибірка!L51<>\"\",Вибірка!L52=\"\"),\"кінець замовлення\", Вибірка!M52))","v":" "},{"$f":"Вибірка!N52","v":""},{"$f":"Вибірка!O52","v":""}]
[{"$f":"IF(Вибірка!K53=\"\",\"\",\"ліміт\")","v":""},{"$f":"IF(Вибірка!L53=\"\",\"\",B62+1)","v":""},{"$f":"\" \"&TRIM(IF(AND(Вибірка!L52<>\"\",Вибірка!L53=\"\"),\"кінець замовлення\", Вибірка!M53))","v":" "},{"$f":"Вибірка!N53","v":""},{"$f":"Вибірка!O53","v":""}]
[{"$f":"IF(Вибірка!K54=\"\",\"\",\"ліміт\")","v":""},{"$f":"IF(Вибірка!L54=\"\",\"\",B63+1)","v":""},{"$f":"\" \"&TRIM(IF(AND(Вибірка!L53<>\"\",Вибірка!L54=\"\"),\"кінець замовлення\", Вибірка!M54))","v":" "},{"$f":"Вибірка!N54","v":""},{"$f":"Вибірка!O54","v":""}]
[{"$f":"IF(Вибірка!K55=\"\",\"\",\"ліміт\")","v":""},{"$f":"IF(Вибірка!L55=\"\",\"\",B64+1)","v":""},{"$f":"\" \"&TRIM(IF(AND(Вибірка!L54<>\"\",Вибірка!L55=\"\"),\"кінець замовлення\", Вибірка!M55))","v":" "},{"$f":"Вибірка!N55","v":""},{"$f":"Вибірка!O55","v":""}]
[{"$f":"IF(Вибірка!K56=\"\",\"\",\"ліміт\")","v":""},{"$f":"IF(Вибірка!L56=\"\",\"\",B65+1)","v":""},{"$f":"\" \"&TRIM(IF(AND(Вибірка!L55<>\"\",Вибірка!L56=\"\"),\"кінець замовлення\", Вибірка!M56))","v":" "},{"$f":"Вибірка!N56","v":""},{"$f":"Вибірка!O56","v":""}]
[{"$f":"IF(Вибірка!K57=\"\",\"\",\"ліміт\")","v":""},{"$f":"IF(Вибірка!L57=\"\",\"\",B66+1)","v":""},{"$f":"\" \"&TRIM(IF(AND(Вибірка!L56<>\"\",Вибірка!L57=\"\"),\"кінець замовлення\", Вибірка!M57))","v":" "},{"$f":"Вибірка!N57","v":""},{"$f":"Вибірка!O57","v":""}]
[{"$f":"IF(Вибірка!K58=\"\",\"\",\"ліміт\")","v":""},{"$f":"IF(Вибірка!L58=\"\",\"\",B67+1)","v":""},{"$f":"\" \"&TRIM(IF(AND(Вибірка!L57<>\"\",Вибірка!L58=\"\"),\"кінець замовлення\", Вибірка!M58))","v":" "},{"$f":"Вибірка!N58","v":""},{"$f":"Вибірка!O58","v":""}]
[{"$f":"IF(Вибірка!K59=\"\",\"\",\"ліміт\")","v":""},{"$f":"IF(Вибірка!L59=\"\",\"\",B68+1)","v":""},{"$f":"\" \"&TRIM(IF(AND(Вибірка!L58<>\"\",Вибірка!L59=\"\"),\"кінець замовлення\", Вибірка!M59))","v":" "},{"$f":"Вибірка!N59","v":""},{"$f":"Вибірка!O59","v":""}]
[{"$f":"IF(Вибірка!K60=\"\",\"\",\"ліміт\")","v":""},{"$f":"IF(Вибірка!L60=\"\",\"\",B69+1)","v":""},{"$f":"\" \"&TRIM(IF(AND(Вибірка!L59<>\"\",Вибірка!L60=\"\"),\"кінець замовлення\", Вибірка!M60))","v":" "},{"$f":"Вибірка!N60","v":""},{"$f":"Вибірка!O60","v":""}]
[{"$f":"IF(Вибірка!K61=\"\",\"\",\"ліміт\")","v":""},{"$f":"IF(Вибірка!L61=\"\",\"\",B70+1)","v":""},{"$f":"\" \"&TRIM(IF(AND(Вибірка!L60<>\"\",Вибірка!L61=\"\"),\"кінець замовлення\", Вибірка!M61))","v":" "},{"$f":"Вибірка!N61","v":""},{"$f":"Вибірка!O61","v":""}]
[{"$f":"IF(Вибірка!K62=\"\",\"\",\"ліміт\")","v":""},{"$f":"IF(Вибірка!L62=\"\",\"\",B71+1)","v":""},{"$f":"\" \"&TRIM(IF(AND(Вибірка!L61<>\"\",Вибірка!L62=\"\"),\"кінець замовлення\", Вибірка!M62))","v":" "},{"$f":"Вибірка!N62","v":""},{"$f":"Вибірка!O62","v":""}]
[{"$f":"IF(Вибірка!K63=\"\",\"\",\"ліміт\")","v":""},{"$f":"IF(Вибірка!L63=\"\",\"\",B72+1)","v":""},{"$f":"\" \"&TRIM(IF(AND(Вибірка!L62<>\"\",Вибірка!L63=\"\"),\"кінець замовлення\", Вибірка!M63))","v":" "},{"$f":"Вибірка!N63","v":""},{"$f":"Вибірка!O63","v":""}]
[{"$f":"IF(Вибірка!K64=\"\",\"\",\"ліміт\")","v":""},{"$f":"IF(Вибірка!L64=\"\",\"\",B73+1)","v":""},{"$f":"\" \"&TRIM(IF(AND(Вибірка!L63<>\"\",Вибірка!L64=\"\"),\"кінець замовлення\", Вибірка!M64))","v":" "},{"$f":"Вибірка!N64","v":""},{"$f":"Вибірка!O64","v":""}]
[{"$f":"IF(Вибірка!K65=\"\",\"\",\"ліміт\")","v":""},{"$f":"IF(Вибірка!L65=\"\",\"\",B74+1)","v":""},{"$f":"\" \"&TRIM(IF(AND(Вибірка!L64<>\"\",Вибірка!L65=\"\"),\"кінець замовлення\", Вибірка!M65))","v":" "},{"$f":"Вибірка!N65","v":""},{"$f":"Вибірка!O65","v":""}]
[{"$f":"IF(Вибірка!K66=\"\",\"\",\"ліміт\")","v":""},{"$f":"IF(Вибірка!L66=\"\",\"\",B75+1)","v":""},{"$f":"\" \"&TRIM(IF(AND(Вибірка!L65<>\"\",Вибірка!L66=\"\"),\"кінець замовлення\", Вибірка!M66))","v":" "},{"$f":"Вибірка!N66","v":""},{"$f":"Вибірка!O66","v":""}]
[{"$f":"IF(Вибірка!K67=\"\",\"\",\"ліміт\")","v":""},{"$f":"IF(Вибірка!L67=\"\",\"\",B76+1)","v":""},{"$f":"\" \"&TRIM(IF(AND(Вибірка!L66<>\"\",Вибірка!L67=\"\"),\"кінець замовлення\", Вибірка!M67))","v":" "},{"$f":"Вибірка!N67","v":""},{"$f":"Вибірка!O67","v":""}]
[{"$f":"IF(Вибірка!K68=\"\",\"\",\"ліміт\")","v":""},{"$f":"IF(Вибірка!L68=\"\",\"\",B77+1)","v":""},{"$f":"\" \"&TRIM(IF(AND(Вибірка!L67<>\"\",Вибірка!L68=\"\"),\"кінець замовлення\", Вибірка!M68))","v":" "},{"$f":"Вибірка!N68","v":""},{"$f":"Вибірка!O68","v":""}]
[{"$f":"IF(Вибірка!K69=\"\",\"\",\"ліміт\")","v":""},{"$f":"IF(Вибірка!L69=\"\",\"\",B78+1)","v":""},{"$f":"\" \"&TRIM(IF(AND(Вибірка!L68<>\"\",Вибірка!L69=\"\"),\"кінець замовлення\", Вибірка!M69))","v":" "},{"$f":"Вибірка!N69","v":""},{"$f":"Вибірка!O69","v":""}]
[{"$f":"IF(Вибірка!K70=\"\",\"\",\"ліміт\")","v":""},{"$f":"IF(Вибірка!L70=\"\",\"\",B79+1)","v":""},{"$f":"\" \"&TRIM(IF(AND(Вибірка!L69<>\"\",Вибірка!L70=\"\"),\"кінець замовлення\", Вибірка!M70))","v":" "},{"$f":"Вибірка!N70","v":""},{"$f":"Вибірка!O70","v":""}]
[{"$f":"IF(Вибірка!K71=\"\",\"\",\"ліміт\")","v":""},{"$f":"IF(Вибірка!L71=\"\",\"\",B80+1)","v":""},{"$f":"\" \"&TRIM(IF(AND(Вибірка!L70<>\"\",Вибірка!L71=\"\"),\"кінець замовлення\", Вибірка!M71))","v":" "},{"$f":"Вибірка!N71","v":""},{"$f":"Вибірка!O71","v":""}]
[{"$f":"IF(Вибірка!K72=\"\",\"\",\"ліміт\")","v":""},{"$f":"IF(Вибірка!L72=\"\",\"\",B81+1)","v":""},{"$f":"\" \"&TRIM(IF(AND(Вибірка!L71<>\"\",Вибірка!L72=\"\"),\"кінець замовлення\", Вибірка!M72))","v":" "},{"$f":"Вибірка!N72","v":""},{"$f":"Вибірка!O72","v":""}]
[{"$f":"IF(Вибірка!K73=\"\",\"\",\"ліміт\")","v":""},{"$f":"IF(Вибірка!L73=\"\",\"\",B82+1)","v":""},{"$f":"\" \"&TRIM(IF(AND(Вибірка!L72<>\"\",Вибірка!L73=\"\"),\"кінець замовлення\", Вибірка!M73))","v":" "},{"$f":"Вибірка!N73","v":""},{"$f":"Вибірка!O73","v":""}]
[{"$f":"IF(Вибірка!K74=\"\",\"\",\"ліміт\")","v":""},{"$f":"IF(Вибірка!L74=\"\",\"\",B83+1)","v":""},{"$f":"\" \"&TRIM(IF(AND(Вибірка!L73<>\"\",Вибірка!L74=\"\"),\"кінець замовлення\", Вибірка!M74))","v":" "},{"$f":"Вибірка!N74","v":""},{"$f":"Вибірка!O74","v":""}]
[{"$f":"IF(Вибірка!K75=\"\",\"\",\"ліміт\")","v":""},{"$f":"IF(Вибірка!L75=\"\",\"\",B84+1)","v":""},{"$f":"\" \"&TRIM(IF(AND(Вибірка!L74<>\"\",Вибірка!L75=\"\"),\"кінець замовлення\", Вибірка!M75))","v":" "},{"$f":"Вибірка!N75","v":""},{"$f":"Вибірка!O75","v":""}]
[{"$f":"IF(Вибірка!K76=\"\",\"\",\"ліміт\")","v":""},{"$f":"IF(Вибірка!L76=\"\",\"\",B85+1)","v":""},{"$f":"\" \"&TRIM(IF(AND(Вибірка!L75<>\"\",Вибірка!L76=\"\"),\"кінець замовлення\", Вибірка!M76))","v":" "},{"$f":"Вибірка!N76","v":""},{"$f":"Вибірка!O76","v":""}]
[{"$f":"IF(Вибірка!K77=\"\",\"\",\"ліміт\")","v":""},{"$f":"IF(Вибірка!L77=\"\",\"\",B86+1)","v":""},{"$f":"\" \"&TRIM(IF(AND(Вибірка!L76<>\"\",Вибірка!L77=\"\"),\"кінець замовлення\", Вибірка!M77))","v":" "},{"$f":"Вибірка!N77","v":""},{"$f":"Вибірка!O77","v":""}]
[{"$f":"IF(Вибірка!K78=\"\",\"\",\"ліміт\")","v":""},{"$f":"IF(Вибірка!L78=\"\",\"\",B87+1)","v":""},{"$f":"\" \"&TRIM(IF(AND(Вибірка!L77<>\"\",Вибірка!L78=\"\"),\"кінець замовлення\", Вибірка!M78))","v":" "},{"$f":"Вибірка!N78","v":""},{"$f":"Вибірка!O78","v":""}]
[{"$f":"IF(Вибірка!K79=\"\",\"\",\"ліміт\")","v":""},{"$f":"IF(Вибірка!L79=\"\",\"\",B88+1)","v":""},{"$f":"\" \"&TRIM(IF(AND(Вибірка!L78<>\"\",Вибірка!L79=\"\"),\"кінець замовлення\", Вибірка!M79))","v":" "},{"$f":"Вибірка!N79","v":""},{"$f":"Вибірка!O79","v":""}]
[{"$f":"IF(Вибірка!K80=\"\",\"\",\"ліміт\")","v":""},{"$f":"IF(Вибірка!L80=\"\",\"\",B89+1)","v":""},{"$f":"\" \"&TRIM(IF(AND(Вибірка!L79<>\"\",Вибірка!L80=\"\"),\"кінець замовлення\", Вибірка!M80))","v":" "},{"$f":"Вибірка!N80","v":""},{"$f":"Вибірка!O80","v":""}]
[{"$f":"IF(Вибірка!K81=\"\",\"\",\"ліміт\")","v":""},{"$f":"IF(Вибірка!L81=\"\",\"\",B90+1)","v":""},{"$f":"\" \"&TRIM(IF(AND(Вибірка!L80<>\"\",Вибірка!L81=\"\"),\"кінець замовлення\", Вибірка!M81))","v":" "},{"$f":"Вибірка!N81","v":""},{"$f":"Вибірка!O81","v":""}]
[{"$f":"IF(Вибірка!K82=\"\",\"\",\"ліміт\")","v":""},{"$f":"IF(Вибірка!L82=\"\",\"\",B91+1)","v":""},{"$f":"\" \"&TRIM(IF(AND(Вибірка!L81<>\"\",Вибірка!L82=\"\"),\"кінець замовлення\", Вибірка!M82))","v":" "},{"$f":"Вибірка!N82","v":""},{"$f":"Вибірка!O82","v":""}]
[{"$f":"IF(Вибірка!K83=\"\",\"\",\"ліміт\")","v":""},{"$f":"IF(Вибірка!L83=\"\",\"\",B92+1)","v":""},{"$f":"\" \"&TRIM(IF(AND(Вибірка!L82<>\"\",Вибірка!L83=\"\"),\"кінець замовлення\", Вибірка!M83))","v":" "},{"$f":"Вибірка!N83","v":""},{"$f":"Вибірка!O83","v":""}]
[{"$f":"IF(Вибірка!K84=\"\",\"\",\"ліміт\")","v":""},{"$f":"IF(Вибірка!L84=\"\",\"\",B93+1)","v":""},{"$f":"\" \"&TRIM(IF(AND(Вибірка!L83<>\"\",Вибірка!L84=\"\"),\"кінець замовлення\", Вибірка!M84))","v":" "},{"$f":"Вибірка!N84","v":""},{"$f":"Вибірка!O84","v":""}]
[{"$f":"IF(Вибірка!K85=\"\",\"\",\"ліміт\")","v":""},{"$f":"IF(Вибірка!L85=\"\",\"\",B94+1)","v":""},{"$f":"\" \"&TRIM(IF(AND(Вибірка!L84<>\"\",Вибірка!L85=\"\"),\"кінець замовлення\", Вибірка!M85))","v":" "},{"$f":"Вибірка!N85","v":""},{"$f":"Вибірка!O85","v":""}]
[{"$f":"IF(Вибірка!K86=\"\",\"\",\"ліміт\")","v":""},{"$f":"IF(Вибірка!L86=\"\",\"\",B95+1)","v":""},{"$f":"\" \"&TRIM(IF(AND(Вибірка!L85<>\"\",Вибірка!L86=\"\"),\"кінець замовлення\", Вибірка!M86))","v":" "},{"$f":"Вибірка!N86","v":""},{"$f":"Вибірка!O86","v":""}]
[{"$f":"IF(Вибірка!K87=\"\",\"\",\"ліміт\")","v":""},{"$f":"IF(Вибірка!L87=\"\",\"\",B96+1)","v":""},{"$f":"\" \"&TRIM(IF(AND(Вибірка!L86<>\"\",Вибірка!L87=\"\"),\"кінець замовлення\", Вибірка!M87))","v":" "},{"$f":"Вибірка!N87","v":""},{"$f":"Вибірка!O87","v":""}]
[{"$f":"IF(Вибірка!K88=\"\",\"\",\"ліміт\")","v":""},{"$f":"IF(Вибірка!L88=\"\",\"\",B97+1)","v":""},{"$f":"\" \"&TRIM(IF(AND(Вибірка!L87<>\"\",Вибірка!L88=\"\"),\"кінець замовлення\", Вибірка!M88))","v":" "},{"$f":"Вибірка!N88","v":""},{"$f":"Вибірка!O88","v":""}]
[{"$f":"IF(Вибірка!K89=\"\",\"\",\"ліміт\")","v":""},{"$f":"IF(Вибірка!L89=\"\",\"\",B98+1)","v":""},{"$f":"\" \"&TRIM(IF(AND(Вибірка!L88<>\"\",Вибірка!L89=\"\"),\"кінець замовлення\", Вибірка!M89))","v":" "},{"$f":"Вибірка!N89","v":""},{"$f":"Вибірка!O89","v":""}]
[{"$f":"IF(Вибірка!K90=\"\",\"\",\"ліміт\")","v":""},{"$f":"IF(Вибірка!L90=\"\",\"\",B99+1)","v":""},{"$f":"\" \"&TRIM(IF(AND(Вибірка!L89<>\"\",Вибірка!L90=\"\"),\"кінець замовлення\", Вибірка!M90))","v":" "},{"$f":"Вибірка!N90","v":""},{"$f":"Вибірка!O90","v":""}]
[{"$f":"IF(Вибірка!K91=\"\",\"\",\"ліміт\")","v":""},{"$f":"IF(Вибірка!L91=\"\",\"\",B100+1)","v":""},{"$f":"\" \"&TRIM(IF(AND(Вибірка!L90<>\"\",Вибірка!L91=\"\"),\"кінець замовлення\", Вибірка!M91))","v":" "},{"$f":"Вибірка!N91","v":""},{"$f":"Вибірка!O91","v":""}]
[{"$f":"IF(Вибірка!K92=\"\",\"\",\"ліміт\")","v":""},{"$f":"IF(Вибірка!L92=\"\",\"\",B101+1)","v":""},{"$f":"\" \"&TRIM(IF(AND(Вибірка!L91<>\"\",Вибірка!L92=\"\"),\"кінець замовлення\", Вибірка!M92))","v":" "},{"$f":"Вибірка!N92","v":""},{"$f":"Вибірка!O92","v":""}]
[{"$f":"IF(Вибірка!K93=\"\",\"\",\"ліміт\")","v":""},{"$f":"IF(Вибірка!L93=\"\",\"\",B102+1)","v":""},{"$f":"\" \"&TRIM(IF(AND(Вибірка!L92<>\"\",Вибірка!L93=\"\"),\"кінець замовлення\", Вибірка!M93))","v":" "},{"$f":"Вибірка!N93","v":""},{"$f":"Вибірка!O93","v":""}]
[{"$f":"IF(Вибірка!K94=\"\",\"\",\"ліміт\")","v":""},{"$f":"IF(Вибірка!L94=\"\",\"\",B103+1)","v":""},{"$f":"\" \"&TRIM(IF(AND(Вибірка!L93<>\"\",Вибірка!L94=\"\"),\"кінець замовлення\", Вибірка!M94))","v":" "},{"$f":"Вибірка!N94","v":""},{"$f":"Вибірка!O94","v":""}]
[{"$f":"IF(Вибірка!K95=\"\",\"\",\"ліміт\")","v":""},{"$f":"IF(Вибірка!L95=\"\",\"\",B104+1)","v":""},{"$f":"\" \"&TRIM(IF(AND(Вибірка!L94<>\"\",Вибірка!L95=\"\"),\"кінець замовлення\", Вибірка!M95))","v":" "},{"$f":"Вибірка!N95","v":""},{"$f":"Вибірка!O95","v":""}]
[{"$f":"IF(Вибірка!K96=\"\",\"\",\"ліміт\")","v":""},{"$f":"IF(Вибірка!L96=\"\",\"\",B105+1)","v":""},{"$f":"\" \"&TRIM(IF(AND(Вибірка!L95<>\"\",Вибірка!L96=\"\"),\"кінець замовлення\", Вибірка!M96))","v":" "},{"$f":"Вибірка!N96","v":""},{"$f":"Вибірка!O96","v":""}]
[{"$f":"IF(Вибірка!K97=\"\",\"\",\"ліміт\")","v":""},{"$f":"IF(Вибірка!L97=\"\",\"\",B106+1)","v":""},{"$f":"\" \"&TRIM(IF(AND(Вибірка!L96<>\"\",Вибірка!L97=\"\"),\"кінець замовлення\", Вибірка!M97))","v":" "},{"$f":"Вибірка!N97","v":""},{"$f":"Вибірка!O97","v":""}]
[{"$f":"IF(Вибірка!K98=\"\",\"\",\"ліміт\")","v":""},{"$f":"IF(Вибірка!L98=\"\",\"\",B107+1)","v":""},{"$f":"\" \"&TRIM(IF(AND(Вибірка!L97<>\"\",Вибірка!L98=\"\"),\"кінець замовлення\", Вибірка!M98))","v":" "},{"$f":"Вибірка!N98","v":""},{"$f":"Вибірка!O98","v":""}]
[{"$f":"IF(Вибірка!K99=\"\",\"\",\"ліміт\")","v":""},{"$f":"IF(Вибірка!L99=\"\",\"\",B108+1)","v":""},{"$f":"\" \"&TRIM(IF(AND(Вибірка!L98<>\"\",Вибірка!L99=\"\"),\"кінець замовлення\", Вибірка!M99))","v":" "},{"$f":"Вибірка!N99","v":""},{"$f":"Вибірка!O99","v":""}]
[{"$f":"IF(Вибірка!K100=\"\",\"\",\"ліміт\")","v":""},{"$f":"IF(Вибірка!L100=\"\",\"\",B109+1)","v":""},{"$f":"\" \"&TRIM(IF(AND(Вибірка!L99<>\"\",Вибірка!L100=\"\"),\"кінець замовлення\", Вибірка!M100))","v":" "},{"$f":"Вибірка!N100","v":""},{"$f":"Вибірка!O100","v":""}]
[{"$f":"IF(Вибірка!K101=\"\",\"\",\"ліміт\")","v":""},{"$f":"IF(Вибірка!L101=\"\",\"\",B110+1)","v":""},{"$f":"\" \"&TRIM(IF(AND(Вибірка!L100<>\"\",Вибірка!L101=\"\"),\"кінець замовлення\", Вибірка!M101))","v":" "},{"$f":"Вибірка!N101","v":""},{"$f":"Вибірка!O101","v":""}]
[{"$f":"IF(Вибірка!K102=\"\",\"\",\"ліміт\")","v":""},{"$f":"IF(Вибірка!L102=\"\",\"\",B111+1)","v":""},{"$f":"\" \"&TRIM(IF(AND(Вибірка!L101<>\"\",Вибірка!L102=\"\"),\"кінець замовлення\", Вибірка!M102))","v":" "},{"$f":"Вибірка!N102","v":""},{"$f":"Вибірка!O102","v":""}]
[{"$f":"IF(Вибірка!K103=\"\",\"\",\"ліміт\")","v":""},{"$f":"IF(Вибірка!L103=\"\",\"\",B112+1)","v":""},{"$f":"\" \"&TRIM(IF(AND(Вибірка!L102<>\"\",Вибірка!L103=\"\"),\"кінець замовлення\", Вибірка!M103))","v":" "},{"$f":"Вибірка!N103","v":""},{"$f":"Вибірка!O103","v":""}]
[{"$f":"IF(Вибірка!K104=\"\",\"\",\"ліміт\")","v":""},{"$f":"IF(Вибірка!L104=\"\",\"\",B113+1)","v":""},{"$f":"\" \"&TRIM(IF(AND(Вибірка!L103<>\"\",Вибірка!L104=\"\"),\"кінець замовлення\", Вибірка!M104))","v":" "},{"$f":"Вибірка!N104","v":""},{"$f":"Вибірка!O104","v":""}]
[{"$f":"IF(Вибірка!K105=\"\",\"\",\"ліміт\")","v":""},{"$f":"IF(Вибірка!L105=\"\",\"\",B114+1)","v":""},{"$f":"\" \"&TRIM(IF(AND(Вибірка!L104<>\"\",Вибірка!L105=\"\"),\"кінець замовлення\", Вибірка!M105))","v":" "},{"$f":"Вибірка!N105","v":""},{"$f":"Вибірка!O105","v":""}]
[{"$f":"IF(Вибірка!K106=\"\",\"\",\"ліміт\")","v":""},{"$f":"IF(Вибірка!L106=\"\",\"\",B115+1)","v":""},{"$f":"\" \"&TRIM(IF(AND(Вибірка!L105<>\"\",Вибірка!L106=\"\"),\"кінець замовлення\", Вибірка!M106))","v":" "},{"$f":"Вибірка!N106","v":""},{"$f":"Вибірка!O106","v":""}]
[{"$f":"IF(Вибірка!K107=\"\",\"\",\"ліміт\")","v":""},{"$f":"IF(Вибірка!L107=\"\",\"\",B116+1)","v":""},{"$f":"\" \"&TRIM(IF(AND(Вибірка!L106<>\"\",Вибірка!L107=\"\"),\"кінець замовлення\", Вибірка!M107))","v":" "},{"$f":"Вибірка!N107","v":""},{"$f":"Вибірка!O107","v":""}]
[{"$f":"IF(Вибірка!K108=\"\",\"\",\"ліміт\")","v":""},{"$f":"IF(Вибірка!L108=\"\",\"\",B117+1)","v":""},{"$f":"\" \"&TRIM(IF(AND(Вибірка!L107<>\"\",Вибірка!L108=\"\"),\"кінець замовлення\", Вибірка!M108))","v":" "},{"$f":"Вибірка!N108","v":""},{"$f":"Вибірка!O108","v":""}]
[{"$f":"IF(Вибірка!K109=\"\",\"\",\"ліміт\")","v":""},{"$f":"IF(Вибірка!L109=\"\",\"\",B118+1)","v":""},{"$f":"\" \"&TRIM(IF(AND(Вибірка!L108<>\"\",Вибірка!L109=\"\"),\"кінець замовлення\", Вибірка!M109))","v":" "},{"$f":"Вибірка!N109","v":""},{"$f":"Вибірка!O109","v":""}]
[{"$f":"IF(Вибірка!K110=\"\",\"\",\"ліміт\")","v":""},{"$f":"IF(Вибірка!L110=\"\",\"\",B119+1)","v":""},{"$f":"\" \"&TRIM(IF(AND(Вибірка!L109<>\"\",Вибірка!L110=\"\"),\"кінець замовлення\", Вибірка!M110))","v":" "},{"$f":"Вибірка!N110","v":""},{"$f":"Вибірка!O110","v":""}]
[{"$f":"IF(Вибірка!K111=\"\",\"\",\"ліміт\")","v":"ліміт"},{"$f":"IF(Вибірка!L111=\"\",\"\",B120+1)","v":""},{"$f":"\" \"&TRIM(IF(AND(Вибірка!L110<>\"\",Вибірка!L111=\"\"),\"кінець замовлення\", Вибірка!M111))","v":" "},{"$f":"Вибірка!N111","v":""},{"$f":"Вибірка!O111","v":""}]
[{"$f":"IF(Вибірка!K112=\"\",\"\",\"ліміт\")","v":""},{"$f":"IF(Вибірка!L112=\"\",\"\",B121+1)","v":""},{"$f":"\" \"&TRIM(IF(AND(Вибірка!L111<>\"\",Вибірка!L112=\"\"),\"кінець замовлення\", Вибірка!M112))","v":" "},{"$f":"Вибірка!N112","v":""},{"$f":"Вибірка!O112","v":""}]